BEGIN:VCALENDAR
VERSION:2.0
PRODID:-//Space Center Houston - ECPv6.15.15//NONSGML v1.0//EN
CALSCALE:GREGORIAN
METHOD:PUBLISH
X-WR-CALNAME:Space Center Houston
X-ORIGINAL-URL:https://spacecenter.org
X-WR-CALDESC:Events for Space Center Houston
REFRESH-INTERVAL;VALUE=DURATION:PT1H
X-Robots-Tag:noindex
X-PUBLISHED-TTL:PT1H
BEGIN:VTIMEZONE
TZID:America/Chicago
BEGIN:DAYLIGHT
TZOFFSETFROM:-0600
TZOFFSETTO:-0500
TZNAME:CDT
DTSTART:20260308T080000
END:DAYLIGHT
BEGIN:STANDARD
TZOFFSETFROM:-0500
TZOFFSETTO:-0600
TZNAME:CST
DTSTART:20261101T070000
END:STANDARD
BEGIN:DAYLIGHT
TZOFFSETFROM:-0600
TZOFFSETTO:-0500
TZNAME:CDT
DTSTART:20270314T080000
END:DAYLIGHT
BEGIN:STANDARD
TZOFFSETFROM:-0500
TZOFFSETTO:-0600
TZNAME:CST
DTSTART:20271107T070000
END:STANDARD
BEGIN:DAYLIGHT
TZOFFSETFROM:-0600
TZOFFSETTO:-0500
TZNAME:CDT
DTSTART:20280312T080000
END:DAYLIGHT
BEGIN:STANDARD
TZOFFSETFROM:-0500
TZOFFSETTO:-0600
TZNAME:CST
DTSTART:20281105T070000
END:STANDARD
END:VTIMEZONE
BEGIN:VEVENT
DTSTART;TZID=America/Chicago:20270603T144500
DTEND;TZID=America/Chicago:20270603T150000
DTSTAMP:20260422T090403
CREATED:20250602T213716Z
LAST-MODIFIED:20250603T191759Z
UID:10189742-1812033900-1812034800@spacecenter.org
SUMMARY:James Webb Live Presentation
DESCRIPTION:
URL:https://spacecenter.org/events-calendar-event/james-webb-live-presentation-3/2027-06-03/
LOCATION:Theater – Destiny
CATEGORIES:Live Presentation
END:VEVENT
BEGIN:VEVENT
DTSTART;TZID=America/Chicago:20270603T151500
DTEND;TZID=America/Chicago:20270603T153000
DTSTAMP:20260422T090403
CREATED:20250602T213249Z
LAST-MODIFIED:20250603T191942Z
UID:10197054-1812035700-1812036600@spacecenter.org
SUMMARY:Story Corner Live Presentation
DESCRIPTION:
URL:https://spacecenter.org/events-calendar-event/story-corner-live-presentation-4/2027-06-03/
LOCATION:Theater – Artemis
CATEGORIES:Live Presentation
END:VEVENT
BEGIN:VEVENT
DTSTART;TZID=America/Chicago:20270603T154500
DTEND;TZID=America/Chicago:20270603T161500
DTSTAMP:20260422T090403
CREATED:20250602T214125Z
LAST-MODIFIED:20250603T192119Z
UID:10208022-1812037500-1812039300@spacecenter.org
SUMMARY:Artemis Live Presentation
DESCRIPTION:
URL:https://spacecenter.org/events-calendar-event/artemis-live-presentation-3/2027-06-03/
LOCATION:Theater – Destiny
CATEGORIES:Live Presentation
ATTACH;FMTTYPE=image/jpeg:https://spacecenter.org/wp-content/uploads/2022/10/Artemis-Capsule.jpeg
END:VEVENT
BEGIN:VEVENT
DTSTART;TZID=America/Chicago:20270603T163000
DTEND;TZID=America/Chicago:20270603T164500
DTSTAMP:20260422T090403
CREATED:20250602T212726Z
LAST-MODIFIED:20250603T192225Z
UID:10215334-1812040200-1812041100@spacecenter.org
SUMMARY:OSIRIS Rex Live Presentation
DESCRIPTION:
URL:https://spacecenter.org/events-calendar-event/osiris-rex-live-presentation-3/2027-06-03/
LOCATION:Mission Sketch Staircase
CATEGORIES:Live Presentation
ATTACH;FMTTYPE=image/jpeg:https://spacecenter.org/wp-content/uploads/2024/03/web-march2024_tls_osirisrex.jpg
END:VEVENT
BEGIN:VEVENT
DTSTART;TZID=America/Chicago:20270604T104500
DTEND;TZID=America/Chicago:20270604T110000
DTSTAMP:20260422T090403
CREATED:20250602T212526Z
LAST-MODIFIED:20250603T185502Z
UID:10101999-1812105900-1812106800@spacecenter.org
SUMMARY:OSIRIS Rex Live Presentation
DESCRIPTION:
URL:https://spacecenter.org/events-calendar-event/osiris-rex-live-presentation/2027-06-04/
LOCATION:Mission Sketch Staircase
CATEGORIES:Live Presentation
ATTACH;FMTTYPE=image/jpeg:https://spacecenter.org/wp-content/uploads/2024/03/web-march2024_tls_osirisrex.jpg
END:VEVENT
BEGIN:VEVENT
DTSTART;TZID=America/Chicago:20270604T104500
DTEND;TZID=America/Chicago:20270604T111500
DTSTAMP:20260422T090403
CREATED:20250602T213905Z
LAST-MODIFIED:20250603T185637Z
UID:10109311-1812105900-1812107700@spacecenter.org
SUMMARY:Artemis Live Presentation
DESCRIPTION:
URL:https://spacecenter.org/events-calendar-event/artemis-live-presentation/2027-06-04/
LOCATION:Theater – Destiny
CATEGORIES:Live Presentation
ATTACH;FMTTYPE=image/jpeg:https://spacecenter.org/wp-content/uploads/2022/10/Artemis-Capsule.jpeg
END:VEVENT
BEGIN:VEVENT
DTSTART;TZID=America/Chicago:20270604T111500
DTEND;TZID=America/Chicago:20270604T113000
DTSTAMP:20260422T090403
CREATED:20250602T213010Z
LAST-MODIFIED:20250603T185901Z
UID:10120279-1812107700-1812108600@spacecenter.org
SUMMARY:Story Corner Live Presentation
DESCRIPTION:
URL:https://spacecenter.org/events-calendar-event/story-corner-live-presentation/2027-06-04/
LOCATION:Theater – Artemis
CATEGORIES:Live Presentation
END:VEVENT
BEGIN:VEVENT
DTSTART;TZID=America/Chicago:20270604T114500
DTEND;TZID=America/Chicago:20270604T120000
DTSTAMP:20260422T090403
CREATED:20250602T213503Z
LAST-MODIFIED:20250603T190256Z
UID:10138559-1812109500-1812110400@spacecenter.org
SUMMARY:James Webb Live Presentation
DESCRIPTION:
URL:https://spacecenter.org/events-calendar-event/james-webb-live-presentation/2027-06-04/
LOCATION:Theater – Destiny
CATEGORIES:Live Presentation
END:VEVENT
BEGIN:VEVENT
DTSTART;TZID=America/Chicago:20270604T121500
DTEND;TZID=America/Chicago:20270604T123000
DTSTAMP:20260422T090403
CREATED:20250602T213059Z
LAST-MODIFIED:20250603T190345Z
UID:10142215-1812111300-1812112200@spacecenter.org
SUMMARY:Story Corner Live Presentation
DESCRIPTION:
URL:https://spacecenter.org/events-calendar-event/story-corner-live-presentation-2/2027-06-04/
LOCATION:Theater – Artemis
CATEGORIES:Live Presentation
END:VEVENT
BEGIN:VEVENT
DTSTART;TZID=America/Chicago:20270604T124500
DTEND;TZID=America/Chicago:20270604T131500
DTSTAMP:20260422T090403
CREATED:20250602T214012Z
LAST-MODIFIED:20250603T190811Z
UID:10153183-1812113100-1812114900@spacecenter.org
SUMMARY:Artemis Live Presentation
DESCRIPTION:
URL:https://spacecenter.org/events-calendar-event/artemis-live-presentation-2/2027-06-04/
LOCATION:Theater – Destiny
CATEGORIES:Live Presentation
ATTACH;FMTTYPE=image/jpeg:https://spacecenter.org/wp-content/uploads/2022/10/Artemis-Capsule.jpeg
END:VEVENT
BEGIN:VEVENT
DTSTART;TZID=America/Chicago:20270604T131500
DTEND;TZID=America/Chicago:20270604T133000
DTSTAMP:20260422T090403
CREATED:20250602T213201Z
LAST-MODIFIED:20250603T190922Z
UID:10160495-1812114900-1812115800@spacecenter.org
SUMMARY:Story Corner Live Presentation
DESCRIPTION:
URL:https://spacecenter.org/events-calendar-event/story-corner-live-presentation-3/2027-06-04/
LOCATION:Theater – Artemis
CATEGORIES:Live Presentation
END:VEVENT
BEGIN:VEVENT
DTSTART;TZID=America/Chicago:20270604T134500
DTEND;TZID=America/Chicago:20270604T140000
DTSTAMP:20260422T090403
CREATED:20250602T212635Z
LAST-MODIFIED:20250603T191121Z
UID:10171463-1812116700-1812117600@spacecenter.org
SUMMARY:OSIRIS Rex Live Presentation
DESCRIPTION:
URL:https://spacecenter.org/events-calendar-event/osiris-rex-live-presentation-2/2027-06-04/
LOCATION:Mission Sketch Staircase
CATEGORIES:Live Presentation
ATTACH;FMTTYPE=image/jpeg:https://spacecenter.org/wp-content/uploads/2024/03/web-march2024_tls_osirisrex.jpg
END:VEVENT
BEGIN:VEVENT
DTSTART;TZID=America/Chicago:20270604T134500
DTEND;TZID=America/Chicago:20270604T140000
DTSTAMP:20260422T090403
CREATED:20250602T213557Z
LAST-MODIFIED:20250603T191327Z
UID:10175119-1812116700-1812117600@spacecenter.org
SUMMARY:James Webb Live Presentation
DESCRIPTION:
URL:https://spacecenter.org/events-calendar-event/james-webb-live-presentation-2/2027-06-04/
LOCATION:Theater – Destiny
CATEGORIES:Live Presentation
END:VEVENT
BEGIN:VEVENT
DTSTART;TZID=America/Chicago:20270604T144500
DTEND;TZID=America/Chicago:20270604T150000
DTSTAMP:20260422T090403
CREATED:20250602T213716Z
LAST-MODIFIED:20250603T191759Z
UID:10189743-1812120300-1812121200@spacecenter.org
SUMMARY:James Webb Live Presentation
DESCRIPTION:
URL:https://spacecenter.org/events-calendar-event/james-webb-live-presentation-3/2027-06-04/
LOCATION:Theater – Destiny
CATEGORIES:Live Presentation
END:VEVENT
BEGIN:VEVENT
DTSTART;TZID=America/Chicago:20270604T151500
DTEND;TZID=America/Chicago:20270604T153000
DTSTAMP:20260422T090403
CREATED:20250602T213249Z
LAST-MODIFIED:20250603T191942Z
UID:10197055-1812122100-1812123000@spacecenter.org
SUMMARY:Story Corner Live Presentation
DESCRIPTION:
URL:https://spacecenter.org/events-calendar-event/story-corner-live-presentation-4/2027-06-04/
LOCATION:Theater – Artemis
CATEGORIES:Live Presentation
END:VEVENT
BEGIN:VEVENT
DTSTART;TZID=America/Chicago:20270604T154500
DTEND;TZID=America/Chicago:20270604T161500
DTSTAMP:20260422T090403
CREATED:20250602T214125Z
LAST-MODIFIED:20250603T192119Z
UID:10208023-1812123900-1812125700@spacecenter.org
SUMMARY:Artemis Live Presentation
DESCRIPTION:
URL:https://spacecenter.org/events-calendar-event/artemis-live-presentation-3/2027-06-04/
LOCATION:Theater – Destiny
CATEGORIES:Live Presentation
ATTACH;FMTTYPE=image/jpeg:https://spacecenter.org/wp-content/uploads/2022/10/Artemis-Capsule.jpeg
END:VEVENT
BEGIN:VEVENT
DTSTART;TZID=America/Chicago:20270604T163000
DTEND;TZID=America/Chicago:20270604T164500
DTSTAMP:20260422T090403
CREATED:20250602T212726Z
LAST-MODIFIED:20250603T192225Z
UID:10215335-1812126600-1812127500@spacecenter.org
SUMMARY:OSIRIS Rex Live Presentation
DESCRIPTION:
URL:https://spacecenter.org/events-calendar-event/osiris-rex-live-presentation-3/2027-06-04/
LOCATION:Mission Sketch Staircase
CATEGORIES:Live Presentation
ATTACH;FMTTYPE=image/jpeg:https://spacecenter.org/wp-content/uploads/2024/03/web-march2024_tls_osirisrex.jpg
END:VEVENT
BEGIN:VEVENT
DTSTART;TZID=America/Chicago:20270605T104500
DTEND;TZID=America/Chicago:20270605T110000
DTSTAMP:20260422T090403
CREATED:20250602T212526Z
LAST-MODIFIED:20250603T185502Z
UID:10102000-1812192300-1812193200@spacecenter.org
SUMMARY:OSIRIS Rex Live Presentation
DESCRIPTION:
URL:https://spacecenter.org/events-calendar-event/osiris-rex-live-presentation/2027-06-05/
LOCATION:Mission Sketch Staircase
CATEGORIES:Live Presentation
ATTACH;FMTTYPE=image/jpeg:https://spacecenter.org/wp-content/uploads/2024/03/web-march2024_tls_osirisrex.jpg
END:VEVENT
BEGIN:VEVENT
DTSTART;TZID=America/Chicago:20270605T104500
DTEND;TZID=America/Chicago:20270605T111500
DTSTAMP:20260422T090403
CREATED:20250602T213905Z
LAST-MODIFIED:20250603T185637Z
UID:10109312-1812192300-1812194100@spacecenter.org
SUMMARY:Artemis Live Presentation
DESCRIPTION:
URL:https://spacecenter.org/events-calendar-event/artemis-live-presentation/2027-06-05/
LOCATION:Theater – Destiny
CATEGORIES:Live Presentation
ATTACH;FMTTYPE=image/jpeg:https://spacecenter.org/wp-content/uploads/2022/10/Artemis-Capsule.jpeg
END:VEVENT
BEGIN:VEVENT
DTSTART;TZID=America/Chicago:20270605T111500
DTEND;TZID=America/Chicago:20270605T113000
DTSTAMP:20260422T090403
CREATED:20250602T213010Z
LAST-MODIFIED:20250603T185901Z
UID:10120280-1812194100-1812195000@spacecenter.org
SUMMARY:Story Corner Live Presentation
DESCRIPTION:
URL:https://spacecenter.org/events-calendar-event/story-corner-live-presentation/2027-06-05/
LOCATION:Theater – Artemis
CATEGORIES:Live Presentation
END:VEVENT
BEGIN:VEVENT
DTSTART;TZID=America/Chicago:20270605T114500
DTEND;TZID=America/Chicago:20270605T120000
DTSTAMP:20260422T090403
CREATED:20250602T213503Z
LAST-MODIFIED:20250603T190256Z
UID:10138560-1812195900-1812196800@spacecenter.org
SUMMARY:James Webb Live Presentation
DESCRIPTION:
URL:https://spacecenter.org/events-calendar-event/james-webb-live-presentation/2027-06-05/
LOCATION:Theater – Destiny
CATEGORIES:Live Presentation
END:VEVENT
BEGIN:VEVENT
DTSTART;TZID=America/Chicago:20270605T121500
DTEND;TZID=America/Chicago:20270605T123000
DTSTAMP:20260422T090403
CREATED:20250602T213059Z
LAST-MODIFIED:20250603T190345Z
UID:10142216-1812197700-1812198600@spacecenter.org
SUMMARY:Story Corner Live Presentation
DESCRIPTION:
URL:https://spacecenter.org/events-calendar-event/story-corner-live-presentation-2/2027-06-05/
LOCATION:Theater – Artemis
CATEGORIES:Live Presentation
END:VEVENT
BEGIN:VEVENT
DTSTART;TZID=America/Chicago:20270605T124500
DTEND;TZID=America/Chicago:20270605T131500
DTSTAMP:20260422T090403
CREATED:20250602T214012Z
LAST-MODIFIED:20250603T190811Z
UID:10153184-1812199500-1812201300@spacecenter.org
SUMMARY:Artemis Live Presentation
DESCRIPTION:
URL:https://spacecenter.org/events-calendar-event/artemis-live-presentation-2/2027-06-05/
LOCATION:Theater – Destiny
CATEGORIES:Live Presentation
ATTACH;FMTTYPE=image/jpeg:https://spacecenter.org/wp-content/uploads/2022/10/Artemis-Capsule.jpeg
END:VEVENT
BEGIN:VEVENT
DTSTART;TZID=America/Chicago:20270605T131500
DTEND;TZID=America/Chicago:20270605T133000
DTSTAMP:20260422T090403
CREATED:20250602T213201Z
LAST-MODIFIED:20250603T190922Z
UID:10160496-1812201300-1812202200@spacecenter.org
SUMMARY:Story Corner Live Presentation
DESCRIPTION:
URL:https://spacecenter.org/events-calendar-event/story-corner-live-presentation-3/2027-06-05/
LOCATION:Theater – Artemis
CATEGORIES:Live Presentation
END:VEVENT
BEGIN:VEVENT
DTSTART;TZID=America/Chicago:20270605T134500
DTEND;TZID=America/Chicago:20270605T140000
DTSTAMP:20260422T090403
CREATED:20250602T212635Z
LAST-MODIFIED:20250603T191121Z
UID:10171464-1812203100-1812204000@spacecenter.org
SUMMARY:OSIRIS Rex Live Presentation
DESCRIPTION:
URL:https://spacecenter.org/events-calendar-event/osiris-rex-live-presentation-2/2027-06-05/
LOCATION:Mission Sketch Staircase
CATEGORIES:Live Presentation
ATTACH;FMTTYPE=image/jpeg:https://spacecenter.org/wp-content/uploads/2024/03/web-march2024_tls_osirisrex.jpg
END:VEVENT
BEGIN:VEVENT
DTSTART;TZID=America/Chicago:20270605T134500
DTEND;TZID=America/Chicago:20270605T140000
DTSTAMP:20260422T090403
CREATED:20250602T213557Z
LAST-MODIFIED:20250603T191327Z
UID:10175120-1812203100-1812204000@spacecenter.org
SUMMARY:James Webb Live Presentation
DESCRIPTION:
URL:https://spacecenter.org/events-calendar-event/james-webb-live-presentation-2/2027-06-05/
LOCATION:Theater – Destiny
CATEGORIES:Live Presentation
END:VEVENT
BEGIN:VEVENT
DTSTART;TZID=America/Chicago:20270605T144500
DTEND;TZID=America/Chicago:20270605T150000
DTSTAMP:20260422T090403
CREATED:20250602T213716Z
LAST-MODIFIED:20250603T191759Z
UID:10189744-1812206700-1812207600@spacecenter.org
SUMMARY:James Webb Live Presentation
DESCRIPTION:
URL:https://spacecenter.org/events-calendar-event/james-webb-live-presentation-3/2027-06-05/
LOCATION:Theater – Destiny
CATEGORIES:Live Presentation
END:VEVENT
BEGIN:VEVENT
DTSTART;TZID=America/Chicago:20270605T151500
DTEND;TZID=America/Chicago:20270605T153000
DTSTAMP:20260422T090403
CREATED:20250602T213249Z
LAST-MODIFIED:20250603T191942Z
UID:10197056-1812208500-1812209400@spacecenter.org
SUMMARY:Story Corner Live Presentation
DESCRIPTION:
URL:https://spacecenter.org/events-calendar-event/story-corner-live-presentation-4/2027-06-05/
LOCATION:Theater – Artemis
CATEGORIES:Live Presentation
END:VEVENT
BEGIN:VEVENT
DTSTART;TZID=America/Chicago:20270605T154500
DTEND;TZID=America/Chicago:20270605T161500
DTSTAMP:20260422T090403
CREATED:20250602T214125Z
LAST-MODIFIED:20250603T192119Z
UID:10208024-1812210300-1812212100@spacecenter.org
SUMMARY:Artemis Live Presentation
DESCRIPTION:
URL:https://spacecenter.org/events-calendar-event/artemis-live-presentation-3/2027-06-05/
LOCATION:Theater – Destiny
CATEGORIES:Live Presentation
ATTACH;FMTTYPE=image/jpeg:https://spacecenter.org/wp-content/uploads/2022/10/Artemis-Capsule.jpeg
END:VEVENT
BEGIN:VEVENT
DTSTART;TZID=America/Chicago:20270605T163000
DTEND;TZID=America/Chicago:20270605T164500
DTSTAMP:20260422T090403
CREATED:20250602T212726Z
LAST-MODIFIED:20250603T192225Z
UID:10215336-1812213000-1812213900@spacecenter.org
SUMMARY:OSIRIS Rex Live Presentation
DESCRIPTION:
URL:https://spacecenter.org/events-calendar-event/osiris-rex-live-presentation-3/2027-06-05/
LOCATION:Mission Sketch Staircase
CATEGORIES:Live Presentation
ATTACH;FMTTYPE=image/jpeg:https://spacecenter.org/wp-content/uploads/2024/03/web-march2024_tls_osirisrex.jpg
END:VEVENT
END:VCALENDAR