BEGIN:VCALENDAR
VERSION:2.0
PRODID:-//Space Center Houston - ECPv6.15.15//NONSGML v1.0//EN
CALSCALE:GREGORIAN
METHOD:PUBLISH
X-ORIGINAL-URL:https://spacecenter.org
X-WR-CALDESC:Events for Space Center Houston
REFRESH-INTERVAL;VALUE=DURATION:PT1H
X-Robots-Tag:noindex
X-PUBLISHED-TTL:PT1H
BEGIN:VTIMEZONE
TZID:America/Chicago
BEGIN:DAYLIGHT
TZOFFSETFROM:-0600
TZOFFSETTO:-0500
TZNAME:CDT
DTSTART:20260308T080000
END:DAYLIGHT
BEGIN:STANDARD
TZOFFSETFROM:-0500
TZOFFSETTO:-0600
TZNAME:CST
DTSTART:20261101T070000
END:STANDARD
BEGIN:DAYLIGHT
TZOFFSETFROM:-0600
TZOFFSETTO:-0500
TZNAME:CDT
DTSTART:20270314T080000
END:DAYLIGHT
BEGIN:STANDARD
TZOFFSETFROM:-0500
TZOFFSETTO:-0600
TZNAME:CST
DTSTART:20271107T070000
END:STANDARD
BEGIN:DAYLIGHT
TZOFFSETFROM:-0600
TZOFFSETTO:-0500
TZNAME:CDT
DTSTART:20280312T080000
END:DAYLIGHT
BEGIN:STANDARD
TZOFFSETFROM:-0500
TZOFFSETTO:-0600
TZNAME:CST
DTSTART:20281105T070000
END:STANDARD
END:VTIMEZONE
BEGIN:VEVENT
DTSTART;TZID=America/Chicago:20270506T151500
DTEND;TZID=America/Chicago:20270506T153000
DTSTAMP:20260420T204150
CREATED:20250602T213249Z
LAST-MODIFIED:20250603T191942Z
UID:10197026-1809616500-1809617400@spacecenter.org
SUMMARY:Story Corner Live Presentation
DESCRIPTION:
URL:https://spacecenter.org/events-calendar-event/story-corner-live-presentation-4/2027-05-06/
LOCATION:Theater – Artemis
CATEGORIES:Live Presentation
END:VEVENT
BEGIN:VEVENT
DTSTART;TZID=America/Chicago:20270506T154500
DTEND;TZID=America/Chicago:20270506T161500
DTSTAMP:20260420T204150
CREATED:20250602T214125Z
LAST-MODIFIED:20250603T192119Z
UID:10207994-1809618300-1809620100@spacecenter.org
SUMMARY:Artemis Live Presentation
DESCRIPTION:
URL:https://spacecenter.org/events-calendar-event/artemis-live-presentation-3/2027-05-06/
LOCATION:Theater – Destiny
CATEGORIES:Live Presentation
ATTACH;FMTTYPE=image/jpeg:https://spacecenter.org/wp-content/uploads/2022/10/Artemis-Capsule.jpeg
END:VEVENT
BEGIN:VEVENT
DTSTART;TZID=America/Chicago:20270506T163000
DTEND;TZID=America/Chicago:20270506T164500
DTSTAMP:20260420T204150
CREATED:20250602T212726Z
LAST-MODIFIED:20250603T192225Z
UID:10215306-1809621000-1809621900@spacecenter.org
SUMMARY:OSIRIS Rex Live Presentation
DESCRIPTION:
URL:https://spacecenter.org/events-calendar-event/osiris-rex-live-presentation-3/2027-05-06/
LOCATION:Mission Sketch Staircase
CATEGORIES:Live Presentation
ATTACH;FMTTYPE=image/jpeg:https://spacecenter.org/wp-content/uploads/2024/03/web-march2024_tls_osirisrex.jpg
END:VEVENT
BEGIN:VEVENT
DTSTART;TZID=America/Chicago:20270507T104500
DTEND;TZID=America/Chicago:20270507T110000
DTSTAMP:20260420T204150
CREATED:20250602T212526Z
LAST-MODIFIED:20250603T185502Z
UID:10101971-1809686700-1809687600@spacecenter.org
SUMMARY:OSIRIS Rex Live Presentation
DESCRIPTION:
URL:https://spacecenter.org/events-calendar-event/osiris-rex-live-presentation/2027-05-07/
LOCATION:Mission Sketch Staircase
CATEGORIES:Live Presentation
ATTACH;FMTTYPE=image/jpeg:https://spacecenter.org/wp-content/uploads/2024/03/web-march2024_tls_osirisrex.jpg
END:VEVENT
BEGIN:VEVENT
DTSTART;TZID=America/Chicago:20270507T104500
DTEND;TZID=America/Chicago:20270507T111500
DTSTAMP:20260420T204150
CREATED:20250602T213905Z
LAST-MODIFIED:20250603T185637Z
UID:10109283-1809686700-1809688500@spacecenter.org
SUMMARY:Artemis Live Presentation
DESCRIPTION:
URL:https://spacecenter.org/events-calendar-event/artemis-live-presentation/2027-05-07/
LOCATION:Theater – Destiny
CATEGORIES:Live Presentation
ATTACH;FMTTYPE=image/jpeg:https://spacecenter.org/wp-content/uploads/2022/10/Artemis-Capsule.jpeg
END:VEVENT
BEGIN:VEVENT
DTSTART;TZID=America/Chicago:20270507T111500
DTEND;TZID=America/Chicago:20270507T113000
DTSTAMP:20260420T204150
CREATED:20250602T213010Z
LAST-MODIFIED:20250603T185901Z
UID:10120251-1809688500-1809689400@spacecenter.org
SUMMARY:Story Corner Live Presentation
DESCRIPTION:
URL:https://spacecenter.org/events-calendar-event/story-corner-live-presentation/2027-05-07/
LOCATION:Theater – Artemis
CATEGORIES:Live Presentation
END:VEVENT
BEGIN:VEVENT
DTSTART;TZID=America/Chicago:20270507T114500
DTEND;TZID=America/Chicago:20270507T120000
DTSTAMP:20260420T204150
CREATED:20250602T213503Z
LAST-MODIFIED:20250603T190256Z
UID:10138531-1809690300-1809691200@spacecenter.org
SUMMARY:James Webb Live Presentation
DESCRIPTION:
URL:https://spacecenter.org/events-calendar-event/james-webb-live-presentation/2027-05-07/
LOCATION:Theater – Destiny
CATEGORIES:Live Presentation
END:VEVENT
BEGIN:VEVENT
DTSTART;TZID=America/Chicago:20270507T121500
DTEND;TZID=America/Chicago:20270507T123000
DTSTAMP:20260420T204150
CREATED:20250602T213059Z
LAST-MODIFIED:20250603T190345Z
UID:10142187-1809692100-1809693000@spacecenter.org
SUMMARY:Story Corner Live Presentation
DESCRIPTION:
URL:https://spacecenter.org/events-calendar-event/story-corner-live-presentation-2/2027-05-07/
LOCATION:Theater – Artemis
CATEGORIES:Live Presentation
END:VEVENT
BEGIN:VEVENT
DTSTART;TZID=America/Chicago:20270507T124500
DTEND;TZID=America/Chicago:20270507T131500
DTSTAMP:20260420T204150
CREATED:20250602T214012Z
LAST-MODIFIED:20250603T190811Z
UID:10153155-1809693900-1809695700@spacecenter.org
SUMMARY:Artemis Live Presentation
DESCRIPTION:
URL:https://spacecenter.org/events-calendar-event/artemis-live-presentation-2/2027-05-07/
LOCATION:Theater – Destiny
CATEGORIES:Live Presentation
ATTACH;FMTTYPE=image/jpeg:https://spacecenter.org/wp-content/uploads/2022/10/Artemis-Capsule.jpeg
END:VEVENT
BEGIN:VEVENT
DTSTART;TZID=America/Chicago:20270507T131500
DTEND;TZID=America/Chicago:20270507T133000
DTSTAMP:20260420T204150
CREATED:20250602T213201Z
LAST-MODIFIED:20250603T190922Z
UID:10160467-1809695700-1809696600@spacecenter.org
SUMMARY:Story Corner Live Presentation
DESCRIPTION:
URL:https://spacecenter.org/events-calendar-event/story-corner-live-presentation-3/2027-05-07/
LOCATION:Theater – Artemis
CATEGORIES:Live Presentation
END:VEVENT
BEGIN:VEVENT
DTSTART;TZID=America/Chicago:20270507T134500
DTEND;TZID=America/Chicago:20270507T140000
DTSTAMP:20260420T204150
CREATED:20250602T212635Z
LAST-MODIFIED:20250603T191121Z
UID:10171435-1809697500-1809698400@spacecenter.org
SUMMARY:OSIRIS Rex Live Presentation
DESCRIPTION:
URL:https://spacecenter.org/events-calendar-event/osiris-rex-live-presentation-2/2027-05-07/
LOCATION:Mission Sketch Staircase
CATEGORIES:Live Presentation
ATTACH;FMTTYPE=image/jpeg:https://spacecenter.org/wp-content/uploads/2024/03/web-march2024_tls_osirisrex.jpg
END:VEVENT
BEGIN:VEVENT
DTSTART;TZID=America/Chicago:20270507T134500
DTEND;TZID=America/Chicago:20270507T140000
DTSTAMP:20260420T204150
CREATED:20250602T213557Z
LAST-MODIFIED:20250603T191327Z
UID:10175091-1809697500-1809698400@spacecenter.org
SUMMARY:James Webb Live Presentation
DESCRIPTION:
URL:https://spacecenter.org/events-calendar-event/james-webb-live-presentation-2/2027-05-07/
LOCATION:Theater – Destiny
CATEGORIES:Live Presentation
END:VEVENT
BEGIN:VEVENT
DTSTART;TZID=America/Chicago:20270507T144500
DTEND;TZID=America/Chicago:20270507T150000
DTSTAMP:20260420T204150
CREATED:20250602T213716Z
LAST-MODIFIED:20250603T191759Z
UID:10189715-1809701100-1809702000@spacecenter.org
SUMMARY:James Webb Live Presentation
DESCRIPTION:
URL:https://spacecenter.org/events-calendar-event/james-webb-live-presentation-3/2027-05-07/
LOCATION:Theater – Destiny
CATEGORIES:Live Presentation
END:VEVENT
BEGIN:VEVENT
DTSTART;TZID=America/Chicago:20270507T151500
DTEND;TZID=America/Chicago:20270507T153000
DTSTAMP:20260420T204150
CREATED:20250602T213249Z
LAST-MODIFIED:20250603T191942Z
UID:10197027-1809702900-1809703800@spacecenter.org
SUMMARY:Story Corner Live Presentation
DESCRIPTION:
URL:https://spacecenter.org/events-calendar-event/story-corner-live-presentation-4/2027-05-07/
LOCATION:Theater – Artemis
CATEGORIES:Live Presentation
END:VEVENT
BEGIN:VEVENT
DTSTART;TZID=America/Chicago:20270507T154500
DTEND;TZID=America/Chicago:20270507T161500
DTSTAMP:20260420T204150
CREATED:20250602T214125Z
LAST-MODIFIED:20250603T192119Z
UID:10207995-1809704700-1809706500@spacecenter.org
SUMMARY:Artemis Live Presentation
DESCRIPTION:
URL:https://spacecenter.org/events-calendar-event/artemis-live-presentation-3/2027-05-07/
LOCATION:Theater – Destiny
CATEGORIES:Live Presentation
ATTACH;FMTTYPE=image/jpeg:https://spacecenter.org/wp-content/uploads/2022/10/Artemis-Capsule.jpeg
END:VEVENT
BEGIN:VEVENT
DTSTART;TZID=America/Chicago:20270507T163000
DTEND;TZID=America/Chicago:20270507T164500
DTSTAMP:20260420T204150
CREATED:20250602T212726Z
LAST-MODIFIED:20250603T192225Z
UID:10215307-1809707400-1809708300@spacecenter.org
SUMMARY:OSIRIS Rex Live Presentation
DESCRIPTION:
URL:https://spacecenter.org/events-calendar-event/osiris-rex-live-presentation-3/2027-05-07/
LOCATION:Mission Sketch Staircase
CATEGORIES:Live Presentation
ATTACH;FMTTYPE=image/jpeg:https://spacecenter.org/wp-content/uploads/2024/03/web-march2024_tls_osirisrex.jpg
END:VEVENT
BEGIN:VEVENT
DTSTART;TZID=America/Chicago:20270508T104500
DTEND;TZID=America/Chicago:20270508T110000
DTSTAMP:20260420T204150
CREATED:20250602T212526Z
LAST-MODIFIED:20250603T185502Z
UID:10101972-1809773100-1809774000@spacecenter.org
SUMMARY:OSIRIS Rex Live Presentation
DESCRIPTION:
URL:https://spacecenter.org/events-calendar-event/osiris-rex-live-presentation/2027-05-08/
LOCATION:Mission Sketch Staircase
CATEGORIES:Live Presentation
ATTACH;FMTTYPE=image/jpeg:https://spacecenter.org/wp-content/uploads/2024/03/web-march2024_tls_osirisrex.jpg
END:VEVENT
BEGIN:VEVENT
DTSTART;TZID=America/Chicago:20270508T104500
DTEND;TZID=America/Chicago:20270508T111500
DTSTAMP:20260420T204150
CREATED:20250602T213905Z
LAST-MODIFIED:20250603T185637Z
UID:10109284-1809773100-1809774900@spacecenter.org
SUMMARY:Artemis Live Presentation
DESCRIPTION:
URL:https://spacecenter.org/events-calendar-event/artemis-live-presentation/2027-05-08/
LOCATION:Theater – Destiny
CATEGORIES:Live Presentation
ATTACH;FMTTYPE=image/jpeg:https://spacecenter.org/wp-content/uploads/2022/10/Artemis-Capsule.jpeg
END:VEVENT
BEGIN:VEVENT
DTSTART;TZID=America/Chicago:20270508T111500
DTEND;TZID=America/Chicago:20270508T113000
DTSTAMP:20260420T204150
CREATED:20250602T213010Z
LAST-MODIFIED:20250603T185901Z
UID:10120252-1809774900-1809775800@spacecenter.org
SUMMARY:Story Corner Live Presentation
DESCRIPTION:
URL:https://spacecenter.org/events-calendar-event/story-corner-live-presentation/2027-05-08/
LOCATION:Theater – Artemis
CATEGORIES:Live Presentation
END:VEVENT
BEGIN:VEVENT
DTSTART;TZID=America/Chicago:20270508T114500
DTEND;TZID=America/Chicago:20270508T120000
DTSTAMP:20260420T204150
CREATED:20250602T213503Z
LAST-MODIFIED:20250603T190256Z
UID:10138532-1809776700-1809777600@spacecenter.org
SUMMARY:James Webb Live Presentation
DESCRIPTION:
URL:https://spacecenter.org/events-calendar-event/james-webb-live-presentation/2027-05-08/
LOCATION:Theater – Destiny
CATEGORIES:Live Presentation
END:VEVENT
BEGIN:VEVENT
DTSTART;TZID=America/Chicago:20270508T121500
DTEND;TZID=America/Chicago:20270508T123000
DTSTAMP:20260420T204150
CREATED:20250602T213059Z
LAST-MODIFIED:20250603T190345Z
UID:10142188-1809778500-1809779400@spacecenter.org
SUMMARY:Story Corner Live Presentation
DESCRIPTION:
URL:https://spacecenter.org/events-calendar-event/story-corner-live-presentation-2/2027-05-08/
LOCATION:Theater – Artemis
CATEGORIES:Live Presentation
END:VEVENT
BEGIN:VEVENT
DTSTART;TZID=America/Chicago:20270508T124500
DTEND;TZID=America/Chicago:20270508T131500
DTSTAMP:20260420T204150
CREATED:20250602T214012Z
LAST-MODIFIED:20250603T190811Z
UID:10153156-1809780300-1809782100@spacecenter.org
SUMMARY:Artemis Live Presentation
DESCRIPTION:
URL:https://spacecenter.org/events-calendar-event/artemis-live-presentation-2/2027-05-08/
LOCATION:Theater – Destiny
CATEGORIES:Live Presentation
ATTACH;FMTTYPE=image/jpeg:https://spacecenter.org/wp-content/uploads/2022/10/Artemis-Capsule.jpeg
END:VEVENT
BEGIN:VEVENT
DTSTART;TZID=America/Chicago:20270508T131500
DTEND;TZID=America/Chicago:20270508T133000
DTSTAMP:20260420T204150
CREATED:20250602T213201Z
LAST-MODIFIED:20250603T190922Z
UID:10160468-1809782100-1809783000@spacecenter.org
SUMMARY:Story Corner Live Presentation
DESCRIPTION:
URL:https://spacecenter.org/events-calendar-event/story-corner-live-presentation-3/2027-05-08/
LOCATION:Theater – Artemis
CATEGORIES:Live Presentation
END:VEVENT
BEGIN:VEVENT
DTSTART;TZID=America/Chicago:20270508T134500
DTEND;TZID=America/Chicago:20270508T140000
DTSTAMP:20260420T204150
CREATED:20250602T212635Z
LAST-MODIFIED:20250603T191121Z
UID:10171436-1809783900-1809784800@spacecenter.org
SUMMARY:OSIRIS Rex Live Presentation
DESCRIPTION:
URL:https://spacecenter.org/events-calendar-event/osiris-rex-live-presentation-2/2027-05-08/
LOCATION:Mission Sketch Staircase
CATEGORIES:Live Presentation
ATTACH;FMTTYPE=image/jpeg:https://spacecenter.org/wp-content/uploads/2024/03/web-march2024_tls_osirisrex.jpg
END:VEVENT
BEGIN:VEVENT
DTSTART;TZID=America/Chicago:20270508T134500
DTEND;TZID=America/Chicago:20270508T140000
DTSTAMP:20260420T204150
CREATED:20250602T213557Z
LAST-MODIFIED:20250603T191327Z
UID:10175092-1809783900-1809784800@spacecenter.org
SUMMARY:James Webb Live Presentation
DESCRIPTION:
URL:https://spacecenter.org/events-calendar-event/james-webb-live-presentation-2/2027-05-08/
LOCATION:Theater – Destiny
CATEGORIES:Live Presentation
END:VEVENT
BEGIN:VEVENT
DTSTART;TZID=America/Chicago:20270508T144500
DTEND;TZID=America/Chicago:20270508T150000
DTSTAMP:20260420T204150
CREATED:20250602T213716Z
LAST-MODIFIED:20250603T191759Z
UID:10189716-1809787500-1809788400@spacecenter.org
SUMMARY:James Webb Live Presentation
DESCRIPTION:
URL:https://spacecenter.org/events-calendar-event/james-webb-live-presentation-3/2027-05-08/
LOCATION:Theater – Destiny
CATEGORIES:Live Presentation
END:VEVENT
BEGIN:VEVENT
DTSTART;TZID=America/Chicago:20270508T151500
DTEND;TZID=America/Chicago:20270508T153000
DTSTAMP:20260420T204150
CREATED:20250602T213249Z
LAST-MODIFIED:20250603T191942Z
UID:10197028-1809789300-1809790200@spacecenter.org
SUMMARY:Story Corner Live Presentation
DESCRIPTION:
URL:https://spacecenter.org/events-calendar-event/story-corner-live-presentation-4/2027-05-08/
LOCATION:Theater – Artemis
CATEGORIES:Live Presentation
END:VEVENT
BEGIN:VEVENT
DTSTART;TZID=America/Chicago:20270508T154500
DTEND;TZID=America/Chicago:20270508T161500
DTSTAMP:20260420T204150
CREATED:20250602T214125Z
LAST-MODIFIED:20250603T192119Z
UID:10207996-1809791100-1809792900@spacecenter.org
SUMMARY:Artemis Live Presentation
DESCRIPTION:
URL:https://spacecenter.org/events-calendar-event/artemis-live-presentation-3/2027-05-08/
LOCATION:Theater – Destiny
CATEGORIES:Live Presentation
ATTACH;FMTTYPE=image/jpeg:https://spacecenter.org/wp-content/uploads/2022/10/Artemis-Capsule.jpeg
END:VEVENT
BEGIN:VEVENT
DTSTART;TZID=America/Chicago:20270508T163000
DTEND;TZID=America/Chicago:20270508T164500
DTSTAMP:20260420T204150
CREATED:20250602T212726Z
LAST-MODIFIED:20250603T192225Z
UID:10215308-1809793800-1809794700@spacecenter.org
SUMMARY:OSIRIS Rex Live Presentation
DESCRIPTION:
URL:https://spacecenter.org/events-calendar-event/osiris-rex-live-presentation-3/2027-05-08/
LOCATION:Mission Sketch Staircase
CATEGORIES:Live Presentation
ATTACH;FMTTYPE=image/jpeg:https://spacecenter.org/wp-content/uploads/2024/03/web-march2024_tls_osirisrex.jpg
END:VEVENT
BEGIN:VEVENT
DTSTART;TZID=America/Chicago:20270509T104500
DTEND;TZID=America/Chicago:20270509T110000
DTSTAMP:20260420T204150
CREATED:20250602T212526Z
LAST-MODIFIED:20250603T185502Z
UID:10101973-1809859500-1809860400@spacecenter.org
SUMMARY:OSIRIS Rex Live Presentation
DESCRIPTION:
URL:https://spacecenter.org/events-calendar-event/osiris-rex-live-presentation/2027-05-09/
LOCATION:Mission Sketch Staircase
CATEGORIES:Live Presentation
ATTACH;FMTTYPE=image/jpeg:https://spacecenter.org/wp-content/uploads/2024/03/web-march2024_tls_osirisrex.jpg
END:VEVENT
END:VCALENDAR