BEGIN:VCALENDAR
VERSION:2.0
PRODID:-//Space Center Houston - ECPv6.15.15//NONSGML v1.0//EN
CALSCALE:GREGORIAN
METHOD:PUBLISH
X-ORIGINAL-URL:https://spacecenter.org
X-WR-CALDESC:Events for Space Center Houston
REFRESH-INTERVAL;VALUE=DURATION:PT1H
X-Robots-Tag:noindex
X-PUBLISHED-TTL:PT1H
BEGIN:VTIMEZONE
TZID:America/Chicago
BEGIN:DAYLIGHT
TZOFFSETFROM:-0600
TZOFFSETTO:-0500
TZNAME:CDT
DTSTART:20240310T080000
END:DAYLIGHT
BEGIN:STANDARD
TZOFFSETFROM:-0500
TZOFFSETTO:-0600
TZNAME:CST
DTSTART:20241103T070000
END:STANDARD
BEGIN:DAYLIGHT
TZOFFSETFROM:-0600
TZOFFSETTO:-0500
TZNAME:CDT
DTSTART:20250309T080000
END:DAYLIGHT
BEGIN:STANDARD
TZOFFSETFROM:-0500
TZOFFSETTO:-0600
TZNAME:CST
DTSTART:20251102T070000
END:STANDARD
BEGIN:DAYLIGHT
TZOFFSETFROM:-0600
TZOFFSETTO:-0500
TZNAME:CDT
DTSTART:20260308T080000
END:DAYLIGHT
BEGIN:STANDARD
TZOFFSETFROM:-0500
TZOFFSETTO:-0600
TZNAME:CST
DTSTART:20261101T070000
END:STANDARD
END:VTIMEZONE
BEGIN:VEVENT
DTSTART;TZID=America/Chicago:20250707T104500
DTEND;TZID=America/Chicago:20250707T110000
DTSTAMP:20260420T005457
CREATED:20250602T212526Z
LAST-MODIFIED:20250603T185502Z
UID:10101302-1751885100-1751886000@spacecenter.org
SUMMARY:OSIRIS Rex Live Presentation
DESCRIPTION:
URL:https://spacecenter.org/events-calendar-event/osiris-rex-live-presentation/2025-07-07/
LOCATION:Mission Sketch Staircase
CATEGORIES:Live Presentation
ATTACH;FMTTYPE=image/jpeg:https://spacecenter.org/wp-content/uploads/2024/03/web-march2024_tls_osirisrex.jpg
END:VEVENT
BEGIN:VEVENT
DTSTART;TZID=America/Chicago:20250707T104500
DTEND;TZID=America/Chicago:20250707T111500
DTSTAMP:20260420T005457
CREATED:20250602T213905Z
LAST-MODIFIED:20250603T185637Z
UID:10108614-1751885100-1751886900@spacecenter.org
SUMMARY:Artemis Live Presentation
DESCRIPTION:
URL:https://spacecenter.org/events-calendar-event/artemis-live-presentation/2025-07-07/
LOCATION:Theater – Destiny
CATEGORIES:Live Presentation
ATTACH;FMTTYPE=image/jpeg:https://spacecenter.org/wp-content/uploads/2022/10/Artemis-Capsule.jpeg
END:VEVENT
BEGIN:VEVENT
DTSTART;TZID=America/Chicago:20250707T111500
DTEND;TZID=America/Chicago:20250707T113000
DTSTAMP:20260420T005457
CREATED:20250602T213010Z
LAST-MODIFIED:20250603T185901Z
UID:10119582-1751886900-1751887800@spacecenter.org
SUMMARY:Story Corner Live Presentation
DESCRIPTION:
URL:https://spacecenter.org/events-calendar-event/story-corner-live-presentation/2025-07-07/
LOCATION:Theater – Artemis
CATEGORIES:Live Presentation
END:VEVENT
BEGIN:VEVENT
DTSTART;TZID=America/Chicago:20250707T114500
DTEND;TZID=America/Chicago:20250707T120000
DTSTAMP:20260420T005457
CREATED:20250602T213503Z
LAST-MODIFIED:20250603T190256Z
UID:10137862-1751888700-1751889600@spacecenter.org
SUMMARY:James Webb Live Presentation
DESCRIPTION:
URL:https://spacecenter.org/events-calendar-event/james-webb-live-presentation/2025-07-07/
LOCATION:Theater – Destiny
CATEGORIES:Live Presentation
END:VEVENT
BEGIN:VEVENT
DTSTART;TZID=America/Chicago:20250707T121500
DTEND;TZID=America/Chicago:20250707T123000
DTSTAMP:20260420T005457
CREATED:20250602T213059Z
LAST-MODIFIED:20250603T190345Z
UID:10141518-1751890500-1751891400@spacecenter.org
SUMMARY:Story Corner Live Presentation
DESCRIPTION:
URL:https://spacecenter.org/events-calendar-event/story-corner-live-presentation-2/2025-07-07/
LOCATION:Theater – Artemis
CATEGORIES:Live Presentation
END:VEVENT
BEGIN:VEVENT
DTSTART;TZID=America/Chicago:20250707T124500
DTEND;TZID=America/Chicago:20250707T131500
DTSTAMP:20260420T005457
CREATED:20250602T214012Z
LAST-MODIFIED:20250603T190811Z
UID:10152486-1751892300-1751894100@spacecenter.org
SUMMARY:Artemis Live Presentation
DESCRIPTION:
URL:https://spacecenter.org/events-calendar-event/artemis-live-presentation-2/2025-07-07/
LOCATION:Theater – Destiny
CATEGORIES:Live Presentation
ATTACH;FMTTYPE=image/jpeg:https://spacecenter.org/wp-content/uploads/2022/10/Artemis-Capsule.jpeg
END:VEVENT
BEGIN:VEVENT
DTSTART;TZID=America/Chicago:20250707T131500
DTEND;TZID=America/Chicago:20250707T133000
DTSTAMP:20260420T005457
CREATED:20250602T213201Z
LAST-MODIFIED:20250603T190922Z
UID:10159798-1751894100-1751895000@spacecenter.org
SUMMARY:Story Corner Live Presentation
DESCRIPTION:
URL:https://spacecenter.org/events-calendar-event/story-corner-live-presentation-3/2025-07-07/
LOCATION:Theater – Artemis
CATEGORIES:Live Presentation
END:VEVENT
BEGIN:VEVENT
DTSTART;TZID=America/Chicago:20250707T134500
DTEND;TZID=America/Chicago:20250707T140000
DTSTAMP:20260420T005457
CREATED:20250602T212635Z
LAST-MODIFIED:20250603T191121Z
UID:10170766-1751895900-1751896800@spacecenter.org
SUMMARY:OSIRIS Rex Live Presentation
DESCRIPTION:
URL:https://spacecenter.org/events-calendar-event/osiris-rex-live-presentation-2/2025-07-07/
LOCATION:Mission Sketch Staircase
CATEGORIES:Live Presentation
ATTACH;FMTTYPE=image/jpeg:https://spacecenter.org/wp-content/uploads/2024/03/web-march2024_tls_osirisrex.jpg
END:VEVENT
BEGIN:VEVENT
DTSTART;TZID=America/Chicago:20250707T134500
DTEND;TZID=America/Chicago:20250707T140000
DTSTAMP:20260420T005457
CREATED:20250602T213557Z
LAST-MODIFIED:20250603T191327Z
UID:10174422-1751895900-1751896800@spacecenter.org
SUMMARY:James Webb Live Presentation
DESCRIPTION:
URL:https://spacecenter.org/events-calendar-event/james-webb-live-presentation-2/2025-07-07/
LOCATION:Theater – Destiny
CATEGORIES:Live Presentation
END:VEVENT
BEGIN:VEVENT
DTSTART;TZID=America/Chicago:20250707T144500
DTEND;TZID=America/Chicago:20250707T150000
DTSTAMP:20260420T005457
CREATED:20250602T213716Z
LAST-MODIFIED:20250603T191759Z
UID:10189046-1751899500-1751900400@spacecenter.org
SUMMARY:James Webb Live Presentation
DESCRIPTION:
URL:https://spacecenter.org/events-calendar-event/james-webb-live-presentation-3/2025-07-07/
LOCATION:Theater – Destiny
CATEGORIES:Live Presentation
END:VEVENT
BEGIN:VEVENT
DTSTART;TZID=America/Chicago:20250707T151500
DTEND;TZID=America/Chicago:20250707T153000
DTSTAMP:20260420T005457
CREATED:20250602T213249Z
LAST-MODIFIED:20250603T191942Z
UID:10196358-1751901300-1751902200@spacecenter.org
SUMMARY:Story Corner Live Presentation
DESCRIPTION:
URL:https://spacecenter.org/events-calendar-event/story-corner-live-presentation-4/2025-07-07/
LOCATION:Theater – Artemis
CATEGORIES:Live Presentation
END:VEVENT
BEGIN:VEVENT
DTSTART;TZID=America/Chicago:20250707T154500
DTEND;TZID=America/Chicago:20250707T161500
DTSTAMP:20260420T005457
CREATED:20250602T214125Z
LAST-MODIFIED:20250603T192119Z
UID:10207326-1751903100-1751904900@spacecenter.org
SUMMARY:Artemis Live Presentation
DESCRIPTION:
URL:https://spacecenter.org/events-calendar-event/artemis-live-presentation-3/2025-07-07/
LOCATION:Theater – Destiny
CATEGORIES:Live Presentation
ATTACH;FMTTYPE=image/jpeg:https://spacecenter.org/wp-content/uploads/2022/10/Artemis-Capsule.jpeg
END:VEVENT
BEGIN:VEVENT
DTSTART;TZID=America/Chicago:20250707T163000
DTEND;TZID=America/Chicago:20250707T164500
DTSTAMP:20260420T005457
CREATED:20250602T212726Z
LAST-MODIFIED:20250603T192225Z
UID:10214638-1751905800-1751906700@spacecenter.org
SUMMARY:OSIRIS Rex Live Presentation
DESCRIPTION:
URL:https://spacecenter.org/events-calendar-event/osiris-rex-live-presentation-3/2025-07-07/
LOCATION:Mission Sketch Staircase
CATEGORIES:Live Presentation
ATTACH;FMTTYPE=image/jpeg:https://spacecenter.org/wp-content/uploads/2024/03/web-march2024_tls_osirisrex.jpg
END:VEVENT
BEGIN:VEVENT
DTSTART;TZID=America/Chicago:20250708T104500
DTEND;TZID=America/Chicago:20250708T110000
DTSTAMP:20260420T005457
CREATED:20250602T212526Z
LAST-MODIFIED:20250603T185502Z
UID:10101303-1751971500-1751972400@spacecenter.org
SUMMARY:OSIRIS Rex Live Presentation
DESCRIPTION:
URL:https://spacecenter.org/events-calendar-event/osiris-rex-live-presentation/2025-07-08/
LOCATION:Mission Sketch Staircase
CATEGORIES:Live Presentation
ATTACH;FMTTYPE=image/jpeg:https://spacecenter.org/wp-content/uploads/2024/03/web-march2024_tls_osirisrex.jpg
END:VEVENT
BEGIN:VEVENT
DTSTART;TZID=America/Chicago:20250708T104500
DTEND;TZID=America/Chicago:20250708T111500
DTSTAMP:20260420T005457
CREATED:20250602T213905Z
LAST-MODIFIED:20250603T185637Z
UID:10108615-1751971500-1751973300@spacecenter.org
SUMMARY:Artemis Live Presentation
DESCRIPTION:
URL:https://spacecenter.org/events-calendar-event/artemis-live-presentation/2025-07-08/
LOCATION:Theater – Destiny
CATEGORIES:Live Presentation
ATTACH;FMTTYPE=image/jpeg:https://spacecenter.org/wp-content/uploads/2022/10/Artemis-Capsule.jpeg
END:VEVENT
BEGIN:VEVENT
DTSTART;TZID=America/Chicago:20250708T111500
DTEND;TZID=America/Chicago:20250708T113000
DTSTAMP:20260420T005457
CREATED:20250602T213010Z
LAST-MODIFIED:20250603T185901Z
UID:10119583-1751973300-1751974200@spacecenter.org
SUMMARY:Story Corner Live Presentation
DESCRIPTION:
URL:https://spacecenter.org/events-calendar-event/story-corner-live-presentation/2025-07-08/
LOCATION:Theater – Artemis
CATEGORIES:Live Presentation
END:VEVENT
BEGIN:VEVENT
DTSTART;TZID=America/Chicago:20250708T114500
DTEND;TZID=America/Chicago:20250708T120000
DTSTAMP:20260420T005457
CREATED:20250602T213503Z
LAST-MODIFIED:20250603T190256Z
UID:10137863-1751975100-1751976000@spacecenter.org
SUMMARY:James Webb Live Presentation
DESCRIPTION:
URL:https://spacecenter.org/events-calendar-event/james-webb-live-presentation/2025-07-08/
LOCATION:Theater – Destiny
CATEGORIES:Live Presentation
END:VEVENT
BEGIN:VEVENT
DTSTART;TZID=America/Chicago:20250708T121500
DTEND;TZID=America/Chicago:20250708T123000
DTSTAMP:20260420T005457
CREATED:20250602T213059Z
LAST-MODIFIED:20250603T190345Z
UID:10141519-1751976900-1751977800@spacecenter.org
SUMMARY:Story Corner Live Presentation
DESCRIPTION:
URL:https://spacecenter.org/events-calendar-event/story-corner-live-presentation-2/2025-07-08/
LOCATION:Theater – Artemis
CATEGORIES:Live Presentation
END:VEVENT
BEGIN:VEVENT
DTSTART;TZID=America/Chicago:20250708T124500
DTEND;TZID=America/Chicago:20250708T131500
DTSTAMP:20260420T005457
CREATED:20250602T214012Z
LAST-MODIFIED:20250603T190811Z
UID:10152487-1751978700-1751980500@spacecenter.org
SUMMARY:Artemis Live Presentation
DESCRIPTION:
URL:https://spacecenter.org/events-calendar-event/artemis-live-presentation-2/2025-07-08/
LOCATION:Theater – Destiny
CATEGORIES:Live Presentation
ATTACH;FMTTYPE=image/jpeg:https://spacecenter.org/wp-content/uploads/2022/10/Artemis-Capsule.jpeg
END:VEVENT
BEGIN:VEVENT
DTSTART;TZID=America/Chicago:20250708T131500
DTEND;TZID=America/Chicago:20250708T133000
DTSTAMP:20260420T005457
CREATED:20250602T213201Z
LAST-MODIFIED:20250603T190922Z
UID:10159799-1751980500-1751981400@spacecenter.org
SUMMARY:Story Corner Live Presentation
DESCRIPTION:
URL:https://spacecenter.org/events-calendar-event/story-corner-live-presentation-3/2025-07-08/
LOCATION:Theater – Artemis
CATEGORIES:Live Presentation
END:VEVENT
BEGIN:VEVENT
DTSTART;TZID=America/Chicago:20250708T134500
DTEND;TZID=America/Chicago:20250708T140000
DTSTAMP:20260420T005457
CREATED:20250602T212635Z
LAST-MODIFIED:20250603T191121Z
UID:10170767-1751982300-1751983200@spacecenter.org
SUMMARY:OSIRIS Rex Live Presentation
DESCRIPTION:
URL:https://spacecenter.org/events-calendar-event/osiris-rex-live-presentation-2/2025-07-08/
LOCATION:Mission Sketch Staircase
CATEGORIES:Live Presentation
ATTACH;FMTTYPE=image/jpeg:https://spacecenter.org/wp-content/uploads/2024/03/web-march2024_tls_osirisrex.jpg
END:VEVENT
BEGIN:VEVENT
DTSTART;TZID=America/Chicago:20250708T134500
DTEND;TZID=America/Chicago:20250708T140000
DTSTAMP:20260420T005457
CREATED:20250602T213557Z
LAST-MODIFIED:20250603T191327Z
UID:10174423-1751982300-1751983200@spacecenter.org
SUMMARY:James Webb Live Presentation
DESCRIPTION:
URL:https://spacecenter.org/events-calendar-event/james-webb-live-presentation-2/2025-07-08/
LOCATION:Theater – Destiny
CATEGORIES:Live Presentation
END:VEVENT
BEGIN:VEVENT
DTSTART;TZID=America/Chicago:20250708T144500
DTEND;TZID=America/Chicago:20250708T150000
DTSTAMP:20260420T005457
CREATED:20250602T213716Z
LAST-MODIFIED:20250603T191759Z
UID:10189047-1751985900-1751986800@spacecenter.org
SUMMARY:James Webb Live Presentation
DESCRIPTION:
URL:https://spacecenter.org/events-calendar-event/james-webb-live-presentation-3/2025-07-08/
LOCATION:Theater – Destiny
CATEGORIES:Live Presentation
END:VEVENT
BEGIN:VEVENT
DTSTART;TZID=America/Chicago:20250708T151500
DTEND;TZID=America/Chicago:20250708T153000
DTSTAMP:20260420T005457
CREATED:20250602T213249Z
LAST-MODIFIED:20250603T191942Z
UID:10196359-1751987700-1751988600@spacecenter.org
SUMMARY:Story Corner Live Presentation
DESCRIPTION:
URL:https://spacecenter.org/events-calendar-event/story-corner-live-presentation-4/2025-07-08/
LOCATION:Theater – Artemis
CATEGORIES:Live Presentation
END:VEVENT
BEGIN:VEVENT
DTSTART;TZID=America/Chicago:20250708T154500
DTEND;TZID=America/Chicago:20250708T161500
DTSTAMP:20260420T005457
CREATED:20250602T214125Z
LAST-MODIFIED:20250603T192119Z
UID:10207327-1751989500-1751991300@spacecenter.org
SUMMARY:Artemis Live Presentation
DESCRIPTION:
URL:https://spacecenter.org/events-calendar-event/artemis-live-presentation-3/2025-07-08/
LOCATION:Theater – Destiny
CATEGORIES:Live Presentation
ATTACH;FMTTYPE=image/jpeg:https://spacecenter.org/wp-content/uploads/2022/10/Artemis-Capsule.jpeg
END:VEVENT
BEGIN:VEVENT
DTSTART;TZID=America/Chicago:20250708T163000
DTEND;TZID=America/Chicago:20250708T164500
DTSTAMP:20260420T005457
CREATED:20250602T212726Z
LAST-MODIFIED:20250603T192225Z
UID:10214639-1751992200-1751993100@spacecenter.org
SUMMARY:OSIRIS Rex Live Presentation
DESCRIPTION:
URL:https://spacecenter.org/events-calendar-event/osiris-rex-live-presentation-3/2025-07-08/
LOCATION:Mission Sketch Staircase
CATEGORIES:Live Presentation
ATTACH;FMTTYPE=image/jpeg:https://spacecenter.org/wp-content/uploads/2024/03/web-march2024_tls_osirisrex.jpg
END:VEVENT
BEGIN:VEVENT
DTSTART;TZID=America/Chicago:20250709T104500
DTEND;TZID=America/Chicago:20250709T110000
DTSTAMP:20260420T005457
CREATED:20250602T212526Z
LAST-MODIFIED:20250603T185502Z
UID:10101304-1752057900-1752058800@spacecenter.org
SUMMARY:OSIRIS Rex Live Presentation
DESCRIPTION:
URL:https://spacecenter.org/events-calendar-event/osiris-rex-live-presentation/2025-07-09/
LOCATION:Mission Sketch Staircase
CATEGORIES:Live Presentation
ATTACH;FMTTYPE=image/jpeg:https://spacecenter.org/wp-content/uploads/2024/03/web-march2024_tls_osirisrex.jpg
END:VEVENT
BEGIN:VEVENT
DTSTART;TZID=America/Chicago:20250709T104500
DTEND;TZID=America/Chicago:20250709T111500
DTSTAMP:20260420T005457
CREATED:20250602T213905Z
LAST-MODIFIED:20250603T185637Z
UID:10108616-1752057900-1752059700@spacecenter.org
SUMMARY:Artemis Live Presentation
DESCRIPTION:
URL:https://spacecenter.org/events-calendar-event/artemis-live-presentation/2025-07-09/
LOCATION:Theater – Destiny
CATEGORIES:Live Presentation
ATTACH;FMTTYPE=image/jpeg:https://spacecenter.org/wp-content/uploads/2022/10/Artemis-Capsule.jpeg
END:VEVENT
BEGIN:VEVENT
DTSTART;TZID=America/Chicago:20250709T111500
DTEND;TZID=America/Chicago:20250709T113000
DTSTAMP:20260420T005457
CREATED:20250602T213010Z
LAST-MODIFIED:20250603T185901Z
UID:10119584-1752059700-1752060600@spacecenter.org
SUMMARY:Story Corner Live Presentation
DESCRIPTION:
URL:https://spacecenter.org/events-calendar-event/story-corner-live-presentation/2025-07-09/
LOCATION:Theater – Artemis
CATEGORIES:Live Presentation
END:VEVENT
BEGIN:VEVENT
DTSTART;TZID=America/Chicago:20250709T114500
DTEND;TZID=America/Chicago:20250709T120000
DTSTAMP:20260420T005457
CREATED:20250602T213503Z
LAST-MODIFIED:20250603T190256Z
UID:10137864-1752061500-1752062400@spacecenter.org
SUMMARY:James Webb Live Presentation
DESCRIPTION:
URL:https://spacecenter.org/events-calendar-event/james-webb-live-presentation/2025-07-09/
LOCATION:Theater – Destiny
CATEGORIES:Live Presentation
END:VEVENT
END:VCALENDAR