BEGIN:VCALENDAR
VERSION:2.0
PRODID:-//Space Center Houston - ECPv6.15.15//NONSGML v1.0//EN
CALSCALE:GREGORIAN
METHOD:PUBLISH
X-ORIGINAL-URL:https://spacecenter.org
X-WR-CALDESC:Events for Space Center Houston
REFRESH-INTERVAL;VALUE=DURATION:PT1H
X-Robots-Tag:noindex
X-PUBLISHED-TTL:PT1H
BEGIN:VTIMEZONE
TZID:America/Chicago
BEGIN:DAYLIGHT
TZOFFSETFROM:-0600
TZOFFSETTO:-0500
TZNAME:CDT
DTSTART:20240310T080000
END:DAYLIGHT
BEGIN:STANDARD
TZOFFSETFROM:-0500
TZOFFSETTO:-0600
TZNAME:CST
DTSTART:20241103T070000
END:STANDARD
BEGIN:DAYLIGHT
TZOFFSETFROM:-0600
TZOFFSETTO:-0500
TZNAME:CDT
DTSTART:20250309T080000
END:DAYLIGHT
BEGIN:STANDARD
TZOFFSETFROM:-0500
TZOFFSETTO:-0600
TZNAME:CST
DTSTART:20251102T070000
END:STANDARD
BEGIN:DAYLIGHT
TZOFFSETFROM:-0600
TZOFFSETTO:-0500
TZNAME:CDT
DTSTART:20260308T080000
END:DAYLIGHT
BEGIN:STANDARD
TZOFFSETFROM:-0500
TZOFFSETTO:-0600
TZNAME:CST
DTSTART:20261101T070000
END:STANDARD
END:VTIMEZONE
BEGIN:VEVENT
DTSTART;TZID=America/Chicago:20250804T151500
DTEND;TZID=America/Chicago:20250804T153000
DTSTAMP:20260420T033505
CREATED:20250602T213249Z
LAST-MODIFIED:20250603T191942Z
UID:10196386-1754320500-1754321400@spacecenter.org
SUMMARY:Story Corner Live Presentation
DESCRIPTION:
URL:https://spacecenter.org/events-calendar-event/story-corner-live-presentation-4/2025-08-04/
LOCATION:Theater – Artemis
CATEGORIES:Live Presentation
END:VEVENT
BEGIN:VEVENT
DTSTART;TZID=America/Chicago:20250804T154500
DTEND;TZID=America/Chicago:20250804T161500
DTSTAMP:20260420T033505
CREATED:20250602T214125Z
LAST-MODIFIED:20250603T192119Z
UID:10207354-1754322300-1754324100@spacecenter.org
SUMMARY:Artemis Live Presentation
DESCRIPTION:
URL:https://spacecenter.org/events-calendar-event/artemis-live-presentation-3/2025-08-04/
LOCATION:Theater – Destiny
CATEGORIES:Live Presentation
ATTACH;FMTTYPE=image/jpeg:https://spacecenter.org/wp-content/uploads/2022/10/Artemis-Capsule.jpeg
END:VEVENT
BEGIN:VEVENT
DTSTART;TZID=America/Chicago:20250804T163000
DTEND;TZID=America/Chicago:20250804T164500
DTSTAMP:20260420T033505
CREATED:20250602T212726Z
LAST-MODIFIED:20250603T192225Z
UID:10214666-1754325000-1754325900@spacecenter.org
SUMMARY:OSIRIS Rex Live Presentation
DESCRIPTION:
URL:https://spacecenter.org/events-calendar-event/osiris-rex-live-presentation-3/2025-08-04/
LOCATION:Mission Sketch Staircase
CATEGORIES:Live Presentation
ATTACH;FMTTYPE=image/jpeg:https://spacecenter.org/wp-content/uploads/2024/03/web-march2024_tls_osirisrex.jpg
END:VEVENT
BEGIN:VEVENT
DTSTART;TZID=America/Chicago:20250805T104500
DTEND;TZID=America/Chicago:20250805T110000
DTSTAMP:20260420T033505
CREATED:20250602T212526Z
LAST-MODIFIED:20250603T185502Z
UID:10101331-1754390700-1754391600@spacecenter.org
SUMMARY:OSIRIS Rex Live Presentation
DESCRIPTION:
URL:https://spacecenter.org/events-calendar-event/osiris-rex-live-presentation/2025-08-05/
LOCATION:Mission Sketch Staircase
CATEGORIES:Live Presentation
ATTACH;FMTTYPE=image/jpeg:https://spacecenter.org/wp-content/uploads/2024/03/web-march2024_tls_osirisrex.jpg
END:VEVENT
BEGIN:VEVENT
DTSTART;TZID=America/Chicago:20250805T104500
DTEND;TZID=America/Chicago:20250805T111500
DTSTAMP:20260420T033505
CREATED:20250602T213905Z
LAST-MODIFIED:20250603T185637Z
UID:10108643-1754390700-1754392500@spacecenter.org
SUMMARY:Artemis Live Presentation
DESCRIPTION:
URL:https://spacecenter.org/events-calendar-event/artemis-live-presentation/2025-08-05/
LOCATION:Theater – Destiny
CATEGORIES:Live Presentation
ATTACH;FMTTYPE=image/jpeg:https://spacecenter.org/wp-content/uploads/2022/10/Artemis-Capsule.jpeg
END:VEVENT
BEGIN:VEVENT
DTSTART;TZID=America/Chicago:20250805T111500
DTEND;TZID=America/Chicago:20250805T113000
DTSTAMP:20260420T033505
CREATED:20250602T213010Z
LAST-MODIFIED:20250603T185901Z
UID:10119611-1754392500-1754393400@spacecenter.org
SUMMARY:Story Corner Live Presentation
DESCRIPTION:
URL:https://spacecenter.org/events-calendar-event/story-corner-live-presentation/2025-08-05/
LOCATION:Theater – Artemis
CATEGORIES:Live Presentation
END:VEVENT
BEGIN:VEVENT
DTSTART;TZID=America/Chicago:20250805T114500
DTEND;TZID=America/Chicago:20250805T120000
DTSTAMP:20260420T033505
CREATED:20250602T213503Z
LAST-MODIFIED:20250603T190256Z
UID:10137891-1754394300-1754395200@spacecenter.org
SUMMARY:James Webb Live Presentation
DESCRIPTION:
URL:https://spacecenter.org/events-calendar-event/james-webb-live-presentation/2025-08-05/
LOCATION:Theater – Destiny
CATEGORIES:Live Presentation
END:VEVENT
BEGIN:VEVENT
DTSTART;TZID=America/Chicago:20250805T121500
DTEND;TZID=America/Chicago:20250805T123000
DTSTAMP:20260420T033505
CREATED:20250602T213059Z
LAST-MODIFIED:20250603T190345Z
UID:10141547-1754396100-1754397000@spacecenter.org
SUMMARY:Story Corner Live Presentation
DESCRIPTION:
URL:https://spacecenter.org/events-calendar-event/story-corner-live-presentation-2/2025-08-05/
LOCATION:Theater – Artemis
CATEGORIES:Live Presentation
END:VEVENT
BEGIN:VEVENT
DTSTART;TZID=America/Chicago:20250805T124500
DTEND;TZID=America/Chicago:20250805T131500
DTSTAMP:20260420T033505
CREATED:20250602T214012Z
LAST-MODIFIED:20250603T190811Z
UID:10152515-1754397900-1754399700@spacecenter.org
SUMMARY:Artemis Live Presentation
DESCRIPTION:
URL:https://spacecenter.org/events-calendar-event/artemis-live-presentation-2/2025-08-05/
LOCATION:Theater – Destiny
CATEGORIES:Live Presentation
ATTACH;FMTTYPE=image/jpeg:https://spacecenter.org/wp-content/uploads/2022/10/Artemis-Capsule.jpeg
END:VEVENT
BEGIN:VEVENT
DTSTART;TZID=America/Chicago:20250805T131500
DTEND;TZID=America/Chicago:20250805T133000
DTSTAMP:20260420T033505
CREATED:20250602T213201Z
LAST-MODIFIED:20250603T190922Z
UID:10159827-1754399700-1754400600@spacecenter.org
SUMMARY:Story Corner Live Presentation
DESCRIPTION:
URL:https://spacecenter.org/events-calendar-event/story-corner-live-presentation-3/2025-08-05/
LOCATION:Theater – Artemis
CATEGORIES:Live Presentation
END:VEVENT
BEGIN:VEVENT
DTSTART;TZID=America/Chicago:20250805T134500
DTEND;TZID=America/Chicago:20250805T140000
DTSTAMP:20260420T033505
CREATED:20250602T212635Z
LAST-MODIFIED:20250603T191121Z
UID:10170795-1754401500-1754402400@spacecenter.org
SUMMARY:OSIRIS Rex Live Presentation
DESCRIPTION:
URL:https://spacecenter.org/events-calendar-event/osiris-rex-live-presentation-2/2025-08-05/
LOCATION:Mission Sketch Staircase
CATEGORIES:Live Presentation
ATTACH;FMTTYPE=image/jpeg:https://spacecenter.org/wp-content/uploads/2024/03/web-march2024_tls_osirisrex.jpg
END:VEVENT
BEGIN:VEVENT
DTSTART;TZID=America/Chicago:20250805T134500
DTEND;TZID=America/Chicago:20250805T140000
DTSTAMP:20260420T033505
CREATED:20250602T213557Z
LAST-MODIFIED:20250603T191327Z
UID:10174451-1754401500-1754402400@spacecenter.org
SUMMARY:James Webb Live Presentation
DESCRIPTION:
URL:https://spacecenter.org/events-calendar-event/james-webb-live-presentation-2/2025-08-05/
LOCATION:Theater – Destiny
CATEGORIES:Live Presentation
END:VEVENT
BEGIN:VEVENT
DTSTART;TZID=America/Chicago:20250805T144500
DTEND;TZID=America/Chicago:20250805T150000
DTSTAMP:20260420T033505
CREATED:20250602T213716Z
LAST-MODIFIED:20250603T191759Z
UID:10189075-1754405100-1754406000@spacecenter.org
SUMMARY:James Webb Live Presentation
DESCRIPTION:
URL:https://spacecenter.org/events-calendar-event/james-webb-live-presentation-3/2025-08-05/
LOCATION:Theater – Destiny
CATEGORIES:Live Presentation
END:VEVENT
BEGIN:VEVENT
DTSTART;TZID=America/Chicago:20250805T151500
DTEND;TZID=America/Chicago:20250805T153000
DTSTAMP:20260420T033505
CREATED:20250602T213249Z
LAST-MODIFIED:20250603T191942Z
UID:10196387-1754406900-1754407800@spacecenter.org
SUMMARY:Story Corner Live Presentation
DESCRIPTION:
URL:https://spacecenter.org/events-calendar-event/story-corner-live-presentation-4/2025-08-05/
LOCATION:Theater – Artemis
CATEGORIES:Live Presentation
END:VEVENT
BEGIN:VEVENT
DTSTART;TZID=America/Chicago:20250805T154500
DTEND;TZID=America/Chicago:20250805T161500
DTSTAMP:20260420T033505
CREATED:20250602T214125Z
LAST-MODIFIED:20250603T192119Z
UID:10207355-1754408700-1754410500@spacecenter.org
SUMMARY:Artemis Live Presentation
DESCRIPTION:
URL:https://spacecenter.org/events-calendar-event/artemis-live-presentation-3/2025-08-05/
LOCATION:Theater – Destiny
CATEGORIES:Live Presentation
ATTACH;FMTTYPE=image/jpeg:https://spacecenter.org/wp-content/uploads/2022/10/Artemis-Capsule.jpeg
END:VEVENT
BEGIN:VEVENT
DTSTART;TZID=America/Chicago:20250805T163000
DTEND;TZID=America/Chicago:20250805T164500
DTSTAMP:20260420T033505
CREATED:20250602T212726Z
LAST-MODIFIED:20250603T192225Z
UID:10214667-1754411400-1754412300@spacecenter.org
SUMMARY:OSIRIS Rex Live Presentation
DESCRIPTION:
URL:https://spacecenter.org/events-calendar-event/osiris-rex-live-presentation-3/2025-08-05/
LOCATION:Mission Sketch Staircase
CATEGORIES:Live Presentation
ATTACH;FMTTYPE=image/jpeg:https://spacecenter.org/wp-content/uploads/2024/03/web-march2024_tls_osirisrex.jpg
END:VEVENT
BEGIN:VEVENT
DTSTART;TZID=America/Chicago:20250806T104500
DTEND;TZID=America/Chicago:20250806T110000
DTSTAMP:20260420T033505
CREATED:20250602T212526Z
LAST-MODIFIED:20250603T185502Z
UID:10101332-1754477100-1754478000@spacecenter.org
SUMMARY:OSIRIS Rex Live Presentation
DESCRIPTION:
URL:https://spacecenter.org/events-calendar-event/osiris-rex-live-presentation/2025-08-06/
LOCATION:Mission Sketch Staircase
CATEGORIES:Live Presentation
ATTACH;FMTTYPE=image/jpeg:https://spacecenter.org/wp-content/uploads/2024/03/web-march2024_tls_osirisrex.jpg
END:VEVENT
BEGIN:VEVENT
DTSTART;TZID=America/Chicago:20250806T104500
DTEND;TZID=America/Chicago:20250806T111500
DTSTAMP:20260420T033505
CREATED:20250602T213905Z
LAST-MODIFIED:20250603T185637Z
UID:10108644-1754477100-1754478900@spacecenter.org
SUMMARY:Artemis Live Presentation
DESCRIPTION:
URL:https://spacecenter.org/events-calendar-event/artemis-live-presentation/2025-08-06/
LOCATION:Theater – Destiny
CATEGORIES:Live Presentation
ATTACH;FMTTYPE=image/jpeg:https://spacecenter.org/wp-content/uploads/2022/10/Artemis-Capsule.jpeg
END:VEVENT
BEGIN:VEVENT
DTSTART;TZID=America/Chicago:20250806T111500
DTEND;TZID=America/Chicago:20250806T113000
DTSTAMP:20260420T033505
CREATED:20250602T213010Z
LAST-MODIFIED:20250603T185901Z
UID:10119612-1754478900-1754479800@spacecenter.org
SUMMARY:Story Corner Live Presentation
DESCRIPTION:
URL:https://spacecenter.org/events-calendar-event/story-corner-live-presentation/2025-08-06/
LOCATION:Theater – Artemis
CATEGORIES:Live Presentation
END:VEVENT
BEGIN:VEVENT
DTSTART;TZID=America/Chicago:20250806T114500
DTEND;TZID=America/Chicago:20250806T120000
DTSTAMP:20260420T033505
CREATED:20250602T213503Z
LAST-MODIFIED:20250603T190256Z
UID:10137892-1754480700-1754481600@spacecenter.org
SUMMARY:James Webb Live Presentation
DESCRIPTION:
URL:https://spacecenter.org/events-calendar-event/james-webb-live-presentation/2025-08-06/
LOCATION:Theater – Destiny
CATEGORIES:Live Presentation
END:VEVENT
BEGIN:VEVENT
DTSTART;TZID=America/Chicago:20250806T121500
DTEND;TZID=America/Chicago:20250806T123000
DTSTAMP:20260420T033505
CREATED:20250602T213059Z
LAST-MODIFIED:20250603T190345Z
UID:10141548-1754482500-1754483400@spacecenter.org
SUMMARY:Story Corner Live Presentation
DESCRIPTION:
URL:https://spacecenter.org/events-calendar-event/story-corner-live-presentation-2/2025-08-06/
LOCATION:Theater – Artemis
CATEGORIES:Live Presentation
END:VEVENT
BEGIN:VEVENT
DTSTART;TZID=America/Chicago:20250806T124500
DTEND;TZID=America/Chicago:20250806T131500
DTSTAMP:20260420T033505
CREATED:20250602T214012Z
LAST-MODIFIED:20250603T190811Z
UID:10152516-1754484300-1754486100@spacecenter.org
SUMMARY:Artemis Live Presentation
DESCRIPTION:
URL:https://spacecenter.org/events-calendar-event/artemis-live-presentation-2/2025-08-06/
LOCATION:Theater – Destiny
CATEGORIES:Live Presentation
ATTACH;FMTTYPE=image/jpeg:https://spacecenter.org/wp-content/uploads/2022/10/Artemis-Capsule.jpeg
END:VEVENT
BEGIN:VEVENT
DTSTART;TZID=America/Chicago:20250806T131500
DTEND;TZID=America/Chicago:20250806T133000
DTSTAMP:20260420T033505
CREATED:20250602T213201Z
LAST-MODIFIED:20250603T190922Z
UID:10159828-1754486100-1754487000@spacecenter.org
SUMMARY:Story Corner Live Presentation
DESCRIPTION:
URL:https://spacecenter.org/events-calendar-event/story-corner-live-presentation-3/2025-08-06/
LOCATION:Theater – Artemis
CATEGORIES:Live Presentation
END:VEVENT
BEGIN:VEVENT
DTSTART;TZID=America/Chicago:20250806T134500
DTEND;TZID=America/Chicago:20250806T140000
DTSTAMP:20260420T033505
CREATED:20250602T212635Z
LAST-MODIFIED:20250603T191121Z
UID:10170796-1754487900-1754488800@spacecenter.org
SUMMARY:OSIRIS Rex Live Presentation
DESCRIPTION:
URL:https://spacecenter.org/events-calendar-event/osiris-rex-live-presentation-2/2025-08-06/
LOCATION:Mission Sketch Staircase
CATEGORIES:Live Presentation
ATTACH;FMTTYPE=image/jpeg:https://spacecenter.org/wp-content/uploads/2024/03/web-march2024_tls_osirisrex.jpg
END:VEVENT
BEGIN:VEVENT
DTSTART;TZID=America/Chicago:20250806T134500
DTEND;TZID=America/Chicago:20250806T140000
DTSTAMP:20260420T033505
CREATED:20250602T213557Z
LAST-MODIFIED:20250603T191327Z
UID:10174452-1754487900-1754488800@spacecenter.org
SUMMARY:James Webb Live Presentation
DESCRIPTION:
URL:https://spacecenter.org/events-calendar-event/james-webb-live-presentation-2/2025-08-06/
LOCATION:Theater – Destiny
CATEGORIES:Live Presentation
END:VEVENT
BEGIN:VEVENT
DTSTART;TZID=America/Chicago:20250806T144500
DTEND;TZID=America/Chicago:20250806T150000
DTSTAMP:20260420T033505
CREATED:20250602T213716Z
LAST-MODIFIED:20250603T191759Z
UID:10189076-1754491500-1754492400@spacecenter.org
SUMMARY:James Webb Live Presentation
DESCRIPTION:
URL:https://spacecenter.org/events-calendar-event/james-webb-live-presentation-3/2025-08-06/
LOCATION:Theater – Destiny
CATEGORIES:Live Presentation
END:VEVENT
BEGIN:VEVENT
DTSTART;TZID=America/Chicago:20250806T151500
DTEND;TZID=America/Chicago:20250806T153000
DTSTAMP:20260420T033505
CREATED:20250602T213249Z
LAST-MODIFIED:20250603T191942Z
UID:10196388-1754493300-1754494200@spacecenter.org
SUMMARY:Story Corner Live Presentation
DESCRIPTION:
URL:https://spacecenter.org/events-calendar-event/story-corner-live-presentation-4/2025-08-06/
LOCATION:Theater – Artemis
CATEGORIES:Live Presentation
END:VEVENT
BEGIN:VEVENT
DTSTART;TZID=America/Chicago:20250806T154500
DTEND;TZID=America/Chicago:20250806T161500
DTSTAMP:20260420T033505
CREATED:20250602T214125Z
LAST-MODIFIED:20250603T192119Z
UID:10207356-1754495100-1754496900@spacecenter.org
SUMMARY:Artemis Live Presentation
DESCRIPTION:
URL:https://spacecenter.org/events-calendar-event/artemis-live-presentation-3/2025-08-06/
LOCATION:Theater – Destiny
CATEGORIES:Live Presentation
ATTACH;FMTTYPE=image/jpeg:https://spacecenter.org/wp-content/uploads/2022/10/Artemis-Capsule.jpeg
END:VEVENT
BEGIN:VEVENT
DTSTART;TZID=America/Chicago:20250806T163000
DTEND;TZID=America/Chicago:20250806T164500
DTSTAMP:20260420T033505
CREATED:20250602T212726Z
LAST-MODIFIED:20250603T192225Z
UID:10214668-1754497800-1754498700@spacecenter.org
SUMMARY:OSIRIS Rex Live Presentation
DESCRIPTION:
URL:https://spacecenter.org/events-calendar-event/osiris-rex-live-presentation-3/2025-08-06/
LOCATION:Mission Sketch Staircase
CATEGORIES:Live Presentation
ATTACH;FMTTYPE=image/jpeg:https://spacecenter.org/wp-content/uploads/2024/03/web-march2024_tls_osirisrex.jpg
END:VEVENT
BEGIN:VEVENT
DTSTART;TZID=America/Chicago:20250807T104500
DTEND;TZID=America/Chicago:20250807T110000
DTSTAMP:20260420T033505
CREATED:20250602T212526Z
LAST-MODIFIED:20250603T185502Z
UID:10101333-1754563500-1754564400@spacecenter.org
SUMMARY:OSIRIS Rex Live Presentation
DESCRIPTION:
URL:https://spacecenter.org/events-calendar-event/osiris-rex-live-presentation/2025-08-07/
LOCATION:Mission Sketch Staircase
CATEGORIES:Live Presentation
ATTACH;FMTTYPE=image/jpeg:https://spacecenter.org/wp-content/uploads/2024/03/web-march2024_tls_osirisrex.jpg
END:VEVENT
END:VCALENDAR