BEGIN:VCALENDAR
VERSION:2.0
PRODID:-//Space Center Houston - ECPv6.15.15//NONSGML v1.0//EN
CALSCALE:GREGORIAN
METHOD:PUBLISH
X-ORIGINAL-URL:https://spacecenter.org
X-WR-CALDESC:Events for Space Center Houston
REFRESH-INTERVAL;VALUE=DURATION:PT1H
X-Robots-Tag:noindex
X-PUBLISHED-TTL:PT1H
BEGIN:VTIMEZONE
TZID:America/Chicago
BEGIN:DAYLIGHT
TZOFFSETFROM:-0600
TZOFFSETTO:-0500
TZNAME:CDT
DTSTART:20240310T080000
END:DAYLIGHT
BEGIN:STANDARD
TZOFFSETFROM:-0500
TZOFFSETTO:-0600
TZNAME:CST
DTSTART:20241103T070000
END:STANDARD
BEGIN:DAYLIGHT
TZOFFSETFROM:-0600
TZOFFSETTO:-0500
TZNAME:CDT
DTSTART:20250309T080000
END:DAYLIGHT
BEGIN:STANDARD
TZOFFSETFROM:-0500
TZOFFSETTO:-0600
TZNAME:CST
DTSTART:20251102T070000
END:STANDARD
BEGIN:DAYLIGHT
TZOFFSETFROM:-0600
TZOFFSETTO:-0500
TZNAME:CDT
DTSTART:20260308T080000
END:DAYLIGHT
BEGIN:STANDARD
TZOFFSETFROM:-0500
TZOFFSETTO:-0600
TZNAME:CST
DTSTART:20261101T070000
END:STANDARD
END:VTIMEZONE
BEGIN:VEVENT
DTSTART;TZID=America/Chicago:20250802T104500
DTEND;TZID=America/Chicago:20250802T111500
DTSTAMP:20260425T070319
CREATED:20250602T213905Z
LAST-MODIFIED:20250603T185637Z
UID:10108640-1754131500-1754133300@spacecenter.org
SUMMARY:Artemis Live Presentation
DESCRIPTION:
URL:https://spacecenter.org/events-calendar-event/artemis-live-presentation/2025-08-02/
LOCATION:Theater – Destiny
CATEGORIES:Live Presentation
ATTACH;FMTTYPE=image/jpeg:https://spacecenter.org/wp-content/uploads/2022/10/Artemis-Capsule.jpeg
END:VEVENT
BEGIN:VEVENT
DTSTART;TZID=America/Chicago:20250802T111500
DTEND;TZID=America/Chicago:20250802T113000
DTSTAMP:20260425T070319
CREATED:20250602T213010Z
LAST-MODIFIED:20250603T185901Z
UID:10119608-1754133300-1754134200@spacecenter.org
SUMMARY:Story Corner Live Presentation
DESCRIPTION:
URL:https://spacecenter.org/events-calendar-event/story-corner-live-presentation/2025-08-02/
LOCATION:Theater – Artemis
CATEGORIES:Live Presentation
END:VEVENT
BEGIN:VEVENT
DTSTART;TZID=America/Chicago:20250802T114500
DTEND;TZID=America/Chicago:20250802T120000
DTSTAMP:20260425T070319
CREATED:20250602T213503Z
LAST-MODIFIED:20250603T190256Z
UID:10137888-1754135100-1754136000@spacecenter.org
SUMMARY:James Webb Live Presentation
DESCRIPTION:
URL:https://spacecenter.org/events-calendar-event/james-webb-live-presentation/2025-08-02/
LOCATION:Theater – Destiny
CATEGORIES:Live Presentation
END:VEVENT
BEGIN:VEVENT
DTSTART;TZID=America/Chicago:20250802T121500
DTEND;TZID=America/Chicago:20250802T123000
DTSTAMP:20260425T070319
CREATED:20250602T213059Z
LAST-MODIFIED:20250603T190345Z
UID:10141544-1754136900-1754137800@spacecenter.org
SUMMARY:Story Corner Live Presentation
DESCRIPTION:
URL:https://spacecenter.org/events-calendar-event/story-corner-live-presentation-2/2025-08-02/
LOCATION:Theater – Artemis
CATEGORIES:Live Presentation
END:VEVENT
BEGIN:VEVENT
DTSTART;TZID=America/Chicago:20250802T124500
DTEND;TZID=America/Chicago:20250802T131500
DTSTAMP:20260425T070319
CREATED:20250602T214012Z
LAST-MODIFIED:20250603T190811Z
UID:10152512-1754138700-1754140500@spacecenter.org
SUMMARY:Artemis Live Presentation
DESCRIPTION:
URL:https://spacecenter.org/events-calendar-event/artemis-live-presentation-2/2025-08-02/
LOCATION:Theater – Destiny
CATEGORIES:Live Presentation
ATTACH;FMTTYPE=image/jpeg:https://spacecenter.org/wp-content/uploads/2022/10/Artemis-Capsule.jpeg
END:VEVENT
BEGIN:VEVENT
DTSTART;TZID=America/Chicago:20250802T131500
DTEND;TZID=America/Chicago:20250802T133000
DTSTAMP:20260425T070319
CREATED:20250602T213201Z
LAST-MODIFIED:20250603T190922Z
UID:10159824-1754140500-1754141400@spacecenter.org
SUMMARY:Story Corner Live Presentation
DESCRIPTION:
URL:https://spacecenter.org/events-calendar-event/story-corner-live-presentation-3/2025-08-02/
LOCATION:Theater – Artemis
CATEGORIES:Live Presentation
END:VEVENT
BEGIN:VEVENT
DTSTART;TZID=America/Chicago:20250802T134500
DTEND;TZID=America/Chicago:20250802T140000
DTSTAMP:20260425T070319
CREATED:20250602T212635Z
LAST-MODIFIED:20250603T191121Z
UID:10170792-1754142300-1754143200@spacecenter.org
SUMMARY:OSIRIS Rex Live Presentation
DESCRIPTION:
URL:https://spacecenter.org/events-calendar-event/osiris-rex-live-presentation-2/2025-08-02/
LOCATION:Mission Sketch Staircase
CATEGORIES:Live Presentation
ATTACH;FMTTYPE=image/jpeg:https://spacecenter.org/wp-content/uploads/2024/03/web-march2024_tls_osirisrex.jpg
END:VEVENT
BEGIN:VEVENT
DTSTART;TZID=America/Chicago:20250802T134500
DTEND;TZID=America/Chicago:20250802T140000
DTSTAMP:20260425T070319
CREATED:20250602T213557Z
LAST-MODIFIED:20250603T191327Z
UID:10174448-1754142300-1754143200@spacecenter.org
SUMMARY:James Webb Live Presentation
DESCRIPTION:
URL:https://spacecenter.org/events-calendar-event/james-webb-live-presentation-2/2025-08-02/
LOCATION:Theater – Destiny
CATEGORIES:Live Presentation
END:VEVENT
BEGIN:VEVENT
DTSTART;TZID=America/Chicago:20250802T144500
DTEND;TZID=America/Chicago:20250802T150000
DTSTAMP:20260425T070319
CREATED:20250602T213716Z
LAST-MODIFIED:20250603T191759Z
UID:10189072-1754145900-1754146800@spacecenter.org
SUMMARY:James Webb Live Presentation
DESCRIPTION:
URL:https://spacecenter.org/events-calendar-event/james-webb-live-presentation-3/2025-08-02/
LOCATION:Theater – Destiny
CATEGORIES:Live Presentation
END:VEVENT
BEGIN:VEVENT
DTSTART;TZID=America/Chicago:20250802T151500
DTEND;TZID=America/Chicago:20250802T153000
DTSTAMP:20260425T070319
CREATED:20250602T213249Z
LAST-MODIFIED:20250603T191942Z
UID:10196384-1754147700-1754148600@spacecenter.org
SUMMARY:Story Corner Live Presentation
DESCRIPTION:
URL:https://spacecenter.org/events-calendar-event/story-corner-live-presentation-4/2025-08-02/
LOCATION:Theater – Artemis
CATEGORIES:Live Presentation
END:VEVENT
BEGIN:VEVENT
DTSTART;TZID=America/Chicago:20250802T154500
DTEND;TZID=America/Chicago:20250802T161500
DTSTAMP:20260425T070319
CREATED:20250602T214125Z
LAST-MODIFIED:20250603T192119Z
UID:10207352-1754149500-1754151300@spacecenter.org
SUMMARY:Artemis Live Presentation
DESCRIPTION:
URL:https://spacecenter.org/events-calendar-event/artemis-live-presentation-3/2025-08-02/
LOCATION:Theater – Destiny
CATEGORIES:Live Presentation
ATTACH;FMTTYPE=image/jpeg:https://spacecenter.org/wp-content/uploads/2022/10/Artemis-Capsule.jpeg
END:VEVENT
BEGIN:VEVENT
DTSTART;TZID=America/Chicago:20250802T163000
DTEND;TZID=America/Chicago:20250802T164500
DTSTAMP:20260425T070319
CREATED:20250602T212726Z
LAST-MODIFIED:20250603T192225Z
UID:10214664-1754152200-1754153100@spacecenter.org
SUMMARY:OSIRIS Rex Live Presentation
DESCRIPTION:
URL:https://spacecenter.org/events-calendar-event/osiris-rex-live-presentation-3/2025-08-02/
LOCATION:Mission Sketch Staircase
CATEGORIES:Live Presentation
ATTACH;FMTTYPE=image/jpeg:https://spacecenter.org/wp-content/uploads/2024/03/web-march2024_tls_osirisrex.jpg
END:VEVENT
BEGIN:VEVENT
DTSTART;TZID=America/Chicago:20250803T104500
DTEND;TZID=America/Chicago:20250803T110000
DTSTAMP:20260425T070319
CREATED:20250602T212526Z
LAST-MODIFIED:20250603T185502Z
UID:10101329-1754217900-1754218800@spacecenter.org
SUMMARY:OSIRIS Rex Live Presentation
DESCRIPTION:
URL:https://spacecenter.org/events-calendar-event/osiris-rex-live-presentation/2025-08-03/
LOCATION:Mission Sketch Staircase
CATEGORIES:Live Presentation
ATTACH;FMTTYPE=image/jpeg:https://spacecenter.org/wp-content/uploads/2024/03/web-march2024_tls_osirisrex.jpg
END:VEVENT
BEGIN:VEVENT
DTSTART;TZID=America/Chicago:20250803T104500
DTEND;TZID=America/Chicago:20250803T111500
DTSTAMP:20260425T070319
CREATED:20250602T213905Z
LAST-MODIFIED:20250603T185637Z
UID:10108641-1754217900-1754219700@spacecenter.org
SUMMARY:Artemis Live Presentation
DESCRIPTION:
URL:https://spacecenter.org/events-calendar-event/artemis-live-presentation/2025-08-03/
LOCATION:Theater – Destiny
CATEGORIES:Live Presentation
ATTACH;FMTTYPE=image/jpeg:https://spacecenter.org/wp-content/uploads/2022/10/Artemis-Capsule.jpeg
END:VEVENT
BEGIN:VEVENT
DTSTART;TZID=America/Chicago:20250803T111500
DTEND;TZID=America/Chicago:20250803T113000
DTSTAMP:20260425T070319
CREATED:20250602T213010Z
LAST-MODIFIED:20250603T185901Z
UID:10119609-1754219700-1754220600@spacecenter.org
SUMMARY:Story Corner Live Presentation
DESCRIPTION:
URL:https://spacecenter.org/events-calendar-event/story-corner-live-presentation/2025-08-03/
LOCATION:Theater – Artemis
CATEGORIES:Live Presentation
END:VEVENT
BEGIN:VEVENT
DTSTART;TZID=America/Chicago:20250803T114500
DTEND;TZID=America/Chicago:20250803T120000
DTSTAMP:20260425T070319
CREATED:20250602T213503Z
LAST-MODIFIED:20250603T190256Z
UID:10137889-1754221500-1754222400@spacecenter.org
SUMMARY:James Webb Live Presentation
DESCRIPTION:
URL:https://spacecenter.org/events-calendar-event/james-webb-live-presentation/2025-08-03/
LOCATION:Theater – Destiny
CATEGORIES:Live Presentation
END:VEVENT
BEGIN:VEVENT
DTSTART;TZID=America/Chicago:20250803T121500
DTEND;TZID=America/Chicago:20250803T123000
DTSTAMP:20260425T070319
CREATED:20250602T213059Z
LAST-MODIFIED:20250603T190345Z
UID:10141545-1754223300-1754224200@spacecenter.org
SUMMARY:Story Corner Live Presentation
DESCRIPTION:
URL:https://spacecenter.org/events-calendar-event/story-corner-live-presentation-2/2025-08-03/
LOCATION:Theater – Artemis
CATEGORIES:Live Presentation
END:VEVENT
BEGIN:VEVENT
DTSTART;TZID=America/Chicago:20250803T124500
DTEND;TZID=America/Chicago:20250803T131500
DTSTAMP:20260425T070320
CREATED:20250602T214012Z
LAST-MODIFIED:20250603T190811Z
UID:10152513-1754225100-1754226900@spacecenter.org
SUMMARY:Artemis Live Presentation
DESCRIPTION:
URL:https://spacecenter.org/events-calendar-event/artemis-live-presentation-2/2025-08-03/
LOCATION:Theater – Destiny
CATEGORIES:Live Presentation
ATTACH;FMTTYPE=image/jpeg:https://spacecenter.org/wp-content/uploads/2022/10/Artemis-Capsule.jpeg
END:VEVENT
BEGIN:VEVENT
DTSTART;TZID=America/Chicago:20250803T131500
DTEND;TZID=America/Chicago:20250803T133000
DTSTAMP:20260425T070320
CREATED:20250602T213201Z
LAST-MODIFIED:20250603T190922Z
UID:10159825-1754226900-1754227800@spacecenter.org
SUMMARY:Story Corner Live Presentation
DESCRIPTION:
URL:https://spacecenter.org/events-calendar-event/story-corner-live-presentation-3/2025-08-03/
LOCATION:Theater – Artemis
CATEGORIES:Live Presentation
END:VEVENT
BEGIN:VEVENT
DTSTART;TZID=America/Chicago:20250803T134500
DTEND;TZID=America/Chicago:20250803T140000
DTSTAMP:20260425T070320
CREATED:20250602T212635Z
LAST-MODIFIED:20250603T191121Z
UID:10170793-1754228700-1754229600@spacecenter.org
SUMMARY:OSIRIS Rex Live Presentation
DESCRIPTION:
URL:https://spacecenter.org/events-calendar-event/osiris-rex-live-presentation-2/2025-08-03/
LOCATION:Mission Sketch Staircase
CATEGORIES:Live Presentation
ATTACH;FMTTYPE=image/jpeg:https://spacecenter.org/wp-content/uploads/2024/03/web-march2024_tls_osirisrex.jpg
END:VEVENT
BEGIN:VEVENT
DTSTART;TZID=America/Chicago:20250803T134500
DTEND;TZID=America/Chicago:20250803T140000
DTSTAMP:20260425T070320
CREATED:20250602T213557Z
LAST-MODIFIED:20250603T191327Z
UID:10174449-1754228700-1754229600@spacecenter.org
SUMMARY:James Webb Live Presentation
DESCRIPTION:
URL:https://spacecenter.org/events-calendar-event/james-webb-live-presentation-2/2025-08-03/
LOCATION:Theater – Destiny
CATEGORIES:Live Presentation
END:VEVENT
BEGIN:VEVENT
DTSTART;TZID=America/Chicago:20250803T144500
DTEND;TZID=America/Chicago:20250803T150000
DTSTAMP:20260425T070320
CREATED:20250602T213716Z
LAST-MODIFIED:20250603T191759Z
UID:10189073-1754232300-1754233200@spacecenter.org
SUMMARY:James Webb Live Presentation
DESCRIPTION:
URL:https://spacecenter.org/events-calendar-event/james-webb-live-presentation-3/2025-08-03/
LOCATION:Theater – Destiny
CATEGORIES:Live Presentation
END:VEVENT
BEGIN:VEVENT
DTSTART;TZID=America/Chicago:20250803T151500
DTEND;TZID=America/Chicago:20250803T153000
DTSTAMP:20260425T070320
CREATED:20250602T213249Z
LAST-MODIFIED:20250603T191942Z
UID:10196385-1754234100-1754235000@spacecenter.org
SUMMARY:Story Corner Live Presentation
DESCRIPTION:
URL:https://spacecenter.org/events-calendar-event/story-corner-live-presentation-4/2025-08-03/
LOCATION:Theater – Artemis
CATEGORIES:Live Presentation
END:VEVENT
BEGIN:VEVENT
DTSTART;TZID=America/Chicago:20250803T154500
DTEND;TZID=America/Chicago:20250803T161500
DTSTAMP:20260425T070320
CREATED:20250602T214125Z
LAST-MODIFIED:20250603T192119Z
UID:10207353-1754235900-1754237700@spacecenter.org
SUMMARY:Artemis Live Presentation
DESCRIPTION:
URL:https://spacecenter.org/events-calendar-event/artemis-live-presentation-3/2025-08-03/
LOCATION:Theater – Destiny
CATEGORIES:Live Presentation
ATTACH;FMTTYPE=image/jpeg:https://spacecenter.org/wp-content/uploads/2022/10/Artemis-Capsule.jpeg
END:VEVENT
BEGIN:VEVENT
DTSTART;TZID=America/Chicago:20250803T163000
DTEND;TZID=America/Chicago:20250803T164500
DTSTAMP:20260425T070320
CREATED:20250602T212726Z
LAST-MODIFIED:20250603T192225Z
UID:10214665-1754238600-1754239500@spacecenter.org
SUMMARY:OSIRIS Rex Live Presentation
DESCRIPTION:
URL:https://spacecenter.org/events-calendar-event/osiris-rex-live-presentation-3/2025-08-03/
LOCATION:Mission Sketch Staircase
CATEGORIES:Live Presentation
ATTACH;FMTTYPE=image/jpeg:https://spacecenter.org/wp-content/uploads/2024/03/web-march2024_tls_osirisrex.jpg
END:VEVENT
BEGIN:VEVENT
DTSTART;TZID=America/Chicago:20250804T104500
DTEND;TZID=America/Chicago:20250804T110000
DTSTAMP:20260425T070320
CREATED:20250602T212526Z
LAST-MODIFIED:20250603T185502Z
UID:10101330-1754304300-1754305200@spacecenter.org
SUMMARY:OSIRIS Rex Live Presentation
DESCRIPTION:
URL:https://spacecenter.org/events-calendar-event/osiris-rex-live-presentation/2025-08-04/
LOCATION:Mission Sketch Staircase
CATEGORIES:Live Presentation
ATTACH;FMTTYPE=image/jpeg:https://spacecenter.org/wp-content/uploads/2024/03/web-march2024_tls_osirisrex.jpg
END:VEVENT
BEGIN:VEVENT
DTSTART;TZID=America/Chicago:20250804T104500
DTEND;TZID=America/Chicago:20250804T111500
DTSTAMP:20260425T070320
CREATED:20250602T213905Z
LAST-MODIFIED:20250603T185637Z
UID:10108642-1754304300-1754306100@spacecenter.org
SUMMARY:Artemis Live Presentation
DESCRIPTION:
URL:https://spacecenter.org/events-calendar-event/artemis-live-presentation/2025-08-04/
LOCATION:Theater – Destiny
CATEGORIES:Live Presentation
ATTACH;FMTTYPE=image/jpeg:https://spacecenter.org/wp-content/uploads/2022/10/Artemis-Capsule.jpeg
END:VEVENT
BEGIN:VEVENT
DTSTART;TZID=America/Chicago:20250804T111500
DTEND;TZID=America/Chicago:20250804T113000
DTSTAMP:20260425T070320
CREATED:20250602T213010Z
LAST-MODIFIED:20250603T185901Z
UID:10119610-1754306100-1754307000@spacecenter.org
SUMMARY:Story Corner Live Presentation
DESCRIPTION:
URL:https://spacecenter.org/events-calendar-event/story-corner-live-presentation/2025-08-04/
LOCATION:Theater – Artemis
CATEGORIES:Live Presentation
END:VEVENT
BEGIN:VEVENT
DTSTART;TZID=America/Chicago:20250804T114500
DTEND;TZID=America/Chicago:20250804T120000
DTSTAMP:20260425T070320
CREATED:20250602T213503Z
LAST-MODIFIED:20250603T190256Z
UID:10137890-1754307900-1754308800@spacecenter.org
SUMMARY:James Webb Live Presentation
DESCRIPTION:
URL:https://spacecenter.org/events-calendar-event/james-webb-live-presentation/2025-08-04/
LOCATION:Theater – Destiny
CATEGORIES:Live Presentation
END:VEVENT
BEGIN:VEVENT
DTSTART;TZID=America/Chicago:20250804T121500
DTEND;TZID=America/Chicago:20250804T123000
DTSTAMP:20260425T070320
CREATED:20250602T213059Z
LAST-MODIFIED:20250603T190345Z
UID:10141546-1754309700-1754310600@spacecenter.org
SUMMARY:Story Corner Live Presentation
DESCRIPTION:
URL:https://spacecenter.org/events-calendar-event/story-corner-live-presentation-2/2025-08-04/
LOCATION:Theater – Artemis
CATEGORIES:Live Presentation
END:VEVENT
END:VCALENDAR