BEGIN:VCALENDAR
VERSION:2.0
PRODID:-//Space Center Houston - ECPv6.15.15//NONSGML v1.0//EN
CALSCALE:GREGORIAN
METHOD:PUBLISH
X-ORIGINAL-URL:https://spacecenter.org
X-WR-CALDESC:Events for Space Center Houston
REFRESH-INTERVAL;VALUE=DURATION:PT1H
X-Robots-Tag:noindex
X-PUBLISHED-TTL:PT1H
BEGIN:VTIMEZONE
TZID:America/Chicago
BEGIN:DAYLIGHT
TZOFFSETFROM:-0600
TZOFFSETTO:-0500
TZNAME:CDT
DTSTART:20240310T080000
END:DAYLIGHT
BEGIN:STANDARD
TZOFFSETFROM:-0500
TZOFFSETTO:-0600
TZNAME:CST
DTSTART:20241103T070000
END:STANDARD
BEGIN:DAYLIGHT
TZOFFSETFROM:-0600
TZOFFSETTO:-0500
TZNAME:CDT
DTSTART:20250309T080000
END:DAYLIGHT
BEGIN:STANDARD
TZOFFSETFROM:-0500
TZOFFSETTO:-0600
TZNAME:CST
DTSTART:20251102T070000
END:STANDARD
BEGIN:DAYLIGHT
TZOFFSETFROM:-0600
TZOFFSETTO:-0500
TZNAME:CDT
DTSTART:20260308T080000
END:DAYLIGHT
BEGIN:STANDARD
TZOFFSETFROM:-0500
TZOFFSETTO:-0600
TZNAME:CST
DTSTART:20261101T070000
END:STANDARD
END:VTIMEZONE
BEGIN:VEVENT
DTSTART;TZID=America/Chicago:20250731T104500
DTEND;TZID=America/Chicago:20250731T111500
DTSTAMP:20260424T073137
CREATED:20250602T213905Z
LAST-MODIFIED:20250603T185637Z
UID:10108638-1753958700-1753960500@spacecenter.org
SUMMARY:Artemis Live Presentation
DESCRIPTION:
URL:https://spacecenter.org/events-calendar-event/artemis-live-presentation/2025-07-31/
LOCATION:Theater – Destiny
CATEGORIES:Live Presentation
ATTACH;FMTTYPE=image/jpeg:https://spacecenter.org/wp-content/uploads/2022/10/Artemis-Capsule.jpeg
END:VEVENT
BEGIN:VEVENT
DTSTART;TZID=America/Chicago:20250731T111500
DTEND;TZID=America/Chicago:20250731T113000
DTSTAMP:20260424T073137
CREATED:20250602T213010Z
LAST-MODIFIED:20250603T185901Z
UID:10119606-1753960500-1753961400@spacecenter.org
SUMMARY:Story Corner Live Presentation
DESCRIPTION:
URL:https://spacecenter.org/events-calendar-event/story-corner-live-presentation/2025-07-31/
LOCATION:Theater – Artemis
CATEGORIES:Live Presentation
END:VEVENT
BEGIN:VEVENT
DTSTART;TZID=America/Chicago:20250731T114500
DTEND;TZID=America/Chicago:20250731T120000
DTSTAMP:20260424T073137
CREATED:20250602T213503Z
LAST-MODIFIED:20250603T190256Z
UID:10137886-1753962300-1753963200@spacecenter.org
SUMMARY:James Webb Live Presentation
DESCRIPTION:
URL:https://spacecenter.org/events-calendar-event/james-webb-live-presentation/2025-07-31/
LOCATION:Theater – Destiny
CATEGORIES:Live Presentation
END:VEVENT
BEGIN:VEVENT
DTSTART;TZID=America/Chicago:20250731T121500
DTEND;TZID=America/Chicago:20250731T123000
DTSTAMP:20260424T073137
CREATED:20250602T213059Z
LAST-MODIFIED:20250603T190345Z
UID:10141542-1753964100-1753965000@spacecenter.org
SUMMARY:Story Corner Live Presentation
DESCRIPTION:
URL:https://spacecenter.org/events-calendar-event/story-corner-live-presentation-2/2025-07-31/
LOCATION:Theater – Artemis
CATEGORIES:Live Presentation
END:VEVENT
BEGIN:VEVENT
DTSTART;TZID=America/Chicago:20250731T124500
DTEND;TZID=America/Chicago:20250731T131500
DTSTAMP:20260424T073137
CREATED:20250602T214012Z
LAST-MODIFIED:20250603T190811Z
UID:10152510-1753965900-1753967700@spacecenter.org
SUMMARY:Artemis Live Presentation
DESCRIPTION:
URL:https://spacecenter.org/events-calendar-event/artemis-live-presentation-2/2025-07-31/
LOCATION:Theater – Destiny
CATEGORIES:Live Presentation
ATTACH;FMTTYPE=image/jpeg:https://spacecenter.org/wp-content/uploads/2022/10/Artemis-Capsule.jpeg
END:VEVENT
BEGIN:VEVENT
DTSTART;TZID=America/Chicago:20250731T131500
DTEND;TZID=America/Chicago:20250731T133000
DTSTAMP:20260424T073137
CREATED:20250602T213201Z
LAST-MODIFIED:20250603T190922Z
UID:10159822-1753967700-1753968600@spacecenter.org
SUMMARY:Story Corner Live Presentation
DESCRIPTION:
URL:https://spacecenter.org/events-calendar-event/story-corner-live-presentation-3/2025-07-31/
LOCATION:Theater – Artemis
CATEGORIES:Live Presentation
END:VEVENT
BEGIN:VEVENT
DTSTART;TZID=America/Chicago:20250731T134500
DTEND;TZID=America/Chicago:20250731T140000
DTSTAMP:20260424T073137
CREATED:20250602T212635Z
LAST-MODIFIED:20250603T191121Z
UID:10170790-1753969500-1753970400@spacecenter.org
SUMMARY:OSIRIS Rex Live Presentation
DESCRIPTION:
URL:https://spacecenter.org/events-calendar-event/osiris-rex-live-presentation-2/2025-07-31/
LOCATION:Mission Sketch Staircase
CATEGORIES:Live Presentation
ATTACH;FMTTYPE=image/jpeg:https://spacecenter.org/wp-content/uploads/2024/03/web-march2024_tls_osirisrex.jpg
END:VEVENT
BEGIN:VEVENT
DTSTART;TZID=America/Chicago:20250731T134500
DTEND;TZID=America/Chicago:20250731T140000
DTSTAMP:20260424T073137
CREATED:20250602T213557Z
LAST-MODIFIED:20250603T191327Z
UID:10174446-1753969500-1753970400@spacecenter.org
SUMMARY:James Webb Live Presentation
DESCRIPTION:
URL:https://spacecenter.org/events-calendar-event/james-webb-live-presentation-2/2025-07-31/
LOCATION:Theater – Destiny
CATEGORIES:Live Presentation
END:VEVENT
BEGIN:VEVENT
DTSTART;TZID=America/Chicago:20250731T144500
DTEND;TZID=America/Chicago:20250731T150000
DTSTAMP:20260424T073137
CREATED:20250602T213716Z
LAST-MODIFIED:20250603T191759Z
UID:10189070-1753973100-1753974000@spacecenter.org
SUMMARY:James Webb Live Presentation
DESCRIPTION:
URL:https://spacecenter.org/events-calendar-event/james-webb-live-presentation-3/2025-07-31/
LOCATION:Theater – Destiny
CATEGORIES:Live Presentation
END:VEVENT
BEGIN:VEVENT
DTSTART;TZID=America/Chicago:20250731T151500
DTEND;TZID=America/Chicago:20250731T153000
DTSTAMP:20260424T073137
CREATED:20250602T213249Z
LAST-MODIFIED:20250603T191942Z
UID:10196382-1753974900-1753975800@spacecenter.org
SUMMARY:Story Corner Live Presentation
DESCRIPTION:
URL:https://spacecenter.org/events-calendar-event/story-corner-live-presentation-4/2025-07-31/
LOCATION:Theater – Artemis
CATEGORIES:Live Presentation
END:VEVENT
BEGIN:VEVENT
DTSTART;TZID=America/Chicago:20250731T154500
DTEND;TZID=America/Chicago:20250731T161500
DTSTAMP:20260424T073137
CREATED:20250602T214125Z
LAST-MODIFIED:20250603T192119Z
UID:10207350-1753976700-1753978500@spacecenter.org
SUMMARY:Artemis Live Presentation
DESCRIPTION:
URL:https://spacecenter.org/events-calendar-event/artemis-live-presentation-3/2025-07-31/
LOCATION:Theater – Destiny
CATEGORIES:Live Presentation
ATTACH;FMTTYPE=image/jpeg:https://spacecenter.org/wp-content/uploads/2022/10/Artemis-Capsule.jpeg
END:VEVENT
BEGIN:VEVENT
DTSTART;TZID=America/Chicago:20250731T163000
DTEND;TZID=America/Chicago:20250731T164500
DTSTAMP:20260424T073137
CREATED:20250602T212726Z
LAST-MODIFIED:20250603T192225Z
UID:10214662-1753979400-1753980300@spacecenter.org
SUMMARY:OSIRIS Rex Live Presentation
DESCRIPTION:
URL:https://spacecenter.org/events-calendar-event/osiris-rex-live-presentation-3/2025-07-31/
LOCATION:Mission Sketch Staircase
CATEGORIES:Live Presentation
ATTACH;FMTTYPE=image/jpeg:https://spacecenter.org/wp-content/uploads/2024/03/web-march2024_tls_osirisrex.jpg
END:VEVENT
BEGIN:VEVENT
DTSTART;TZID=America/Chicago:20250801T104500
DTEND;TZID=America/Chicago:20250801T110000
DTSTAMP:20260424T073137
CREATED:20250602T212526Z
LAST-MODIFIED:20250603T185502Z
UID:10101327-1754045100-1754046000@spacecenter.org
SUMMARY:OSIRIS Rex Live Presentation
DESCRIPTION:
URL:https://spacecenter.org/events-calendar-event/osiris-rex-live-presentation/2025-08-01/
LOCATION:Mission Sketch Staircase
CATEGORIES:Live Presentation
ATTACH;FMTTYPE=image/jpeg:https://spacecenter.org/wp-content/uploads/2024/03/web-march2024_tls_osirisrex.jpg
END:VEVENT
BEGIN:VEVENT
DTSTART;TZID=America/Chicago:20250801T104500
DTEND;TZID=America/Chicago:20250801T111500
DTSTAMP:20260424T073137
CREATED:20250602T213905Z
LAST-MODIFIED:20250603T185637Z
UID:10108639-1754045100-1754046900@spacecenter.org
SUMMARY:Artemis Live Presentation
DESCRIPTION:
URL:https://spacecenter.org/events-calendar-event/artemis-live-presentation/2025-08-01/
LOCATION:Theater – Destiny
CATEGORIES:Live Presentation
ATTACH;FMTTYPE=image/jpeg:https://spacecenter.org/wp-content/uploads/2022/10/Artemis-Capsule.jpeg
END:VEVENT
BEGIN:VEVENT
DTSTART;TZID=America/Chicago:20250801T111500
DTEND;TZID=America/Chicago:20250801T113000
DTSTAMP:20260424T073137
CREATED:20250602T213010Z
LAST-MODIFIED:20250603T185901Z
UID:10119607-1754046900-1754047800@spacecenter.org
SUMMARY:Story Corner Live Presentation
DESCRIPTION:
URL:https://spacecenter.org/events-calendar-event/story-corner-live-presentation/2025-08-01/
LOCATION:Theater – Artemis
CATEGORIES:Live Presentation
END:VEVENT
BEGIN:VEVENT
DTSTART;TZID=America/Chicago:20250801T114500
DTEND;TZID=America/Chicago:20250801T120000
DTSTAMP:20260424T073137
CREATED:20250602T213503Z
LAST-MODIFIED:20250603T190256Z
UID:10137887-1754048700-1754049600@spacecenter.org
SUMMARY:James Webb Live Presentation
DESCRIPTION:
URL:https://spacecenter.org/events-calendar-event/james-webb-live-presentation/2025-08-01/
LOCATION:Theater – Destiny
CATEGORIES:Live Presentation
END:VEVENT
BEGIN:VEVENT
DTSTART;TZID=America/Chicago:20250801T121500
DTEND;TZID=America/Chicago:20250801T123000
DTSTAMP:20260424T073137
CREATED:20250602T213059Z
LAST-MODIFIED:20250603T190345Z
UID:10141543-1754050500-1754051400@spacecenter.org
SUMMARY:Story Corner Live Presentation
DESCRIPTION:
URL:https://spacecenter.org/events-calendar-event/story-corner-live-presentation-2/2025-08-01/
LOCATION:Theater – Artemis
CATEGORIES:Live Presentation
END:VEVENT
BEGIN:VEVENT
DTSTART;TZID=America/Chicago:20250801T124500
DTEND;TZID=America/Chicago:20250801T131500
DTSTAMP:20260424T073137
CREATED:20250602T214012Z
LAST-MODIFIED:20250603T190811Z
UID:10152511-1754052300-1754054100@spacecenter.org
SUMMARY:Artemis Live Presentation
DESCRIPTION:
URL:https://spacecenter.org/events-calendar-event/artemis-live-presentation-2/2025-08-01/
LOCATION:Theater – Destiny
CATEGORIES:Live Presentation
ATTACH;FMTTYPE=image/jpeg:https://spacecenter.org/wp-content/uploads/2022/10/Artemis-Capsule.jpeg
END:VEVENT
BEGIN:VEVENT
DTSTART;TZID=America/Chicago:20250801T131500
DTEND;TZID=America/Chicago:20250801T133000
DTSTAMP:20260424T073137
CREATED:20250602T213201Z
LAST-MODIFIED:20250603T190922Z
UID:10159823-1754054100-1754055000@spacecenter.org
SUMMARY:Story Corner Live Presentation
DESCRIPTION:
URL:https://spacecenter.org/events-calendar-event/story-corner-live-presentation-3/2025-08-01/
LOCATION:Theater – Artemis
CATEGORIES:Live Presentation
END:VEVENT
BEGIN:VEVENT
DTSTART;TZID=America/Chicago:20250801T134500
DTEND;TZID=America/Chicago:20250801T140000
DTSTAMP:20260424T073137
CREATED:20250602T212635Z
LAST-MODIFIED:20250603T191121Z
UID:10170791-1754055900-1754056800@spacecenter.org
SUMMARY:OSIRIS Rex Live Presentation
DESCRIPTION:
URL:https://spacecenter.org/events-calendar-event/osiris-rex-live-presentation-2/2025-08-01/
LOCATION:Mission Sketch Staircase
CATEGORIES:Live Presentation
ATTACH;FMTTYPE=image/jpeg:https://spacecenter.org/wp-content/uploads/2024/03/web-march2024_tls_osirisrex.jpg
END:VEVENT
BEGIN:VEVENT
DTSTART;TZID=America/Chicago:20250801T134500
DTEND;TZID=America/Chicago:20250801T140000
DTSTAMP:20260424T073137
CREATED:20250602T213557Z
LAST-MODIFIED:20250603T191327Z
UID:10174447-1754055900-1754056800@spacecenter.org
SUMMARY:James Webb Live Presentation
DESCRIPTION:
URL:https://spacecenter.org/events-calendar-event/james-webb-live-presentation-2/2025-08-01/
LOCATION:Theater – Destiny
CATEGORIES:Live Presentation
END:VEVENT
BEGIN:VEVENT
DTSTART;TZID=America/Chicago:20250801T144500
DTEND;TZID=America/Chicago:20250801T150000
DTSTAMP:20260424T073137
CREATED:20250602T213716Z
LAST-MODIFIED:20250603T191759Z
UID:10189071-1754059500-1754060400@spacecenter.org
SUMMARY:James Webb Live Presentation
DESCRIPTION:
URL:https://spacecenter.org/events-calendar-event/james-webb-live-presentation-3/2025-08-01/
LOCATION:Theater – Destiny
CATEGORIES:Live Presentation
END:VEVENT
BEGIN:VEVENT
DTSTART;TZID=America/Chicago:20250801T151500
DTEND;TZID=America/Chicago:20250801T153000
DTSTAMP:20260424T073137
CREATED:20250602T213249Z
LAST-MODIFIED:20250603T191942Z
UID:10196383-1754061300-1754062200@spacecenter.org
SUMMARY:Story Corner Live Presentation
DESCRIPTION:
URL:https://spacecenter.org/events-calendar-event/story-corner-live-presentation-4/2025-08-01/
LOCATION:Theater – Artemis
CATEGORIES:Live Presentation
END:VEVENT
BEGIN:VEVENT
DTSTART;TZID=America/Chicago:20250801T154500
DTEND;TZID=America/Chicago:20250801T161500
DTSTAMP:20260424T073137
CREATED:20250602T214125Z
LAST-MODIFIED:20250603T192119Z
UID:10207351-1754063100-1754064900@spacecenter.org
SUMMARY:Artemis Live Presentation
DESCRIPTION:
URL:https://spacecenter.org/events-calendar-event/artemis-live-presentation-3/2025-08-01/
LOCATION:Theater – Destiny
CATEGORIES:Live Presentation
ATTACH;FMTTYPE=image/jpeg:https://spacecenter.org/wp-content/uploads/2022/10/Artemis-Capsule.jpeg
END:VEVENT
BEGIN:VEVENT
DTSTART;TZID=America/Chicago:20250801T163000
DTEND;TZID=America/Chicago:20250801T164500
DTSTAMP:20260424T073137
CREATED:20250602T212726Z
LAST-MODIFIED:20250603T192225Z
UID:10214663-1754065800-1754066700@spacecenter.org
SUMMARY:OSIRIS Rex Live Presentation
DESCRIPTION:
URL:https://spacecenter.org/events-calendar-event/osiris-rex-live-presentation-3/2025-08-01/
LOCATION:Mission Sketch Staircase
CATEGORIES:Live Presentation
ATTACH;FMTTYPE=image/jpeg:https://spacecenter.org/wp-content/uploads/2024/03/web-march2024_tls_osirisrex.jpg
END:VEVENT
BEGIN:VEVENT
DTSTART;TZID=America/Chicago:20250802T104500
DTEND;TZID=America/Chicago:20250802T110000
DTSTAMP:20260424T073137
CREATED:20250602T212526Z
LAST-MODIFIED:20250603T185502Z
UID:10101328-1754131500-1754132400@spacecenter.org
SUMMARY:OSIRIS Rex Live Presentation
DESCRIPTION:
URL:https://spacecenter.org/events-calendar-event/osiris-rex-live-presentation/2025-08-02/
LOCATION:Mission Sketch Staircase
CATEGORIES:Live Presentation
ATTACH;FMTTYPE=image/jpeg:https://spacecenter.org/wp-content/uploads/2024/03/web-march2024_tls_osirisrex.jpg
END:VEVENT
BEGIN:VEVENT
DTSTART;TZID=America/Chicago:20250802T104500
DTEND;TZID=America/Chicago:20250802T111500
DTSTAMP:20260424T073137
CREATED:20250602T213905Z
LAST-MODIFIED:20250603T185637Z
UID:10108640-1754131500-1754133300@spacecenter.org
SUMMARY:Artemis Live Presentation
DESCRIPTION:
URL:https://spacecenter.org/events-calendar-event/artemis-live-presentation/2025-08-02/
LOCATION:Theater – Destiny
CATEGORIES:Live Presentation
ATTACH;FMTTYPE=image/jpeg:https://spacecenter.org/wp-content/uploads/2022/10/Artemis-Capsule.jpeg
END:VEVENT
BEGIN:VEVENT
DTSTART;TZID=America/Chicago:20250802T111500
DTEND;TZID=America/Chicago:20250802T113000
DTSTAMP:20260424T073137
CREATED:20250602T213010Z
LAST-MODIFIED:20250603T185901Z
UID:10119608-1754133300-1754134200@spacecenter.org
SUMMARY:Story Corner Live Presentation
DESCRIPTION:
URL:https://spacecenter.org/events-calendar-event/story-corner-live-presentation/2025-08-02/
LOCATION:Theater – Artemis
CATEGORIES:Live Presentation
END:VEVENT
BEGIN:VEVENT
DTSTART;TZID=America/Chicago:20250802T114500
DTEND;TZID=America/Chicago:20250802T120000
DTSTAMP:20260424T073137
CREATED:20250602T213503Z
LAST-MODIFIED:20250603T190256Z
UID:10137888-1754135100-1754136000@spacecenter.org
SUMMARY:James Webb Live Presentation
DESCRIPTION:
URL:https://spacecenter.org/events-calendar-event/james-webb-live-presentation/2025-08-02/
LOCATION:Theater – Destiny
CATEGORIES:Live Presentation
END:VEVENT
BEGIN:VEVENT
DTSTART;TZID=America/Chicago:20250802T121500
DTEND;TZID=America/Chicago:20250802T123000
DTSTAMP:20260424T073137
CREATED:20250602T213059Z
LAST-MODIFIED:20250603T190345Z
UID:10141544-1754136900-1754137800@spacecenter.org
SUMMARY:Story Corner Live Presentation
DESCRIPTION:
URL:https://spacecenter.org/events-calendar-event/story-corner-live-presentation-2/2025-08-02/
LOCATION:Theater – Artemis
CATEGORIES:Live Presentation
END:VEVENT
END:VCALENDAR