BEGIN:VCALENDAR
VERSION:2.0
PRODID:-//Space Center Houston - ECPv6.15.15//NONSGML v1.0//EN
CALSCALE:GREGORIAN
METHOD:PUBLISH
X-WR-CALNAME:Space Center Houston
X-ORIGINAL-URL:https://spacecenter.org
X-WR-CALDESC:Events for Space Center Houston
REFRESH-INTERVAL;VALUE=DURATION:PT1H
X-Robots-Tag:noindex
X-PUBLISHED-TTL:PT1H
BEGIN:VTIMEZONE
TZID:America/Chicago
BEGIN:DAYLIGHT
TZOFFSETFROM:-0600
TZOFFSETTO:-0500
TZNAME:CDT
DTSTART:20240310T080000
END:DAYLIGHT
BEGIN:STANDARD
TZOFFSETFROM:-0500
TZOFFSETTO:-0600
TZNAME:CST
DTSTART:20241103T070000
END:STANDARD
BEGIN:DAYLIGHT
TZOFFSETFROM:-0600
TZOFFSETTO:-0500
TZNAME:CDT
DTSTART:20250309T080000
END:DAYLIGHT
BEGIN:STANDARD
TZOFFSETFROM:-0500
TZOFFSETTO:-0600
TZNAME:CST
DTSTART:20251102T070000
END:STANDARD
BEGIN:DAYLIGHT
TZOFFSETFROM:-0600
TZOFFSETTO:-0500
TZNAME:CDT
DTSTART:20260308T080000
END:DAYLIGHT
BEGIN:STANDARD
TZOFFSETFROM:-0500
TZOFFSETTO:-0600
TZNAME:CST
DTSTART:20261101T070000
END:STANDARD
END:VTIMEZONE
BEGIN:VEVENT
DTSTART;TZID=America/Chicago:20250721T124500
DTEND;TZID=America/Chicago:20250721T131500
DTSTAMP:20260423T070638
CREATED:20250602T214012Z
LAST-MODIFIED:20250603T190811Z
UID:10152500-1753101900-1753103700@spacecenter.org
SUMMARY:Artemis Live Presentation
DESCRIPTION:
URL:https://spacecenter.org/events-calendar-event/artemis-live-presentation-2/2025-07-21/
LOCATION:Theater – Destiny
CATEGORIES:Live Presentation
ATTACH;FMTTYPE=image/jpeg:https://spacecenter.org/wp-content/uploads/2022/10/Artemis-Capsule.jpeg
END:VEVENT
BEGIN:VEVENT
DTSTART;TZID=America/Chicago:20250721T131500
DTEND;TZID=America/Chicago:20250721T133000
DTSTAMP:20260423T070638
CREATED:20250602T213201Z
LAST-MODIFIED:20250603T190922Z
UID:10159812-1753103700-1753104600@spacecenter.org
SUMMARY:Story Corner Live Presentation
DESCRIPTION:
URL:https://spacecenter.org/events-calendar-event/story-corner-live-presentation-3/2025-07-21/
LOCATION:Theater – Artemis
CATEGORIES:Live Presentation
END:VEVENT
BEGIN:VEVENT
DTSTART;TZID=America/Chicago:20250721T134500
DTEND;TZID=America/Chicago:20250721T140000
DTSTAMP:20260423T070638
CREATED:20250602T212635Z
LAST-MODIFIED:20250603T191121Z
UID:10170780-1753105500-1753106400@spacecenter.org
SUMMARY:OSIRIS Rex Live Presentation
DESCRIPTION:
URL:https://spacecenter.org/events-calendar-event/osiris-rex-live-presentation-2/2025-07-21/
LOCATION:Mission Sketch Staircase
CATEGORIES:Live Presentation
ATTACH;FMTTYPE=image/jpeg:https://spacecenter.org/wp-content/uploads/2024/03/web-march2024_tls_osirisrex.jpg
END:VEVENT
BEGIN:VEVENT
DTSTART;TZID=America/Chicago:20250721T134500
DTEND;TZID=America/Chicago:20250721T140000
DTSTAMP:20260423T070638
CREATED:20250602T213557Z
LAST-MODIFIED:20250603T191327Z
UID:10174436-1753105500-1753106400@spacecenter.org
SUMMARY:James Webb Live Presentation
DESCRIPTION:
URL:https://spacecenter.org/events-calendar-event/james-webb-live-presentation-2/2025-07-21/
LOCATION:Theater – Destiny
CATEGORIES:Live Presentation
END:VEVENT
BEGIN:VEVENT
DTSTART;TZID=America/Chicago:20250721T144500
DTEND;TZID=America/Chicago:20250721T150000
DTSTAMP:20260423T070638
CREATED:20250602T213716Z
LAST-MODIFIED:20250603T191759Z
UID:10189060-1753109100-1753110000@spacecenter.org
SUMMARY:James Webb Live Presentation
DESCRIPTION:
URL:https://spacecenter.org/events-calendar-event/james-webb-live-presentation-3/2025-07-21/
LOCATION:Theater – Destiny
CATEGORIES:Live Presentation
END:VEVENT
BEGIN:VEVENT
DTSTART;TZID=America/Chicago:20250721T151500
DTEND;TZID=America/Chicago:20250721T153000
DTSTAMP:20260423T070638
CREATED:20250602T213249Z
LAST-MODIFIED:20250603T191942Z
UID:10196372-1753110900-1753111800@spacecenter.org
SUMMARY:Story Corner Live Presentation
DESCRIPTION:
URL:https://spacecenter.org/events-calendar-event/story-corner-live-presentation-4/2025-07-21/
LOCATION:Theater – Artemis
CATEGORIES:Live Presentation
END:VEVENT
BEGIN:VEVENT
DTSTART;TZID=America/Chicago:20250721T154500
DTEND;TZID=America/Chicago:20250721T161500
DTSTAMP:20260423T070638
CREATED:20250602T214125Z
LAST-MODIFIED:20250603T192119Z
UID:10207340-1753112700-1753114500@spacecenter.org
SUMMARY:Artemis Live Presentation
DESCRIPTION:
URL:https://spacecenter.org/events-calendar-event/artemis-live-presentation-3/2025-07-21/
LOCATION:Theater – Destiny
CATEGORIES:Live Presentation
ATTACH;FMTTYPE=image/jpeg:https://spacecenter.org/wp-content/uploads/2022/10/Artemis-Capsule.jpeg
END:VEVENT
BEGIN:VEVENT
DTSTART;TZID=America/Chicago:20250721T163000
DTEND;TZID=America/Chicago:20250721T164500
DTSTAMP:20260423T070638
CREATED:20250602T212726Z
LAST-MODIFIED:20250603T192225Z
UID:10214652-1753115400-1753116300@spacecenter.org
SUMMARY:OSIRIS Rex Live Presentation
DESCRIPTION:
URL:https://spacecenter.org/events-calendar-event/osiris-rex-live-presentation-3/2025-07-21/
LOCATION:Mission Sketch Staircase
CATEGORIES:Live Presentation
ATTACH;FMTTYPE=image/jpeg:https://spacecenter.org/wp-content/uploads/2024/03/web-march2024_tls_osirisrex.jpg
END:VEVENT
BEGIN:VEVENT
DTSTART;TZID=America/Chicago:20250722T104500
DTEND;TZID=America/Chicago:20250722T110000
DTSTAMP:20260423T070638
CREATED:20250602T212526Z
LAST-MODIFIED:20250603T185502Z
UID:10101317-1753181100-1753182000@spacecenter.org
SUMMARY:OSIRIS Rex Live Presentation
DESCRIPTION:
URL:https://spacecenter.org/events-calendar-event/osiris-rex-live-presentation/2025-07-22/
LOCATION:Mission Sketch Staircase
CATEGORIES:Live Presentation
ATTACH;FMTTYPE=image/jpeg:https://spacecenter.org/wp-content/uploads/2024/03/web-march2024_tls_osirisrex.jpg
END:VEVENT
BEGIN:VEVENT
DTSTART;TZID=America/Chicago:20250722T104500
DTEND;TZID=America/Chicago:20250722T111500
DTSTAMP:20260423T070638
CREATED:20250602T213905Z
LAST-MODIFIED:20250603T185637Z
UID:10108629-1753181100-1753182900@spacecenter.org
SUMMARY:Artemis Live Presentation
DESCRIPTION:
URL:https://spacecenter.org/events-calendar-event/artemis-live-presentation/2025-07-22/
LOCATION:Theater – Destiny
CATEGORIES:Live Presentation
ATTACH;FMTTYPE=image/jpeg:https://spacecenter.org/wp-content/uploads/2022/10/Artemis-Capsule.jpeg
END:VEVENT
BEGIN:VEVENT
DTSTART;TZID=America/Chicago:20250722T111500
DTEND;TZID=America/Chicago:20250722T113000
DTSTAMP:20260423T070638
CREATED:20250602T213010Z
LAST-MODIFIED:20250603T185901Z
UID:10119597-1753182900-1753183800@spacecenter.org
SUMMARY:Story Corner Live Presentation
DESCRIPTION:
URL:https://spacecenter.org/events-calendar-event/story-corner-live-presentation/2025-07-22/
LOCATION:Theater – Artemis
CATEGORIES:Live Presentation
END:VEVENT
BEGIN:VEVENT
DTSTART;TZID=America/Chicago:20250722T114500
DTEND;TZID=America/Chicago:20250722T120000
DTSTAMP:20260423T070638
CREATED:20250602T213503Z
LAST-MODIFIED:20250603T190256Z
UID:10137877-1753184700-1753185600@spacecenter.org
SUMMARY:James Webb Live Presentation
DESCRIPTION:
URL:https://spacecenter.org/events-calendar-event/james-webb-live-presentation/2025-07-22/
LOCATION:Theater – Destiny
CATEGORIES:Live Presentation
END:VEVENT
BEGIN:VEVENT
DTSTART;TZID=America/Chicago:20250722T121500
DTEND;TZID=America/Chicago:20250722T123000
DTSTAMP:20260423T070638
CREATED:20250602T213059Z
LAST-MODIFIED:20250603T190345Z
UID:10141533-1753186500-1753187400@spacecenter.org
SUMMARY:Story Corner Live Presentation
DESCRIPTION:
URL:https://spacecenter.org/events-calendar-event/story-corner-live-presentation-2/2025-07-22/
LOCATION:Theater – Artemis
CATEGORIES:Live Presentation
END:VEVENT
BEGIN:VEVENT
DTSTART;TZID=America/Chicago:20250722T124500
DTEND;TZID=America/Chicago:20250722T131500
DTSTAMP:20260423T070638
CREATED:20250602T214012Z
LAST-MODIFIED:20250603T190811Z
UID:10152501-1753188300-1753190100@spacecenter.org
SUMMARY:Artemis Live Presentation
DESCRIPTION:
URL:https://spacecenter.org/events-calendar-event/artemis-live-presentation-2/2025-07-22/
LOCATION:Theater – Destiny
CATEGORIES:Live Presentation
ATTACH;FMTTYPE=image/jpeg:https://spacecenter.org/wp-content/uploads/2022/10/Artemis-Capsule.jpeg
END:VEVENT
BEGIN:VEVENT
DTSTART;TZID=America/Chicago:20250722T131500
DTEND;TZID=America/Chicago:20250722T133000
DTSTAMP:20260423T070638
CREATED:20250602T213201Z
LAST-MODIFIED:20250603T190922Z
UID:10159813-1753190100-1753191000@spacecenter.org
SUMMARY:Story Corner Live Presentation
DESCRIPTION:
URL:https://spacecenter.org/events-calendar-event/story-corner-live-presentation-3/2025-07-22/
LOCATION:Theater – Artemis
CATEGORIES:Live Presentation
END:VEVENT
BEGIN:VEVENT
DTSTART;TZID=America/Chicago:20250722T134500
DTEND;TZID=America/Chicago:20250722T140000
DTSTAMP:20260423T070638
CREATED:20250602T212635Z
LAST-MODIFIED:20250603T191121Z
UID:10170781-1753191900-1753192800@spacecenter.org
SUMMARY:OSIRIS Rex Live Presentation
DESCRIPTION:
URL:https://spacecenter.org/events-calendar-event/osiris-rex-live-presentation-2/2025-07-22/
LOCATION:Mission Sketch Staircase
CATEGORIES:Live Presentation
ATTACH;FMTTYPE=image/jpeg:https://spacecenter.org/wp-content/uploads/2024/03/web-march2024_tls_osirisrex.jpg
END:VEVENT
BEGIN:VEVENT
DTSTART;TZID=America/Chicago:20250722T134500
DTEND;TZID=America/Chicago:20250722T140000
DTSTAMP:20260423T070638
CREATED:20250602T213557Z
LAST-MODIFIED:20250603T191327Z
UID:10174437-1753191900-1753192800@spacecenter.org
SUMMARY:James Webb Live Presentation
DESCRIPTION:
URL:https://spacecenter.org/events-calendar-event/james-webb-live-presentation-2/2025-07-22/
LOCATION:Theater – Destiny
CATEGORIES:Live Presentation
END:VEVENT
BEGIN:VEVENT
DTSTART;TZID=America/Chicago:20250722T144500
DTEND;TZID=America/Chicago:20250722T150000
DTSTAMP:20260423T070638
CREATED:20250602T213716Z
LAST-MODIFIED:20250603T191759Z
UID:10189061-1753195500-1753196400@spacecenter.org
SUMMARY:James Webb Live Presentation
DESCRIPTION:
URL:https://spacecenter.org/events-calendar-event/james-webb-live-presentation-3/2025-07-22/
LOCATION:Theater – Destiny
CATEGORIES:Live Presentation
END:VEVENT
BEGIN:VEVENT
DTSTART;TZID=America/Chicago:20250722T151500
DTEND;TZID=America/Chicago:20250722T153000
DTSTAMP:20260423T070638
CREATED:20250602T213249Z
LAST-MODIFIED:20250603T191942Z
UID:10196373-1753197300-1753198200@spacecenter.org
SUMMARY:Story Corner Live Presentation
DESCRIPTION:
URL:https://spacecenter.org/events-calendar-event/story-corner-live-presentation-4/2025-07-22/
LOCATION:Theater – Artemis
CATEGORIES:Live Presentation
END:VEVENT
BEGIN:VEVENT
DTSTART;TZID=America/Chicago:20250722T154500
DTEND;TZID=America/Chicago:20250722T161500
DTSTAMP:20260423T070638
CREATED:20250602T214125Z
LAST-MODIFIED:20250603T192119Z
UID:10207341-1753199100-1753200900@spacecenter.org
SUMMARY:Artemis Live Presentation
DESCRIPTION:
URL:https://spacecenter.org/events-calendar-event/artemis-live-presentation-3/2025-07-22/
LOCATION:Theater – Destiny
CATEGORIES:Live Presentation
ATTACH;FMTTYPE=image/jpeg:https://spacecenter.org/wp-content/uploads/2022/10/Artemis-Capsule.jpeg
END:VEVENT
BEGIN:VEVENT
DTSTART;TZID=America/Chicago:20250722T163000
DTEND;TZID=America/Chicago:20250722T164500
DTSTAMP:20260423T070638
CREATED:20250602T212726Z
LAST-MODIFIED:20250603T192225Z
UID:10214653-1753201800-1753202700@spacecenter.org
SUMMARY:OSIRIS Rex Live Presentation
DESCRIPTION:
URL:https://spacecenter.org/events-calendar-event/osiris-rex-live-presentation-3/2025-07-22/
LOCATION:Mission Sketch Staircase
CATEGORIES:Live Presentation
ATTACH;FMTTYPE=image/jpeg:https://spacecenter.org/wp-content/uploads/2024/03/web-march2024_tls_osirisrex.jpg
END:VEVENT
BEGIN:VEVENT
DTSTART;TZID=America/Chicago:20250723T104500
DTEND;TZID=America/Chicago:20250723T110000
DTSTAMP:20260423T070638
CREATED:20250602T212526Z
LAST-MODIFIED:20250603T185502Z
UID:10101318-1753267500-1753268400@spacecenter.org
SUMMARY:OSIRIS Rex Live Presentation
DESCRIPTION:
URL:https://spacecenter.org/events-calendar-event/osiris-rex-live-presentation/2025-07-23/
LOCATION:Mission Sketch Staircase
CATEGORIES:Live Presentation
ATTACH;FMTTYPE=image/jpeg:https://spacecenter.org/wp-content/uploads/2024/03/web-march2024_tls_osirisrex.jpg
END:VEVENT
BEGIN:VEVENT
DTSTART;TZID=America/Chicago:20250723T104500
DTEND;TZID=America/Chicago:20250723T111500
DTSTAMP:20260423T070638
CREATED:20250602T213905Z
LAST-MODIFIED:20250603T185637Z
UID:10108630-1753267500-1753269300@spacecenter.org
SUMMARY:Artemis Live Presentation
DESCRIPTION:
URL:https://spacecenter.org/events-calendar-event/artemis-live-presentation/2025-07-23/
LOCATION:Theater – Destiny
CATEGORIES:Live Presentation
ATTACH;FMTTYPE=image/jpeg:https://spacecenter.org/wp-content/uploads/2022/10/Artemis-Capsule.jpeg
END:VEVENT
BEGIN:VEVENT
DTSTART;TZID=America/Chicago:20250723T111500
DTEND;TZID=America/Chicago:20250723T113000
DTSTAMP:20260423T070638
CREATED:20250602T213010Z
LAST-MODIFIED:20250603T185901Z
UID:10119598-1753269300-1753270200@spacecenter.org
SUMMARY:Story Corner Live Presentation
DESCRIPTION:
URL:https://spacecenter.org/events-calendar-event/story-corner-live-presentation/2025-07-23/
LOCATION:Theater – Artemis
CATEGORIES:Live Presentation
END:VEVENT
BEGIN:VEVENT
DTSTART;TZID=America/Chicago:20250723T114500
DTEND;TZID=America/Chicago:20250723T120000
DTSTAMP:20260423T070638
CREATED:20250602T213503Z
LAST-MODIFIED:20250603T190256Z
UID:10137878-1753271100-1753272000@spacecenter.org
SUMMARY:James Webb Live Presentation
DESCRIPTION:
URL:https://spacecenter.org/events-calendar-event/james-webb-live-presentation/2025-07-23/
LOCATION:Theater – Destiny
CATEGORIES:Live Presentation
END:VEVENT
BEGIN:VEVENT
DTSTART;TZID=America/Chicago:20250723T121500
DTEND;TZID=America/Chicago:20250723T123000
DTSTAMP:20260423T070638
CREATED:20250602T213059Z
LAST-MODIFIED:20250603T190345Z
UID:10141534-1753272900-1753273800@spacecenter.org
SUMMARY:Story Corner Live Presentation
DESCRIPTION:
URL:https://spacecenter.org/events-calendar-event/story-corner-live-presentation-2/2025-07-23/
LOCATION:Theater – Artemis
CATEGORIES:Live Presentation
END:VEVENT
BEGIN:VEVENT
DTSTART;TZID=America/Chicago:20250723T124500
DTEND;TZID=America/Chicago:20250723T131500
DTSTAMP:20260423T070638
CREATED:20250602T214012Z
LAST-MODIFIED:20250603T190811Z
UID:10152502-1753274700-1753276500@spacecenter.org
SUMMARY:Artemis Live Presentation
DESCRIPTION:
URL:https://spacecenter.org/events-calendar-event/artemis-live-presentation-2/2025-07-23/
LOCATION:Theater – Destiny
CATEGORIES:Live Presentation
ATTACH;FMTTYPE=image/jpeg:https://spacecenter.org/wp-content/uploads/2022/10/Artemis-Capsule.jpeg
END:VEVENT
BEGIN:VEVENT
DTSTART;TZID=America/Chicago:20250723T131500
DTEND;TZID=America/Chicago:20250723T133000
DTSTAMP:20260423T070638
CREATED:20250602T213201Z
LAST-MODIFIED:20250603T190922Z
UID:10159814-1753276500-1753277400@spacecenter.org
SUMMARY:Story Corner Live Presentation
DESCRIPTION:
URL:https://spacecenter.org/events-calendar-event/story-corner-live-presentation-3/2025-07-23/
LOCATION:Theater – Artemis
CATEGORIES:Live Presentation
END:VEVENT
BEGIN:VEVENT
DTSTART;TZID=America/Chicago:20250723T134500
DTEND;TZID=America/Chicago:20250723T140000
DTSTAMP:20260423T070638
CREATED:20250602T212635Z
LAST-MODIFIED:20250603T191121Z
UID:10170782-1753278300-1753279200@spacecenter.org
SUMMARY:OSIRIS Rex Live Presentation
DESCRIPTION:
URL:https://spacecenter.org/events-calendar-event/osiris-rex-live-presentation-2/2025-07-23/
LOCATION:Mission Sketch Staircase
CATEGORIES:Live Presentation
ATTACH;FMTTYPE=image/jpeg:https://spacecenter.org/wp-content/uploads/2024/03/web-march2024_tls_osirisrex.jpg
END:VEVENT
BEGIN:VEVENT
DTSTART;TZID=America/Chicago:20250723T134500
DTEND;TZID=America/Chicago:20250723T140000
DTSTAMP:20260423T070638
CREATED:20250602T213557Z
LAST-MODIFIED:20250603T191327Z
UID:10174438-1753278300-1753279200@spacecenter.org
SUMMARY:James Webb Live Presentation
DESCRIPTION:
URL:https://spacecenter.org/events-calendar-event/james-webb-live-presentation-2/2025-07-23/
LOCATION:Theater – Destiny
CATEGORIES:Live Presentation
END:VEVENT
END:VCALENDAR