BEGIN:VCALENDAR
VERSION:2.0
PRODID:-//Space Center Houston - ECPv6.15.15//NONSGML v1.0//EN
CALSCALE:GREGORIAN
METHOD:PUBLISH
X-ORIGINAL-URL:https://spacecenter.org
X-WR-CALDESC:Events for Space Center Houston
REFRESH-INTERVAL;VALUE=DURATION:PT1H
X-Robots-Tag:noindex
X-PUBLISHED-TTL:PT1H
BEGIN:VTIMEZONE
TZID:America/Chicago
BEGIN:DAYLIGHT
TZOFFSETFROM:-0600
TZOFFSETTO:-0500
TZNAME:CDT
DTSTART:20250309T080000
END:DAYLIGHT
BEGIN:STANDARD
TZOFFSETFROM:-0500
TZOFFSETTO:-0600
TZNAME:CST
DTSTART:20251102T070000
END:STANDARD
BEGIN:DAYLIGHT
TZOFFSETFROM:-0600
TZOFFSETTO:-0500
TZNAME:CDT
DTSTART:20260308T080000
END:DAYLIGHT
BEGIN:STANDARD
TZOFFSETFROM:-0500
TZOFFSETTO:-0600
TZNAME:CST
DTSTART:20261101T070000
END:STANDARD
BEGIN:DAYLIGHT
TZOFFSETFROM:-0600
TZOFFSETTO:-0500
TZNAME:CDT
DTSTART:20270314T080000
END:DAYLIGHT
BEGIN:STANDARD
TZOFFSETFROM:-0500
TZOFFSETTO:-0600
TZNAME:CST
DTSTART:20271107T070000
END:STANDARD
END:VTIMEZONE
BEGIN:VEVENT
DTSTART;TZID=America/Chicago:20260822T144500
DTEND;TZID=America/Chicago:20260822T150000
DTSTAMP:20260424T093235
CREATED:20250602T213716Z
LAST-MODIFIED:20250603T191759Z
UID:10189457-1787409900-1787410800@spacecenter.org
SUMMARY:James Webb Live Presentation
DESCRIPTION:
URL:https://spacecenter.org/events-calendar-event/james-webb-live-presentation-3/2026-08-22/
LOCATION:Theater – Destiny
CATEGORIES:Live Presentation
END:VEVENT
BEGIN:VEVENT
DTSTART;TZID=America/Chicago:20260822T151500
DTEND;TZID=America/Chicago:20260822T153000
DTSTAMP:20260424T093235
CREATED:20250602T213249Z
LAST-MODIFIED:20250603T191942Z
UID:10196769-1787411700-1787412600@spacecenter.org
SUMMARY:Story Corner Live Presentation
DESCRIPTION:
URL:https://spacecenter.org/events-calendar-event/story-corner-live-presentation-4/2026-08-22/
LOCATION:Theater – Artemis
CATEGORIES:Live Presentation
END:VEVENT
BEGIN:VEVENT
DTSTART;TZID=America/Chicago:20260822T154500
DTEND;TZID=America/Chicago:20260822T161500
DTSTAMP:20260424T093235
CREATED:20250602T214125Z
LAST-MODIFIED:20250603T192119Z
UID:10207737-1787413500-1787415300@spacecenter.org
SUMMARY:Artemis Live Presentation
DESCRIPTION:
URL:https://spacecenter.org/events-calendar-event/artemis-live-presentation-3/2026-08-22/
LOCATION:Theater – Destiny
CATEGORIES:Live Presentation
ATTACH;FMTTYPE=image/jpeg:https://spacecenter.org/wp-content/uploads/2022/10/Artemis-Capsule.jpeg
END:VEVENT
BEGIN:VEVENT
DTSTART;TZID=America/Chicago:20260822T163000
DTEND;TZID=America/Chicago:20260822T164500
DTSTAMP:20260424T093235
CREATED:20250602T212726Z
LAST-MODIFIED:20250603T192225Z
UID:10215049-1787416200-1787417100@spacecenter.org
SUMMARY:OSIRIS Rex Live Presentation
DESCRIPTION:
URL:https://spacecenter.org/events-calendar-event/osiris-rex-live-presentation-3/2026-08-22/
LOCATION:Mission Sketch Staircase
CATEGORIES:Live Presentation
ATTACH;FMTTYPE=image/jpeg:https://spacecenter.org/wp-content/uploads/2024/03/web-march2024_tls_osirisrex.jpg
END:VEVENT
BEGIN:VEVENT
DTSTART;TZID=America/Chicago:20260823T104500
DTEND;TZID=America/Chicago:20260823T110000
DTSTAMP:20260424T093235
CREATED:20250602T212526Z
LAST-MODIFIED:20250603T185502Z
UID:10101714-1787481900-1787482800@spacecenter.org
SUMMARY:OSIRIS Rex Live Presentation
DESCRIPTION:
URL:https://spacecenter.org/events-calendar-event/osiris-rex-live-presentation/2026-08-23/
LOCATION:Mission Sketch Staircase
CATEGORIES:Live Presentation
ATTACH;FMTTYPE=image/jpeg:https://spacecenter.org/wp-content/uploads/2024/03/web-march2024_tls_osirisrex.jpg
END:VEVENT
BEGIN:VEVENT
DTSTART;TZID=America/Chicago:20260823T104500
DTEND;TZID=America/Chicago:20260823T111500
DTSTAMP:20260424T093235
CREATED:20250602T213905Z
LAST-MODIFIED:20250603T185637Z
UID:10109026-1787481900-1787483700@spacecenter.org
SUMMARY:Artemis Live Presentation
DESCRIPTION:
URL:https://spacecenter.org/events-calendar-event/artemis-live-presentation/2026-08-23/
LOCATION:Theater – Destiny
CATEGORIES:Live Presentation
ATTACH;FMTTYPE=image/jpeg:https://spacecenter.org/wp-content/uploads/2022/10/Artemis-Capsule.jpeg
END:VEVENT
BEGIN:VEVENT
DTSTART;TZID=America/Chicago:20260823T111500
DTEND;TZID=America/Chicago:20260823T113000
DTSTAMP:20260424T093235
CREATED:20250602T213010Z
LAST-MODIFIED:20250603T185901Z
UID:10119994-1787483700-1787484600@spacecenter.org
SUMMARY:Story Corner Live Presentation
DESCRIPTION:
URL:https://spacecenter.org/events-calendar-event/story-corner-live-presentation/2026-08-23/
LOCATION:Theater – Artemis
CATEGORIES:Live Presentation
END:VEVENT
BEGIN:VEVENT
DTSTART;TZID=America/Chicago:20260823T114500
DTEND;TZID=America/Chicago:20260823T120000
DTSTAMP:20260424T093235
CREATED:20250602T213503Z
LAST-MODIFIED:20250603T190256Z
UID:10138274-1787485500-1787486400@spacecenter.org
SUMMARY:James Webb Live Presentation
DESCRIPTION:
URL:https://spacecenter.org/events-calendar-event/james-webb-live-presentation/2026-08-23/
LOCATION:Theater – Destiny
CATEGORIES:Live Presentation
END:VEVENT
BEGIN:VEVENT
DTSTART;TZID=America/Chicago:20260823T121500
DTEND;TZID=America/Chicago:20260823T123000
DTSTAMP:20260424T093235
CREATED:20250602T213059Z
LAST-MODIFIED:20250603T190345Z
UID:10141930-1787487300-1787488200@spacecenter.org
SUMMARY:Story Corner Live Presentation
DESCRIPTION:
URL:https://spacecenter.org/events-calendar-event/story-corner-live-presentation-2/2026-08-23/
LOCATION:Theater – Artemis
CATEGORIES:Live Presentation
END:VEVENT
BEGIN:VEVENT
DTSTART;TZID=America/Chicago:20260823T124500
DTEND;TZID=America/Chicago:20260823T131500
DTSTAMP:20260424T093235
CREATED:20250602T214012Z
LAST-MODIFIED:20250603T190811Z
UID:10152898-1787489100-1787490900@spacecenter.org
SUMMARY:Artemis Live Presentation
DESCRIPTION:
URL:https://spacecenter.org/events-calendar-event/artemis-live-presentation-2/2026-08-23/
LOCATION:Theater – Destiny
CATEGORIES:Live Presentation
ATTACH;FMTTYPE=image/jpeg:https://spacecenter.org/wp-content/uploads/2022/10/Artemis-Capsule.jpeg
END:VEVENT
BEGIN:VEVENT
DTSTART;TZID=America/Chicago:20260823T131500
DTEND;TZID=America/Chicago:20260823T133000
DTSTAMP:20260424T093235
CREATED:20250602T213201Z
LAST-MODIFIED:20250603T190922Z
UID:10160210-1787490900-1787491800@spacecenter.org
SUMMARY:Story Corner Live Presentation
DESCRIPTION:
URL:https://spacecenter.org/events-calendar-event/story-corner-live-presentation-3/2026-08-23/
LOCATION:Theater – Artemis
CATEGORIES:Live Presentation
END:VEVENT
BEGIN:VEVENT
DTSTART;TZID=America/Chicago:20260823T134500
DTEND;TZID=America/Chicago:20260823T140000
DTSTAMP:20260424T093235
CREATED:20250602T212635Z
LAST-MODIFIED:20250603T191121Z
UID:10171178-1787492700-1787493600@spacecenter.org
SUMMARY:OSIRIS Rex Live Presentation
DESCRIPTION:
URL:https://spacecenter.org/events-calendar-event/osiris-rex-live-presentation-2/2026-08-23/
LOCATION:Mission Sketch Staircase
CATEGORIES:Live Presentation
ATTACH;FMTTYPE=image/jpeg:https://spacecenter.org/wp-content/uploads/2024/03/web-march2024_tls_osirisrex.jpg
END:VEVENT
BEGIN:VEVENT
DTSTART;TZID=America/Chicago:20260823T134500
DTEND;TZID=America/Chicago:20260823T140000
DTSTAMP:20260424T093235
CREATED:20250602T213557Z
LAST-MODIFIED:20250603T191327Z
UID:10174834-1787492700-1787493600@spacecenter.org
SUMMARY:James Webb Live Presentation
DESCRIPTION:
URL:https://spacecenter.org/events-calendar-event/james-webb-live-presentation-2/2026-08-23/
LOCATION:Theater – Destiny
CATEGORIES:Live Presentation
END:VEVENT
BEGIN:VEVENT
DTSTART;TZID=America/Chicago:20260823T144500
DTEND;TZID=America/Chicago:20260823T150000
DTSTAMP:20260424T093235
CREATED:20250602T213716Z
LAST-MODIFIED:20250603T191759Z
UID:10189458-1787496300-1787497200@spacecenter.org
SUMMARY:James Webb Live Presentation
DESCRIPTION:
URL:https://spacecenter.org/events-calendar-event/james-webb-live-presentation-3/2026-08-23/
LOCATION:Theater – Destiny
CATEGORIES:Live Presentation
END:VEVENT
BEGIN:VEVENT
DTSTART;TZID=America/Chicago:20260823T151500
DTEND;TZID=America/Chicago:20260823T153000
DTSTAMP:20260424T093235
CREATED:20250602T213249Z
LAST-MODIFIED:20250603T191942Z
UID:10196770-1787498100-1787499000@spacecenter.org
SUMMARY:Story Corner Live Presentation
DESCRIPTION:
URL:https://spacecenter.org/events-calendar-event/story-corner-live-presentation-4/2026-08-23/
LOCATION:Theater – Artemis
CATEGORIES:Live Presentation
END:VEVENT
BEGIN:VEVENT
DTSTART;TZID=America/Chicago:20260823T154500
DTEND;TZID=America/Chicago:20260823T161500
DTSTAMP:20260424T093235
CREATED:20250602T214125Z
LAST-MODIFIED:20250603T192119Z
UID:10207738-1787499900-1787501700@spacecenter.org
SUMMARY:Artemis Live Presentation
DESCRIPTION:
URL:https://spacecenter.org/events-calendar-event/artemis-live-presentation-3/2026-08-23/
LOCATION:Theater – Destiny
CATEGORIES:Live Presentation
ATTACH;FMTTYPE=image/jpeg:https://spacecenter.org/wp-content/uploads/2022/10/Artemis-Capsule.jpeg
END:VEVENT
BEGIN:VEVENT
DTSTART;TZID=America/Chicago:20260823T163000
DTEND;TZID=America/Chicago:20260823T164500
DTSTAMP:20260424T093235
CREATED:20250602T212726Z
LAST-MODIFIED:20250603T192225Z
UID:10215050-1787502600-1787503500@spacecenter.org
SUMMARY:OSIRIS Rex Live Presentation
DESCRIPTION:
URL:https://spacecenter.org/events-calendar-event/osiris-rex-live-presentation-3/2026-08-23/
LOCATION:Mission Sketch Staircase
CATEGORIES:Live Presentation
ATTACH;FMTTYPE=image/jpeg:https://spacecenter.org/wp-content/uploads/2024/03/web-march2024_tls_osirisrex.jpg
END:VEVENT
BEGIN:VEVENT
DTSTART;TZID=America/Chicago:20260824T104500
DTEND;TZID=America/Chicago:20260824T110000
DTSTAMP:20260424T093235
CREATED:20250602T212526Z
LAST-MODIFIED:20250603T185502Z
UID:10101715-1787568300-1787569200@spacecenter.org
SUMMARY:OSIRIS Rex Live Presentation
DESCRIPTION:
URL:https://spacecenter.org/events-calendar-event/osiris-rex-live-presentation/2026-08-24/
LOCATION:Mission Sketch Staircase
CATEGORIES:Live Presentation
ATTACH;FMTTYPE=image/jpeg:https://spacecenter.org/wp-content/uploads/2024/03/web-march2024_tls_osirisrex.jpg
END:VEVENT
BEGIN:VEVENT
DTSTART;TZID=America/Chicago:20260824T104500
DTEND;TZID=America/Chicago:20260824T111500
DTSTAMP:20260424T093235
CREATED:20250602T213905Z
LAST-MODIFIED:20250603T185637Z
UID:10109027-1787568300-1787570100@spacecenter.org
SUMMARY:Artemis Live Presentation
DESCRIPTION:
URL:https://spacecenter.org/events-calendar-event/artemis-live-presentation/2026-08-24/
LOCATION:Theater – Destiny
CATEGORIES:Live Presentation
ATTACH;FMTTYPE=image/jpeg:https://spacecenter.org/wp-content/uploads/2022/10/Artemis-Capsule.jpeg
END:VEVENT
BEGIN:VEVENT
DTSTART;TZID=America/Chicago:20260824T111500
DTEND;TZID=America/Chicago:20260824T113000
DTSTAMP:20260424T093235
CREATED:20250602T213010Z
LAST-MODIFIED:20250603T185901Z
UID:10119995-1787570100-1787571000@spacecenter.org
SUMMARY:Story Corner Live Presentation
DESCRIPTION:
URL:https://spacecenter.org/events-calendar-event/story-corner-live-presentation/2026-08-24/
LOCATION:Theater – Artemis
CATEGORIES:Live Presentation
END:VEVENT
BEGIN:VEVENT
DTSTART;TZID=America/Chicago:20260824T114500
DTEND;TZID=America/Chicago:20260824T120000
DTSTAMP:20260424T093235
CREATED:20250602T213503Z
LAST-MODIFIED:20250603T190256Z
UID:10138275-1787571900-1787572800@spacecenter.org
SUMMARY:James Webb Live Presentation
DESCRIPTION:
URL:https://spacecenter.org/events-calendar-event/james-webb-live-presentation/2026-08-24/
LOCATION:Theater – Destiny
CATEGORIES:Live Presentation
END:VEVENT
BEGIN:VEVENT
DTSTART;TZID=America/Chicago:20260824T121500
DTEND;TZID=America/Chicago:20260824T123000
DTSTAMP:20260424T093235
CREATED:20250602T213059Z
LAST-MODIFIED:20250603T190345Z
UID:10141931-1787573700-1787574600@spacecenter.org
SUMMARY:Story Corner Live Presentation
DESCRIPTION:
URL:https://spacecenter.org/events-calendar-event/story-corner-live-presentation-2/2026-08-24/
LOCATION:Theater – Artemis
CATEGORIES:Live Presentation
END:VEVENT
BEGIN:VEVENT
DTSTART;TZID=America/Chicago:20260824T124500
DTEND;TZID=America/Chicago:20260824T131500
DTSTAMP:20260424T093235
CREATED:20250602T214012Z
LAST-MODIFIED:20250603T190811Z
UID:10152899-1787575500-1787577300@spacecenter.org
SUMMARY:Artemis Live Presentation
DESCRIPTION:
URL:https://spacecenter.org/events-calendar-event/artemis-live-presentation-2/2026-08-24/
LOCATION:Theater – Destiny
CATEGORIES:Live Presentation
ATTACH;FMTTYPE=image/jpeg:https://spacecenter.org/wp-content/uploads/2022/10/Artemis-Capsule.jpeg
END:VEVENT
BEGIN:VEVENT
DTSTART;TZID=America/Chicago:20260824T131500
DTEND;TZID=America/Chicago:20260824T133000
DTSTAMP:20260424T093235
CREATED:20250602T213201Z
LAST-MODIFIED:20250603T190922Z
UID:10160211-1787577300-1787578200@spacecenter.org
SUMMARY:Story Corner Live Presentation
DESCRIPTION:
URL:https://spacecenter.org/events-calendar-event/story-corner-live-presentation-3/2026-08-24/
LOCATION:Theater – Artemis
CATEGORIES:Live Presentation
END:VEVENT
BEGIN:VEVENT
DTSTART;TZID=America/Chicago:20260824T134500
DTEND;TZID=America/Chicago:20260824T140000
DTSTAMP:20260424T093235
CREATED:20250602T212635Z
LAST-MODIFIED:20250603T191121Z
UID:10171179-1787579100-1787580000@spacecenter.org
SUMMARY:OSIRIS Rex Live Presentation
DESCRIPTION:
URL:https://spacecenter.org/events-calendar-event/osiris-rex-live-presentation-2/2026-08-24/
LOCATION:Mission Sketch Staircase
CATEGORIES:Live Presentation
ATTACH;FMTTYPE=image/jpeg:https://spacecenter.org/wp-content/uploads/2024/03/web-march2024_tls_osirisrex.jpg
END:VEVENT
BEGIN:VEVENT
DTSTART;TZID=America/Chicago:20260824T134500
DTEND;TZID=America/Chicago:20260824T140000
DTSTAMP:20260424T093235
CREATED:20250602T213557Z
LAST-MODIFIED:20250603T191327Z
UID:10174835-1787579100-1787580000@spacecenter.org
SUMMARY:James Webb Live Presentation
DESCRIPTION:
URL:https://spacecenter.org/events-calendar-event/james-webb-live-presentation-2/2026-08-24/
LOCATION:Theater – Destiny
CATEGORIES:Live Presentation
END:VEVENT
BEGIN:VEVENT
DTSTART;TZID=America/Chicago:20260824T144500
DTEND;TZID=America/Chicago:20260824T150000
DTSTAMP:20260424T093235
CREATED:20250602T213716Z
LAST-MODIFIED:20250603T191759Z
UID:10189459-1787582700-1787583600@spacecenter.org
SUMMARY:James Webb Live Presentation
DESCRIPTION:
URL:https://spacecenter.org/events-calendar-event/james-webb-live-presentation-3/2026-08-24/
LOCATION:Theater – Destiny
CATEGORIES:Live Presentation
END:VEVENT
BEGIN:VEVENT
DTSTART;TZID=America/Chicago:20260824T151500
DTEND;TZID=America/Chicago:20260824T153000
DTSTAMP:20260424T093235
CREATED:20250602T213249Z
LAST-MODIFIED:20250603T191942Z
UID:10196771-1787584500-1787585400@spacecenter.org
SUMMARY:Story Corner Live Presentation
DESCRIPTION:
URL:https://spacecenter.org/events-calendar-event/story-corner-live-presentation-4/2026-08-24/
LOCATION:Theater – Artemis
CATEGORIES:Live Presentation
END:VEVENT
BEGIN:VEVENT
DTSTART;TZID=America/Chicago:20260824T154500
DTEND;TZID=America/Chicago:20260824T161500
DTSTAMP:20260424T093235
CREATED:20250602T214125Z
LAST-MODIFIED:20250603T192119Z
UID:10207739-1787586300-1787588100@spacecenter.org
SUMMARY:Artemis Live Presentation
DESCRIPTION:
URL:https://spacecenter.org/events-calendar-event/artemis-live-presentation-3/2026-08-24/
LOCATION:Theater – Destiny
CATEGORIES:Live Presentation
ATTACH;FMTTYPE=image/jpeg:https://spacecenter.org/wp-content/uploads/2022/10/Artemis-Capsule.jpeg
END:VEVENT
BEGIN:VEVENT
DTSTART;TZID=America/Chicago:20260824T163000
DTEND;TZID=America/Chicago:20260824T164500
DTSTAMP:20260424T093235
CREATED:20250602T212726Z
LAST-MODIFIED:20250603T192225Z
UID:10215051-1787589000-1787589900@spacecenter.org
SUMMARY:OSIRIS Rex Live Presentation
DESCRIPTION:
URL:https://spacecenter.org/events-calendar-event/osiris-rex-live-presentation-3/2026-08-24/
LOCATION:Mission Sketch Staircase
CATEGORIES:Live Presentation
ATTACH;FMTTYPE=image/jpeg:https://spacecenter.org/wp-content/uploads/2024/03/web-march2024_tls_osirisrex.jpg
END:VEVENT
END:VCALENDAR