BEGIN:VCALENDAR
VERSION:2.0
PRODID:-//Space Center Houston - ECPv6.15.15//NONSGML v1.0//EN
CALSCALE:GREGORIAN
METHOD:PUBLISH
X-ORIGINAL-URL:https://spacecenter.org
X-WR-CALDESC:Events for Space Center Houston
REFRESH-INTERVAL;VALUE=DURATION:PT1H
X-Robots-Tag:noindex
X-PUBLISHED-TTL:PT1H
BEGIN:VTIMEZONE
TZID:America/Chicago
BEGIN:DAYLIGHT
TZOFFSETFROM:-0600
TZOFFSETTO:-0500
TZNAME:CDT
DTSTART:20290311T080000
END:DAYLIGHT
BEGIN:STANDARD
TZOFFSETFROM:-0500
TZOFFSETTO:-0600
TZNAME:CST
DTSTART:20291104T070000
END:STANDARD
BEGIN:DAYLIGHT
TZOFFSETFROM:-0600
TZOFFSETTO:-0500
TZNAME:CDT
DTSTART:20300310T080000
END:DAYLIGHT
BEGIN:STANDARD
TZOFFSETFROM:-0500
TZOFFSETTO:-0600
TZNAME:CST
DTSTART:20301103T070000
END:STANDARD
BEGIN:DAYLIGHT
TZOFFSETFROM:-0600
TZOFFSETTO:-0500
TZNAME:CDT
DTSTART:20310309T080000
END:DAYLIGHT
BEGIN:STANDARD
TZOFFSETFROM:-0500
TZOFFSETTO:-0600
TZNAME:CST
DTSTART:20311102T070000
END:STANDARD
END:VTIMEZONE
BEGIN:VEVENT
DTSTART;TZID=America/Chicago:20300527T154500
DTEND;TZID=America/Chicago:20300527T161500
DTSTAMP:20260421T062006
CREATED:20250602T214125Z
LAST-MODIFIED:20250603T192119Z
UID:10209111-1906127100-1906128900@spacecenter.org
SUMMARY:Artemis Live Presentation
DESCRIPTION:
URL:https://spacecenter.org/events-calendar-event/artemis-live-presentation-3/2030-05-27/
LOCATION:Theater – Destiny
CATEGORIES:Live Presentation
ATTACH;FMTTYPE=image/jpeg:https://spacecenter.org/wp-content/uploads/2022/10/Artemis-Capsule.jpeg
END:VEVENT
BEGIN:VEVENT
DTSTART;TZID=America/Chicago:20300527T163000
DTEND;TZID=America/Chicago:20300527T164500
DTSTAMP:20260421T062006
CREATED:20250602T212726Z
LAST-MODIFIED:20250603T192225Z
UID:10216423-1906129800-1906130700@spacecenter.org
SUMMARY:OSIRIS Rex Live Presentation
DESCRIPTION:
URL:https://spacecenter.org/events-calendar-event/osiris-rex-live-presentation-3/2030-05-27/
LOCATION:Mission Sketch Staircase
CATEGORIES:Live Presentation
ATTACH;FMTTYPE=image/jpeg:https://spacecenter.org/wp-content/uploads/2024/03/web-march2024_tls_osirisrex.jpg
END:VEVENT
BEGIN:VEVENT
DTSTART;TZID=America/Chicago:20300528T104500
DTEND;TZID=America/Chicago:20300528T110000
DTSTAMP:20260421T062006
CREATED:20250602T212526Z
LAST-MODIFIED:20250603T185502Z
UID:10103088-1906195500-1906196400@spacecenter.org
SUMMARY:OSIRIS Rex Live Presentation
DESCRIPTION:
URL:https://spacecenter.org/events-calendar-event/osiris-rex-live-presentation/2030-05-28/
LOCATION:Mission Sketch Staircase
CATEGORIES:Live Presentation
ATTACH;FMTTYPE=image/jpeg:https://spacecenter.org/wp-content/uploads/2024/03/web-march2024_tls_osirisrex.jpg
END:VEVENT
BEGIN:VEVENT
DTSTART;TZID=America/Chicago:20300528T104500
DTEND;TZID=America/Chicago:20300528T111500
DTSTAMP:20260421T062006
CREATED:20250602T213905Z
LAST-MODIFIED:20250603T185637Z
UID:10110400-1906195500-1906197300@spacecenter.org
SUMMARY:Artemis Live Presentation
DESCRIPTION:
URL:https://spacecenter.org/events-calendar-event/artemis-live-presentation/2030-05-28/
LOCATION:Theater – Destiny
CATEGORIES:Live Presentation
ATTACH;FMTTYPE=image/jpeg:https://spacecenter.org/wp-content/uploads/2022/10/Artemis-Capsule.jpeg
END:VEVENT
BEGIN:VEVENT
DTSTART;TZID=America/Chicago:20300528T111500
DTEND;TZID=America/Chicago:20300528T113000
DTSTAMP:20260421T062006
CREATED:20250602T213010Z
LAST-MODIFIED:20250603T185901Z
UID:10121368-1906197300-1906198200@spacecenter.org
SUMMARY:Story Corner Live Presentation
DESCRIPTION:
URL:https://spacecenter.org/events-calendar-event/story-corner-live-presentation/2030-05-28/
LOCATION:Theater – Artemis
CATEGORIES:Live Presentation
END:VEVENT
BEGIN:VEVENT
DTSTART;TZID=America/Chicago:20300528T114500
DTEND;TZID=America/Chicago:20300528T120000
DTSTAMP:20260421T062006
CREATED:20250602T213503Z
LAST-MODIFIED:20250603T190256Z
UID:10139648-1906199100-1906200000@spacecenter.org
SUMMARY:James Webb Live Presentation
DESCRIPTION:
URL:https://spacecenter.org/events-calendar-event/james-webb-live-presentation/2030-05-28/
LOCATION:Theater – Destiny
CATEGORIES:Live Presentation
END:VEVENT
BEGIN:VEVENT
DTSTART;TZID=America/Chicago:20300528T121500
DTEND;TZID=America/Chicago:20300528T123000
DTSTAMP:20260421T062006
CREATED:20250602T213059Z
LAST-MODIFIED:20250603T190345Z
UID:10143304-1906200900-1906201800@spacecenter.org
SUMMARY:Story Corner Live Presentation
DESCRIPTION:
URL:https://spacecenter.org/events-calendar-event/story-corner-live-presentation-2/2030-05-28/
LOCATION:Theater – Artemis
CATEGORIES:Live Presentation
END:VEVENT
BEGIN:VEVENT
DTSTART;TZID=America/Chicago:20300528T124500
DTEND;TZID=America/Chicago:20300528T131500
DTSTAMP:20260421T062006
CREATED:20250602T214012Z
LAST-MODIFIED:20250603T190811Z
UID:10154272-1906202700-1906204500@spacecenter.org
SUMMARY:Artemis Live Presentation
DESCRIPTION:
URL:https://spacecenter.org/events-calendar-event/artemis-live-presentation-2/2030-05-28/
LOCATION:Theater – Destiny
CATEGORIES:Live Presentation
ATTACH;FMTTYPE=image/jpeg:https://spacecenter.org/wp-content/uploads/2022/10/Artemis-Capsule.jpeg
END:VEVENT
BEGIN:VEVENT
DTSTART;TZID=America/Chicago:20300528T131500
DTEND;TZID=America/Chicago:20300528T133000
DTSTAMP:20260421T062006
CREATED:20250602T213201Z
LAST-MODIFIED:20250603T190922Z
UID:10161584-1906204500-1906205400@spacecenter.org
SUMMARY:Story Corner Live Presentation
DESCRIPTION:
URL:https://spacecenter.org/events-calendar-event/story-corner-live-presentation-3/2030-05-28/
LOCATION:Theater – Artemis
CATEGORIES:Live Presentation
END:VEVENT
BEGIN:VEVENT
DTSTART;TZID=America/Chicago:20300528T134500
DTEND;TZID=America/Chicago:20300528T140000
DTSTAMP:20260421T062006
CREATED:20250602T212635Z
LAST-MODIFIED:20250603T191121Z
UID:10172552-1906206300-1906207200@spacecenter.org
SUMMARY:OSIRIS Rex Live Presentation
DESCRIPTION:
URL:https://spacecenter.org/events-calendar-event/osiris-rex-live-presentation-2/2030-05-28/
LOCATION:Mission Sketch Staircase
CATEGORIES:Live Presentation
ATTACH;FMTTYPE=image/jpeg:https://spacecenter.org/wp-content/uploads/2024/03/web-march2024_tls_osirisrex.jpg
END:VEVENT
BEGIN:VEVENT
DTSTART;TZID=America/Chicago:20300528T134500
DTEND;TZID=America/Chicago:20300528T140000
DTSTAMP:20260421T062006
CREATED:20250602T213557Z
LAST-MODIFIED:20250603T191327Z
UID:10176208-1906206300-1906207200@spacecenter.org
SUMMARY:James Webb Live Presentation
DESCRIPTION:
URL:https://spacecenter.org/events-calendar-event/james-webb-live-presentation-2/2030-05-28/
LOCATION:Theater – Destiny
CATEGORIES:Live Presentation
END:VEVENT
BEGIN:VEVENT
DTSTART;TZID=America/Chicago:20300528T144500
DTEND;TZID=America/Chicago:20300528T150000
DTSTAMP:20260421T062006
CREATED:20250602T213716Z
LAST-MODIFIED:20250603T191759Z
UID:10190832-1906209900-1906210800@spacecenter.org
SUMMARY:James Webb Live Presentation
DESCRIPTION:
URL:https://spacecenter.org/events-calendar-event/james-webb-live-presentation-3/2030-05-28/
LOCATION:Theater – Destiny
CATEGORIES:Live Presentation
END:VEVENT
BEGIN:VEVENT
DTSTART;TZID=America/Chicago:20300528T151500
DTEND;TZID=America/Chicago:20300528T153000
DTSTAMP:20260421T062006
CREATED:20250602T213249Z
LAST-MODIFIED:20250603T191942Z
UID:10198144-1906211700-1906212600@spacecenter.org
SUMMARY:Story Corner Live Presentation
DESCRIPTION:
URL:https://spacecenter.org/events-calendar-event/story-corner-live-presentation-4/2030-05-28/
LOCATION:Theater – Artemis
CATEGORIES:Live Presentation
END:VEVENT
BEGIN:VEVENT
DTSTART;TZID=America/Chicago:20300528T154500
DTEND;TZID=America/Chicago:20300528T161500
DTSTAMP:20260421T062006
CREATED:20250602T214125Z
LAST-MODIFIED:20250603T192119Z
UID:10209112-1906213500-1906215300@spacecenter.org
SUMMARY:Artemis Live Presentation
DESCRIPTION:
URL:https://spacecenter.org/events-calendar-event/artemis-live-presentation-3/2030-05-28/
LOCATION:Theater – Destiny
CATEGORIES:Live Presentation
ATTACH;FMTTYPE=image/jpeg:https://spacecenter.org/wp-content/uploads/2022/10/Artemis-Capsule.jpeg
END:VEVENT
BEGIN:VEVENT
DTSTART;TZID=America/Chicago:20300528T163000
DTEND;TZID=America/Chicago:20300528T164500
DTSTAMP:20260421T062006
CREATED:20250602T212726Z
LAST-MODIFIED:20250603T192225Z
UID:10216424-1906216200-1906217100@spacecenter.org
SUMMARY:OSIRIS Rex Live Presentation
DESCRIPTION:
URL:https://spacecenter.org/events-calendar-event/osiris-rex-live-presentation-3/2030-05-28/
LOCATION:Mission Sketch Staircase
CATEGORIES:Live Presentation
ATTACH;FMTTYPE=image/jpeg:https://spacecenter.org/wp-content/uploads/2024/03/web-march2024_tls_osirisrex.jpg
END:VEVENT
BEGIN:VEVENT
DTSTART;TZID=America/Chicago:20300529T104500
DTEND;TZID=America/Chicago:20300529T110000
DTSTAMP:20260421T062006
CREATED:20250602T212526Z
LAST-MODIFIED:20250603T185502Z
UID:10103089-1906281900-1906282800@spacecenter.org
SUMMARY:OSIRIS Rex Live Presentation
DESCRIPTION:
URL:https://spacecenter.org/events-calendar-event/osiris-rex-live-presentation/2030-05-29/
LOCATION:Mission Sketch Staircase
CATEGORIES:Live Presentation
ATTACH;FMTTYPE=image/jpeg:https://spacecenter.org/wp-content/uploads/2024/03/web-march2024_tls_osirisrex.jpg
END:VEVENT
BEGIN:VEVENT
DTSTART;TZID=America/Chicago:20300529T104500
DTEND;TZID=America/Chicago:20300529T111500
DTSTAMP:20260421T062006
CREATED:20250602T213905Z
LAST-MODIFIED:20250603T185637Z
UID:10110401-1906281900-1906283700@spacecenter.org
SUMMARY:Artemis Live Presentation
DESCRIPTION:
URL:https://spacecenter.org/events-calendar-event/artemis-live-presentation/2030-05-29/
LOCATION:Theater – Destiny
CATEGORIES:Live Presentation
ATTACH;FMTTYPE=image/jpeg:https://spacecenter.org/wp-content/uploads/2022/10/Artemis-Capsule.jpeg
END:VEVENT
BEGIN:VEVENT
DTSTART;TZID=America/Chicago:20300529T111500
DTEND;TZID=America/Chicago:20300529T113000
DTSTAMP:20260421T062006
CREATED:20250602T213010Z
LAST-MODIFIED:20250603T185901Z
UID:10121369-1906283700-1906284600@spacecenter.org
SUMMARY:Story Corner Live Presentation
DESCRIPTION:
URL:https://spacecenter.org/events-calendar-event/story-corner-live-presentation/2030-05-29/
LOCATION:Theater – Artemis
CATEGORIES:Live Presentation
END:VEVENT
BEGIN:VEVENT
DTSTART;TZID=America/Chicago:20300529T114500
DTEND;TZID=America/Chicago:20300529T120000
DTSTAMP:20260421T062006
CREATED:20250602T213503Z
LAST-MODIFIED:20250603T190256Z
UID:10139649-1906285500-1906286400@spacecenter.org
SUMMARY:James Webb Live Presentation
DESCRIPTION:
URL:https://spacecenter.org/events-calendar-event/james-webb-live-presentation/2030-05-29/
LOCATION:Theater – Destiny
CATEGORIES:Live Presentation
END:VEVENT
BEGIN:VEVENT
DTSTART;TZID=America/Chicago:20300529T121500
DTEND;TZID=America/Chicago:20300529T123000
DTSTAMP:20260421T062006
CREATED:20250602T213059Z
LAST-MODIFIED:20250603T190345Z
UID:10143305-1906287300-1906288200@spacecenter.org
SUMMARY:Story Corner Live Presentation
DESCRIPTION:
URL:https://spacecenter.org/events-calendar-event/story-corner-live-presentation-2/2030-05-29/
LOCATION:Theater – Artemis
CATEGORIES:Live Presentation
END:VEVENT
BEGIN:VEVENT
DTSTART;TZID=America/Chicago:20300529T124500
DTEND;TZID=America/Chicago:20300529T131500
DTSTAMP:20260421T062006
CREATED:20250602T214012Z
LAST-MODIFIED:20250603T190811Z
UID:10154273-1906289100-1906290900@spacecenter.org
SUMMARY:Artemis Live Presentation
DESCRIPTION:
URL:https://spacecenter.org/events-calendar-event/artemis-live-presentation-2/2030-05-29/
LOCATION:Theater – Destiny
CATEGORIES:Live Presentation
ATTACH;FMTTYPE=image/jpeg:https://spacecenter.org/wp-content/uploads/2022/10/Artemis-Capsule.jpeg
END:VEVENT
BEGIN:VEVENT
DTSTART;TZID=America/Chicago:20300529T131500
DTEND;TZID=America/Chicago:20300529T133000
DTSTAMP:20260421T062006
CREATED:20250602T213201Z
LAST-MODIFIED:20250603T190922Z
UID:10161585-1906290900-1906291800@spacecenter.org
SUMMARY:Story Corner Live Presentation
DESCRIPTION:
URL:https://spacecenter.org/events-calendar-event/story-corner-live-presentation-3/2030-05-29/
LOCATION:Theater – Artemis
CATEGORIES:Live Presentation
END:VEVENT
BEGIN:VEVENT
DTSTART;TZID=America/Chicago:20300529T134500
DTEND;TZID=America/Chicago:20300529T140000
DTSTAMP:20260421T062006
CREATED:20250602T212635Z
LAST-MODIFIED:20250603T191121Z
UID:10172553-1906292700-1906293600@spacecenter.org
SUMMARY:OSIRIS Rex Live Presentation
DESCRIPTION:
URL:https://spacecenter.org/events-calendar-event/osiris-rex-live-presentation-2/2030-05-29/
LOCATION:Mission Sketch Staircase
CATEGORIES:Live Presentation
ATTACH;FMTTYPE=image/jpeg:https://spacecenter.org/wp-content/uploads/2024/03/web-march2024_tls_osirisrex.jpg
END:VEVENT
BEGIN:VEVENT
DTSTART;TZID=America/Chicago:20300529T134500
DTEND;TZID=America/Chicago:20300529T140000
DTSTAMP:20260421T062006
CREATED:20250602T213557Z
LAST-MODIFIED:20250603T191327Z
UID:10176209-1906292700-1906293600@spacecenter.org
SUMMARY:James Webb Live Presentation
DESCRIPTION:
URL:https://spacecenter.org/events-calendar-event/james-webb-live-presentation-2/2030-05-29/
LOCATION:Theater – Destiny
CATEGORIES:Live Presentation
END:VEVENT
BEGIN:VEVENT
DTSTART;TZID=America/Chicago:20300529T144500
DTEND;TZID=America/Chicago:20300529T150000
DTSTAMP:20260421T062006
CREATED:20250602T213716Z
LAST-MODIFIED:20250603T191759Z
UID:10190833-1906296300-1906297200@spacecenter.org
SUMMARY:James Webb Live Presentation
DESCRIPTION:
URL:https://spacecenter.org/events-calendar-event/james-webb-live-presentation-3/2030-05-29/
LOCATION:Theater – Destiny
CATEGORIES:Live Presentation
END:VEVENT
BEGIN:VEVENT
DTSTART;TZID=America/Chicago:20300529T151500
DTEND;TZID=America/Chicago:20300529T153000
DTSTAMP:20260421T062006
CREATED:20250602T213249Z
LAST-MODIFIED:20250603T191942Z
UID:10198145-1906298100-1906299000@spacecenter.org
SUMMARY:Story Corner Live Presentation
DESCRIPTION:
URL:https://spacecenter.org/events-calendar-event/story-corner-live-presentation-4/2030-05-29/
LOCATION:Theater – Artemis
CATEGORIES:Live Presentation
END:VEVENT
BEGIN:VEVENT
DTSTART;TZID=America/Chicago:20300529T154500
DTEND;TZID=America/Chicago:20300529T161500
DTSTAMP:20260421T062006
CREATED:20250602T214125Z
LAST-MODIFIED:20250603T192119Z
UID:10209113-1906299900-1906301700@spacecenter.org
SUMMARY:Artemis Live Presentation
DESCRIPTION:
URL:https://spacecenter.org/events-calendar-event/artemis-live-presentation-3/2030-05-29/
LOCATION:Theater – Destiny
CATEGORIES:Live Presentation
ATTACH;FMTTYPE=image/jpeg:https://spacecenter.org/wp-content/uploads/2022/10/Artemis-Capsule.jpeg
END:VEVENT
BEGIN:VEVENT
DTSTART;TZID=America/Chicago:20300529T163000
DTEND;TZID=America/Chicago:20300529T164500
DTSTAMP:20260421T062006
CREATED:20250602T212726Z
LAST-MODIFIED:20250603T192225Z
UID:10216425-1906302600-1906303500@spacecenter.org
SUMMARY:OSIRIS Rex Live Presentation
DESCRIPTION:
URL:https://spacecenter.org/events-calendar-event/osiris-rex-live-presentation-3/2030-05-29/
LOCATION:Mission Sketch Staircase
CATEGORIES:Live Presentation
ATTACH;FMTTYPE=image/jpeg:https://spacecenter.org/wp-content/uploads/2024/03/web-march2024_tls_osirisrex.jpg
END:VEVENT
BEGIN:VEVENT
DTSTART;TZID=America/Chicago:20300530T104500
DTEND;TZID=America/Chicago:20300530T110000
DTSTAMP:20260421T062006
CREATED:20250602T212526Z
LAST-MODIFIED:20250603T185502Z
UID:10103090-1906368300-1906369200@spacecenter.org
SUMMARY:OSIRIS Rex Live Presentation
DESCRIPTION:
URL:https://spacecenter.org/events-calendar-event/osiris-rex-live-presentation/2030-05-30/
LOCATION:Mission Sketch Staircase
CATEGORIES:Live Presentation
ATTACH;FMTTYPE=image/jpeg:https://spacecenter.org/wp-content/uploads/2024/03/web-march2024_tls_osirisrex.jpg
END:VEVENT
BEGIN:VEVENT
DTSTART;TZID=America/Chicago:20300530T104500
DTEND;TZID=America/Chicago:20300530T111500
DTSTAMP:20260421T062006
CREATED:20250602T213905Z
LAST-MODIFIED:20250603T185637Z
UID:10110402-1906368300-1906370100@spacecenter.org
SUMMARY:Artemis Live Presentation
DESCRIPTION:
URL:https://spacecenter.org/events-calendar-event/artemis-live-presentation/2030-05-30/
LOCATION:Theater – Destiny
CATEGORIES:Live Presentation
ATTACH;FMTTYPE=image/jpeg:https://spacecenter.org/wp-content/uploads/2022/10/Artemis-Capsule.jpeg
END:VEVENT
END:VCALENDAR