BEGIN:VCALENDAR
VERSION:2.0
PRODID:-//Space Center Houston - ECPv6.15.15//NONSGML v1.0//EN
CALSCALE:GREGORIAN
METHOD:PUBLISH
X-WR-CALNAME:Space Center Houston
X-ORIGINAL-URL:https://spacecenter.org
X-WR-CALDESC:Events for Space Center Houston
REFRESH-INTERVAL;VALUE=DURATION:PT1H
X-Robots-Tag:noindex
X-PUBLISHED-TTL:PT1H
BEGIN:VTIMEZONE
TZID:America/Chicago
BEGIN:DAYLIGHT
TZOFFSETFROM:-0600
TZOFFSETTO:-0500
TZNAME:CDT
DTSTART:20290311T080000
END:DAYLIGHT
BEGIN:STANDARD
TZOFFSETFROM:-0500
TZOFFSETTO:-0600
TZNAME:CST
DTSTART:20291104T070000
END:STANDARD
BEGIN:DAYLIGHT
TZOFFSETFROM:-0600
TZOFFSETTO:-0500
TZNAME:CDT
DTSTART:20300310T080000
END:DAYLIGHT
BEGIN:STANDARD
TZOFFSETFROM:-0500
TZOFFSETTO:-0600
TZNAME:CST
DTSTART:20301103T070000
END:STANDARD
BEGIN:DAYLIGHT
TZOFFSETFROM:-0600
TZOFFSETTO:-0500
TZNAME:CDT
DTSTART:20310309T080000
END:DAYLIGHT
BEGIN:STANDARD
TZOFFSETFROM:-0500
TZOFFSETTO:-0600
TZNAME:CST
DTSTART:20311102T070000
END:STANDARD
END:VTIMEZONE
BEGIN:VEVENT
DTSTART;TZID=America/Chicago:20300520T111500
DTEND;TZID=America/Chicago:20300520T113000
DTSTAMP:20260420T023309
CREATED:20250602T213010Z
LAST-MODIFIED:20250603T185901Z
UID:10121360-1905506100-1905507000@spacecenter.org
SUMMARY:Story Corner Live Presentation
DESCRIPTION:
URL:https://spacecenter.org/events-calendar-event/story-corner-live-presentation/2030-05-20/
LOCATION:Theater – Artemis
CATEGORIES:Live Presentation
END:VEVENT
BEGIN:VEVENT
DTSTART;TZID=America/Chicago:20300520T114500
DTEND;TZID=America/Chicago:20300520T120000
DTSTAMP:20260420T023309
CREATED:20250602T213503Z
LAST-MODIFIED:20250603T190256Z
UID:10139640-1905507900-1905508800@spacecenter.org
SUMMARY:James Webb Live Presentation
DESCRIPTION:
URL:https://spacecenter.org/events-calendar-event/james-webb-live-presentation/2030-05-20/
LOCATION:Theater – Destiny
CATEGORIES:Live Presentation
END:VEVENT
BEGIN:VEVENT
DTSTART;TZID=America/Chicago:20300520T121500
DTEND;TZID=America/Chicago:20300520T123000
DTSTAMP:20260420T023309
CREATED:20250602T213059Z
LAST-MODIFIED:20250603T190345Z
UID:10143296-1905509700-1905510600@spacecenter.org
SUMMARY:Story Corner Live Presentation
DESCRIPTION:
URL:https://spacecenter.org/events-calendar-event/story-corner-live-presentation-2/2030-05-20/
LOCATION:Theater – Artemis
CATEGORIES:Live Presentation
END:VEVENT
BEGIN:VEVENT
DTSTART;TZID=America/Chicago:20300520T124500
DTEND;TZID=America/Chicago:20300520T131500
DTSTAMP:20260420T023309
CREATED:20250602T214012Z
LAST-MODIFIED:20250603T190811Z
UID:10154264-1905511500-1905513300@spacecenter.org
SUMMARY:Artemis Live Presentation
DESCRIPTION:
URL:https://spacecenter.org/events-calendar-event/artemis-live-presentation-2/2030-05-20/
LOCATION:Theater – Destiny
CATEGORIES:Live Presentation
ATTACH;FMTTYPE=image/jpeg:https://spacecenter.org/wp-content/uploads/2022/10/Artemis-Capsule.jpeg
END:VEVENT
BEGIN:VEVENT
DTSTART;TZID=America/Chicago:20300520T131500
DTEND;TZID=America/Chicago:20300520T133000
DTSTAMP:20260420T023309
CREATED:20250602T213201Z
LAST-MODIFIED:20250603T190922Z
UID:10161576-1905513300-1905514200@spacecenter.org
SUMMARY:Story Corner Live Presentation
DESCRIPTION:
URL:https://spacecenter.org/events-calendar-event/story-corner-live-presentation-3/2030-05-20/
LOCATION:Theater – Artemis
CATEGORIES:Live Presentation
END:VEVENT
BEGIN:VEVENT
DTSTART;TZID=America/Chicago:20300520T134500
DTEND;TZID=America/Chicago:20300520T140000
DTSTAMP:20260420T023309
CREATED:20250602T212635Z
LAST-MODIFIED:20250603T191121Z
UID:10172544-1905515100-1905516000@spacecenter.org
SUMMARY:OSIRIS Rex Live Presentation
DESCRIPTION:
URL:https://spacecenter.org/events-calendar-event/osiris-rex-live-presentation-2/2030-05-20/
LOCATION:Mission Sketch Staircase
CATEGORIES:Live Presentation
ATTACH;FMTTYPE=image/jpeg:https://spacecenter.org/wp-content/uploads/2024/03/web-march2024_tls_osirisrex.jpg
END:VEVENT
BEGIN:VEVENT
DTSTART;TZID=America/Chicago:20300520T134500
DTEND;TZID=America/Chicago:20300520T140000
DTSTAMP:20260420T023309
CREATED:20250602T213557Z
LAST-MODIFIED:20250603T191327Z
UID:10176200-1905515100-1905516000@spacecenter.org
SUMMARY:James Webb Live Presentation
DESCRIPTION:
URL:https://spacecenter.org/events-calendar-event/james-webb-live-presentation-2/2030-05-20/
LOCATION:Theater – Destiny
CATEGORIES:Live Presentation
END:VEVENT
BEGIN:VEVENT
DTSTART;TZID=America/Chicago:20300520T144500
DTEND;TZID=America/Chicago:20300520T150000
DTSTAMP:20260420T023309
CREATED:20250602T213716Z
LAST-MODIFIED:20250603T191759Z
UID:10190824-1905518700-1905519600@spacecenter.org
SUMMARY:James Webb Live Presentation
DESCRIPTION:
URL:https://spacecenter.org/events-calendar-event/james-webb-live-presentation-3/2030-05-20/
LOCATION:Theater – Destiny
CATEGORIES:Live Presentation
END:VEVENT
BEGIN:VEVENT
DTSTART;TZID=America/Chicago:20300520T151500
DTEND;TZID=America/Chicago:20300520T153000
DTSTAMP:20260420T023309
CREATED:20250602T213249Z
LAST-MODIFIED:20250603T191942Z
UID:10198136-1905520500-1905521400@spacecenter.org
SUMMARY:Story Corner Live Presentation
DESCRIPTION:
URL:https://spacecenter.org/events-calendar-event/story-corner-live-presentation-4/2030-05-20/
LOCATION:Theater – Artemis
CATEGORIES:Live Presentation
END:VEVENT
BEGIN:VEVENT
DTSTART;TZID=America/Chicago:20300520T154500
DTEND;TZID=America/Chicago:20300520T161500
DTSTAMP:20260420T023309
CREATED:20250602T214125Z
LAST-MODIFIED:20250603T192119Z
UID:10209104-1905522300-1905524100@spacecenter.org
SUMMARY:Artemis Live Presentation
DESCRIPTION:
URL:https://spacecenter.org/events-calendar-event/artemis-live-presentation-3/2030-05-20/
LOCATION:Theater – Destiny
CATEGORIES:Live Presentation
ATTACH;FMTTYPE=image/jpeg:https://spacecenter.org/wp-content/uploads/2022/10/Artemis-Capsule.jpeg
END:VEVENT
BEGIN:VEVENT
DTSTART;TZID=America/Chicago:20300520T163000
DTEND;TZID=America/Chicago:20300520T164500
DTSTAMP:20260420T023309
CREATED:20250602T212726Z
LAST-MODIFIED:20250603T192225Z
UID:10216416-1905525000-1905525900@spacecenter.org
SUMMARY:OSIRIS Rex Live Presentation
DESCRIPTION:
URL:https://spacecenter.org/events-calendar-event/osiris-rex-live-presentation-3/2030-05-20/
LOCATION:Mission Sketch Staircase
CATEGORIES:Live Presentation
ATTACH;FMTTYPE=image/jpeg:https://spacecenter.org/wp-content/uploads/2024/03/web-march2024_tls_osirisrex.jpg
END:VEVENT
BEGIN:VEVENT
DTSTART;TZID=America/Chicago:20300521T104500
DTEND;TZID=America/Chicago:20300521T110000
DTSTAMP:20260420T023309
CREATED:20250602T212526Z
LAST-MODIFIED:20250603T185502Z
UID:10103081-1905590700-1905591600@spacecenter.org
SUMMARY:OSIRIS Rex Live Presentation
DESCRIPTION:
URL:https://spacecenter.org/events-calendar-event/osiris-rex-live-presentation/2030-05-21/
LOCATION:Mission Sketch Staircase
CATEGORIES:Live Presentation
ATTACH;FMTTYPE=image/jpeg:https://spacecenter.org/wp-content/uploads/2024/03/web-march2024_tls_osirisrex.jpg
END:VEVENT
BEGIN:VEVENT
DTSTART;TZID=America/Chicago:20300521T104500
DTEND;TZID=America/Chicago:20300521T111500
DTSTAMP:20260420T023309
CREATED:20250602T213905Z
LAST-MODIFIED:20250603T185637Z
UID:10110393-1905590700-1905592500@spacecenter.org
SUMMARY:Artemis Live Presentation
DESCRIPTION:
URL:https://spacecenter.org/events-calendar-event/artemis-live-presentation/2030-05-21/
LOCATION:Theater – Destiny
CATEGORIES:Live Presentation
ATTACH;FMTTYPE=image/jpeg:https://spacecenter.org/wp-content/uploads/2022/10/Artemis-Capsule.jpeg
END:VEVENT
BEGIN:VEVENT
DTSTART;TZID=America/Chicago:20300521T111500
DTEND;TZID=America/Chicago:20300521T113000
DTSTAMP:20260420T023309
CREATED:20250602T213010Z
LAST-MODIFIED:20250603T185901Z
UID:10121361-1905592500-1905593400@spacecenter.org
SUMMARY:Story Corner Live Presentation
DESCRIPTION:
URL:https://spacecenter.org/events-calendar-event/story-corner-live-presentation/2030-05-21/
LOCATION:Theater – Artemis
CATEGORIES:Live Presentation
END:VEVENT
BEGIN:VEVENT
DTSTART;TZID=America/Chicago:20300521T114500
DTEND;TZID=America/Chicago:20300521T120000
DTSTAMP:20260420T023309
CREATED:20250602T213503Z
LAST-MODIFIED:20250603T190256Z
UID:10139641-1905594300-1905595200@spacecenter.org
SUMMARY:James Webb Live Presentation
DESCRIPTION:
URL:https://spacecenter.org/events-calendar-event/james-webb-live-presentation/2030-05-21/
LOCATION:Theater – Destiny
CATEGORIES:Live Presentation
END:VEVENT
BEGIN:VEVENT
DTSTART;TZID=America/Chicago:20300521T121500
DTEND;TZID=America/Chicago:20300521T123000
DTSTAMP:20260420T023309
CREATED:20250602T213059Z
LAST-MODIFIED:20250603T190345Z
UID:10143297-1905596100-1905597000@spacecenter.org
SUMMARY:Story Corner Live Presentation
DESCRIPTION:
URL:https://spacecenter.org/events-calendar-event/story-corner-live-presentation-2/2030-05-21/
LOCATION:Theater – Artemis
CATEGORIES:Live Presentation
END:VEVENT
BEGIN:VEVENT
DTSTART;TZID=America/Chicago:20300521T124500
DTEND;TZID=America/Chicago:20300521T131500
DTSTAMP:20260420T023309
CREATED:20250602T214012Z
LAST-MODIFIED:20250603T190811Z
UID:10154265-1905597900-1905599700@spacecenter.org
SUMMARY:Artemis Live Presentation
DESCRIPTION:
URL:https://spacecenter.org/events-calendar-event/artemis-live-presentation-2/2030-05-21/
LOCATION:Theater – Destiny
CATEGORIES:Live Presentation
ATTACH;FMTTYPE=image/jpeg:https://spacecenter.org/wp-content/uploads/2022/10/Artemis-Capsule.jpeg
END:VEVENT
BEGIN:VEVENT
DTSTART;TZID=America/Chicago:20300521T131500
DTEND;TZID=America/Chicago:20300521T133000
DTSTAMP:20260420T023309
CREATED:20250602T213201Z
LAST-MODIFIED:20250603T190922Z
UID:10161577-1905599700-1905600600@spacecenter.org
SUMMARY:Story Corner Live Presentation
DESCRIPTION:
URL:https://spacecenter.org/events-calendar-event/story-corner-live-presentation-3/2030-05-21/
LOCATION:Theater – Artemis
CATEGORIES:Live Presentation
END:VEVENT
BEGIN:VEVENT
DTSTART;TZID=America/Chicago:20300521T134500
DTEND;TZID=America/Chicago:20300521T140000
DTSTAMP:20260420T023309
CREATED:20250602T212635Z
LAST-MODIFIED:20250603T191121Z
UID:10172545-1905601500-1905602400@spacecenter.org
SUMMARY:OSIRIS Rex Live Presentation
DESCRIPTION:
URL:https://spacecenter.org/events-calendar-event/osiris-rex-live-presentation-2/2030-05-21/
LOCATION:Mission Sketch Staircase
CATEGORIES:Live Presentation
ATTACH;FMTTYPE=image/jpeg:https://spacecenter.org/wp-content/uploads/2024/03/web-march2024_tls_osirisrex.jpg
END:VEVENT
BEGIN:VEVENT
DTSTART;TZID=America/Chicago:20300521T134500
DTEND;TZID=America/Chicago:20300521T140000
DTSTAMP:20260420T023309
CREATED:20250602T213557Z
LAST-MODIFIED:20250603T191327Z
UID:10176201-1905601500-1905602400@spacecenter.org
SUMMARY:James Webb Live Presentation
DESCRIPTION:
URL:https://spacecenter.org/events-calendar-event/james-webb-live-presentation-2/2030-05-21/
LOCATION:Theater – Destiny
CATEGORIES:Live Presentation
END:VEVENT
BEGIN:VEVENT
DTSTART;TZID=America/Chicago:20300521T144500
DTEND;TZID=America/Chicago:20300521T150000
DTSTAMP:20260420T023309
CREATED:20250602T213716Z
LAST-MODIFIED:20250603T191759Z
UID:10190825-1905605100-1905606000@spacecenter.org
SUMMARY:James Webb Live Presentation
DESCRIPTION:
URL:https://spacecenter.org/events-calendar-event/james-webb-live-presentation-3/2030-05-21/
LOCATION:Theater – Destiny
CATEGORIES:Live Presentation
END:VEVENT
BEGIN:VEVENT
DTSTART;TZID=America/Chicago:20300521T151500
DTEND;TZID=America/Chicago:20300521T153000
DTSTAMP:20260420T023309
CREATED:20250602T213249Z
LAST-MODIFIED:20250603T191942Z
UID:10198137-1905606900-1905607800@spacecenter.org
SUMMARY:Story Corner Live Presentation
DESCRIPTION:
URL:https://spacecenter.org/events-calendar-event/story-corner-live-presentation-4/2030-05-21/
LOCATION:Theater – Artemis
CATEGORIES:Live Presentation
END:VEVENT
BEGIN:VEVENT
DTSTART;TZID=America/Chicago:20300521T154500
DTEND;TZID=America/Chicago:20300521T161500
DTSTAMP:20260420T023309
CREATED:20250602T214125Z
LAST-MODIFIED:20250603T192119Z
UID:10209105-1905608700-1905610500@spacecenter.org
SUMMARY:Artemis Live Presentation
DESCRIPTION:
URL:https://spacecenter.org/events-calendar-event/artemis-live-presentation-3/2030-05-21/
LOCATION:Theater – Destiny
CATEGORIES:Live Presentation
ATTACH;FMTTYPE=image/jpeg:https://spacecenter.org/wp-content/uploads/2022/10/Artemis-Capsule.jpeg
END:VEVENT
BEGIN:VEVENT
DTSTART;TZID=America/Chicago:20300521T163000
DTEND;TZID=America/Chicago:20300521T164500
DTSTAMP:20260420T023309
CREATED:20250602T212726Z
LAST-MODIFIED:20250603T192225Z
UID:10216417-1905611400-1905612300@spacecenter.org
SUMMARY:OSIRIS Rex Live Presentation
DESCRIPTION:
URL:https://spacecenter.org/events-calendar-event/osiris-rex-live-presentation-3/2030-05-21/
LOCATION:Mission Sketch Staircase
CATEGORIES:Live Presentation
ATTACH;FMTTYPE=image/jpeg:https://spacecenter.org/wp-content/uploads/2024/03/web-march2024_tls_osirisrex.jpg
END:VEVENT
BEGIN:VEVENT
DTSTART;TZID=America/Chicago:20300522T104500
DTEND;TZID=America/Chicago:20300522T110000
DTSTAMP:20260420T023309
CREATED:20250602T212526Z
LAST-MODIFIED:20250603T185502Z
UID:10103082-1905677100-1905678000@spacecenter.org
SUMMARY:OSIRIS Rex Live Presentation
DESCRIPTION:
URL:https://spacecenter.org/events-calendar-event/osiris-rex-live-presentation/2030-05-22/
LOCATION:Mission Sketch Staircase
CATEGORIES:Live Presentation
ATTACH;FMTTYPE=image/jpeg:https://spacecenter.org/wp-content/uploads/2024/03/web-march2024_tls_osirisrex.jpg
END:VEVENT
BEGIN:VEVENT
DTSTART;TZID=America/Chicago:20300522T104500
DTEND;TZID=America/Chicago:20300522T111500
DTSTAMP:20260420T023309
CREATED:20250602T213905Z
LAST-MODIFIED:20250603T185637Z
UID:10110394-1905677100-1905678900@spacecenter.org
SUMMARY:Artemis Live Presentation
DESCRIPTION:
URL:https://spacecenter.org/events-calendar-event/artemis-live-presentation/2030-05-22/
LOCATION:Theater – Destiny
CATEGORIES:Live Presentation
ATTACH;FMTTYPE=image/jpeg:https://spacecenter.org/wp-content/uploads/2022/10/Artemis-Capsule.jpeg
END:VEVENT
BEGIN:VEVENT
DTSTART;TZID=America/Chicago:20300522T111500
DTEND;TZID=America/Chicago:20300522T113000
DTSTAMP:20260420T023309
CREATED:20250602T213010Z
LAST-MODIFIED:20250603T185901Z
UID:10121362-1905678900-1905679800@spacecenter.org
SUMMARY:Story Corner Live Presentation
DESCRIPTION:
URL:https://spacecenter.org/events-calendar-event/story-corner-live-presentation/2030-05-22/
LOCATION:Theater – Artemis
CATEGORIES:Live Presentation
END:VEVENT
BEGIN:VEVENT
DTSTART;TZID=America/Chicago:20300522T114500
DTEND;TZID=America/Chicago:20300522T120000
DTSTAMP:20260420T023309
CREATED:20250602T213503Z
LAST-MODIFIED:20250603T190256Z
UID:10139642-1905680700-1905681600@spacecenter.org
SUMMARY:James Webb Live Presentation
DESCRIPTION:
URL:https://spacecenter.org/events-calendar-event/james-webb-live-presentation/2030-05-22/
LOCATION:Theater – Destiny
CATEGORIES:Live Presentation
END:VEVENT
BEGIN:VEVENT
DTSTART;TZID=America/Chicago:20300522T121500
DTEND;TZID=America/Chicago:20300522T123000
DTSTAMP:20260420T023309
CREATED:20250602T213059Z
LAST-MODIFIED:20250603T190345Z
UID:10143298-1905682500-1905683400@spacecenter.org
SUMMARY:Story Corner Live Presentation
DESCRIPTION:
URL:https://spacecenter.org/events-calendar-event/story-corner-live-presentation-2/2030-05-22/
LOCATION:Theater – Artemis
CATEGORIES:Live Presentation
END:VEVENT
BEGIN:VEVENT
DTSTART;TZID=America/Chicago:20300522T124500
DTEND;TZID=America/Chicago:20300522T131500
DTSTAMP:20260420T023309
CREATED:20250602T214012Z
LAST-MODIFIED:20250603T190811Z
UID:10154266-1905684300-1905686100@spacecenter.org
SUMMARY:Artemis Live Presentation
DESCRIPTION:
URL:https://spacecenter.org/events-calendar-event/artemis-live-presentation-2/2030-05-22/
LOCATION:Theater – Destiny
CATEGORIES:Live Presentation
ATTACH;FMTTYPE=image/jpeg:https://spacecenter.org/wp-content/uploads/2022/10/Artemis-Capsule.jpeg
END:VEVENT
END:VCALENDAR