BEGIN:VCALENDAR
VERSION:2.0
PRODID:-//Space Center Houston - ECPv6.15.15//NONSGML v1.0//EN
CALSCALE:GREGORIAN
METHOD:PUBLISH
X-ORIGINAL-URL:https://spacecenter.org
X-WR-CALDESC:Events for Space Center Houston
REFRESH-INTERVAL;VALUE=DURATION:PT1H
X-Robots-Tag:noindex
X-PUBLISHED-TTL:PT1H
BEGIN:VTIMEZONE
TZID:America/Chicago
BEGIN:DAYLIGHT
TZOFFSETFROM:-0600
TZOFFSETTO:-0500
TZNAME:CDT
DTSTART:20290311T080000
END:DAYLIGHT
BEGIN:STANDARD
TZOFFSETFROM:-0500
TZOFFSETTO:-0600
TZNAME:CST
DTSTART:20291104T070000
END:STANDARD
BEGIN:DAYLIGHT
TZOFFSETFROM:-0600
TZOFFSETTO:-0500
TZNAME:CDT
DTSTART:20300310T080000
END:DAYLIGHT
BEGIN:STANDARD
TZOFFSETFROM:-0500
TZOFFSETTO:-0600
TZNAME:CST
DTSTART:20301103T070000
END:STANDARD
BEGIN:DAYLIGHT
TZOFFSETFROM:-0600
TZOFFSETTO:-0500
TZNAME:CDT
DTSTART:20310309T080000
END:DAYLIGHT
BEGIN:STANDARD
TZOFFSETFROM:-0500
TZOFFSETTO:-0600
TZNAME:CST
DTSTART:20311102T070000
END:STANDARD
END:VTIMEZONE
BEGIN:VEVENT
DTSTART;TZID=America/Chicago:20300516T121500
DTEND;TZID=America/Chicago:20300516T123000
DTSTAMP:20260420T005735
CREATED:20250602T213059Z
LAST-MODIFIED:20250603T190345Z
UID:10143292-1905164100-1905165000@spacecenter.org
SUMMARY:Story Corner Live Presentation
DESCRIPTION:
URL:https://spacecenter.org/events-calendar-event/story-corner-live-presentation-2/2030-05-16/
LOCATION:Theater – Artemis
CATEGORIES:Live Presentation
END:VEVENT
BEGIN:VEVENT
DTSTART;TZID=America/Chicago:20300516T124500
DTEND;TZID=America/Chicago:20300516T131500
DTSTAMP:20260420T005735
CREATED:20250602T214012Z
LAST-MODIFIED:20250603T190811Z
UID:10154260-1905165900-1905167700@spacecenter.org
SUMMARY:Artemis Live Presentation
DESCRIPTION:
URL:https://spacecenter.org/events-calendar-event/artemis-live-presentation-2/2030-05-16/
LOCATION:Theater – Destiny
CATEGORIES:Live Presentation
ATTACH;FMTTYPE=image/jpeg:https://spacecenter.org/wp-content/uploads/2022/10/Artemis-Capsule.jpeg
END:VEVENT
BEGIN:VEVENT
DTSTART;TZID=America/Chicago:20300516T131500
DTEND;TZID=America/Chicago:20300516T133000
DTSTAMP:20260420T005735
CREATED:20250602T213201Z
LAST-MODIFIED:20250603T190922Z
UID:10161572-1905167700-1905168600@spacecenter.org
SUMMARY:Story Corner Live Presentation
DESCRIPTION:
URL:https://spacecenter.org/events-calendar-event/story-corner-live-presentation-3/2030-05-16/
LOCATION:Theater – Artemis
CATEGORIES:Live Presentation
END:VEVENT
BEGIN:VEVENT
DTSTART;TZID=America/Chicago:20300516T134500
DTEND;TZID=America/Chicago:20300516T140000
DTSTAMP:20260420T005735
CREATED:20250602T212635Z
LAST-MODIFIED:20250603T191121Z
UID:10172540-1905169500-1905170400@spacecenter.org
SUMMARY:OSIRIS Rex Live Presentation
DESCRIPTION:
URL:https://spacecenter.org/events-calendar-event/osiris-rex-live-presentation-2/2030-05-16/
LOCATION:Mission Sketch Staircase
CATEGORIES:Live Presentation
ATTACH;FMTTYPE=image/jpeg:https://spacecenter.org/wp-content/uploads/2024/03/web-march2024_tls_osirisrex.jpg
END:VEVENT
BEGIN:VEVENT
DTSTART;TZID=America/Chicago:20300516T134500
DTEND;TZID=America/Chicago:20300516T140000
DTSTAMP:20260420T005735
CREATED:20250602T213557Z
LAST-MODIFIED:20250603T191327Z
UID:10176196-1905169500-1905170400@spacecenter.org
SUMMARY:James Webb Live Presentation
DESCRIPTION:
URL:https://spacecenter.org/events-calendar-event/james-webb-live-presentation-2/2030-05-16/
LOCATION:Theater – Destiny
CATEGORIES:Live Presentation
END:VEVENT
BEGIN:VEVENT
DTSTART;TZID=America/Chicago:20300516T144500
DTEND;TZID=America/Chicago:20300516T150000
DTSTAMP:20260420T005735
CREATED:20250602T213716Z
LAST-MODIFIED:20250603T191759Z
UID:10190820-1905173100-1905174000@spacecenter.org
SUMMARY:James Webb Live Presentation
DESCRIPTION:
URL:https://spacecenter.org/events-calendar-event/james-webb-live-presentation-3/2030-05-16/
LOCATION:Theater – Destiny
CATEGORIES:Live Presentation
END:VEVENT
BEGIN:VEVENT
DTSTART;TZID=America/Chicago:20300516T151500
DTEND;TZID=America/Chicago:20300516T153000
DTSTAMP:20260420T005735
CREATED:20250602T213249Z
LAST-MODIFIED:20250603T191942Z
UID:10198132-1905174900-1905175800@spacecenter.org
SUMMARY:Story Corner Live Presentation
DESCRIPTION:
URL:https://spacecenter.org/events-calendar-event/story-corner-live-presentation-4/2030-05-16/
LOCATION:Theater – Artemis
CATEGORIES:Live Presentation
END:VEVENT
BEGIN:VEVENT
DTSTART;TZID=America/Chicago:20300516T154500
DTEND;TZID=America/Chicago:20300516T161500
DTSTAMP:20260420T005735
CREATED:20250602T214125Z
LAST-MODIFIED:20250603T192119Z
UID:10209100-1905176700-1905178500@spacecenter.org
SUMMARY:Artemis Live Presentation
DESCRIPTION:
URL:https://spacecenter.org/events-calendar-event/artemis-live-presentation-3/2030-05-16/
LOCATION:Theater – Destiny
CATEGORIES:Live Presentation
ATTACH;FMTTYPE=image/jpeg:https://spacecenter.org/wp-content/uploads/2022/10/Artemis-Capsule.jpeg
END:VEVENT
BEGIN:VEVENT
DTSTART;TZID=America/Chicago:20300516T163000
DTEND;TZID=America/Chicago:20300516T164500
DTSTAMP:20260420T005735
CREATED:20250602T212726Z
LAST-MODIFIED:20250603T192225Z
UID:10216412-1905179400-1905180300@spacecenter.org
SUMMARY:OSIRIS Rex Live Presentation
DESCRIPTION:
URL:https://spacecenter.org/events-calendar-event/osiris-rex-live-presentation-3/2030-05-16/
LOCATION:Mission Sketch Staircase
CATEGORIES:Live Presentation
ATTACH;FMTTYPE=image/jpeg:https://spacecenter.org/wp-content/uploads/2024/03/web-march2024_tls_osirisrex.jpg
END:VEVENT
BEGIN:VEVENT
DTSTART;TZID=America/Chicago:20300517T104500
DTEND;TZID=America/Chicago:20300517T110000
DTSTAMP:20260420T005735
CREATED:20250602T212526Z
LAST-MODIFIED:20250603T185502Z
UID:10103077-1905245100-1905246000@spacecenter.org
SUMMARY:OSIRIS Rex Live Presentation
DESCRIPTION:
URL:https://spacecenter.org/events-calendar-event/osiris-rex-live-presentation/2030-05-17/
LOCATION:Mission Sketch Staircase
CATEGORIES:Live Presentation
ATTACH;FMTTYPE=image/jpeg:https://spacecenter.org/wp-content/uploads/2024/03/web-march2024_tls_osirisrex.jpg
END:VEVENT
BEGIN:VEVENT
DTSTART;TZID=America/Chicago:20300517T104500
DTEND;TZID=America/Chicago:20300517T111500
DTSTAMP:20260420T005735
CREATED:20250602T213905Z
LAST-MODIFIED:20250603T185637Z
UID:10110389-1905245100-1905246900@spacecenter.org
SUMMARY:Artemis Live Presentation
DESCRIPTION:
URL:https://spacecenter.org/events-calendar-event/artemis-live-presentation/2030-05-17/
LOCATION:Theater – Destiny
CATEGORIES:Live Presentation
ATTACH;FMTTYPE=image/jpeg:https://spacecenter.org/wp-content/uploads/2022/10/Artemis-Capsule.jpeg
END:VEVENT
BEGIN:VEVENT
DTSTART;TZID=America/Chicago:20300517T111500
DTEND;TZID=America/Chicago:20300517T113000
DTSTAMP:20260420T005735
CREATED:20250602T213010Z
LAST-MODIFIED:20250603T185901Z
UID:10121357-1905246900-1905247800@spacecenter.org
SUMMARY:Story Corner Live Presentation
DESCRIPTION:
URL:https://spacecenter.org/events-calendar-event/story-corner-live-presentation/2030-05-17/
LOCATION:Theater – Artemis
CATEGORIES:Live Presentation
END:VEVENT
BEGIN:VEVENT
DTSTART;TZID=America/Chicago:20300517T114500
DTEND;TZID=America/Chicago:20300517T120000
DTSTAMP:20260420T005735
CREATED:20250602T213503Z
LAST-MODIFIED:20250603T190256Z
UID:10139637-1905248700-1905249600@spacecenter.org
SUMMARY:James Webb Live Presentation
DESCRIPTION:
URL:https://spacecenter.org/events-calendar-event/james-webb-live-presentation/2030-05-17/
LOCATION:Theater – Destiny
CATEGORIES:Live Presentation
END:VEVENT
BEGIN:VEVENT
DTSTART;TZID=America/Chicago:20300517T121500
DTEND;TZID=America/Chicago:20300517T123000
DTSTAMP:20260420T005735
CREATED:20250602T213059Z
LAST-MODIFIED:20250603T190345Z
UID:10143293-1905250500-1905251400@spacecenter.org
SUMMARY:Story Corner Live Presentation
DESCRIPTION:
URL:https://spacecenter.org/events-calendar-event/story-corner-live-presentation-2/2030-05-17/
LOCATION:Theater – Artemis
CATEGORIES:Live Presentation
END:VEVENT
BEGIN:VEVENT
DTSTART;TZID=America/Chicago:20300517T124500
DTEND;TZID=America/Chicago:20300517T131500
DTSTAMP:20260420T005735
CREATED:20250602T214012Z
LAST-MODIFIED:20250603T190811Z
UID:10154261-1905252300-1905254100@spacecenter.org
SUMMARY:Artemis Live Presentation
DESCRIPTION:
URL:https://spacecenter.org/events-calendar-event/artemis-live-presentation-2/2030-05-17/
LOCATION:Theater – Destiny
CATEGORIES:Live Presentation
ATTACH;FMTTYPE=image/jpeg:https://spacecenter.org/wp-content/uploads/2022/10/Artemis-Capsule.jpeg
END:VEVENT
BEGIN:VEVENT
DTSTART;TZID=America/Chicago:20300517T131500
DTEND;TZID=America/Chicago:20300517T133000
DTSTAMP:20260420T005735
CREATED:20250602T213201Z
LAST-MODIFIED:20250603T190922Z
UID:10161573-1905254100-1905255000@spacecenter.org
SUMMARY:Story Corner Live Presentation
DESCRIPTION:
URL:https://spacecenter.org/events-calendar-event/story-corner-live-presentation-3/2030-05-17/
LOCATION:Theater – Artemis
CATEGORIES:Live Presentation
END:VEVENT
BEGIN:VEVENT
DTSTART;TZID=America/Chicago:20300517T134500
DTEND;TZID=America/Chicago:20300517T140000
DTSTAMP:20260420T005735
CREATED:20250602T212635Z
LAST-MODIFIED:20250603T191121Z
UID:10172541-1905255900-1905256800@spacecenter.org
SUMMARY:OSIRIS Rex Live Presentation
DESCRIPTION:
URL:https://spacecenter.org/events-calendar-event/osiris-rex-live-presentation-2/2030-05-17/
LOCATION:Mission Sketch Staircase
CATEGORIES:Live Presentation
ATTACH;FMTTYPE=image/jpeg:https://spacecenter.org/wp-content/uploads/2024/03/web-march2024_tls_osirisrex.jpg
END:VEVENT
BEGIN:VEVENT
DTSTART;TZID=America/Chicago:20300517T134500
DTEND;TZID=America/Chicago:20300517T140000
DTSTAMP:20260420T005735
CREATED:20250602T213557Z
LAST-MODIFIED:20250603T191327Z
UID:10176197-1905255900-1905256800@spacecenter.org
SUMMARY:James Webb Live Presentation
DESCRIPTION:
URL:https://spacecenter.org/events-calendar-event/james-webb-live-presentation-2/2030-05-17/
LOCATION:Theater – Destiny
CATEGORIES:Live Presentation
END:VEVENT
BEGIN:VEVENT
DTSTART;TZID=America/Chicago:20300517T144500
DTEND;TZID=America/Chicago:20300517T150000
DTSTAMP:20260420T005735
CREATED:20250602T213716Z
LAST-MODIFIED:20250603T191759Z
UID:10190821-1905259500-1905260400@spacecenter.org
SUMMARY:James Webb Live Presentation
DESCRIPTION:
URL:https://spacecenter.org/events-calendar-event/james-webb-live-presentation-3/2030-05-17/
LOCATION:Theater – Destiny
CATEGORIES:Live Presentation
END:VEVENT
BEGIN:VEVENT
DTSTART;TZID=America/Chicago:20300517T151500
DTEND;TZID=America/Chicago:20300517T153000
DTSTAMP:20260420T005735
CREATED:20250602T213249Z
LAST-MODIFIED:20250603T191942Z
UID:10198133-1905261300-1905262200@spacecenter.org
SUMMARY:Story Corner Live Presentation
DESCRIPTION:
URL:https://spacecenter.org/events-calendar-event/story-corner-live-presentation-4/2030-05-17/
LOCATION:Theater – Artemis
CATEGORIES:Live Presentation
END:VEVENT
BEGIN:VEVENT
DTSTART;TZID=America/Chicago:20300517T154500
DTEND;TZID=America/Chicago:20300517T161500
DTSTAMP:20260420T005735
CREATED:20250602T214125Z
LAST-MODIFIED:20250603T192119Z
UID:10209101-1905263100-1905264900@spacecenter.org
SUMMARY:Artemis Live Presentation
DESCRIPTION:
URL:https://spacecenter.org/events-calendar-event/artemis-live-presentation-3/2030-05-17/
LOCATION:Theater – Destiny
CATEGORIES:Live Presentation
ATTACH;FMTTYPE=image/jpeg:https://spacecenter.org/wp-content/uploads/2022/10/Artemis-Capsule.jpeg
END:VEVENT
BEGIN:VEVENT
DTSTART;TZID=America/Chicago:20300517T163000
DTEND;TZID=America/Chicago:20300517T164500
DTSTAMP:20260420T005735
CREATED:20250602T212726Z
LAST-MODIFIED:20250603T192225Z
UID:10216413-1905265800-1905266700@spacecenter.org
SUMMARY:OSIRIS Rex Live Presentation
DESCRIPTION:
URL:https://spacecenter.org/events-calendar-event/osiris-rex-live-presentation-3/2030-05-17/
LOCATION:Mission Sketch Staircase
CATEGORIES:Live Presentation
ATTACH;FMTTYPE=image/jpeg:https://spacecenter.org/wp-content/uploads/2024/03/web-march2024_tls_osirisrex.jpg
END:VEVENT
BEGIN:VEVENT
DTSTART;TZID=America/Chicago:20300518T104500
DTEND;TZID=America/Chicago:20300518T110000
DTSTAMP:20260420T005735
CREATED:20250602T212526Z
LAST-MODIFIED:20250603T185502Z
UID:10103078-1905331500-1905332400@spacecenter.org
SUMMARY:OSIRIS Rex Live Presentation
DESCRIPTION:
URL:https://spacecenter.org/events-calendar-event/osiris-rex-live-presentation/2030-05-18/
LOCATION:Mission Sketch Staircase
CATEGORIES:Live Presentation
ATTACH;FMTTYPE=image/jpeg:https://spacecenter.org/wp-content/uploads/2024/03/web-march2024_tls_osirisrex.jpg
END:VEVENT
BEGIN:VEVENT
DTSTART;TZID=America/Chicago:20300518T104500
DTEND;TZID=America/Chicago:20300518T111500
DTSTAMP:20260420T005735
CREATED:20250602T213905Z
LAST-MODIFIED:20250603T185637Z
UID:10110390-1905331500-1905333300@spacecenter.org
SUMMARY:Artemis Live Presentation
DESCRIPTION:
URL:https://spacecenter.org/events-calendar-event/artemis-live-presentation/2030-05-18/
LOCATION:Theater – Destiny
CATEGORIES:Live Presentation
ATTACH;FMTTYPE=image/jpeg:https://spacecenter.org/wp-content/uploads/2022/10/Artemis-Capsule.jpeg
END:VEVENT
BEGIN:VEVENT
DTSTART;TZID=America/Chicago:20300518T111500
DTEND;TZID=America/Chicago:20300518T113000
DTSTAMP:20260420T005735
CREATED:20250602T213010Z
LAST-MODIFIED:20250603T185901Z
UID:10121358-1905333300-1905334200@spacecenter.org
SUMMARY:Story Corner Live Presentation
DESCRIPTION:
URL:https://spacecenter.org/events-calendar-event/story-corner-live-presentation/2030-05-18/
LOCATION:Theater – Artemis
CATEGORIES:Live Presentation
END:VEVENT
BEGIN:VEVENT
DTSTART;TZID=America/Chicago:20300518T114500
DTEND;TZID=America/Chicago:20300518T120000
DTSTAMP:20260420T005735
CREATED:20250602T213503Z
LAST-MODIFIED:20250603T190256Z
UID:10139638-1905335100-1905336000@spacecenter.org
SUMMARY:James Webb Live Presentation
DESCRIPTION:
URL:https://spacecenter.org/events-calendar-event/james-webb-live-presentation/2030-05-18/
LOCATION:Theater – Destiny
CATEGORIES:Live Presentation
END:VEVENT
BEGIN:VEVENT
DTSTART;TZID=America/Chicago:20300518T121500
DTEND;TZID=America/Chicago:20300518T123000
DTSTAMP:20260420T005735
CREATED:20250602T213059Z
LAST-MODIFIED:20250603T190345Z
UID:10143294-1905336900-1905337800@spacecenter.org
SUMMARY:Story Corner Live Presentation
DESCRIPTION:
URL:https://spacecenter.org/events-calendar-event/story-corner-live-presentation-2/2030-05-18/
LOCATION:Theater – Artemis
CATEGORIES:Live Presentation
END:VEVENT
BEGIN:VEVENT
DTSTART;TZID=America/Chicago:20300518T124500
DTEND;TZID=America/Chicago:20300518T131500
DTSTAMP:20260420T005735
CREATED:20250602T214012Z
LAST-MODIFIED:20250603T190811Z
UID:10154262-1905338700-1905340500@spacecenter.org
SUMMARY:Artemis Live Presentation
DESCRIPTION:
URL:https://spacecenter.org/events-calendar-event/artemis-live-presentation-2/2030-05-18/
LOCATION:Theater – Destiny
CATEGORIES:Live Presentation
ATTACH;FMTTYPE=image/jpeg:https://spacecenter.org/wp-content/uploads/2022/10/Artemis-Capsule.jpeg
END:VEVENT
BEGIN:VEVENT
DTSTART;TZID=America/Chicago:20300518T131500
DTEND;TZID=America/Chicago:20300518T133000
DTSTAMP:20260420T005735
CREATED:20250602T213201Z
LAST-MODIFIED:20250603T190922Z
UID:10161574-1905340500-1905341400@spacecenter.org
SUMMARY:Story Corner Live Presentation
DESCRIPTION:
URL:https://spacecenter.org/events-calendar-event/story-corner-live-presentation-3/2030-05-18/
LOCATION:Theater – Artemis
CATEGORIES:Live Presentation
END:VEVENT
BEGIN:VEVENT
DTSTART;TZID=America/Chicago:20300518T134500
DTEND;TZID=America/Chicago:20300518T140000
DTSTAMP:20260420T005735
CREATED:20250602T212635Z
LAST-MODIFIED:20250603T191121Z
UID:10172542-1905342300-1905343200@spacecenter.org
SUMMARY:OSIRIS Rex Live Presentation
DESCRIPTION:
URL:https://spacecenter.org/events-calendar-event/osiris-rex-live-presentation-2/2030-05-18/
LOCATION:Mission Sketch Staircase
CATEGORIES:Live Presentation
ATTACH;FMTTYPE=image/jpeg:https://spacecenter.org/wp-content/uploads/2024/03/web-march2024_tls_osirisrex.jpg
END:VEVENT
END:VCALENDAR