BEGIN:VCALENDAR
VERSION:2.0
PRODID:-//Space Center Houston - ECPv6.15.15//NONSGML v1.0//EN
CALSCALE:GREGORIAN
METHOD:PUBLISH
X-WR-CALNAME:Space Center Houston
X-ORIGINAL-URL:https://spacecenter.org
X-WR-CALDESC:Events for Space Center Houston
REFRESH-INTERVAL;VALUE=DURATION:PT1H
X-Robots-Tag:noindex
X-PUBLISHED-TTL:PT1H
BEGIN:VTIMEZONE
TZID:America/Chicago
BEGIN:DAYLIGHT
TZOFFSETFROM:-0600
TZOFFSETTO:-0500
TZNAME:CDT
DTSTART:20290311T080000
END:DAYLIGHT
BEGIN:STANDARD
TZOFFSETFROM:-0500
TZOFFSETTO:-0600
TZNAME:CST
DTSTART:20291104T070000
END:STANDARD
BEGIN:DAYLIGHT
TZOFFSETFROM:-0600
TZOFFSETTO:-0500
TZNAME:CDT
DTSTART:20300310T080000
END:DAYLIGHT
BEGIN:STANDARD
TZOFFSETFROM:-0500
TZOFFSETTO:-0600
TZNAME:CST
DTSTART:20301103T070000
END:STANDARD
BEGIN:DAYLIGHT
TZOFFSETFROM:-0600
TZOFFSETTO:-0500
TZNAME:CDT
DTSTART:20310309T080000
END:DAYLIGHT
BEGIN:STANDARD
TZOFFSETFROM:-0500
TZOFFSETTO:-0600
TZNAME:CST
DTSTART:20311102T070000
END:STANDARD
END:VTIMEZONE
BEGIN:VEVENT
DTSTART;TZID=America/Chicago:20300512T131500
DTEND;TZID=America/Chicago:20300512T133000
DTSTAMP:20260420T023255
CREATED:20250602T213201Z
LAST-MODIFIED:20250603T190922Z
UID:10161568-1904822100-1904823000@spacecenter.org
SUMMARY:Story Corner Live Presentation
DESCRIPTION:
URL:https://spacecenter.org/events-calendar-event/story-corner-live-presentation-3/2030-05-12/
LOCATION:Theater – Artemis
CATEGORIES:Live Presentation
END:VEVENT
BEGIN:VEVENT
DTSTART;TZID=America/Chicago:20300512T134500
DTEND;TZID=America/Chicago:20300512T140000
DTSTAMP:20260420T023255
CREATED:20250602T212635Z
LAST-MODIFIED:20250603T191121Z
UID:10172536-1904823900-1904824800@spacecenter.org
SUMMARY:OSIRIS Rex Live Presentation
DESCRIPTION:
URL:https://spacecenter.org/events-calendar-event/osiris-rex-live-presentation-2/2030-05-12/
LOCATION:Mission Sketch Staircase
CATEGORIES:Live Presentation
ATTACH;FMTTYPE=image/jpeg:https://spacecenter.org/wp-content/uploads/2024/03/web-march2024_tls_osirisrex.jpg
END:VEVENT
BEGIN:VEVENT
DTSTART;TZID=America/Chicago:20300512T134500
DTEND;TZID=America/Chicago:20300512T140000
DTSTAMP:20260420T023255
CREATED:20250602T213557Z
LAST-MODIFIED:20250603T191327Z
UID:10176192-1904823900-1904824800@spacecenter.org
SUMMARY:James Webb Live Presentation
DESCRIPTION:
URL:https://spacecenter.org/events-calendar-event/james-webb-live-presentation-2/2030-05-12/
LOCATION:Theater – Destiny
CATEGORIES:Live Presentation
END:VEVENT
BEGIN:VEVENT
DTSTART;TZID=America/Chicago:20300512T144500
DTEND;TZID=America/Chicago:20300512T150000
DTSTAMP:20260420T023255
CREATED:20250602T213716Z
LAST-MODIFIED:20250603T191759Z
UID:10190816-1904827500-1904828400@spacecenter.org
SUMMARY:James Webb Live Presentation
DESCRIPTION:
URL:https://spacecenter.org/events-calendar-event/james-webb-live-presentation-3/2030-05-12/
LOCATION:Theater – Destiny
CATEGORIES:Live Presentation
END:VEVENT
BEGIN:VEVENT
DTSTART;TZID=America/Chicago:20300512T151500
DTEND;TZID=America/Chicago:20300512T153000
DTSTAMP:20260420T023255
CREATED:20250602T213249Z
LAST-MODIFIED:20250603T191942Z
UID:10198128-1904829300-1904830200@spacecenter.org
SUMMARY:Story Corner Live Presentation
DESCRIPTION:
URL:https://spacecenter.org/events-calendar-event/story-corner-live-presentation-4/2030-05-12/
LOCATION:Theater – Artemis
CATEGORIES:Live Presentation
END:VEVENT
BEGIN:VEVENT
DTSTART;TZID=America/Chicago:20300512T154500
DTEND;TZID=America/Chicago:20300512T161500
DTSTAMP:20260420T023255
CREATED:20250602T214125Z
LAST-MODIFIED:20250603T192119Z
UID:10209096-1904831100-1904832900@spacecenter.org
SUMMARY:Artemis Live Presentation
DESCRIPTION:
URL:https://spacecenter.org/events-calendar-event/artemis-live-presentation-3/2030-05-12/
LOCATION:Theater – Destiny
CATEGORIES:Live Presentation
ATTACH;FMTTYPE=image/jpeg:https://spacecenter.org/wp-content/uploads/2022/10/Artemis-Capsule.jpeg
END:VEVENT
BEGIN:VEVENT
DTSTART;TZID=America/Chicago:20300512T163000
DTEND;TZID=America/Chicago:20300512T164500
DTSTAMP:20260420T023255
CREATED:20250602T212726Z
LAST-MODIFIED:20250603T192225Z
UID:10216408-1904833800-1904834700@spacecenter.org
SUMMARY:OSIRIS Rex Live Presentation
DESCRIPTION:
URL:https://spacecenter.org/events-calendar-event/osiris-rex-live-presentation-3/2030-05-12/
LOCATION:Mission Sketch Staircase
CATEGORIES:Live Presentation
ATTACH;FMTTYPE=image/jpeg:https://spacecenter.org/wp-content/uploads/2024/03/web-march2024_tls_osirisrex.jpg
END:VEVENT
BEGIN:VEVENT
DTSTART;TZID=America/Chicago:20300513T104500
DTEND;TZID=America/Chicago:20300513T110000
DTSTAMP:20260420T023255
CREATED:20250602T212526Z
LAST-MODIFIED:20250603T185502Z
UID:10103073-1904899500-1904900400@spacecenter.org
SUMMARY:OSIRIS Rex Live Presentation
DESCRIPTION:
URL:https://spacecenter.org/events-calendar-event/osiris-rex-live-presentation/2030-05-13/
LOCATION:Mission Sketch Staircase
CATEGORIES:Live Presentation
ATTACH;FMTTYPE=image/jpeg:https://spacecenter.org/wp-content/uploads/2024/03/web-march2024_tls_osirisrex.jpg
END:VEVENT
BEGIN:VEVENT
DTSTART;TZID=America/Chicago:20300513T104500
DTEND;TZID=America/Chicago:20300513T111500
DTSTAMP:20260420T023255
CREATED:20250602T213905Z
LAST-MODIFIED:20250603T185637Z
UID:10110385-1904899500-1904901300@spacecenter.org
SUMMARY:Artemis Live Presentation
DESCRIPTION:
URL:https://spacecenter.org/events-calendar-event/artemis-live-presentation/2030-05-13/
LOCATION:Theater – Destiny
CATEGORIES:Live Presentation
ATTACH;FMTTYPE=image/jpeg:https://spacecenter.org/wp-content/uploads/2022/10/Artemis-Capsule.jpeg
END:VEVENT
BEGIN:VEVENT
DTSTART;TZID=America/Chicago:20300513T111500
DTEND;TZID=America/Chicago:20300513T113000
DTSTAMP:20260420T023255
CREATED:20250602T213010Z
LAST-MODIFIED:20250603T185901Z
UID:10121353-1904901300-1904902200@spacecenter.org
SUMMARY:Story Corner Live Presentation
DESCRIPTION:
URL:https://spacecenter.org/events-calendar-event/story-corner-live-presentation/2030-05-13/
LOCATION:Theater – Artemis
CATEGORIES:Live Presentation
END:VEVENT
BEGIN:VEVENT
DTSTART;TZID=America/Chicago:20300513T114500
DTEND;TZID=America/Chicago:20300513T120000
DTSTAMP:20260420T023255
CREATED:20250602T213503Z
LAST-MODIFIED:20250603T190256Z
UID:10139633-1904903100-1904904000@spacecenter.org
SUMMARY:James Webb Live Presentation
DESCRIPTION:
URL:https://spacecenter.org/events-calendar-event/james-webb-live-presentation/2030-05-13/
LOCATION:Theater – Destiny
CATEGORIES:Live Presentation
END:VEVENT
BEGIN:VEVENT
DTSTART;TZID=America/Chicago:20300513T121500
DTEND;TZID=America/Chicago:20300513T123000
DTSTAMP:20260420T023255
CREATED:20250602T213059Z
LAST-MODIFIED:20250603T190345Z
UID:10143289-1904904900-1904905800@spacecenter.org
SUMMARY:Story Corner Live Presentation
DESCRIPTION:
URL:https://spacecenter.org/events-calendar-event/story-corner-live-presentation-2/2030-05-13/
LOCATION:Theater – Artemis
CATEGORIES:Live Presentation
END:VEVENT
BEGIN:VEVENT
DTSTART;TZID=America/Chicago:20300513T124500
DTEND;TZID=America/Chicago:20300513T131500
DTSTAMP:20260420T023255
CREATED:20250602T214012Z
LAST-MODIFIED:20250603T190811Z
UID:10154257-1904906700-1904908500@spacecenter.org
SUMMARY:Artemis Live Presentation
DESCRIPTION:
URL:https://spacecenter.org/events-calendar-event/artemis-live-presentation-2/2030-05-13/
LOCATION:Theater – Destiny
CATEGORIES:Live Presentation
ATTACH;FMTTYPE=image/jpeg:https://spacecenter.org/wp-content/uploads/2022/10/Artemis-Capsule.jpeg
END:VEVENT
BEGIN:VEVENT
DTSTART;TZID=America/Chicago:20300513T131500
DTEND;TZID=America/Chicago:20300513T133000
DTSTAMP:20260420T023255
CREATED:20250602T213201Z
LAST-MODIFIED:20250603T190922Z
UID:10161569-1904908500-1904909400@spacecenter.org
SUMMARY:Story Corner Live Presentation
DESCRIPTION:
URL:https://spacecenter.org/events-calendar-event/story-corner-live-presentation-3/2030-05-13/
LOCATION:Theater – Artemis
CATEGORIES:Live Presentation
END:VEVENT
BEGIN:VEVENT
DTSTART;TZID=America/Chicago:20300513T134500
DTEND;TZID=America/Chicago:20300513T140000
DTSTAMP:20260420T023255
CREATED:20250602T212635Z
LAST-MODIFIED:20250603T191121Z
UID:10172537-1904910300-1904911200@spacecenter.org
SUMMARY:OSIRIS Rex Live Presentation
DESCRIPTION:
URL:https://spacecenter.org/events-calendar-event/osiris-rex-live-presentation-2/2030-05-13/
LOCATION:Mission Sketch Staircase
CATEGORIES:Live Presentation
ATTACH;FMTTYPE=image/jpeg:https://spacecenter.org/wp-content/uploads/2024/03/web-march2024_tls_osirisrex.jpg
END:VEVENT
BEGIN:VEVENT
DTSTART;TZID=America/Chicago:20300513T134500
DTEND;TZID=America/Chicago:20300513T140000
DTSTAMP:20260420T023255
CREATED:20250602T213557Z
LAST-MODIFIED:20250603T191327Z
UID:10176193-1904910300-1904911200@spacecenter.org
SUMMARY:James Webb Live Presentation
DESCRIPTION:
URL:https://spacecenter.org/events-calendar-event/james-webb-live-presentation-2/2030-05-13/
LOCATION:Theater – Destiny
CATEGORIES:Live Presentation
END:VEVENT
BEGIN:VEVENT
DTSTART;TZID=America/Chicago:20300513T144500
DTEND;TZID=America/Chicago:20300513T150000
DTSTAMP:20260420T023255
CREATED:20250602T213716Z
LAST-MODIFIED:20250603T191759Z
UID:10190817-1904913900-1904914800@spacecenter.org
SUMMARY:James Webb Live Presentation
DESCRIPTION:
URL:https://spacecenter.org/events-calendar-event/james-webb-live-presentation-3/2030-05-13/
LOCATION:Theater – Destiny
CATEGORIES:Live Presentation
END:VEVENT
BEGIN:VEVENT
DTSTART;TZID=America/Chicago:20300513T151500
DTEND;TZID=America/Chicago:20300513T153000
DTSTAMP:20260420T023255
CREATED:20250602T213249Z
LAST-MODIFIED:20250603T191942Z
UID:10198129-1904915700-1904916600@spacecenter.org
SUMMARY:Story Corner Live Presentation
DESCRIPTION:
URL:https://spacecenter.org/events-calendar-event/story-corner-live-presentation-4/2030-05-13/
LOCATION:Theater – Artemis
CATEGORIES:Live Presentation
END:VEVENT
BEGIN:VEVENT
DTSTART;TZID=America/Chicago:20300513T154500
DTEND;TZID=America/Chicago:20300513T161500
DTSTAMP:20260420T023255
CREATED:20250602T214125Z
LAST-MODIFIED:20250603T192119Z
UID:10209097-1904917500-1904919300@spacecenter.org
SUMMARY:Artemis Live Presentation
DESCRIPTION:
URL:https://spacecenter.org/events-calendar-event/artemis-live-presentation-3/2030-05-13/
LOCATION:Theater – Destiny
CATEGORIES:Live Presentation
ATTACH;FMTTYPE=image/jpeg:https://spacecenter.org/wp-content/uploads/2022/10/Artemis-Capsule.jpeg
END:VEVENT
BEGIN:VEVENT
DTSTART;TZID=America/Chicago:20300513T163000
DTEND;TZID=America/Chicago:20300513T164500
DTSTAMP:20260420T023255
CREATED:20250602T212726Z
LAST-MODIFIED:20250603T192225Z
UID:10216409-1904920200-1904921100@spacecenter.org
SUMMARY:OSIRIS Rex Live Presentation
DESCRIPTION:
URL:https://spacecenter.org/events-calendar-event/osiris-rex-live-presentation-3/2030-05-13/
LOCATION:Mission Sketch Staircase
CATEGORIES:Live Presentation
ATTACH;FMTTYPE=image/jpeg:https://spacecenter.org/wp-content/uploads/2024/03/web-march2024_tls_osirisrex.jpg
END:VEVENT
BEGIN:VEVENT
DTSTART;TZID=America/Chicago:20300514T104500
DTEND;TZID=America/Chicago:20300514T110000
DTSTAMP:20260420T023255
CREATED:20250602T212526Z
LAST-MODIFIED:20250603T185502Z
UID:10103074-1904985900-1904986800@spacecenter.org
SUMMARY:OSIRIS Rex Live Presentation
DESCRIPTION:
URL:https://spacecenter.org/events-calendar-event/osiris-rex-live-presentation/2030-05-14/
LOCATION:Mission Sketch Staircase
CATEGORIES:Live Presentation
ATTACH;FMTTYPE=image/jpeg:https://spacecenter.org/wp-content/uploads/2024/03/web-march2024_tls_osirisrex.jpg
END:VEVENT
BEGIN:VEVENT
DTSTART;TZID=America/Chicago:20300514T104500
DTEND;TZID=America/Chicago:20300514T111500
DTSTAMP:20260420T023255
CREATED:20250602T213905Z
LAST-MODIFIED:20250603T185637Z
UID:10110386-1904985900-1904987700@spacecenter.org
SUMMARY:Artemis Live Presentation
DESCRIPTION:
URL:https://spacecenter.org/events-calendar-event/artemis-live-presentation/2030-05-14/
LOCATION:Theater – Destiny
CATEGORIES:Live Presentation
ATTACH;FMTTYPE=image/jpeg:https://spacecenter.org/wp-content/uploads/2022/10/Artemis-Capsule.jpeg
END:VEVENT
BEGIN:VEVENT
DTSTART;TZID=America/Chicago:20300514T111500
DTEND;TZID=America/Chicago:20300514T113000
DTSTAMP:20260420T023255
CREATED:20250602T213010Z
LAST-MODIFIED:20250603T185901Z
UID:10121354-1904987700-1904988600@spacecenter.org
SUMMARY:Story Corner Live Presentation
DESCRIPTION:
URL:https://spacecenter.org/events-calendar-event/story-corner-live-presentation/2030-05-14/
LOCATION:Theater – Artemis
CATEGORIES:Live Presentation
END:VEVENT
BEGIN:VEVENT
DTSTART;TZID=America/Chicago:20300514T114500
DTEND;TZID=America/Chicago:20300514T120000
DTSTAMP:20260420T023255
CREATED:20250602T213503Z
LAST-MODIFIED:20250603T190256Z
UID:10139634-1904989500-1904990400@spacecenter.org
SUMMARY:James Webb Live Presentation
DESCRIPTION:
URL:https://spacecenter.org/events-calendar-event/james-webb-live-presentation/2030-05-14/
LOCATION:Theater – Destiny
CATEGORIES:Live Presentation
END:VEVENT
BEGIN:VEVENT
DTSTART;TZID=America/Chicago:20300514T121500
DTEND;TZID=America/Chicago:20300514T123000
DTSTAMP:20260420T023255
CREATED:20250602T213059Z
LAST-MODIFIED:20250603T190345Z
UID:10143290-1904991300-1904992200@spacecenter.org
SUMMARY:Story Corner Live Presentation
DESCRIPTION:
URL:https://spacecenter.org/events-calendar-event/story-corner-live-presentation-2/2030-05-14/
LOCATION:Theater – Artemis
CATEGORIES:Live Presentation
END:VEVENT
BEGIN:VEVENT
DTSTART;TZID=America/Chicago:20300514T124500
DTEND;TZID=America/Chicago:20300514T131500
DTSTAMP:20260420T023255
CREATED:20250602T214012Z
LAST-MODIFIED:20250603T190811Z
UID:10154258-1904993100-1904994900@spacecenter.org
SUMMARY:Artemis Live Presentation
DESCRIPTION:
URL:https://spacecenter.org/events-calendar-event/artemis-live-presentation-2/2030-05-14/
LOCATION:Theater – Destiny
CATEGORIES:Live Presentation
ATTACH;FMTTYPE=image/jpeg:https://spacecenter.org/wp-content/uploads/2022/10/Artemis-Capsule.jpeg
END:VEVENT
BEGIN:VEVENT
DTSTART;TZID=America/Chicago:20300514T131500
DTEND;TZID=America/Chicago:20300514T133000
DTSTAMP:20260420T023255
CREATED:20250602T213201Z
LAST-MODIFIED:20250603T190922Z
UID:10161570-1904994900-1904995800@spacecenter.org
SUMMARY:Story Corner Live Presentation
DESCRIPTION:
URL:https://spacecenter.org/events-calendar-event/story-corner-live-presentation-3/2030-05-14/
LOCATION:Theater – Artemis
CATEGORIES:Live Presentation
END:VEVENT
BEGIN:VEVENT
DTSTART;TZID=America/Chicago:20300514T134500
DTEND;TZID=America/Chicago:20300514T140000
DTSTAMP:20260420T023255
CREATED:20250602T212635Z
LAST-MODIFIED:20250603T191121Z
UID:10172538-1904996700-1904997600@spacecenter.org
SUMMARY:OSIRIS Rex Live Presentation
DESCRIPTION:
URL:https://spacecenter.org/events-calendar-event/osiris-rex-live-presentation-2/2030-05-14/
LOCATION:Mission Sketch Staircase
CATEGORIES:Live Presentation
ATTACH;FMTTYPE=image/jpeg:https://spacecenter.org/wp-content/uploads/2024/03/web-march2024_tls_osirisrex.jpg
END:VEVENT
BEGIN:VEVENT
DTSTART;TZID=America/Chicago:20300514T134500
DTEND;TZID=America/Chicago:20300514T140000
DTSTAMP:20260420T023255
CREATED:20250602T213557Z
LAST-MODIFIED:20250603T191327Z
UID:10176194-1904996700-1904997600@spacecenter.org
SUMMARY:James Webb Live Presentation
DESCRIPTION:
URL:https://spacecenter.org/events-calendar-event/james-webb-live-presentation-2/2030-05-14/
LOCATION:Theater – Destiny
CATEGORIES:Live Presentation
END:VEVENT
BEGIN:VEVENT
DTSTART;TZID=America/Chicago:20300514T144500
DTEND;TZID=America/Chicago:20300514T150000
DTSTAMP:20260420T023255
CREATED:20250602T213716Z
LAST-MODIFIED:20250603T191759Z
UID:10190818-1905000300-1905001200@spacecenter.org
SUMMARY:James Webb Live Presentation
DESCRIPTION:
URL:https://spacecenter.org/events-calendar-event/james-webb-live-presentation-3/2030-05-14/
LOCATION:Theater – Destiny
CATEGORIES:Live Presentation
END:VEVENT
END:VCALENDAR