BEGIN:VCALENDAR
VERSION:2.0
PRODID:-//Space Center Houston - ECPv6.15.15//NONSGML v1.0//EN
CALSCALE:GREGORIAN
METHOD:PUBLISH
X-WR-CALNAME:Space Center Houston
X-ORIGINAL-URL:https://spacecenter.org
X-WR-CALDESC:Events for Space Center Houston
REFRESH-INTERVAL;VALUE=DURATION:PT1H
X-Robots-Tag:noindex
X-PUBLISHED-TTL:PT1H
BEGIN:VTIMEZONE
TZID:America/Chicago
BEGIN:DAYLIGHT
TZOFFSETFROM:-0600
TZOFFSETTO:-0500
TZNAME:CDT
DTSTART:20290311T080000
END:DAYLIGHT
BEGIN:STANDARD
TZOFFSETFROM:-0500
TZOFFSETTO:-0600
TZNAME:CST
DTSTART:20291104T070000
END:STANDARD
BEGIN:DAYLIGHT
TZOFFSETFROM:-0600
TZOFFSETTO:-0500
TZNAME:CDT
DTSTART:20300310T080000
END:DAYLIGHT
BEGIN:STANDARD
TZOFFSETFROM:-0500
TZOFFSETTO:-0600
TZNAME:CST
DTSTART:20301103T070000
END:STANDARD
BEGIN:DAYLIGHT
TZOFFSETFROM:-0600
TZOFFSETTO:-0500
TZNAME:CDT
DTSTART:20310309T080000
END:DAYLIGHT
BEGIN:STANDARD
TZOFFSETFROM:-0500
TZOFFSETTO:-0600
TZNAME:CST
DTSTART:20311102T070000
END:STANDARD
END:VTIMEZONE
BEGIN:VEVENT
DTSTART;TZID=America/Chicago:20300508T134500
DTEND;TZID=America/Chicago:20300508T140000
DTSTAMP:20260419T151143
CREATED:20250602T213557Z
LAST-MODIFIED:20250603T191327Z
UID:10176188-1904478300-1904479200@spacecenter.org
SUMMARY:James Webb Live Presentation
DESCRIPTION:
URL:https://spacecenter.org/events-calendar-event/james-webb-live-presentation-2/2030-05-08/
LOCATION:Theater – Destiny
CATEGORIES:Live Presentation
END:VEVENT
BEGIN:VEVENT
DTSTART;TZID=America/Chicago:20300508T144500
DTEND;TZID=America/Chicago:20300508T150000
DTSTAMP:20260419T151143
CREATED:20250602T213716Z
LAST-MODIFIED:20250603T191759Z
UID:10190812-1904481900-1904482800@spacecenter.org
SUMMARY:James Webb Live Presentation
DESCRIPTION:
URL:https://spacecenter.org/events-calendar-event/james-webb-live-presentation-3/2030-05-08/
LOCATION:Theater – Destiny
CATEGORIES:Live Presentation
END:VEVENT
BEGIN:VEVENT
DTSTART;TZID=America/Chicago:20300508T151500
DTEND;TZID=America/Chicago:20300508T153000
DTSTAMP:20260419T151143
CREATED:20250602T213249Z
LAST-MODIFIED:20250603T191942Z
UID:10198124-1904483700-1904484600@spacecenter.org
SUMMARY:Story Corner Live Presentation
DESCRIPTION:
URL:https://spacecenter.org/events-calendar-event/story-corner-live-presentation-4/2030-05-08/
LOCATION:Theater – Artemis
CATEGORIES:Live Presentation
END:VEVENT
BEGIN:VEVENT
DTSTART;TZID=America/Chicago:20300508T154500
DTEND;TZID=America/Chicago:20300508T161500
DTSTAMP:20260419T151143
CREATED:20250602T214125Z
LAST-MODIFIED:20250603T192119Z
UID:10209092-1904485500-1904487300@spacecenter.org
SUMMARY:Artemis Live Presentation
DESCRIPTION:
URL:https://spacecenter.org/events-calendar-event/artemis-live-presentation-3/2030-05-08/
LOCATION:Theater – Destiny
CATEGORIES:Live Presentation
ATTACH;FMTTYPE=image/jpeg:https://spacecenter.org/wp-content/uploads/2022/10/Artemis-Capsule.jpeg
END:VEVENT
BEGIN:VEVENT
DTSTART;TZID=America/Chicago:20300508T163000
DTEND;TZID=America/Chicago:20300508T164500
DTSTAMP:20260419T151143
CREATED:20250602T212726Z
LAST-MODIFIED:20250603T192225Z
UID:10216404-1904488200-1904489100@spacecenter.org
SUMMARY:OSIRIS Rex Live Presentation
DESCRIPTION:
URL:https://spacecenter.org/events-calendar-event/osiris-rex-live-presentation-3/2030-05-08/
LOCATION:Mission Sketch Staircase
CATEGORIES:Live Presentation
ATTACH;FMTTYPE=image/jpeg:https://spacecenter.org/wp-content/uploads/2024/03/web-march2024_tls_osirisrex.jpg
END:VEVENT
BEGIN:VEVENT
DTSTART;TZID=America/Chicago:20300509T104500
DTEND;TZID=America/Chicago:20300509T110000
DTSTAMP:20260419T151143
CREATED:20250602T212526Z
LAST-MODIFIED:20250603T185502Z
UID:10103069-1904553900-1904554800@spacecenter.org
SUMMARY:OSIRIS Rex Live Presentation
DESCRIPTION:
URL:https://spacecenter.org/events-calendar-event/osiris-rex-live-presentation/2030-05-09/
LOCATION:Mission Sketch Staircase
CATEGORIES:Live Presentation
ATTACH;FMTTYPE=image/jpeg:https://spacecenter.org/wp-content/uploads/2024/03/web-march2024_tls_osirisrex.jpg
END:VEVENT
BEGIN:VEVENT
DTSTART;TZID=America/Chicago:20300509T104500
DTEND;TZID=America/Chicago:20300509T111500
DTSTAMP:20260419T151143
CREATED:20250602T213905Z
LAST-MODIFIED:20250603T185637Z
UID:10110381-1904553900-1904555700@spacecenter.org
SUMMARY:Artemis Live Presentation
DESCRIPTION:
URL:https://spacecenter.org/events-calendar-event/artemis-live-presentation/2030-05-09/
LOCATION:Theater – Destiny
CATEGORIES:Live Presentation
ATTACH;FMTTYPE=image/jpeg:https://spacecenter.org/wp-content/uploads/2022/10/Artemis-Capsule.jpeg
END:VEVENT
BEGIN:VEVENT
DTSTART;TZID=America/Chicago:20300509T111500
DTEND;TZID=America/Chicago:20300509T113000
DTSTAMP:20260419T151143
CREATED:20250602T213010Z
LAST-MODIFIED:20250603T185901Z
UID:10121349-1904555700-1904556600@spacecenter.org
SUMMARY:Story Corner Live Presentation
DESCRIPTION:
URL:https://spacecenter.org/events-calendar-event/story-corner-live-presentation/2030-05-09/
LOCATION:Theater – Artemis
CATEGORIES:Live Presentation
END:VEVENT
BEGIN:VEVENT
DTSTART;TZID=America/Chicago:20300509T114500
DTEND;TZID=America/Chicago:20300509T120000
DTSTAMP:20260419T151143
CREATED:20250602T213503Z
LAST-MODIFIED:20250603T190256Z
UID:10139629-1904557500-1904558400@spacecenter.org
SUMMARY:James Webb Live Presentation
DESCRIPTION:
URL:https://spacecenter.org/events-calendar-event/james-webb-live-presentation/2030-05-09/
LOCATION:Theater – Destiny
CATEGORIES:Live Presentation
END:VEVENT
BEGIN:VEVENT
DTSTART;TZID=America/Chicago:20300509T121500
DTEND;TZID=America/Chicago:20300509T123000
DTSTAMP:20260419T151143
CREATED:20250602T213059Z
LAST-MODIFIED:20250603T190345Z
UID:10143285-1904559300-1904560200@spacecenter.org
SUMMARY:Story Corner Live Presentation
DESCRIPTION:
URL:https://spacecenter.org/events-calendar-event/story-corner-live-presentation-2/2030-05-09/
LOCATION:Theater – Artemis
CATEGORIES:Live Presentation
END:VEVENT
BEGIN:VEVENT
DTSTART;TZID=America/Chicago:20300509T124500
DTEND;TZID=America/Chicago:20300509T131500
DTSTAMP:20260419T151143
CREATED:20250602T214012Z
LAST-MODIFIED:20250603T190811Z
UID:10154253-1904561100-1904562900@spacecenter.org
SUMMARY:Artemis Live Presentation
DESCRIPTION:
URL:https://spacecenter.org/events-calendar-event/artemis-live-presentation-2/2030-05-09/
LOCATION:Theater – Destiny
CATEGORIES:Live Presentation
ATTACH;FMTTYPE=image/jpeg:https://spacecenter.org/wp-content/uploads/2022/10/Artemis-Capsule.jpeg
END:VEVENT
BEGIN:VEVENT
DTSTART;TZID=America/Chicago:20300509T131500
DTEND;TZID=America/Chicago:20300509T133000
DTSTAMP:20260419T151143
CREATED:20250602T213201Z
LAST-MODIFIED:20250603T190922Z
UID:10161565-1904562900-1904563800@spacecenter.org
SUMMARY:Story Corner Live Presentation
DESCRIPTION:
URL:https://spacecenter.org/events-calendar-event/story-corner-live-presentation-3/2030-05-09/
LOCATION:Theater – Artemis
CATEGORIES:Live Presentation
END:VEVENT
BEGIN:VEVENT
DTSTART;TZID=America/Chicago:20300509T134500
DTEND;TZID=America/Chicago:20300509T140000
DTSTAMP:20260419T151143
CREATED:20250602T212635Z
LAST-MODIFIED:20250603T191121Z
UID:10172533-1904564700-1904565600@spacecenter.org
SUMMARY:OSIRIS Rex Live Presentation
DESCRIPTION:
URL:https://spacecenter.org/events-calendar-event/osiris-rex-live-presentation-2/2030-05-09/
LOCATION:Mission Sketch Staircase
CATEGORIES:Live Presentation
ATTACH;FMTTYPE=image/jpeg:https://spacecenter.org/wp-content/uploads/2024/03/web-march2024_tls_osirisrex.jpg
END:VEVENT
BEGIN:VEVENT
DTSTART;TZID=America/Chicago:20300509T134500
DTEND;TZID=America/Chicago:20300509T140000
DTSTAMP:20260419T151143
CREATED:20250602T213557Z
LAST-MODIFIED:20250603T191327Z
UID:10176189-1904564700-1904565600@spacecenter.org
SUMMARY:James Webb Live Presentation
DESCRIPTION:
URL:https://spacecenter.org/events-calendar-event/james-webb-live-presentation-2/2030-05-09/
LOCATION:Theater – Destiny
CATEGORIES:Live Presentation
END:VEVENT
BEGIN:VEVENT
DTSTART;TZID=America/Chicago:20300509T144500
DTEND;TZID=America/Chicago:20300509T150000
DTSTAMP:20260419T151143
CREATED:20250602T213716Z
LAST-MODIFIED:20250603T191759Z
UID:10190813-1904568300-1904569200@spacecenter.org
SUMMARY:James Webb Live Presentation
DESCRIPTION:
URL:https://spacecenter.org/events-calendar-event/james-webb-live-presentation-3/2030-05-09/
LOCATION:Theater – Destiny
CATEGORIES:Live Presentation
END:VEVENT
BEGIN:VEVENT
DTSTART;TZID=America/Chicago:20300509T151500
DTEND;TZID=America/Chicago:20300509T153000
DTSTAMP:20260419T151143
CREATED:20250602T213249Z
LAST-MODIFIED:20250603T191942Z
UID:10198125-1904570100-1904571000@spacecenter.org
SUMMARY:Story Corner Live Presentation
DESCRIPTION:
URL:https://spacecenter.org/events-calendar-event/story-corner-live-presentation-4/2030-05-09/
LOCATION:Theater – Artemis
CATEGORIES:Live Presentation
END:VEVENT
BEGIN:VEVENT
DTSTART;TZID=America/Chicago:20300509T154500
DTEND;TZID=America/Chicago:20300509T161500
DTSTAMP:20260419T151143
CREATED:20250602T214125Z
LAST-MODIFIED:20250603T192119Z
UID:10209093-1904571900-1904573700@spacecenter.org
SUMMARY:Artemis Live Presentation
DESCRIPTION:
URL:https://spacecenter.org/events-calendar-event/artemis-live-presentation-3/2030-05-09/
LOCATION:Theater – Destiny
CATEGORIES:Live Presentation
ATTACH;FMTTYPE=image/jpeg:https://spacecenter.org/wp-content/uploads/2022/10/Artemis-Capsule.jpeg
END:VEVENT
BEGIN:VEVENT
DTSTART;TZID=America/Chicago:20300509T163000
DTEND;TZID=America/Chicago:20300509T164500
DTSTAMP:20260419T151143
CREATED:20250602T212726Z
LAST-MODIFIED:20250603T192225Z
UID:10216405-1904574600-1904575500@spacecenter.org
SUMMARY:OSIRIS Rex Live Presentation
DESCRIPTION:
URL:https://spacecenter.org/events-calendar-event/osiris-rex-live-presentation-3/2030-05-09/
LOCATION:Mission Sketch Staircase
CATEGORIES:Live Presentation
ATTACH;FMTTYPE=image/jpeg:https://spacecenter.org/wp-content/uploads/2024/03/web-march2024_tls_osirisrex.jpg
END:VEVENT
BEGIN:VEVENT
DTSTART;TZID=America/Chicago:20300510T104500
DTEND;TZID=America/Chicago:20300510T110000
DTSTAMP:20260419T151143
CREATED:20250602T212526Z
LAST-MODIFIED:20250603T185502Z
UID:10103070-1904640300-1904641200@spacecenter.org
SUMMARY:OSIRIS Rex Live Presentation
DESCRIPTION:
URL:https://spacecenter.org/events-calendar-event/osiris-rex-live-presentation/2030-05-10/
LOCATION:Mission Sketch Staircase
CATEGORIES:Live Presentation
ATTACH;FMTTYPE=image/jpeg:https://spacecenter.org/wp-content/uploads/2024/03/web-march2024_tls_osirisrex.jpg
END:VEVENT
BEGIN:VEVENT
DTSTART;TZID=America/Chicago:20300510T104500
DTEND;TZID=America/Chicago:20300510T111500
DTSTAMP:20260419T151143
CREATED:20250602T213905Z
LAST-MODIFIED:20250603T185637Z
UID:10110382-1904640300-1904642100@spacecenter.org
SUMMARY:Artemis Live Presentation
DESCRIPTION:
URL:https://spacecenter.org/events-calendar-event/artemis-live-presentation/2030-05-10/
LOCATION:Theater – Destiny
CATEGORIES:Live Presentation
ATTACH;FMTTYPE=image/jpeg:https://spacecenter.org/wp-content/uploads/2022/10/Artemis-Capsule.jpeg
END:VEVENT
BEGIN:VEVENT
DTSTART;TZID=America/Chicago:20300510T111500
DTEND;TZID=America/Chicago:20300510T113000
DTSTAMP:20260419T151143
CREATED:20250602T213010Z
LAST-MODIFIED:20250603T185901Z
UID:10121350-1904642100-1904643000@spacecenter.org
SUMMARY:Story Corner Live Presentation
DESCRIPTION:
URL:https://spacecenter.org/events-calendar-event/story-corner-live-presentation/2030-05-10/
LOCATION:Theater – Artemis
CATEGORIES:Live Presentation
END:VEVENT
BEGIN:VEVENT
DTSTART;TZID=America/Chicago:20300510T114500
DTEND;TZID=America/Chicago:20300510T120000
DTSTAMP:20260419T151143
CREATED:20250602T213503Z
LAST-MODIFIED:20250603T190256Z
UID:10139630-1904643900-1904644800@spacecenter.org
SUMMARY:James Webb Live Presentation
DESCRIPTION:
URL:https://spacecenter.org/events-calendar-event/james-webb-live-presentation/2030-05-10/
LOCATION:Theater – Destiny
CATEGORIES:Live Presentation
END:VEVENT
BEGIN:VEVENT
DTSTART;TZID=America/Chicago:20300510T121500
DTEND;TZID=America/Chicago:20300510T123000
DTSTAMP:20260419T151143
CREATED:20250602T213059Z
LAST-MODIFIED:20250603T190345Z
UID:10143286-1904645700-1904646600@spacecenter.org
SUMMARY:Story Corner Live Presentation
DESCRIPTION:
URL:https://spacecenter.org/events-calendar-event/story-corner-live-presentation-2/2030-05-10/
LOCATION:Theater – Artemis
CATEGORIES:Live Presentation
END:VEVENT
BEGIN:VEVENT
DTSTART;TZID=America/Chicago:20300510T124500
DTEND;TZID=America/Chicago:20300510T131500
DTSTAMP:20260419T151143
CREATED:20250602T214012Z
LAST-MODIFIED:20250603T190811Z
UID:10154254-1904647500-1904649300@spacecenter.org
SUMMARY:Artemis Live Presentation
DESCRIPTION:
URL:https://spacecenter.org/events-calendar-event/artemis-live-presentation-2/2030-05-10/
LOCATION:Theater – Destiny
CATEGORIES:Live Presentation
ATTACH;FMTTYPE=image/jpeg:https://spacecenter.org/wp-content/uploads/2022/10/Artemis-Capsule.jpeg
END:VEVENT
BEGIN:VEVENT
DTSTART;TZID=America/Chicago:20300510T131500
DTEND;TZID=America/Chicago:20300510T133000
DTSTAMP:20260419T151143
CREATED:20250602T213201Z
LAST-MODIFIED:20250603T190922Z
UID:10161566-1904649300-1904650200@spacecenter.org
SUMMARY:Story Corner Live Presentation
DESCRIPTION:
URL:https://spacecenter.org/events-calendar-event/story-corner-live-presentation-3/2030-05-10/
LOCATION:Theater – Artemis
CATEGORIES:Live Presentation
END:VEVENT
BEGIN:VEVENT
DTSTART;TZID=America/Chicago:20300510T134500
DTEND;TZID=America/Chicago:20300510T140000
DTSTAMP:20260419T151143
CREATED:20250602T212635Z
LAST-MODIFIED:20250603T191121Z
UID:10172534-1904651100-1904652000@spacecenter.org
SUMMARY:OSIRIS Rex Live Presentation
DESCRIPTION:
URL:https://spacecenter.org/events-calendar-event/osiris-rex-live-presentation-2/2030-05-10/
LOCATION:Mission Sketch Staircase
CATEGORIES:Live Presentation
ATTACH;FMTTYPE=image/jpeg:https://spacecenter.org/wp-content/uploads/2024/03/web-march2024_tls_osirisrex.jpg
END:VEVENT
BEGIN:VEVENT
DTSTART;TZID=America/Chicago:20300510T134500
DTEND;TZID=America/Chicago:20300510T140000
DTSTAMP:20260419T151143
CREATED:20250602T213557Z
LAST-MODIFIED:20250603T191327Z
UID:10176190-1904651100-1904652000@spacecenter.org
SUMMARY:James Webb Live Presentation
DESCRIPTION:
URL:https://spacecenter.org/events-calendar-event/james-webb-live-presentation-2/2030-05-10/
LOCATION:Theater – Destiny
CATEGORIES:Live Presentation
END:VEVENT
BEGIN:VEVENT
DTSTART;TZID=America/Chicago:20300510T144500
DTEND;TZID=America/Chicago:20300510T150000
DTSTAMP:20260419T151143
CREATED:20250602T213716Z
LAST-MODIFIED:20250603T191759Z
UID:10190814-1904654700-1904655600@spacecenter.org
SUMMARY:James Webb Live Presentation
DESCRIPTION:
URL:https://spacecenter.org/events-calendar-event/james-webb-live-presentation-3/2030-05-10/
LOCATION:Theater – Destiny
CATEGORIES:Live Presentation
END:VEVENT
BEGIN:VEVENT
DTSTART;TZID=America/Chicago:20300510T151500
DTEND;TZID=America/Chicago:20300510T153000
DTSTAMP:20260419T151143
CREATED:20250602T213249Z
LAST-MODIFIED:20250603T191942Z
UID:10198126-1904656500-1904657400@spacecenter.org
SUMMARY:Story Corner Live Presentation
DESCRIPTION:
URL:https://spacecenter.org/events-calendar-event/story-corner-live-presentation-4/2030-05-10/
LOCATION:Theater – Artemis
CATEGORIES:Live Presentation
END:VEVENT
BEGIN:VEVENT
DTSTART;TZID=America/Chicago:20300510T154500
DTEND;TZID=America/Chicago:20300510T161500
DTSTAMP:20260419T151144
CREATED:20250602T214125Z
LAST-MODIFIED:20250603T192119Z
UID:10209094-1904658300-1904660100@spacecenter.org
SUMMARY:Artemis Live Presentation
DESCRIPTION:
URL:https://spacecenter.org/events-calendar-event/artemis-live-presentation-3/2030-05-10/
LOCATION:Theater – Destiny
CATEGORIES:Live Presentation
ATTACH;FMTTYPE=image/jpeg:https://spacecenter.org/wp-content/uploads/2022/10/Artemis-Capsule.jpeg
END:VEVENT
END:VCALENDAR