BEGIN:VCALENDAR
VERSION:2.0
PRODID:-//Space Center Houston - ECPv6.15.15//NONSGML v1.0//EN
CALSCALE:GREGORIAN
METHOD:PUBLISH
X-WR-CALNAME:Space Center Houston
X-ORIGINAL-URL:https://spacecenter.org
X-WR-CALDESC:Events for Space Center Houston
REFRESH-INTERVAL;VALUE=DURATION:PT1H
X-Robots-Tag:noindex
X-PUBLISHED-TTL:PT1H
BEGIN:VTIMEZONE
TZID:America/Chicago
BEGIN:DAYLIGHT
TZOFFSETFROM:-0600
TZOFFSETTO:-0500
TZNAME:CDT
DTSTART:20290311T080000
END:DAYLIGHT
BEGIN:STANDARD
TZOFFSETFROM:-0500
TZOFFSETTO:-0600
TZNAME:CST
DTSTART:20291104T070000
END:STANDARD
BEGIN:DAYLIGHT
TZOFFSETFROM:-0600
TZOFFSETTO:-0500
TZNAME:CDT
DTSTART:20300310T080000
END:DAYLIGHT
BEGIN:STANDARD
TZOFFSETFROM:-0500
TZOFFSETTO:-0600
TZNAME:CST
DTSTART:20301103T070000
END:STANDARD
BEGIN:DAYLIGHT
TZOFFSETFROM:-0600
TZOFFSETTO:-0500
TZNAME:CDT
DTSTART:20310309T080000
END:DAYLIGHT
BEGIN:STANDARD
TZOFFSETFROM:-0500
TZOFFSETTO:-0600
TZNAME:CST
DTSTART:20311102T070000
END:STANDARD
END:VTIMEZONE
BEGIN:VEVENT
DTSTART;TZID=America/Chicago:20300404T104500
DTEND;TZID=America/Chicago:20300404T110000
DTSTAMP:20260419T181522
CREATED:20250602T212526Z
LAST-MODIFIED:20250603T185502Z
UID:10103034-1901529900-1901530800@spacecenter.org
SUMMARY:OSIRIS Rex Live Presentation
DESCRIPTION:
URL:https://spacecenter.org/events-calendar-event/osiris-rex-live-presentation/2030-04-04/
LOCATION:Mission Sketch Staircase
CATEGORIES:Live Presentation
ATTACH;FMTTYPE=image/jpeg:https://spacecenter.org/wp-content/uploads/2024/03/web-march2024_tls_osirisrex.jpg
END:VEVENT
BEGIN:VEVENT
DTSTART;TZID=America/Chicago:20300404T104500
DTEND;TZID=America/Chicago:20300404T111500
DTSTAMP:20260419T181522
CREATED:20250602T213905Z
LAST-MODIFIED:20250603T185637Z
UID:10110346-1901529900-1901531700@spacecenter.org
SUMMARY:Artemis Live Presentation
DESCRIPTION:
URL:https://spacecenter.org/events-calendar-event/artemis-live-presentation/2030-04-04/
LOCATION:Theater – Destiny
CATEGORIES:Live Presentation
ATTACH;FMTTYPE=image/jpeg:https://spacecenter.org/wp-content/uploads/2022/10/Artemis-Capsule.jpeg
END:VEVENT
BEGIN:VEVENT
DTSTART;TZID=America/Chicago:20300404T111500
DTEND;TZID=America/Chicago:20300404T113000
DTSTAMP:20260419T181522
CREATED:20250602T213010Z
LAST-MODIFIED:20250603T185901Z
UID:10121314-1901531700-1901532600@spacecenter.org
SUMMARY:Story Corner Live Presentation
DESCRIPTION:
URL:https://spacecenter.org/events-calendar-event/story-corner-live-presentation/2030-04-04/
LOCATION:Theater – Artemis
CATEGORIES:Live Presentation
END:VEVENT
BEGIN:VEVENT
DTSTART;TZID=America/Chicago:20300404T114500
DTEND;TZID=America/Chicago:20300404T120000
DTSTAMP:20260419T181522
CREATED:20250602T213503Z
LAST-MODIFIED:20250603T190256Z
UID:10139594-1901533500-1901534400@spacecenter.org
SUMMARY:James Webb Live Presentation
DESCRIPTION:
URL:https://spacecenter.org/events-calendar-event/james-webb-live-presentation/2030-04-04/
LOCATION:Theater – Destiny
CATEGORIES:Live Presentation
END:VEVENT
BEGIN:VEVENT
DTSTART;TZID=America/Chicago:20300404T121500
DTEND;TZID=America/Chicago:20300404T123000
DTSTAMP:20260419T181522
CREATED:20250602T213059Z
LAST-MODIFIED:20250603T190345Z
UID:10143250-1901535300-1901536200@spacecenter.org
SUMMARY:Story Corner Live Presentation
DESCRIPTION:
URL:https://spacecenter.org/events-calendar-event/story-corner-live-presentation-2/2030-04-04/
LOCATION:Theater – Artemis
CATEGORIES:Live Presentation
END:VEVENT
BEGIN:VEVENT
DTSTART;TZID=America/Chicago:20300404T124500
DTEND;TZID=America/Chicago:20300404T131500
DTSTAMP:20260419T181522
CREATED:20250602T214012Z
LAST-MODIFIED:20250603T190811Z
UID:10154218-1901537100-1901538900@spacecenter.org
SUMMARY:Artemis Live Presentation
DESCRIPTION:
URL:https://spacecenter.org/events-calendar-event/artemis-live-presentation-2/2030-04-04/
LOCATION:Theater – Destiny
CATEGORIES:Live Presentation
ATTACH;FMTTYPE=image/jpeg:https://spacecenter.org/wp-content/uploads/2022/10/Artemis-Capsule.jpeg
END:VEVENT
BEGIN:VEVENT
DTSTART;TZID=America/Chicago:20300404T131500
DTEND;TZID=America/Chicago:20300404T133000
DTSTAMP:20260419T181522
CREATED:20250602T213201Z
LAST-MODIFIED:20250603T190922Z
UID:10161530-1901538900-1901539800@spacecenter.org
SUMMARY:Story Corner Live Presentation
DESCRIPTION:
URL:https://spacecenter.org/events-calendar-event/story-corner-live-presentation-3/2030-04-04/
LOCATION:Theater – Artemis
CATEGORIES:Live Presentation
END:VEVENT
BEGIN:VEVENT
DTSTART;TZID=America/Chicago:20300404T134500
DTEND;TZID=America/Chicago:20300404T140000
DTSTAMP:20260419T181522
CREATED:20250602T212635Z
LAST-MODIFIED:20250603T191121Z
UID:10172498-1901540700-1901541600@spacecenter.org
SUMMARY:OSIRIS Rex Live Presentation
DESCRIPTION:
URL:https://spacecenter.org/events-calendar-event/osiris-rex-live-presentation-2/2030-04-04/
LOCATION:Mission Sketch Staircase
CATEGORIES:Live Presentation
ATTACH;FMTTYPE=image/jpeg:https://spacecenter.org/wp-content/uploads/2024/03/web-march2024_tls_osirisrex.jpg
END:VEVENT
BEGIN:VEVENT
DTSTART;TZID=America/Chicago:20300404T134500
DTEND;TZID=America/Chicago:20300404T140000
DTSTAMP:20260419T181522
CREATED:20250602T213557Z
LAST-MODIFIED:20250603T191327Z
UID:10176154-1901540700-1901541600@spacecenter.org
SUMMARY:James Webb Live Presentation
DESCRIPTION:
URL:https://spacecenter.org/events-calendar-event/james-webb-live-presentation-2/2030-04-04/
LOCATION:Theater – Destiny
CATEGORIES:Live Presentation
END:VEVENT
BEGIN:VEVENT
DTSTART;TZID=America/Chicago:20300404T144500
DTEND;TZID=America/Chicago:20300404T150000
DTSTAMP:20260419T181522
CREATED:20250602T213716Z
LAST-MODIFIED:20250603T191759Z
UID:10190778-1901544300-1901545200@spacecenter.org
SUMMARY:James Webb Live Presentation
DESCRIPTION:
URL:https://spacecenter.org/events-calendar-event/james-webb-live-presentation-3/2030-04-04/
LOCATION:Theater – Destiny
CATEGORIES:Live Presentation
END:VEVENT
BEGIN:VEVENT
DTSTART;TZID=America/Chicago:20300404T151500
DTEND;TZID=America/Chicago:20300404T153000
DTSTAMP:20260419T181522
CREATED:20250602T213249Z
LAST-MODIFIED:20250603T191942Z
UID:10198090-1901546100-1901547000@spacecenter.org
SUMMARY:Story Corner Live Presentation
DESCRIPTION:
URL:https://spacecenter.org/events-calendar-event/story-corner-live-presentation-4/2030-04-04/
LOCATION:Theater – Artemis
CATEGORIES:Live Presentation
END:VEVENT
BEGIN:VEVENT
DTSTART;TZID=America/Chicago:20300404T154500
DTEND;TZID=America/Chicago:20300404T161500
DTSTAMP:20260419T181522
CREATED:20250602T214125Z
LAST-MODIFIED:20250603T192119Z
UID:10209058-1901547900-1901549700@spacecenter.org
SUMMARY:Artemis Live Presentation
DESCRIPTION:
URL:https://spacecenter.org/events-calendar-event/artemis-live-presentation-3/2030-04-04/
LOCATION:Theater – Destiny
CATEGORIES:Live Presentation
ATTACH;FMTTYPE=image/jpeg:https://spacecenter.org/wp-content/uploads/2022/10/Artemis-Capsule.jpeg
END:VEVENT
BEGIN:VEVENT
DTSTART;TZID=America/Chicago:20300404T163000
DTEND;TZID=America/Chicago:20300404T164500
DTSTAMP:20260419T181522
CREATED:20250602T212726Z
LAST-MODIFIED:20250603T192225Z
UID:10216370-1901550600-1901551500@spacecenter.org
SUMMARY:OSIRIS Rex Live Presentation
DESCRIPTION:
URL:https://spacecenter.org/events-calendar-event/osiris-rex-live-presentation-3/2030-04-04/
LOCATION:Mission Sketch Staircase
CATEGORIES:Live Presentation
ATTACH;FMTTYPE=image/jpeg:https://spacecenter.org/wp-content/uploads/2024/03/web-march2024_tls_osirisrex.jpg
END:VEVENT
BEGIN:VEVENT
DTSTART;TZID=America/Chicago:20300405T104500
DTEND;TZID=America/Chicago:20300405T110000
DTSTAMP:20260419T181522
CREATED:20250602T212526Z
LAST-MODIFIED:20250603T185502Z
UID:10103035-1901616300-1901617200@spacecenter.org
SUMMARY:OSIRIS Rex Live Presentation
DESCRIPTION:
URL:https://spacecenter.org/events-calendar-event/osiris-rex-live-presentation/2030-04-05/
LOCATION:Mission Sketch Staircase
CATEGORIES:Live Presentation
ATTACH;FMTTYPE=image/jpeg:https://spacecenter.org/wp-content/uploads/2024/03/web-march2024_tls_osirisrex.jpg
END:VEVENT
BEGIN:VEVENT
DTSTART;TZID=America/Chicago:20300405T104500
DTEND;TZID=America/Chicago:20300405T111500
DTSTAMP:20260419T181522
CREATED:20250602T213905Z
LAST-MODIFIED:20250603T185637Z
UID:10110347-1901616300-1901618100@spacecenter.org
SUMMARY:Artemis Live Presentation
DESCRIPTION:
URL:https://spacecenter.org/events-calendar-event/artemis-live-presentation/2030-04-05/
LOCATION:Theater – Destiny
CATEGORIES:Live Presentation
ATTACH;FMTTYPE=image/jpeg:https://spacecenter.org/wp-content/uploads/2022/10/Artemis-Capsule.jpeg
END:VEVENT
BEGIN:VEVENT
DTSTART;TZID=America/Chicago:20300405T111500
DTEND;TZID=America/Chicago:20300405T113000
DTSTAMP:20260419T181522
CREATED:20250602T213010Z
LAST-MODIFIED:20250603T185901Z
UID:10121315-1901618100-1901619000@spacecenter.org
SUMMARY:Story Corner Live Presentation
DESCRIPTION:
URL:https://spacecenter.org/events-calendar-event/story-corner-live-presentation/2030-04-05/
LOCATION:Theater – Artemis
CATEGORIES:Live Presentation
END:VEVENT
BEGIN:VEVENT
DTSTART;TZID=America/Chicago:20300405T114500
DTEND;TZID=America/Chicago:20300405T120000
DTSTAMP:20260419T181522
CREATED:20250602T213503Z
LAST-MODIFIED:20250603T190256Z
UID:10139595-1901619900-1901620800@spacecenter.org
SUMMARY:James Webb Live Presentation
DESCRIPTION:
URL:https://spacecenter.org/events-calendar-event/james-webb-live-presentation/2030-04-05/
LOCATION:Theater – Destiny
CATEGORIES:Live Presentation
END:VEVENT
BEGIN:VEVENT
DTSTART;TZID=America/Chicago:20300405T121500
DTEND;TZID=America/Chicago:20300405T123000
DTSTAMP:20260419T181522
CREATED:20250602T213059Z
LAST-MODIFIED:20250603T190345Z
UID:10143251-1901621700-1901622600@spacecenter.org
SUMMARY:Story Corner Live Presentation
DESCRIPTION:
URL:https://spacecenter.org/events-calendar-event/story-corner-live-presentation-2/2030-04-05/
LOCATION:Theater – Artemis
CATEGORIES:Live Presentation
END:VEVENT
BEGIN:VEVENT
DTSTART;TZID=America/Chicago:20300405T124500
DTEND;TZID=America/Chicago:20300405T131500
DTSTAMP:20260419T181522
CREATED:20250602T214012Z
LAST-MODIFIED:20250603T190811Z
UID:10154219-1901623500-1901625300@spacecenter.org
SUMMARY:Artemis Live Presentation
DESCRIPTION:
URL:https://spacecenter.org/events-calendar-event/artemis-live-presentation-2/2030-04-05/
LOCATION:Theater – Destiny
CATEGORIES:Live Presentation
ATTACH;FMTTYPE=image/jpeg:https://spacecenter.org/wp-content/uploads/2022/10/Artemis-Capsule.jpeg
END:VEVENT
BEGIN:VEVENT
DTSTART;TZID=America/Chicago:20300405T131500
DTEND;TZID=America/Chicago:20300405T133000
DTSTAMP:20260419T181522
CREATED:20250602T213201Z
LAST-MODIFIED:20250603T190922Z
UID:10161531-1901625300-1901626200@spacecenter.org
SUMMARY:Story Corner Live Presentation
DESCRIPTION:
URL:https://spacecenter.org/events-calendar-event/story-corner-live-presentation-3/2030-04-05/
LOCATION:Theater – Artemis
CATEGORIES:Live Presentation
END:VEVENT
BEGIN:VEVENT
DTSTART;TZID=America/Chicago:20300405T134500
DTEND;TZID=America/Chicago:20300405T140000
DTSTAMP:20260419T181522
CREATED:20250602T212635Z
LAST-MODIFIED:20250603T191121Z
UID:10172499-1901627100-1901628000@spacecenter.org
SUMMARY:OSIRIS Rex Live Presentation
DESCRIPTION:
URL:https://spacecenter.org/events-calendar-event/osiris-rex-live-presentation-2/2030-04-05/
LOCATION:Mission Sketch Staircase
CATEGORIES:Live Presentation
ATTACH;FMTTYPE=image/jpeg:https://spacecenter.org/wp-content/uploads/2024/03/web-march2024_tls_osirisrex.jpg
END:VEVENT
BEGIN:VEVENT
DTSTART;TZID=America/Chicago:20300405T134500
DTEND;TZID=America/Chicago:20300405T140000
DTSTAMP:20260419T181522
CREATED:20250602T213557Z
LAST-MODIFIED:20250603T191327Z
UID:10176155-1901627100-1901628000@spacecenter.org
SUMMARY:James Webb Live Presentation
DESCRIPTION:
URL:https://spacecenter.org/events-calendar-event/james-webb-live-presentation-2/2030-04-05/
LOCATION:Theater – Destiny
CATEGORIES:Live Presentation
END:VEVENT
BEGIN:VEVENT
DTSTART;TZID=America/Chicago:20300405T144500
DTEND;TZID=America/Chicago:20300405T150000
DTSTAMP:20260419T181522
CREATED:20250602T213716Z
LAST-MODIFIED:20250603T191759Z
UID:10190779-1901630700-1901631600@spacecenter.org
SUMMARY:James Webb Live Presentation
DESCRIPTION:
URL:https://spacecenter.org/events-calendar-event/james-webb-live-presentation-3/2030-04-05/
LOCATION:Theater – Destiny
CATEGORIES:Live Presentation
END:VEVENT
BEGIN:VEVENT
DTSTART;TZID=America/Chicago:20300405T151500
DTEND;TZID=America/Chicago:20300405T153000
DTSTAMP:20260419T181522
CREATED:20250602T213249Z
LAST-MODIFIED:20250603T191942Z
UID:10198091-1901632500-1901633400@spacecenter.org
SUMMARY:Story Corner Live Presentation
DESCRIPTION:
URL:https://spacecenter.org/events-calendar-event/story-corner-live-presentation-4/2030-04-05/
LOCATION:Theater – Artemis
CATEGORIES:Live Presentation
END:VEVENT
BEGIN:VEVENT
DTSTART;TZID=America/Chicago:20300405T154500
DTEND;TZID=America/Chicago:20300405T161500
DTSTAMP:20260419T181522
CREATED:20250602T214125Z
LAST-MODIFIED:20250603T192119Z
UID:10209059-1901634300-1901636100@spacecenter.org
SUMMARY:Artemis Live Presentation
DESCRIPTION:
URL:https://spacecenter.org/events-calendar-event/artemis-live-presentation-3/2030-04-05/
LOCATION:Theater – Destiny
CATEGORIES:Live Presentation
ATTACH;FMTTYPE=image/jpeg:https://spacecenter.org/wp-content/uploads/2022/10/Artemis-Capsule.jpeg
END:VEVENT
BEGIN:VEVENT
DTSTART;TZID=America/Chicago:20300405T163000
DTEND;TZID=America/Chicago:20300405T164500
DTSTAMP:20260419T181522
CREATED:20250602T212726Z
LAST-MODIFIED:20250603T192225Z
UID:10216371-1901637000-1901637900@spacecenter.org
SUMMARY:OSIRIS Rex Live Presentation
DESCRIPTION:
URL:https://spacecenter.org/events-calendar-event/osiris-rex-live-presentation-3/2030-04-05/
LOCATION:Mission Sketch Staircase
CATEGORIES:Live Presentation
ATTACH;FMTTYPE=image/jpeg:https://spacecenter.org/wp-content/uploads/2024/03/web-march2024_tls_osirisrex.jpg
END:VEVENT
BEGIN:VEVENT
DTSTART;TZID=America/Chicago:20300406T104500
DTEND;TZID=America/Chicago:20300406T110000
DTSTAMP:20260419T181522
CREATED:20250602T212526Z
LAST-MODIFIED:20250603T185502Z
UID:10103036-1901702700-1901703600@spacecenter.org
SUMMARY:OSIRIS Rex Live Presentation
DESCRIPTION:
URL:https://spacecenter.org/events-calendar-event/osiris-rex-live-presentation/2030-04-06/
LOCATION:Mission Sketch Staircase
CATEGORIES:Live Presentation
ATTACH;FMTTYPE=image/jpeg:https://spacecenter.org/wp-content/uploads/2024/03/web-march2024_tls_osirisrex.jpg
END:VEVENT
BEGIN:VEVENT
DTSTART;TZID=America/Chicago:20300406T104500
DTEND;TZID=America/Chicago:20300406T111500
DTSTAMP:20260419T181522
CREATED:20250602T213905Z
LAST-MODIFIED:20250603T185637Z
UID:10110348-1901702700-1901704500@spacecenter.org
SUMMARY:Artemis Live Presentation
DESCRIPTION:
URL:https://spacecenter.org/events-calendar-event/artemis-live-presentation/2030-04-06/
LOCATION:Theater – Destiny
CATEGORIES:Live Presentation
ATTACH;FMTTYPE=image/jpeg:https://spacecenter.org/wp-content/uploads/2022/10/Artemis-Capsule.jpeg
END:VEVENT
BEGIN:VEVENT
DTSTART;TZID=America/Chicago:20300406T111500
DTEND;TZID=America/Chicago:20300406T113000
DTSTAMP:20260419T181522
CREATED:20250602T213010Z
LAST-MODIFIED:20250603T185901Z
UID:10121316-1901704500-1901705400@spacecenter.org
SUMMARY:Story Corner Live Presentation
DESCRIPTION:
URL:https://spacecenter.org/events-calendar-event/story-corner-live-presentation/2030-04-06/
LOCATION:Theater – Artemis
CATEGORIES:Live Presentation
END:VEVENT
BEGIN:VEVENT
DTSTART;TZID=America/Chicago:20300406T114500
DTEND;TZID=America/Chicago:20300406T120000
DTSTAMP:20260419T181522
CREATED:20250602T213503Z
LAST-MODIFIED:20250603T190256Z
UID:10139596-1901706300-1901707200@spacecenter.org
SUMMARY:James Webb Live Presentation
DESCRIPTION:
URL:https://spacecenter.org/events-calendar-event/james-webb-live-presentation/2030-04-06/
LOCATION:Theater – Destiny
CATEGORIES:Live Presentation
END:VEVENT
END:VCALENDAR