BEGIN:VCALENDAR
VERSION:2.0
PRODID:-//Space Center Houston - ECPv6.15.15//NONSGML v1.0//EN
CALSCALE:GREGORIAN
METHOD:PUBLISH
X-ORIGINAL-URL:https://spacecenter.org
X-WR-CALDESC:Events for Space Center Houston
REFRESH-INTERVAL;VALUE=DURATION:PT1H
X-Robots-Tag:noindex
X-PUBLISHED-TTL:PT1H
BEGIN:VTIMEZONE
TZID:America/Chicago
BEGIN:DAYLIGHT
TZOFFSETFROM:-0600
TZOFFSETTO:-0500
TZNAME:CDT
DTSTART:20290311T080000
END:DAYLIGHT
BEGIN:STANDARD
TZOFFSETFROM:-0500
TZOFFSETTO:-0600
TZNAME:CST
DTSTART:20291104T070000
END:STANDARD
BEGIN:DAYLIGHT
TZOFFSETFROM:-0600
TZOFFSETTO:-0500
TZNAME:CDT
DTSTART:20300310T080000
END:DAYLIGHT
BEGIN:STANDARD
TZOFFSETFROM:-0500
TZOFFSETTO:-0600
TZNAME:CST
DTSTART:20301103T070000
END:STANDARD
BEGIN:DAYLIGHT
TZOFFSETFROM:-0600
TZOFFSETTO:-0500
TZNAME:CDT
DTSTART:20310309T080000
END:DAYLIGHT
BEGIN:STANDARD
TZOFFSETFROM:-0500
TZOFFSETTO:-0600
TZNAME:CST
DTSTART:20311102T070000
END:STANDARD
END:VTIMEZONE
BEGIN:VEVENT
DTSTART;TZID=America/Chicago:20300304T124500
DTEND;TZID=America/Chicago:20300304T131500
DTSTAMP:20260420T005720
CREATED:20250602T214012Z
LAST-MODIFIED:20250603T190811Z
UID:10154187-1898858700-1898860500@spacecenter.org
SUMMARY:Artemis Live Presentation
DESCRIPTION:
URL:https://spacecenter.org/events-calendar-event/artemis-live-presentation-2/2030-03-04/
LOCATION:Theater – Destiny
CATEGORIES:Live Presentation
ATTACH;FMTTYPE=image/jpeg:https://spacecenter.org/wp-content/uploads/2022/10/Artemis-Capsule.jpeg
END:VEVENT
BEGIN:VEVENT
DTSTART;TZID=America/Chicago:20300304T131500
DTEND;TZID=America/Chicago:20300304T133000
DTSTAMP:20260420T005720
CREATED:20250602T213201Z
LAST-MODIFIED:20250603T190922Z
UID:10161499-1898860500-1898861400@spacecenter.org
SUMMARY:Story Corner Live Presentation
DESCRIPTION:
URL:https://spacecenter.org/events-calendar-event/story-corner-live-presentation-3/2030-03-04/
LOCATION:Theater – Artemis
CATEGORIES:Live Presentation
END:VEVENT
BEGIN:VEVENT
DTSTART;TZID=America/Chicago:20300304T134500
DTEND;TZID=America/Chicago:20300304T140000
DTSTAMP:20260420T005720
CREATED:20250602T212635Z
LAST-MODIFIED:20250603T191121Z
UID:10172467-1898862300-1898863200@spacecenter.org
SUMMARY:OSIRIS Rex Live Presentation
DESCRIPTION:
URL:https://spacecenter.org/events-calendar-event/osiris-rex-live-presentation-2/2030-03-04/
LOCATION:Mission Sketch Staircase
CATEGORIES:Live Presentation
ATTACH;FMTTYPE=image/jpeg:https://spacecenter.org/wp-content/uploads/2024/03/web-march2024_tls_osirisrex.jpg
END:VEVENT
BEGIN:VEVENT
DTSTART;TZID=America/Chicago:20300304T134500
DTEND;TZID=America/Chicago:20300304T140000
DTSTAMP:20260420T005720
CREATED:20250602T213557Z
LAST-MODIFIED:20250603T191327Z
UID:10176123-1898862300-1898863200@spacecenter.org
SUMMARY:James Webb Live Presentation
DESCRIPTION:
URL:https://spacecenter.org/events-calendar-event/james-webb-live-presentation-2/2030-03-04/
LOCATION:Theater – Destiny
CATEGORIES:Live Presentation
END:VEVENT
BEGIN:VEVENT
DTSTART;TZID=America/Chicago:20300304T144500
DTEND;TZID=America/Chicago:20300304T150000
DTSTAMP:20260420T005720
CREATED:20250602T213716Z
LAST-MODIFIED:20250603T191759Z
UID:10190747-1898865900-1898866800@spacecenter.org
SUMMARY:James Webb Live Presentation
DESCRIPTION:
URL:https://spacecenter.org/events-calendar-event/james-webb-live-presentation-3/2030-03-04/
LOCATION:Theater – Destiny
CATEGORIES:Live Presentation
END:VEVENT
BEGIN:VEVENT
DTSTART;TZID=America/Chicago:20300304T151500
DTEND;TZID=America/Chicago:20300304T153000
DTSTAMP:20260420T005720
CREATED:20250602T213249Z
LAST-MODIFIED:20250603T191942Z
UID:10198059-1898867700-1898868600@spacecenter.org
SUMMARY:Story Corner Live Presentation
DESCRIPTION:
URL:https://spacecenter.org/events-calendar-event/story-corner-live-presentation-4/2030-03-04/
LOCATION:Theater – Artemis
CATEGORIES:Live Presentation
END:VEVENT
BEGIN:VEVENT
DTSTART;TZID=America/Chicago:20300304T154500
DTEND;TZID=America/Chicago:20300304T161500
DTSTAMP:20260420T005720
CREATED:20250602T214125Z
LAST-MODIFIED:20250603T192119Z
UID:10209027-1898869500-1898871300@spacecenter.org
SUMMARY:Artemis Live Presentation
DESCRIPTION:
URL:https://spacecenter.org/events-calendar-event/artemis-live-presentation-3/2030-03-04/
LOCATION:Theater – Destiny
CATEGORIES:Live Presentation
ATTACH;FMTTYPE=image/jpeg:https://spacecenter.org/wp-content/uploads/2022/10/Artemis-Capsule.jpeg
END:VEVENT
BEGIN:VEVENT
DTSTART;TZID=America/Chicago:20300304T163000
DTEND;TZID=America/Chicago:20300304T164500
DTSTAMP:20260420T005720
CREATED:20250602T212726Z
LAST-MODIFIED:20250603T192225Z
UID:10216339-1898872200-1898873100@spacecenter.org
SUMMARY:OSIRIS Rex Live Presentation
DESCRIPTION:
URL:https://spacecenter.org/events-calendar-event/osiris-rex-live-presentation-3/2030-03-04/
LOCATION:Mission Sketch Staircase
CATEGORIES:Live Presentation
ATTACH;FMTTYPE=image/jpeg:https://spacecenter.org/wp-content/uploads/2024/03/web-march2024_tls_osirisrex.jpg
END:VEVENT
BEGIN:VEVENT
DTSTART;TZID=America/Chicago:20300305T104500
DTEND;TZID=America/Chicago:20300305T110000
DTSTAMP:20260420T005720
CREATED:20250602T212526Z
LAST-MODIFIED:20250603T185502Z
UID:10103004-1898937900-1898938800@spacecenter.org
SUMMARY:OSIRIS Rex Live Presentation
DESCRIPTION:
URL:https://spacecenter.org/events-calendar-event/osiris-rex-live-presentation/2030-03-05/
LOCATION:Mission Sketch Staircase
CATEGORIES:Live Presentation
ATTACH;FMTTYPE=image/jpeg:https://spacecenter.org/wp-content/uploads/2024/03/web-march2024_tls_osirisrex.jpg
END:VEVENT
BEGIN:VEVENT
DTSTART;TZID=America/Chicago:20300305T104500
DTEND;TZID=America/Chicago:20300305T111500
DTSTAMP:20260420T005720
CREATED:20250602T213905Z
LAST-MODIFIED:20250603T185637Z
UID:10110316-1898937900-1898939700@spacecenter.org
SUMMARY:Artemis Live Presentation
DESCRIPTION:
URL:https://spacecenter.org/events-calendar-event/artemis-live-presentation/2030-03-05/
LOCATION:Theater – Destiny
CATEGORIES:Live Presentation
ATTACH;FMTTYPE=image/jpeg:https://spacecenter.org/wp-content/uploads/2022/10/Artemis-Capsule.jpeg
END:VEVENT
BEGIN:VEVENT
DTSTART;TZID=America/Chicago:20300305T111500
DTEND;TZID=America/Chicago:20300305T113000
DTSTAMP:20260420T005720
CREATED:20250602T213010Z
LAST-MODIFIED:20250603T185901Z
UID:10121284-1898939700-1898940600@spacecenter.org
SUMMARY:Story Corner Live Presentation
DESCRIPTION:
URL:https://spacecenter.org/events-calendar-event/story-corner-live-presentation/2030-03-05/
LOCATION:Theater – Artemis
CATEGORIES:Live Presentation
END:VEVENT
BEGIN:VEVENT
DTSTART;TZID=America/Chicago:20300305T114500
DTEND;TZID=America/Chicago:20300305T120000
DTSTAMP:20260420T005720
CREATED:20250602T213503Z
LAST-MODIFIED:20250603T190256Z
UID:10139564-1898941500-1898942400@spacecenter.org
SUMMARY:James Webb Live Presentation
DESCRIPTION:
URL:https://spacecenter.org/events-calendar-event/james-webb-live-presentation/2030-03-05/
LOCATION:Theater – Destiny
CATEGORIES:Live Presentation
END:VEVENT
BEGIN:VEVENT
DTSTART;TZID=America/Chicago:20300305T121500
DTEND;TZID=America/Chicago:20300305T123000
DTSTAMP:20260420T005720
CREATED:20250602T213059Z
LAST-MODIFIED:20250603T190345Z
UID:10143220-1898943300-1898944200@spacecenter.org
SUMMARY:Story Corner Live Presentation
DESCRIPTION:
URL:https://spacecenter.org/events-calendar-event/story-corner-live-presentation-2/2030-03-05/
LOCATION:Theater – Artemis
CATEGORIES:Live Presentation
END:VEVENT
BEGIN:VEVENT
DTSTART;TZID=America/Chicago:20300305T124500
DTEND;TZID=America/Chicago:20300305T131500
DTSTAMP:20260420T005720
CREATED:20250602T214012Z
LAST-MODIFIED:20250603T190811Z
UID:10154188-1898945100-1898946900@spacecenter.org
SUMMARY:Artemis Live Presentation
DESCRIPTION:
URL:https://spacecenter.org/events-calendar-event/artemis-live-presentation-2/2030-03-05/
LOCATION:Theater – Destiny
CATEGORIES:Live Presentation
ATTACH;FMTTYPE=image/jpeg:https://spacecenter.org/wp-content/uploads/2022/10/Artemis-Capsule.jpeg
END:VEVENT
BEGIN:VEVENT
DTSTART;TZID=America/Chicago:20300305T131500
DTEND;TZID=America/Chicago:20300305T133000
DTSTAMP:20260420T005720
CREATED:20250602T213201Z
LAST-MODIFIED:20250603T190922Z
UID:10161500-1898946900-1898947800@spacecenter.org
SUMMARY:Story Corner Live Presentation
DESCRIPTION:
URL:https://spacecenter.org/events-calendar-event/story-corner-live-presentation-3/2030-03-05/
LOCATION:Theater – Artemis
CATEGORIES:Live Presentation
END:VEVENT
BEGIN:VEVENT
DTSTART;TZID=America/Chicago:20300305T134500
DTEND;TZID=America/Chicago:20300305T140000
DTSTAMP:20260420T005720
CREATED:20250602T212635Z
LAST-MODIFIED:20250603T191121Z
UID:10172468-1898948700-1898949600@spacecenter.org
SUMMARY:OSIRIS Rex Live Presentation
DESCRIPTION:
URL:https://spacecenter.org/events-calendar-event/osiris-rex-live-presentation-2/2030-03-05/
LOCATION:Mission Sketch Staircase
CATEGORIES:Live Presentation
ATTACH;FMTTYPE=image/jpeg:https://spacecenter.org/wp-content/uploads/2024/03/web-march2024_tls_osirisrex.jpg
END:VEVENT
BEGIN:VEVENT
DTSTART;TZID=America/Chicago:20300305T134500
DTEND;TZID=America/Chicago:20300305T140000
DTSTAMP:20260420T005720
CREATED:20250602T213557Z
LAST-MODIFIED:20250603T191327Z
UID:10176124-1898948700-1898949600@spacecenter.org
SUMMARY:James Webb Live Presentation
DESCRIPTION:
URL:https://spacecenter.org/events-calendar-event/james-webb-live-presentation-2/2030-03-05/
LOCATION:Theater – Destiny
CATEGORIES:Live Presentation
END:VEVENT
BEGIN:VEVENT
DTSTART;TZID=America/Chicago:20300305T144500
DTEND;TZID=America/Chicago:20300305T150000
DTSTAMP:20260420T005720
CREATED:20250602T213716Z
LAST-MODIFIED:20250603T191759Z
UID:10190748-1898952300-1898953200@spacecenter.org
SUMMARY:James Webb Live Presentation
DESCRIPTION:
URL:https://spacecenter.org/events-calendar-event/james-webb-live-presentation-3/2030-03-05/
LOCATION:Theater – Destiny
CATEGORIES:Live Presentation
END:VEVENT
BEGIN:VEVENT
DTSTART;TZID=America/Chicago:20300305T151500
DTEND;TZID=America/Chicago:20300305T153000
DTSTAMP:20260420T005720
CREATED:20250602T213249Z
LAST-MODIFIED:20250603T191942Z
UID:10198060-1898954100-1898955000@spacecenter.org
SUMMARY:Story Corner Live Presentation
DESCRIPTION:
URL:https://spacecenter.org/events-calendar-event/story-corner-live-presentation-4/2030-03-05/
LOCATION:Theater – Artemis
CATEGORIES:Live Presentation
END:VEVENT
BEGIN:VEVENT
DTSTART;TZID=America/Chicago:20300305T154500
DTEND;TZID=America/Chicago:20300305T161500
DTSTAMP:20260420T005720
CREATED:20250602T214125Z
LAST-MODIFIED:20250603T192119Z
UID:10209028-1898955900-1898957700@spacecenter.org
SUMMARY:Artemis Live Presentation
DESCRIPTION:
URL:https://spacecenter.org/events-calendar-event/artemis-live-presentation-3/2030-03-05/
LOCATION:Theater – Destiny
CATEGORIES:Live Presentation
ATTACH;FMTTYPE=image/jpeg:https://spacecenter.org/wp-content/uploads/2022/10/Artemis-Capsule.jpeg
END:VEVENT
BEGIN:VEVENT
DTSTART;TZID=America/Chicago:20300305T163000
DTEND;TZID=America/Chicago:20300305T164500
DTSTAMP:20260420T005720
CREATED:20250602T212726Z
LAST-MODIFIED:20250603T192225Z
UID:10216340-1898958600-1898959500@spacecenter.org
SUMMARY:OSIRIS Rex Live Presentation
DESCRIPTION:
URL:https://spacecenter.org/events-calendar-event/osiris-rex-live-presentation-3/2030-03-05/
LOCATION:Mission Sketch Staircase
CATEGORIES:Live Presentation
ATTACH;FMTTYPE=image/jpeg:https://spacecenter.org/wp-content/uploads/2024/03/web-march2024_tls_osirisrex.jpg
END:VEVENT
BEGIN:VEVENT
DTSTART;TZID=America/Chicago:20300306T104500
DTEND;TZID=America/Chicago:20300306T110000
DTSTAMP:20260420T005720
CREATED:20250602T212526Z
LAST-MODIFIED:20250603T185502Z
UID:10103005-1899024300-1899025200@spacecenter.org
SUMMARY:OSIRIS Rex Live Presentation
DESCRIPTION:
URL:https://spacecenter.org/events-calendar-event/osiris-rex-live-presentation/2030-03-06/
LOCATION:Mission Sketch Staircase
CATEGORIES:Live Presentation
ATTACH;FMTTYPE=image/jpeg:https://spacecenter.org/wp-content/uploads/2024/03/web-march2024_tls_osirisrex.jpg
END:VEVENT
BEGIN:VEVENT
DTSTART;TZID=America/Chicago:20300306T104500
DTEND;TZID=America/Chicago:20300306T111500
DTSTAMP:20260420T005720
CREATED:20250602T213905Z
LAST-MODIFIED:20250603T185637Z
UID:10110317-1899024300-1899026100@spacecenter.org
SUMMARY:Artemis Live Presentation
DESCRIPTION:
URL:https://spacecenter.org/events-calendar-event/artemis-live-presentation/2030-03-06/
LOCATION:Theater – Destiny
CATEGORIES:Live Presentation
ATTACH;FMTTYPE=image/jpeg:https://spacecenter.org/wp-content/uploads/2022/10/Artemis-Capsule.jpeg
END:VEVENT
BEGIN:VEVENT
DTSTART;TZID=America/Chicago:20300306T111500
DTEND;TZID=America/Chicago:20300306T113000
DTSTAMP:20260420T005720
CREATED:20250602T213010Z
LAST-MODIFIED:20250603T185901Z
UID:10121285-1899026100-1899027000@spacecenter.org
SUMMARY:Story Corner Live Presentation
DESCRIPTION:
URL:https://spacecenter.org/events-calendar-event/story-corner-live-presentation/2030-03-06/
LOCATION:Theater – Artemis
CATEGORIES:Live Presentation
END:VEVENT
BEGIN:VEVENT
DTSTART;TZID=America/Chicago:20300306T114500
DTEND;TZID=America/Chicago:20300306T120000
DTSTAMP:20260420T005720
CREATED:20250602T213503Z
LAST-MODIFIED:20250603T190256Z
UID:10139565-1899027900-1899028800@spacecenter.org
SUMMARY:James Webb Live Presentation
DESCRIPTION:
URL:https://spacecenter.org/events-calendar-event/james-webb-live-presentation/2030-03-06/
LOCATION:Theater – Destiny
CATEGORIES:Live Presentation
END:VEVENT
BEGIN:VEVENT
DTSTART;TZID=America/Chicago:20300306T121500
DTEND;TZID=America/Chicago:20300306T123000
DTSTAMP:20260420T005720
CREATED:20250602T213059Z
LAST-MODIFIED:20250603T190345Z
UID:10143221-1899029700-1899030600@spacecenter.org
SUMMARY:Story Corner Live Presentation
DESCRIPTION:
URL:https://spacecenter.org/events-calendar-event/story-corner-live-presentation-2/2030-03-06/
LOCATION:Theater – Artemis
CATEGORIES:Live Presentation
END:VEVENT
BEGIN:VEVENT
DTSTART;TZID=America/Chicago:20300306T124500
DTEND;TZID=America/Chicago:20300306T131500
DTSTAMP:20260420T005720
CREATED:20250602T214012Z
LAST-MODIFIED:20250603T190811Z
UID:10154189-1899031500-1899033300@spacecenter.org
SUMMARY:Artemis Live Presentation
DESCRIPTION:
URL:https://spacecenter.org/events-calendar-event/artemis-live-presentation-2/2030-03-06/
LOCATION:Theater – Destiny
CATEGORIES:Live Presentation
ATTACH;FMTTYPE=image/jpeg:https://spacecenter.org/wp-content/uploads/2022/10/Artemis-Capsule.jpeg
END:VEVENT
BEGIN:VEVENT
DTSTART;TZID=America/Chicago:20300306T131500
DTEND;TZID=America/Chicago:20300306T133000
DTSTAMP:20260420T005720
CREATED:20250602T213201Z
LAST-MODIFIED:20250603T190922Z
UID:10161501-1899033300-1899034200@spacecenter.org
SUMMARY:Story Corner Live Presentation
DESCRIPTION:
URL:https://spacecenter.org/events-calendar-event/story-corner-live-presentation-3/2030-03-06/
LOCATION:Theater – Artemis
CATEGORIES:Live Presentation
END:VEVENT
BEGIN:VEVENT
DTSTART;TZID=America/Chicago:20300306T134500
DTEND;TZID=America/Chicago:20300306T140000
DTSTAMP:20260420T005720
CREATED:20250602T212635Z
LAST-MODIFIED:20250603T191121Z
UID:10172469-1899035100-1899036000@spacecenter.org
SUMMARY:OSIRIS Rex Live Presentation
DESCRIPTION:
URL:https://spacecenter.org/events-calendar-event/osiris-rex-live-presentation-2/2030-03-06/
LOCATION:Mission Sketch Staircase
CATEGORIES:Live Presentation
ATTACH;FMTTYPE=image/jpeg:https://spacecenter.org/wp-content/uploads/2024/03/web-march2024_tls_osirisrex.jpg
END:VEVENT
BEGIN:VEVENT
DTSTART;TZID=America/Chicago:20300306T134500
DTEND;TZID=America/Chicago:20300306T140000
DTSTAMP:20260420T005720
CREATED:20250602T213557Z
LAST-MODIFIED:20250603T191327Z
UID:10176125-1899035100-1899036000@spacecenter.org
SUMMARY:James Webb Live Presentation
DESCRIPTION:
URL:https://spacecenter.org/events-calendar-event/james-webb-live-presentation-2/2030-03-06/
LOCATION:Theater – Destiny
CATEGORIES:Live Presentation
END:VEVENT
END:VCALENDAR