BEGIN:VCALENDAR
VERSION:2.0
PRODID:-//Space Center Houston - ECPv6.15.15//NONSGML v1.0//EN
CALSCALE:GREGORIAN
METHOD:PUBLISH
X-ORIGINAL-URL:https://spacecenter.org
X-WR-CALDESC:Events for Space Center Houston
REFRESH-INTERVAL;VALUE=DURATION:PT1H
X-Robots-Tag:noindex
X-PUBLISHED-TTL:PT1H
BEGIN:VTIMEZONE
TZID:America/Chicago
BEGIN:DAYLIGHT
TZOFFSETFROM:-0600
TZOFFSETTO:-0500
TZNAME:CDT
DTSTART:20290311T080000
END:DAYLIGHT
BEGIN:STANDARD
TZOFFSETFROM:-0500
TZOFFSETTO:-0600
TZNAME:CST
DTSTART:20291104T070000
END:STANDARD
BEGIN:DAYLIGHT
TZOFFSETFROM:-0600
TZOFFSETTO:-0500
TZNAME:CDT
DTSTART:20300310T080000
END:DAYLIGHT
BEGIN:STANDARD
TZOFFSETFROM:-0500
TZOFFSETTO:-0600
TZNAME:CST
DTSTART:20301103T070000
END:STANDARD
BEGIN:DAYLIGHT
TZOFFSETFROM:-0600
TZOFFSETTO:-0500
TZNAME:CDT
DTSTART:20310309T080000
END:DAYLIGHT
BEGIN:STANDARD
TZOFFSETFROM:-0500
TZOFFSETTO:-0600
TZNAME:CST
DTSTART:20311102T070000
END:STANDARD
END:VTIMEZONE
BEGIN:VEVENT
DTSTART;TZID=America/Chicago:20300518T131500
DTEND;TZID=America/Chicago:20300518T133000
DTSTAMP:20260420T210822
CREATED:20250602T213201Z
LAST-MODIFIED:20250603T190922Z
UID:10161574-1905340500-1905341400@spacecenter.org
SUMMARY:Story Corner Live Presentation
DESCRIPTION:
URL:https://spacecenter.org/events-calendar-event/story-corner-live-presentation-3/2030-05-18/
LOCATION:Theater – Artemis
CATEGORIES:Live Presentation
END:VEVENT
BEGIN:VEVENT
DTSTART;TZID=America/Chicago:20300518T134500
DTEND;TZID=America/Chicago:20300518T140000
DTSTAMP:20260420T210822
CREATED:20250602T212635Z
LAST-MODIFIED:20250603T191121Z
UID:10172542-1905342300-1905343200@spacecenter.org
SUMMARY:OSIRIS Rex Live Presentation
DESCRIPTION:
URL:https://spacecenter.org/events-calendar-event/osiris-rex-live-presentation-2/2030-05-18/
LOCATION:Mission Sketch Staircase
CATEGORIES:Live Presentation
ATTACH;FMTTYPE=image/jpeg:https://spacecenter.org/wp-content/uploads/2024/03/web-march2024_tls_osirisrex.jpg
END:VEVENT
BEGIN:VEVENT
DTSTART;TZID=America/Chicago:20300518T134500
DTEND;TZID=America/Chicago:20300518T140000
DTSTAMP:20260420T210822
CREATED:20250602T213557Z
LAST-MODIFIED:20250603T191327Z
UID:10176198-1905342300-1905343200@spacecenter.org
SUMMARY:James Webb Live Presentation
DESCRIPTION:
URL:https://spacecenter.org/events-calendar-event/james-webb-live-presentation-2/2030-05-18/
LOCATION:Theater – Destiny
CATEGORIES:Live Presentation
END:VEVENT
BEGIN:VEVENT
DTSTART;TZID=America/Chicago:20300518T144500
DTEND;TZID=America/Chicago:20300518T150000
DTSTAMP:20260420T210822
CREATED:20250602T213716Z
LAST-MODIFIED:20250603T191759Z
UID:10190822-1905345900-1905346800@spacecenter.org
SUMMARY:James Webb Live Presentation
DESCRIPTION:
URL:https://spacecenter.org/events-calendar-event/james-webb-live-presentation-3/2030-05-18/
LOCATION:Theater – Destiny
CATEGORIES:Live Presentation
END:VEVENT
BEGIN:VEVENT
DTSTART;TZID=America/Chicago:20300518T151500
DTEND;TZID=America/Chicago:20300518T153000
DTSTAMP:20260420T210822
CREATED:20250602T213249Z
LAST-MODIFIED:20250603T191942Z
UID:10198134-1905347700-1905348600@spacecenter.org
SUMMARY:Story Corner Live Presentation
DESCRIPTION:
URL:https://spacecenter.org/events-calendar-event/story-corner-live-presentation-4/2030-05-18/
LOCATION:Theater – Artemis
CATEGORIES:Live Presentation
END:VEVENT
BEGIN:VEVENT
DTSTART;TZID=America/Chicago:20300518T154500
DTEND;TZID=America/Chicago:20300518T161500
DTSTAMP:20260420T210822
CREATED:20250602T214125Z
LAST-MODIFIED:20250603T192119Z
UID:10209102-1905349500-1905351300@spacecenter.org
SUMMARY:Artemis Live Presentation
DESCRIPTION:
URL:https://spacecenter.org/events-calendar-event/artemis-live-presentation-3/2030-05-18/
LOCATION:Theater – Destiny
CATEGORIES:Live Presentation
ATTACH;FMTTYPE=image/jpeg:https://spacecenter.org/wp-content/uploads/2022/10/Artemis-Capsule.jpeg
END:VEVENT
BEGIN:VEVENT
DTSTART;TZID=America/Chicago:20300518T163000
DTEND;TZID=America/Chicago:20300518T164500
DTSTAMP:20260420T210822
CREATED:20250602T212726Z
LAST-MODIFIED:20250603T192225Z
UID:10216414-1905352200-1905353100@spacecenter.org
SUMMARY:OSIRIS Rex Live Presentation
DESCRIPTION:
URL:https://spacecenter.org/events-calendar-event/osiris-rex-live-presentation-3/2030-05-18/
LOCATION:Mission Sketch Staircase
CATEGORIES:Live Presentation
ATTACH;FMTTYPE=image/jpeg:https://spacecenter.org/wp-content/uploads/2024/03/web-march2024_tls_osirisrex.jpg
END:VEVENT
BEGIN:VEVENT
DTSTART;TZID=America/Chicago:20300519T104500
DTEND;TZID=America/Chicago:20300519T110000
DTSTAMP:20260420T210822
CREATED:20250602T212526Z
LAST-MODIFIED:20250603T185502Z
UID:10103079-1905417900-1905418800@spacecenter.org
SUMMARY:OSIRIS Rex Live Presentation
DESCRIPTION:
URL:https://spacecenter.org/events-calendar-event/osiris-rex-live-presentation/2030-05-19/
LOCATION:Mission Sketch Staircase
CATEGORIES:Live Presentation
ATTACH;FMTTYPE=image/jpeg:https://spacecenter.org/wp-content/uploads/2024/03/web-march2024_tls_osirisrex.jpg
END:VEVENT
BEGIN:VEVENT
DTSTART;TZID=America/Chicago:20300519T104500
DTEND;TZID=America/Chicago:20300519T111500
DTSTAMP:20260420T210822
CREATED:20250602T213905Z
LAST-MODIFIED:20250603T185637Z
UID:10110391-1905417900-1905419700@spacecenter.org
SUMMARY:Artemis Live Presentation
DESCRIPTION:
URL:https://spacecenter.org/events-calendar-event/artemis-live-presentation/2030-05-19/
LOCATION:Theater – Destiny
CATEGORIES:Live Presentation
ATTACH;FMTTYPE=image/jpeg:https://spacecenter.org/wp-content/uploads/2022/10/Artemis-Capsule.jpeg
END:VEVENT
BEGIN:VEVENT
DTSTART;TZID=America/Chicago:20300519T111500
DTEND;TZID=America/Chicago:20300519T113000
DTSTAMP:20260420T210822
CREATED:20250602T213010Z
LAST-MODIFIED:20250603T185901Z
UID:10121359-1905419700-1905420600@spacecenter.org
SUMMARY:Story Corner Live Presentation
DESCRIPTION:
URL:https://spacecenter.org/events-calendar-event/story-corner-live-presentation/2030-05-19/
LOCATION:Theater – Artemis
CATEGORIES:Live Presentation
END:VEVENT
BEGIN:VEVENT
DTSTART;TZID=America/Chicago:20300519T114500
DTEND;TZID=America/Chicago:20300519T120000
DTSTAMP:20260420T210822
CREATED:20250602T213503Z
LAST-MODIFIED:20250603T190256Z
UID:10139639-1905421500-1905422400@spacecenter.org
SUMMARY:James Webb Live Presentation
DESCRIPTION:
URL:https://spacecenter.org/events-calendar-event/james-webb-live-presentation/2030-05-19/
LOCATION:Theater – Destiny
CATEGORIES:Live Presentation
END:VEVENT
BEGIN:VEVENT
DTSTART;TZID=America/Chicago:20300519T121500
DTEND;TZID=America/Chicago:20300519T123000
DTSTAMP:20260420T210822
CREATED:20250602T213059Z
LAST-MODIFIED:20250603T190345Z
UID:10143295-1905423300-1905424200@spacecenter.org
SUMMARY:Story Corner Live Presentation
DESCRIPTION:
URL:https://spacecenter.org/events-calendar-event/story-corner-live-presentation-2/2030-05-19/
LOCATION:Theater – Artemis
CATEGORIES:Live Presentation
END:VEVENT
BEGIN:VEVENT
DTSTART;TZID=America/Chicago:20300519T124500
DTEND;TZID=America/Chicago:20300519T131500
DTSTAMP:20260420T210822
CREATED:20250602T214012Z
LAST-MODIFIED:20250603T190811Z
UID:10154263-1905425100-1905426900@spacecenter.org
SUMMARY:Artemis Live Presentation
DESCRIPTION:
URL:https://spacecenter.org/events-calendar-event/artemis-live-presentation-2/2030-05-19/
LOCATION:Theater – Destiny
CATEGORIES:Live Presentation
ATTACH;FMTTYPE=image/jpeg:https://spacecenter.org/wp-content/uploads/2022/10/Artemis-Capsule.jpeg
END:VEVENT
BEGIN:VEVENT
DTSTART;TZID=America/Chicago:20300519T131500
DTEND;TZID=America/Chicago:20300519T133000
DTSTAMP:20260420T210822
CREATED:20250602T213201Z
LAST-MODIFIED:20250603T190922Z
UID:10161575-1905426900-1905427800@spacecenter.org
SUMMARY:Story Corner Live Presentation
DESCRIPTION:
URL:https://spacecenter.org/events-calendar-event/story-corner-live-presentation-3/2030-05-19/
LOCATION:Theater – Artemis
CATEGORIES:Live Presentation
END:VEVENT
BEGIN:VEVENT
DTSTART;TZID=America/Chicago:20300519T134500
DTEND;TZID=America/Chicago:20300519T140000
DTSTAMP:20260420T210822
CREATED:20250602T212635Z
LAST-MODIFIED:20250603T191121Z
UID:10172543-1905428700-1905429600@spacecenter.org
SUMMARY:OSIRIS Rex Live Presentation
DESCRIPTION:
URL:https://spacecenter.org/events-calendar-event/osiris-rex-live-presentation-2/2030-05-19/
LOCATION:Mission Sketch Staircase
CATEGORIES:Live Presentation
ATTACH;FMTTYPE=image/jpeg:https://spacecenter.org/wp-content/uploads/2024/03/web-march2024_tls_osirisrex.jpg
END:VEVENT
BEGIN:VEVENT
DTSTART;TZID=America/Chicago:20300519T134500
DTEND;TZID=America/Chicago:20300519T140000
DTSTAMP:20260420T210822
CREATED:20250602T213557Z
LAST-MODIFIED:20250603T191327Z
UID:10176199-1905428700-1905429600@spacecenter.org
SUMMARY:James Webb Live Presentation
DESCRIPTION:
URL:https://spacecenter.org/events-calendar-event/james-webb-live-presentation-2/2030-05-19/
LOCATION:Theater – Destiny
CATEGORIES:Live Presentation
END:VEVENT
BEGIN:VEVENT
DTSTART;TZID=America/Chicago:20300519T144500
DTEND;TZID=America/Chicago:20300519T150000
DTSTAMP:20260420T210822
CREATED:20250602T213716Z
LAST-MODIFIED:20250603T191759Z
UID:10190823-1905432300-1905433200@spacecenter.org
SUMMARY:James Webb Live Presentation
DESCRIPTION:
URL:https://spacecenter.org/events-calendar-event/james-webb-live-presentation-3/2030-05-19/
LOCATION:Theater – Destiny
CATEGORIES:Live Presentation
END:VEVENT
BEGIN:VEVENT
DTSTART;TZID=America/Chicago:20300519T151500
DTEND;TZID=America/Chicago:20300519T153000
DTSTAMP:20260420T210822
CREATED:20250602T213249Z
LAST-MODIFIED:20250603T191942Z
UID:10198135-1905434100-1905435000@spacecenter.org
SUMMARY:Story Corner Live Presentation
DESCRIPTION:
URL:https://spacecenter.org/events-calendar-event/story-corner-live-presentation-4/2030-05-19/
LOCATION:Theater – Artemis
CATEGORIES:Live Presentation
END:VEVENT
BEGIN:VEVENT
DTSTART;TZID=America/Chicago:20300519T154500
DTEND;TZID=America/Chicago:20300519T161500
DTSTAMP:20260420T210822
CREATED:20250602T214125Z
LAST-MODIFIED:20250603T192119Z
UID:10209103-1905435900-1905437700@spacecenter.org
SUMMARY:Artemis Live Presentation
DESCRIPTION:
URL:https://spacecenter.org/events-calendar-event/artemis-live-presentation-3/2030-05-19/
LOCATION:Theater – Destiny
CATEGORIES:Live Presentation
ATTACH;FMTTYPE=image/jpeg:https://spacecenter.org/wp-content/uploads/2022/10/Artemis-Capsule.jpeg
END:VEVENT
BEGIN:VEVENT
DTSTART;TZID=America/Chicago:20300519T163000
DTEND;TZID=America/Chicago:20300519T164500
DTSTAMP:20260420T210822
CREATED:20250602T212726Z
LAST-MODIFIED:20250603T192225Z
UID:10216415-1905438600-1905439500@spacecenter.org
SUMMARY:OSIRIS Rex Live Presentation
DESCRIPTION:
URL:https://spacecenter.org/events-calendar-event/osiris-rex-live-presentation-3/2030-05-19/
LOCATION:Mission Sketch Staircase
CATEGORIES:Live Presentation
ATTACH;FMTTYPE=image/jpeg:https://spacecenter.org/wp-content/uploads/2024/03/web-march2024_tls_osirisrex.jpg
END:VEVENT
BEGIN:VEVENT
DTSTART;TZID=America/Chicago:20300520T104500
DTEND;TZID=America/Chicago:20300520T110000
DTSTAMP:20260420T210822
CREATED:20250602T212526Z
LAST-MODIFIED:20250603T185502Z
UID:10103080-1905504300-1905505200@spacecenter.org
SUMMARY:OSIRIS Rex Live Presentation
DESCRIPTION:
URL:https://spacecenter.org/events-calendar-event/osiris-rex-live-presentation/2030-05-20/
LOCATION:Mission Sketch Staircase
CATEGORIES:Live Presentation
ATTACH;FMTTYPE=image/jpeg:https://spacecenter.org/wp-content/uploads/2024/03/web-march2024_tls_osirisrex.jpg
END:VEVENT
BEGIN:VEVENT
DTSTART;TZID=America/Chicago:20300520T104500
DTEND;TZID=America/Chicago:20300520T111500
DTSTAMP:20260420T210822
CREATED:20250602T213905Z
LAST-MODIFIED:20250603T185637Z
UID:10110392-1905504300-1905506100@spacecenter.org
SUMMARY:Artemis Live Presentation
DESCRIPTION:
URL:https://spacecenter.org/events-calendar-event/artemis-live-presentation/2030-05-20/
LOCATION:Theater – Destiny
CATEGORIES:Live Presentation
ATTACH;FMTTYPE=image/jpeg:https://spacecenter.org/wp-content/uploads/2022/10/Artemis-Capsule.jpeg
END:VEVENT
BEGIN:VEVENT
DTSTART;TZID=America/Chicago:20300520T111500
DTEND;TZID=America/Chicago:20300520T113000
DTSTAMP:20260420T210822
CREATED:20250602T213010Z
LAST-MODIFIED:20250603T185901Z
UID:10121360-1905506100-1905507000@spacecenter.org
SUMMARY:Story Corner Live Presentation
DESCRIPTION:
URL:https://spacecenter.org/events-calendar-event/story-corner-live-presentation/2030-05-20/
LOCATION:Theater – Artemis
CATEGORIES:Live Presentation
END:VEVENT
BEGIN:VEVENT
DTSTART;TZID=America/Chicago:20300520T114500
DTEND;TZID=America/Chicago:20300520T120000
DTSTAMP:20260420T210822
CREATED:20250602T213503Z
LAST-MODIFIED:20250603T190256Z
UID:10139640-1905507900-1905508800@spacecenter.org
SUMMARY:James Webb Live Presentation
DESCRIPTION:
URL:https://spacecenter.org/events-calendar-event/james-webb-live-presentation/2030-05-20/
LOCATION:Theater – Destiny
CATEGORIES:Live Presentation
END:VEVENT
BEGIN:VEVENT
DTSTART;TZID=America/Chicago:20300520T121500
DTEND;TZID=America/Chicago:20300520T123000
DTSTAMP:20260420T210822
CREATED:20250602T213059Z
LAST-MODIFIED:20250603T190345Z
UID:10143296-1905509700-1905510600@spacecenter.org
SUMMARY:Story Corner Live Presentation
DESCRIPTION:
URL:https://spacecenter.org/events-calendar-event/story-corner-live-presentation-2/2030-05-20/
LOCATION:Theater – Artemis
CATEGORIES:Live Presentation
END:VEVENT
BEGIN:VEVENT
DTSTART;TZID=America/Chicago:20300520T124500
DTEND;TZID=America/Chicago:20300520T131500
DTSTAMP:20260420T210822
CREATED:20250602T214012Z
LAST-MODIFIED:20250603T190811Z
UID:10154264-1905511500-1905513300@spacecenter.org
SUMMARY:Artemis Live Presentation
DESCRIPTION:
URL:https://spacecenter.org/events-calendar-event/artemis-live-presentation-2/2030-05-20/
LOCATION:Theater – Destiny
CATEGORIES:Live Presentation
ATTACH;FMTTYPE=image/jpeg:https://spacecenter.org/wp-content/uploads/2022/10/Artemis-Capsule.jpeg
END:VEVENT
BEGIN:VEVENT
DTSTART;TZID=America/Chicago:20300520T131500
DTEND;TZID=America/Chicago:20300520T133000
DTSTAMP:20260420T210822
CREATED:20250602T213201Z
LAST-MODIFIED:20250603T190922Z
UID:10161576-1905513300-1905514200@spacecenter.org
SUMMARY:Story Corner Live Presentation
DESCRIPTION:
URL:https://spacecenter.org/events-calendar-event/story-corner-live-presentation-3/2030-05-20/
LOCATION:Theater – Artemis
CATEGORIES:Live Presentation
END:VEVENT
BEGIN:VEVENT
DTSTART;TZID=America/Chicago:20300520T134500
DTEND;TZID=America/Chicago:20300520T140000
DTSTAMP:20260420T210822
CREATED:20250602T212635Z
LAST-MODIFIED:20250603T191121Z
UID:10172544-1905515100-1905516000@spacecenter.org
SUMMARY:OSIRIS Rex Live Presentation
DESCRIPTION:
URL:https://spacecenter.org/events-calendar-event/osiris-rex-live-presentation-2/2030-05-20/
LOCATION:Mission Sketch Staircase
CATEGORIES:Live Presentation
ATTACH;FMTTYPE=image/jpeg:https://spacecenter.org/wp-content/uploads/2024/03/web-march2024_tls_osirisrex.jpg
END:VEVENT
BEGIN:VEVENT
DTSTART;TZID=America/Chicago:20300520T134500
DTEND;TZID=America/Chicago:20300520T140000
DTSTAMP:20260420T210822
CREATED:20250602T213557Z
LAST-MODIFIED:20250603T191327Z
UID:10176200-1905515100-1905516000@spacecenter.org
SUMMARY:James Webb Live Presentation
DESCRIPTION:
URL:https://spacecenter.org/events-calendar-event/james-webb-live-presentation-2/2030-05-20/
LOCATION:Theater – Destiny
CATEGORIES:Live Presentation
END:VEVENT
BEGIN:VEVENT
DTSTART;TZID=America/Chicago:20300520T144500
DTEND;TZID=America/Chicago:20300520T150000
DTSTAMP:20260420T210822
CREATED:20250602T213716Z
LAST-MODIFIED:20250603T191759Z
UID:10190824-1905518700-1905519600@spacecenter.org
SUMMARY:James Webb Live Presentation
DESCRIPTION:
URL:https://spacecenter.org/events-calendar-event/james-webb-live-presentation-3/2030-05-20/
LOCATION:Theater – Destiny
CATEGORIES:Live Presentation
END:VEVENT
END:VCALENDAR