BEGIN:VCALENDAR
VERSION:2.0
PRODID:-//Space Center Houston - ECPv6.15.15//NONSGML v1.0//EN
CALSCALE:GREGORIAN
METHOD:PUBLISH
X-ORIGINAL-URL:https://spacecenter.org
X-WR-CALDESC:Events for Space Center Houston
REFRESH-INTERVAL;VALUE=DURATION:PT1H
X-Robots-Tag:noindex
X-PUBLISHED-TTL:PT1H
BEGIN:VTIMEZONE
TZID:America/Chicago
BEGIN:DAYLIGHT
TZOFFSETFROM:-0600
TZOFFSETTO:-0500
TZNAME:CDT
DTSTART:20290311T080000
END:DAYLIGHT
BEGIN:STANDARD
TZOFFSETFROM:-0500
TZOFFSETTO:-0600
TZNAME:CST
DTSTART:20291104T070000
END:STANDARD
BEGIN:DAYLIGHT
TZOFFSETFROM:-0600
TZOFFSETTO:-0500
TZNAME:CDT
DTSTART:20300310T080000
END:DAYLIGHT
BEGIN:STANDARD
TZOFFSETFROM:-0500
TZOFFSETTO:-0600
TZNAME:CST
DTSTART:20301103T070000
END:STANDARD
BEGIN:DAYLIGHT
TZOFFSETFROM:-0600
TZOFFSETTO:-0500
TZNAME:CDT
DTSTART:20310309T080000
END:DAYLIGHT
BEGIN:STANDARD
TZOFFSETFROM:-0500
TZOFFSETTO:-0600
TZNAME:CST
DTSTART:20311102T070000
END:STANDARD
END:VTIMEZONE
BEGIN:VEVENT
DTSTART;TZID=America/Chicago:20300125T124500
DTEND;TZID=America/Chicago:20300125T131500
DTSTAMP:20260424T004241
CREATED:20250602T214012Z
LAST-MODIFIED:20250603T190811Z
UID:10154149-1895575500-1895577300@spacecenter.org
SUMMARY:Artemis Live Presentation
DESCRIPTION:
URL:https://spacecenter.org/events-calendar-event/artemis-live-presentation-2/2030-01-25/
LOCATION:Theater – Destiny
CATEGORIES:Live Presentation
ATTACH;FMTTYPE=image/jpeg:https://spacecenter.org/wp-content/uploads/2022/10/Artemis-Capsule.jpeg
END:VEVENT
BEGIN:VEVENT
DTSTART;TZID=America/Chicago:20300125T131500
DTEND;TZID=America/Chicago:20300125T133000
DTSTAMP:20260424T004241
CREATED:20250602T213201Z
LAST-MODIFIED:20250603T190922Z
UID:10161461-1895577300-1895578200@spacecenter.org
SUMMARY:Story Corner Live Presentation
DESCRIPTION:
URL:https://spacecenter.org/events-calendar-event/story-corner-live-presentation-3/2030-01-25/
LOCATION:Theater – Artemis
CATEGORIES:Live Presentation
END:VEVENT
BEGIN:VEVENT
DTSTART;TZID=America/Chicago:20300125T134500
DTEND;TZID=America/Chicago:20300125T140000
DTSTAMP:20260424T004241
CREATED:20250602T212635Z
LAST-MODIFIED:20250603T191121Z
UID:10172429-1895579100-1895580000@spacecenter.org
SUMMARY:OSIRIS Rex Live Presentation
DESCRIPTION:
URL:https://spacecenter.org/events-calendar-event/osiris-rex-live-presentation-2/2030-01-25/
LOCATION:Mission Sketch Staircase
CATEGORIES:Live Presentation
ATTACH;FMTTYPE=image/jpeg:https://spacecenter.org/wp-content/uploads/2024/03/web-march2024_tls_osirisrex.jpg
END:VEVENT
BEGIN:VEVENT
DTSTART;TZID=America/Chicago:20300125T134500
DTEND;TZID=America/Chicago:20300125T140000
DTSTAMP:20260424T004241
CREATED:20250602T213557Z
LAST-MODIFIED:20250603T191327Z
UID:10176085-1895579100-1895580000@spacecenter.org
SUMMARY:James Webb Live Presentation
DESCRIPTION:
URL:https://spacecenter.org/events-calendar-event/james-webb-live-presentation-2/2030-01-25/
LOCATION:Theater – Destiny
CATEGORIES:Live Presentation
END:VEVENT
BEGIN:VEVENT
DTSTART;TZID=America/Chicago:20300125T144500
DTEND;TZID=America/Chicago:20300125T150000
DTSTAMP:20260424T004241
CREATED:20250602T213716Z
LAST-MODIFIED:20250603T191759Z
UID:10190709-1895582700-1895583600@spacecenter.org
SUMMARY:James Webb Live Presentation
DESCRIPTION:
URL:https://spacecenter.org/events-calendar-event/james-webb-live-presentation-3/2030-01-25/
LOCATION:Theater – Destiny
CATEGORIES:Live Presentation
END:VEVENT
BEGIN:VEVENT
DTSTART;TZID=America/Chicago:20300125T151500
DTEND;TZID=America/Chicago:20300125T153000
DTSTAMP:20260424T004241
CREATED:20250602T213249Z
LAST-MODIFIED:20250603T191942Z
UID:10198021-1895584500-1895585400@spacecenter.org
SUMMARY:Story Corner Live Presentation
DESCRIPTION:
URL:https://spacecenter.org/events-calendar-event/story-corner-live-presentation-4/2030-01-25/
LOCATION:Theater – Artemis
CATEGORIES:Live Presentation
END:VEVENT
BEGIN:VEVENT
DTSTART;TZID=America/Chicago:20300125T154500
DTEND;TZID=America/Chicago:20300125T161500
DTSTAMP:20260424T004241
CREATED:20250602T214125Z
LAST-MODIFIED:20250603T192119Z
UID:10208989-1895586300-1895588100@spacecenter.org
SUMMARY:Artemis Live Presentation
DESCRIPTION:
URL:https://spacecenter.org/events-calendar-event/artemis-live-presentation-3/2030-01-25/
LOCATION:Theater – Destiny
CATEGORIES:Live Presentation
ATTACH;FMTTYPE=image/jpeg:https://spacecenter.org/wp-content/uploads/2022/10/Artemis-Capsule.jpeg
END:VEVENT
BEGIN:VEVENT
DTSTART;TZID=America/Chicago:20300125T163000
DTEND;TZID=America/Chicago:20300125T164500
DTSTAMP:20260424T004241
CREATED:20250602T212726Z
LAST-MODIFIED:20250603T192225Z
UID:10216301-1895589000-1895589900@spacecenter.org
SUMMARY:OSIRIS Rex Live Presentation
DESCRIPTION:
URL:https://spacecenter.org/events-calendar-event/osiris-rex-live-presentation-3/2030-01-25/
LOCATION:Mission Sketch Staircase
CATEGORIES:Live Presentation
ATTACH;FMTTYPE=image/jpeg:https://spacecenter.org/wp-content/uploads/2024/03/web-march2024_tls_osirisrex.jpg
END:VEVENT
BEGIN:VEVENT
DTSTART;TZID=America/Chicago:20300126T104500
DTEND;TZID=America/Chicago:20300126T110000
DTSTAMP:20260424T004241
CREATED:20250602T212526Z
LAST-MODIFIED:20250603T185502Z
UID:10102966-1895654700-1895655600@spacecenter.org
SUMMARY:OSIRIS Rex Live Presentation
DESCRIPTION:
URL:https://spacecenter.org/events-calendar-event/osiris-rex-live-presentation/2030-01-26/
LOCATION:Mission Sketch Staircase
CATEGORIES:Live Presentation
ATTACH;FMTTYPE=image/jpeg:https://spacecenter.org/wp-content/uploads/2024/03/web-march2024_tls_osirisrex.jpg
END:VEVENT
BEGIN:VEVENT
DTSTART;TZID=America/Chicago:20300126T104500
DTEND;TZID=America/Chicago:20300126T111500
DTSTAMP:20260424T004241
CREATED:20250602T213905Z
LAST-MODIFIED:20250603T185637Z
UID:10110278-1895654700-1895656500@spacecenter.org
SUMMARY:Artemis Live Presentation
DESCRIPTION:
URL:https://spacecenter.org/events-calendar-event/artemis-live-presentation/2030-01-26/
LOCATION:Theater – Destiny
CATEGORIES:Live Presentation
ATTACH;FMTTYPE=image/jpeg:https://spacecenter.org/wp-content/uploads/2022/10/Artemis-Capsule.jpeg
END:VEVENT
BEGIN:VEVENT
DTSTART;TZID=America/Chicago:20300126T111500
DTEND;TZID=America/Chicago:20300126T113000
DTSTAMP:20260424T004241
CREATED:20250602T213010Z
LAST-MODIFIED:20250603T185901Z
UID:10121246-1895656500-1895657400@spacecenter.org
SUMMARY:Story Corner Live Presentation
DESCRIPTION:
URL:https://spacecenter.org/events-calendar-event/story-corner-live-presentation/2030-01-26/
LOCATION:Theater – Artemis
CATEGORIES:Live Presentation
END:VEVENT
BEGIN:VEVENT
DTSTART;TZID=America/Chicago:20300126T114500
DTEND;TZID=America/Chicago:20300126T120000
DTSTAMP:20260424T004241
CREATED:20250602T213503Z
LAST-MODIFIED:20250603T190256Z
UID:10139526-1895658300-1895659200@spacecenter.org
SUMMARY:James Webb Live Presentation
DESCRIPTION:
URL:https://spacecenter.org/events-calendar-event/james-webb-live-presentation/2030-01-26/
LOCATION:Theater – Destiny
CATEGORIES:Live Presentation
END:VEVENT
BEGIN:VEVENT
DTSTART;TZID=America/Chicago:20300126T121500
DTEND;TZID=America/Chicago:20300126T123000
DTSTAMP:20260424T004241
CREATED:20250602T213059Z
LAST-MODIFIED:20250603T190345Z
UID:10143182-1895660100-1895661000@spacecenter.org
SUMMARY:Story Corner Live Presentation
DESCRIPTION:
URL:https://spacecenter.org/events-calendar-event/story-corner-live-presentation-2/2030-01-26/
LOCATION:Theater – Artemis
CATEGORIES:Live Presentation
END:VEVENT
BEGIN:VEVENT
DTSTART;TZID=America/Chicago:20300126T124500
DTEND;TZID=America/Chicago:20300126T131500
DTSTAMP:20260424T004241
CREATED:20250602T214012Z
LAST-MODIFIED:20250603T190811Z
UID:10154150-1895661900-1895663700@spacecenter.org
SUMMARY:Artemis Live Presentation
DESCRIPTION:
URL:https://spacecenter.org/events-calendar-event/artemis-live-presentation-2/2030-01-26/
LOCATION:Theater – Destiny
CATEGORIES:Live Presentation
ATTACH;FMTTYPE=image/jpeg:https://spacecenter.org/wp-content/uploads/2022/10/Artemis-Capsule.jpeg
END:VEVENT
BEGIN:VEVENT
DTSTART;TZID=America/Chicago:20300126T131500
DTEND;TZID=America/Chicago:20300126T133000
DTSTAMP:20260424T004241
CREATED:20250602T213201Z
LAST-MODIFIED:20250603T190922Z
UID:10161462-1895663700-1895664600@spacecenter.org
SUMMARY:Story Corner Live Presentation
DESCRIPTION:
URL:https://spacecenter.org/events-calendar-event/story-corner-live-presentation-3/2030-01-26/
LOCATION:Theater – Artemis
CATEGORIES:Live Presentation
END:VEVENT
BEGIN:VEVENT
DTSTART;TZID=America/Chicago:20300126T134500
DTEND;TZID=America/Chicago:20300126T140000
DTSTAMP:20260424T004241
CREATED:20250602T212635Z
LAST-MODIFIED:20250603T191121Z
UID:10172430-1895665500-1895666400@spacecenter.org
SUMMARY:OSIRIS Rex Live Presentation
DESCRIPTION:
URL:https://spacecenter.org/events-calendar-event/osiris-rex-live-presentation-2/2030-01-26/
LOCATION:Mission Sketch Staircase
CATEGORIES:Live Presentation
ATTACH;FMTTYPE=image/jpeg:https://spacecenter.org/wp-content/uploads/2024/03/web-march2024_tls_osirisrex.jpg
END:VEVENT
BEGIN:VEVENT
DTSTART;TZID=America/Chicago:20300126T134500
DTEND;TZID=America/Chicago:20300126T140000
DTSTAMP:20260424T004241
CREATED:20250602T213557Z
LAST-MODIFIED:20250603T191327Z
UID:10176086-1895665500-1895666400@spacecenter.org
SUMMARY:James Webb Live Presentation
DESCRIPTION:
URL:https://spacecenter.org/events-calendar-event/james-webb-live-presentation-2/2030-01-26/
LOCATION:Theater – Destiny
CATEGORIES:Live Presentation
END:VEVENT
BEGIN:VEVENT
DTSTART;TZID=America/Chicago:20300126T144500
DTEND;TZID=America/Chicago:20300126T150000
DTSTAMP:20260424T004241
CREATED:20250602T213716Z
LAST-MODIFIED:20250603T191759Z
UID:10190710-1895669100-1895670000@spacecenter.org
SUMMARY:James Webb Live Presentation
DESCRIPTION:
URL:https://spacecenter.org/events-calendar-event/james-webb-live-presentation-3/2030-01-26/
LOCATION:Theater – Destiny
CATEGORIES:Live Presentation
END:VEVENT
BEGIN:VEVENT
DTSTART;TZID=America/Chicago:20300126T151500
DTEND;TZID=America/Chicago:20300126T153000
DTSTAMP:20260424T004241
CREATED:20250602T213249Z
LAST-MODIFIED:20250603T191942Z
UID:10198022-1895670900-1895671800@spacecenter.org
SUMMARY:Story Corner Live Presentation
DESCRIPTION:
URL:https://spacecenter.org/events-calendar-event/story-corner-live-presentation-4/2030-01-26/
LOCATION:Theater – Artemis
CATEGORIES:Live Presentation
END:VEVENT
BEGIN:VEVENT
DTSTART;TZID=America/Chicago:20300126T154500
DTEND;TZID=America/Chicago:20300126T161500
DTSTAMP:20260424T004241
CREATED:20250602T214125Z
LAST-MODIFIED:20250603T192119Z
UID:10208990-1895672700-1895674500@spacecenter.org
SUMMARY:Artemis Live Presentation
DESCRIPTION:
URL:https://spacecenter.org/events-calendar-event/artemis-live-presentation-3/2030-01-26/
LOCATION:Theater – Destiny
CATEGORIES:Live Presentation
ATTACH;FMTTYPE=image/jpeg:https://spacecenter.org/wp-content/uploads/2022/10/Artemis-Capsule.jpeg
END:VEVENT
BEGIN:VEVENT
DTSTART;TZID=America/Chicago:20300126T163000
DTEND;TZID=America/Chicago:20300126T164500
DTSTAMP:20260424T004241
CREATED:20250602T212726Z
LAST-MODIFIED:20250603T192225Z
UID:10216302-1895675400-1895676300@spacecenter.org
SUMMARY:OSIRIS Rex Live Presentation
DESCRIPTION:
URL:https://spacecenter.org/events-calendar-event/osiris-rex-live-presentation-3/2030-01-26/
LOCATION:Mission Sketch Staircase
CATEGORIES:Live Presentation
ATTACH;FMTTYPE=image/jpeg:https://spacecenter.org/wp-content/uploads/2024/03/web-march2024_tls_osirisrex.jpg
END:VEVENT
BEGIN:VEVENT
DTSTART;TZID=America/Chicago:20300127T104500
DTEND;TZID=America/Chicago:20300127T110000
DTSTAMP:20260424T004241
CREATED:20250602T212526Z
LAST-MODIFIED:20250603T185502Z
UID:10102967-1895741100-1895742000@spacecenter.org
SUMMARY:OSIRIS Rex Live Presentation
DESCRIPTION:
URL:https://spacecenter.org/events-calendar-event/osiris-rex-live-presentation/2030-01-27/
LOCATION:Mission Sketch Staircase
CATEGORIES:Live Presentation
ATTACH;FMTTYPE=image/jpeg:https://spacecenter.org/wp-content/uploads/2024/03/web-march2024_tls_osirisrex.jpg
END:VEVENT
BEGIN:VEVENT
DTSTART;TZID=America/Chicago:20300127T104500
DTEND;TZID=America/Chicago:20300127T111500
DTSTAMP:20260424T004241
CREATED:20250602T213905Z
LAST-MODIFIED:20250603T185637Z
UID:10110279-1895741100-1895742900@spacecenter.org
SUMMARY:Artemis Live Presentation
DESCRIPTION:
URL:https://spacecenter.org/events-calendar-event/artemis-live-presentation/2030-01-27/
LOCATION:Theater – Destiny
CATEGORIES:Live Presentation
ATTACH;FMTTYPE=image/jpeg:https://spacecenter.org/wp-content/uploads/2022/10/Artemis-Capsule.jpeg
END:VEVENT
BEGIN:VEVENT
DTSTART;TZID=America/Chicago:20300127T111500
DTEND;TZID=America/Chicago:20300127T113000
DTSTAMP:20260424T004241
CREATED:20250602T213010Z
LAST-MODIFIED:20250603T185901Z
UID:10121247-1895742900-1895743800@spacecenter.org
SUMMARY:Story Corner Live Presentation
DESCRIPTION:
URL:https://spacecenter.org/events-calendar-event/story-corner-live-presentation/2030-01-27/
LOCATION:Theater – Artemis
CATEGORIES:Live Presentation
END:VEVENT
BEGIN:VEVENT
DTSTART;TZID=America/Chicago:20300127T114500
DTEND;TZID=America/Chicago:20300127T120000
DTSTAMP:20260424T004241
CREATED:20250602T213503Z
LAST-MODIFIED:20250603T190256Z
UID:10139527-1895744700-1895745600@spacecenter.org
SUMMARY:James Webb Live Presentation
DESCRIPTION:
URL:https://spacecenter.org/events-calendar-event/james-webb-live-presentation/2030-01-27/
LOCATION:Theater – Destiny
CATEGORIES:Live Presentation
END:VEVENT
BEGIN:VEVENT
DTSTART;TZID=America/Chicago:20300127T121500
DTEND;TZID=America/Chicago:20300127T123000
DTSTAMP:20260424T004241
CREATED:20250602T213059Z
LAST-MODIFIED:20250603T190345Z
UID:10143183-1895746500-1895747400@spacecenter.org
SUMMARY:Story Corner Live Presentation
DESCRIPTION:
URL:https://spacecenter.org/events-calendar-event/story-corner-live-presentation-2/2030-01-27/
LOCATION:Theater – Artemis
CATEGORIES:Live Presentation
END:VEVENT
BEGIN:VEVENT
DTSTART;TZID=America/Chicago:20300127T124500
DTEND;TZID=America/Chicago:20300127T131500
DTSTAMP:20260424T004241
CREATED:20250602T214012Z
LAST-MODIFIED:20250603T190811Z
UID:10154151-1895748300-1895750100@spacecenter.org
SUMMARY:Artemis Live Presentation
DESCRIPTION:
URL:https://spacecenter.org/events-calendar-event/artemis-live-presentation-2/2030-01-27/
LOCATION:Theater – Destiny
CATEGORIES:Live Presentation
ATTACH;FMTTYPE=image/jpeg:https://spacecenter.org/wp-content/uploads/2022/10/Artemis-Capsule.jpeg
END:VEVENT
BEGIN:VEVENT
DTSTART;TZID=America/Chicago:20300127T131500
DTEND;TZID=America/Chicago:20300127T133000
DTSTAMP:20260424T004241
CREATED:20250602T213201Z
LAST-MODIFIED:20250603T190922Z
UID:10161463-1895750100-1895751000@spacecenter.org
SUMMARY:Story Corner Live Presentation
DESCRIPTION:
URL:https://spacecenter.org/events-calendar-event/story-corner-live-presentation-3/2030-01-27/
LOCATION:Theater – Artemis
CATEGORIES:Live Presentation
END:VEVENT
BEGIN:VEVENT
DTSTART;TZID=America/Chicago:20300127T134500
DTEND;TZID=America/Chicago:20300127T140000
DTSTAMP:20260424T004241
CREATED:20250602T212635Z
LAST-MODIFIED:20250603T191121Z
UID:10172431-1895751900-1895752800@spacecenter.org
SUMMARY:OSIRIS Rex Live Presentation
DESCRIPTION:
URL:https://spacecenter.org/events-calendar-event/osiris-rex-live-presentation-2/2030-01-27/
LOCATION:Mission Sketch Staircase
CATEGORIES:Live Presentation
ATTACH;FMTTYPE=image/jpeg:https://spacecenter.org/wp-content/uploads/2024/03/web-march2024_tls_osirisrex.jpg
END:VEVENT
BEGIN:VEVENT
DTSTART;TZID=America/Chicago:20300127T134500
DTEND;TZID=America/Chicago:20300127T140000
DTSTAMP:20260424T004241
CREATED:20250602T213557Z
LAST-MODIFIED:20250603T191327Z
UID:10176087-1895751900-1895752800@spacecenter.org
SUMMARY:James Webb Live Presentation
DESCRIPTION:
URL:https://spacecenter.org/events-calendar-event/james-webb-live-presentation-2/2030-01-27/
LOCATION:Theater – Destiny
CATEGORIES:Live Presentation
END:VEVENT
END:VCALENDAR