BEGIN:VCALENDAR
VERSION:2.0
PRODID:-//Space Center Houston - ECPv6.15.15//NONSGML v1.0//EN
CALSCALE:GREGORIAN
METHOD:PUBLISH
X-ORIGINAL-URL:https://spacecenter.org
X-WR-CALDESC:Events for Space Center Houston
REFRESH-INTERVAL;VALUE=DURATION:PT1H
X-Robots-Tag:noindex
X-PUBLISHED-TTL:PT1H
BEGIN:VTIMEZONE
TZID:America/Chicago
BEGIN:DAYLIGHT
TZOFFSETFROM:-0600
TZOFFSETTO:-0500
TZNAME:CDT
DTSTART:20290311T080000
END:DAYLIGHT
BEGIN:STANDARD
TZOFFSETFROM:-0500
TZOFFSETTO:-0600
TZNAME:CST
DTSTART:20291104T070000
END:STANDARD
BEGIN:DAYLIGHT
TZOFFSETFROM:-0600
TZOFFSETTO:-0500
TZNAME:CDT
DTSTART:20300310T080000
END:DAYLIGHT
BEGIN:STANDARD
TZOFFSETFROM:-0500
TZOFFSETTO:-0600
TZNAME:CST
DTSTART:20301103T070000
END:STANDARD
BEGIN:DAYLIGHT
TZOFFSETFROM:-0600
TZOFFSETTO:-0500
TZNAME:CDT
DTSTART:20310309T080000
END:DAYLIGHT
BEGIN:STANDARD
TZOFFSETFROM:-0500
TZOFFSETTO:-0600
TZNAME:CST
DTSTART:20311102T070000
END:STANDARD
END:VTIMEZONE
BEGIN:VEVENT
DTSTART;TZID=America/Chicago:20300113T154500
DTEND;TZID=America/Chicago:20300113T161500
DTSTAMP:20260423T214347
CREATED:20250602T214125Z
LAST-MODIFIED:20250603T192119Z
UID:10208977-1894549500-1894551300@spacecenter.org
SUMMARY:Artemis Live Presentation
DESCRIPTION:
URL:https://spacecenter.org/events-calendar-event/artemis-live-presentation-3/2030-01-13/
LOCATION:Theater – Destiny
CATEGORIES:Live Presentation
ATTACH;FMTTYPE=image/jpeg:https://spacecenter.org/wp-content/uploads/2022/10/Artemis-Capsule.jpeg
END:VEVENT
BEGIN:VEVENT
DTSTART;TZID=America/Chicago:20300113T163000
DTEND;TZID=America/Chicago:20300113T164500
DTSTAMP:20260423T214347
CREATED:20250602T212726Z
LAST-MODIFIED:20250603T192225Z
UID:10216289-1894552200-1894553100@spacecenter.org
SUMMARY:OSIRIS Rex Live Presentation
DESCRIPTION:
URL:https://spacecenter.org/events-calendar-event/osiris-rex-live-presentation-3/2030-01-13/
LOCATION:Mission Sketch Staircase
CATEGORIES:Live Presentation
ATTACH;FMTTYPE=image/jpeg:https://spacecenter.org/wp-content/uploads/2024/03/web-march2024_tls_osirisrex.jpg
END:VEVENT
BEGIN:VEVENT
DTSTART;TZID=America/Chicago:20300114T104500
DTEND;TZID=America/Chicago:20300114T110000
DTSTAMP:20260423T214347
CREATED:20250602T212526Z
LAST-MODIFIED:20250603T185502Z
UID:10102954-1894617900-1894618800@spacecenter.org
SUMMARY:OSIRIS Rex Live Presentation
DESCRIPTION:
URL:https://spacecenter.org/events-calendar-event/osiris-rex-live-presentation/2030-01-14/
LOCATION:Mission Sketch Staircase
CATEGORIES:Live Presentation
ATTACH;FMTTYPE=image/jpeg:https://spacecenter.org/wp-content/uploads/2024/03/web-march2024_tls_osirisrex.jpg
END:VEVENT
BEGIN:VEVENT
DTSTART;TZID=America/Chicago:20300114T104500
DTEND;TZID=America/Chicago:20300114T111500
DTSTAMP:20260423T214347
CREATED:20250602T213905Z
LAST-MODIFIED:20250603T185637Z
UID:10110266-1894617900-1894619700@spacecenter.org
SUMMARY:Artemis Live Presentation
DESCRIPTION:
URL:https://spacecenter.org/events-calendar-event/artemis-live-presentation/2030-01-14/
LOCATION:Theater – Destiny
CATEGORIES:Live Presentation
ATTACH;FMTTYPE=image/jpeg:https://spacecenter.org/wp-content/uploads/2022/10/Artemis-Capsule.jpeg
END:VEVENT
BEGIN:VEVENT
DTSTART;TZID=America/Chicago:20300114T111500
DTEND;TZID=America/Chicago:20300114T113000
DTSTAMP:20260423T214347
CREATED:20250602T213010Z
LAST-MODIFIED:20250603T185901Z
UID:10121234-1894619700-1894620600@spacecenter.org
SUMMARY:Story Corner Live Presentation
DESCRIPTION:
URL:https://spacecenter.org/events-calendar-event/story-corner-live-presentation/2030-01-14/
LOCATION:Theater – Artemis
CATEGORIES:Live Presentation
END:VEVENT
BEGIN:VEVENT
DTSTART;TZID=America/Chicago:20300114T114500
DTEND;TZID=America/Chicago:20300114T120000
DTSTAMP:20260423T214347
CREATED:20250602T213503Z
LAST-MODIFIED:20250603T190256Z
UID:10139514-1894621500-1894622400@spacecenter.org
SUMMARY:James Webb Live Presentation
DESCRIPTION:
URL:https://spacecenter.org/events-calendar-event/james-webb-live-presentation/2030-01-14/
LOCATION:Theater – Destiny
CATEGORIES:Live Presentation
END:VEVENT
BEGIN:VEVENT
DTSTART;TZID=America/Chicago:20300114T121500
DTEND;TZID=America/Chicago:20300114T123000
DTSTAMP:20260423T214347
CREATED:20250602T213059Z
LAST-MODIFIED:20250603T190345Z
UID:10143170-1894623300-1894624200@spacecenter.org
SUMMARY:Story Corner Live Presentation
DESCRIPTION:
URL:https://spacecenter.org/events-calendar-event/story-corner-live-presentation-2/2030-01-14/
LOCATION:Theater – Artemis
CATEGORIES:Live Presentation
END:VEVENT
BEGIN:VEVENT
DTSTART;TZID=America/Chicago:20300114T124500
DTEND;TZID=America/Chicago:20300114T131500
DTSTAMP:20260423T214347
CREATED:20250602T214012Z
LAST-MODIFIED:20250603T190811Z
UID:10154138-1894625100-1894626900@spacecenter.org
SUMMARY:Artemis Live Presentation
DESCRIPTION:
URL:https://spacecenter.org/events-calendar-event/artemis-live-presentation-2/2030-01-14/
LOCATION:Theater – Destiny
CATEGORIES:Live Presentation
ATTACH;FMTTYPE=image/jpeg:https://spacecenter.org/wp-content/uploads/2022/10/Artemis-Capsule.jpeg
END:VEVENT
BEGIN:VEVENT
DTSTART;TZID=America/Chicago:20300114T131500
DTEND;TZID=America/Chicago:20300114T133000
DTSTAMP:20260423T214347
CREATED:20250602T213201Z
LAST-MODIFIED:20250603T190922Z
UID:10161450-1894626900-1894627800@spacecenter.org
SUMMARY:Story Corner Live Presentation
DESCRIPTION:
URL:https://spacecenter.org/events-calendar-event/story-corner-live-presentation-3/2030-01-14/
LOCATION:Theater – Artemis
CATEGORIES:Live Presentation
END:VEVENT
BEGIN:VEVENT
DTSTART;TZID=America/Chicago:20300114T134500
DTEND;TZID=America/Chicago:20300114T140000
DTSTAMP:20260423T214347
CREATED:20250602T212635Z
LAST-MODIFIED:20250603T191121Z
UID:10172418-1894628700-1894629600@spacecenter.org
SUMMARY:OSIRIS Rex Live Presentation
DESCRIPTION:
URL:https://spacecenter.org/events-calendar-event/osiris-rex-live-presentation-2/2030-01-14/
LOCATION:Mission Sketch Staircase
CATEGORIES:Live Presentation
ATTACH;FMTTYPE=image/jpeg:https://spacecenter.org/wp-content/uploads/2024/03/web-march2024_tls_osirisrex.jpg
END:VEVENT
BEGIN:VEVENT
DTSTART;TZID=America/Chicago:20300114T134500
DTEND;TZID=America/Chicago:20300114T140000
DTSTAMP:20260423T214347
CREATED:20250602T213557Z
LAST-MODIFIED:20250603T191327Z
UID:10176074-1894628700-1894629600@spacecenter.org
SUMMARY:James Webb Live Presentation
DESCRIPTION:
URL:https://spacecenter.org/events-calendar-event/james-webb-live-presentation-2/2030-01-14/
LOCATION:Theater – Destiny
CATEGORIES:Live Presentation
END:VEVENT
BEGIN:VEVENT
DTSTART;TZID=America/Chicago:20300114T144500
DTEND;TZID=America/Chicago:20300114T150000
DTSTAMP:20260423T214347
CREATED:20250602T213716Z
LAST-MODIFIED:20250603T191759Z
UID:10190698-1894632300-1894633200@spacecenter.org
SUMMARY:James Webb Live Presentation
DESCRIPTION:
URL:https://spacecenter.org/events-calendar-event/james-webb-live-presentation-3/2030-01-14/
LOCATION:Theater – Destiny
CATEGORIES:Live Presentation
END:VEVENT
BEGIN:VEVENT
DTSTART;TZID=America/Chicago:20300114T151500
DTEND;TZID=America/Chicago:20300114T153000
DTSTAMP:20260423T214347
CREATED:20250602T213249Z
LAST-MODIFIED:20250603T191942Z
UID:10198010-1894634100-1894635000@spacecenter.org
SUMMARY:Story Corner Live Presentation
DESCRIPTION:
URL:https://spacecenter.org/events-calendar-event/story-corner-live-presentation-4/2030-01-14/
LOCATION:Theater – Artemis
CATEGORIES:Live Presentation
END:VEVENT
BEGIN:VEVENT
DTSTART;TZID=America/Chicago:20300114T154500
DTEND;TZID=America/Chicago:20300114T161500
DTSTAMP:20260423T214347
CREATED:20250602T214125Z
LAST-MODIFIED:20250603T192119Z
UID:10208978-1894635900-1894637700@spacecenter.org
SUMMARY:Artemis Live Presentation
DESCRIPTION:
URL:https://spacecenter.org/events-calendar-event/artemis-live-presentation-3/2030-01-14/
LOCATION:Theater – Destiny
CATEGORIES:Live Presentation
ATTACH;FMTTYPE=image/jpeg:https://spacecenter.org/wp-content/uploads/2022/10/Artemis-Capsule.jpeg
END:VEVENT
BEGIN:VEVENT
DTSTART;TZID=America/Chicago:20300114T163000
DTEND;TZID=America/Chicago:20300114T164500
DTSTAMP:20260423T214347
CREATED:20250602T212726Z
LAST-MODIFIED:20250603T192225Z
UID:10216290-1894638600-1894639500@spacecenter.org
SUMMARY:OSIRIS Rex Live Presentation
DESCRIPTION:
URL:https://spacecenter.org/events-calendar-event/osiris-rex-live-presentation-3/2030-01-14/
LOCATION:Mission Sketch Staircase
CATEGORIES:Live Presentation
ATTACH;FMTTYPE=image/jpeg:https://spacecenter.org/wp-content/uploads/2024/03/web-march2024_tls_osirisrex.jpg
END:VEVENT
BEGIN:VEVENT
DTSTART;TZID=America/Chicago:20300115T104500
DTEND;TZID=America/Chicago:20300115T110000
DTSTAMP:20260423T214347
CREATED:20250602T212526Z
LAST-MODIFIED:20250603T185502Z
UID:10102955-1894704300-1894705200@spacecenter.org
SUMMARY:OSIRIS Rex Live Presentation
DESCRIPTION:
URL:https://spacecenter.org/events-calendar-event/osiris-rex-live-presentation/2030-01-15/
LOCATION:Mission Sketch Staircase
CATEGORIES:Live Presentation
ATTACH;FMTTYPE=image/jpeg:https://spacecenter.org/wp-content/uploads/2024/03/web-march2024_tls_osirisrex.jpg
END:VEVENT
BEGIN:VEVENT
DTSTART;TZID=America/Chicago:20300115T104500
DTEND;TZID=America/Chicago:20300115T111500
DTSTAMP:20260423T214347
CREATED:20250602T213905Z
LAST-MODIFIED:20250603T185637Z
UID:10110267-1894704300-1894706100@spacecenter.org
SUMMARY:Artemis Live Presentation
DESCRIPTION:
URL:https://spacecenter.org/events-calendar-event/artemis-live-presentation/2030-01-15/
LOCATION:Theater – Destiny
CATEGORIES:Live Presentation
ATTACH;FMTTYPE=image/jpeg:https://spacecenter.org/wp-content/uploads/2022/10/Artemis-Capsule.jpeg
END:VEVENT
BEGIN:VEVENT
DTSTART;TZID=America/Chicago:20300115T111500
DTEND;TZID=America/Chicago:20300115T113000
DTSTAMP:20260423T214347
CREATED:20250602T213010Z
LAST-MODIFIED:20250603T185901Z
UID:10121235-1894706100-1894707000@spacecenter.org
SUMMARY:Story Corner Live Presentation
DESCRIPTION:
URL:https://spacecenter.org/events-calendar-event/story-corner-live-presentation/2030-01-15/
LOCATION:Theater – Artemis
CATEGORIES:Live Presentation
END:VEVENT
BEGIN:VEVENT
DTSTART;TZID=America/Chicago:20300115T114500
DTEND;TZID=America/Chicago:20300115T120000
DTSTAMP:20260423T214347
CREATED:20250602T213503Z
LAST-MODIFIED:20250603T190256Z
UID:10139515-1894707900-1894708800@spacecenter.org
SUMMARY:James Webb Live Presentation
DESCRIPTION:
URL:https://spacecenter.org/events-calendar-event/james-webb-live-presentation/2030-01-15/
LOCATION:Theater – Destiny
CATEGORIES:Live Presentation
END:VEVENT
BEGIN:VEVENT
DTSTART;TZID=America/Chicago:20300115T121500
DTEND;TZID=America/Chicago:20300115T123000
DTSTAMP:20260423T214347
CREATED:20250602T213059Z
LAST-MODIFIED:20250603T190345Z
UID:10143171-1894709700-1894710600@spacecenter.org
SUMMARY:Story Corner Live Presentation
DESCRIPTION:
URL:https://spacecenter.org/events-calendar-event/story-corner-live-presentation-2/2030-01-15/
LOCATION:Theater – Artemis
CATEGORIES:Live Presentation
END:VEVENT
BEGIN:VEVENT
DTSTART;TZID=America/Chicago:20300115T124500
DTEND;TZID=America/Chicago:20300115T131500
DTSTAMP:20260423T214347
CREATED:20250602T214012Z
LAST-MODIFIED:20250603T190811Z
UID:10154139-1894711500-1894713300@spacecenter.org
SUMMARY:Artemis Live Presentation
DESCRIPTION:
URL:https://spacecenter.org/events-calendar-event/artemis-live-presentation-2/2030-01-15/
LOCATION:Theater – Destiny
CATEGORIES:Live Presentation
ATTACH;FMTTYPE=image/jpeg:https://spacecenter.org/wp-content/uploads/2022/10/Artemis-Capsule.jpeg
END:VEVENT
BEGIN:VEVENT
DTSTART;TZID=America/Chicago:20300115T131500
DTEND;TZID=America/Chicago:20300115T133000
DTSTAMP:20260423T214347
CREATED:20250602T213201Z
LAST-MODIFIED:20250603T190922Z
UID:10161451-1894713300-1894714200@spacecenter.org
SUMMARY:Story Corner Live Presentation
DESCRIPTION:
URL:https://spacecenter.org/events-calendar-event/story-corner-live-presentation-3/2030-01-15/
LOCATION:Theater – Artemis
CATEGORIES:Live Presentation
END:VEVENT
BEGIN:VEVENT
DTSTART;TZID=America/Chicago:20300115T134500
DTEND;TZID=America/Chicago:20300115T140000
DTSTAMP:20260423T214347
CREATED:20250602T212635Z
LAST-MODIFIED:20250603T191121Z
UID:10172419-1894715100-1894716000@spacecenter.org
SUMMARY:OSIRIS Rex Live Presentation
DESCRIPTION:
URL:https://spacecenter.org/events-calendar-event/osiris-rex-live-presentation-2/2030-01-15/
LOCATION:Mission Sketch Staircase
CATEGORIES:Live Presentation
ATTACH;FMTTYPE=image/jpeg:https://spacecenter.org/wp-content/uploads/2024/03/web-march2024_tls_osirisrex.jpg
END:VEVENT
BEGIN:VEVENT
DTSTART;TZID=America/Chicago:20300115T134500
DTEND;TZID=America/Chicago:20300115T140000
DTSTAMP:20260423T214347
CREATED:20250602T213557Z
LAST-MODIFIED:20250603T191327Z
UID:10176075-1894715100-1894716000@spacecenter.org
SUMMARY:James Webb Live Presentation
DESCRIPTION:
URL:https://spacecenter.org/events-calendar-event/james-webb-live-presentation-2/2030-01-15/
LOCATION:Theater – Destiny
CATEGORIES:Live Presentation
END:VEVENT
BEGIN:VEVENT
DTSTART;TZID=America/Chicago:20300115T144500
DTEND;TZID=America/Chicago:20300115T150000
DTSTAMP:20260423T214347
CREATED:20250602T213716Z
LAST-MODIFIED:20250603T191759Z
UID:10190699-1894718700-1894719600@spacecenter.org
SUMMARY:James Webb Live Presentation
DESCRIPTION:
URL:https://spacecenter.org/events-calendar-event/james-webb-live-presentation-3/2030-01-15/
LOCATION:Theater – Destiny
CATEGORIES:Live Presentation
END:VEVENT
BEGIN:VEVENT
DTSTART;TZID=America/Chicago:20300115T151500
DTEND;TZID=America/Chicago:20300115T153000
DTSTAMP:20260423T214348
CREATED:20250602T213249Z
LAST-MODIFIED:20250603T191942Z
UID:10198011-1894720500-1894721400@spacecenter.org
SUMMARY:Story Corner Live Presentation
DESCRIPTION:
URL:https://spacecenter.org/events-calendar-event/story-corner-live-presentation-4/2030-01-15/
LOCATION:Theater – Artemis
CATEGORIES:Live Presentation
END:VEVENT
BEGIN:VEVENT
DTSTART;TZID=America/Chicago:20300115T154500
DTEND;TZID=America/Chicago:20300115T161500
DTSTAMP:20260423T214348
CREATED:20250602T214125Z
LAST-MODIFIED:20250603T192119Z
UID:10208979-1894722300-1894724100@spacecenter.org
SUMMARY:Artemis Live Presentation
DESCRIPTION:
URL:https://spacecenter.org/events-calendar-event/artemis-live-presentation-3/2030-01-15/
LOCATION:Theater – Destiny
CATEGORIES:Live Presentation
ATTACH;FMTTYPE=image/jpeg:https://spacecenter.org/wp-content/uploads/2022/10/Artemis-Capsule.jpeg
END:VEVENT
BEGIN:VEVENT
DTSTART;TZID=America/Chicago:20300115T163000
DTEND;TZID=America/Chicago:20300115T164500
DTSTAMP:20260423T214348
CREATED:20250602T212726Z
LAST-MODIFIED:20250603T192225Z
UID:10216291-1894725000-1894725900@spacecenter.org
SUMMARY:OSIRIS Rex Live Presentation
DESCRIPTION:
URL:https://spacecenter.org/events-calendar-event/osiris-rex-live-presentation-3/2030-01-15/
LOCATION:Mission Sketch Staircase
CATEGORIES:Live Presentation
ATTACH;FMTTYPE=image/jpeg:https://spacecenter.org/wp-content/uploads/2024/03/web-march2024_tls_osirisrex.jpg
END:VEVENT
BEGIN:VEVENT
DTSTART;TZID=America/Chicago:20300116T104500
DTEND;TZID=America/Chicago:20300116T110000
DTSTAMP:20260423T214348
CREATED:20250602T212526Z
LAST-MODIFIED:20250603T185502Z
UID:10102956-1894790700-1894791600@spacecenter.org
SUMMARY:OSIRIS Rex Live Presentation
DESCRIPTION:
URL:https://spacecenter.org/events-calendar-event/osiris-rex-live-presentation/2030-01-16/
LOCATION:Mission Sketch Staircase
CATEGORIES:Live Presentation
ATTACH;FMTTYPE=image/jpeg:https://spacecenter.org/wp-content/uploads/2024/03/web-march2024_tls_osirisrex.jpg
END:VEVENT
BEGIN:VEVENT
DTSTART;TZID=America/Chicago:20300116T104500
DTEND;TZID=America/Chicago:20300116T111500
DTSTAMP:20260423T214348
CREATED:20250602T213905Z
LAST-MODIFIED:20250603T185637Z
UID:10110268-1894790700-1894792500@spacecenter.org
SUMMARY:Artemis Live Presentation
DESCRIPTION:
URL:https://spacecenter.org/events-calendar-event/artemis-live-presentation/2030-01-16/
LOCATION:Theater – Destiny
CATEGORIES:Live Presentation
ATTACH;FMTTYPE=image/jpeg:https://spacecenter.org/wp-content/uploads/2022/10/Artemis-Capsule.jpeg
END:VEVENT
END:VCALENDAR