BEGIN:VCALENDAR
VERSION:2.0
PRODID:-//Space Center Houston - ECPv6.15.15//NONSGML v1.0//EN
CALSCALE:GREGORIAN
METHOD:PUBLISH
X-WR-CALNAME:Space Center Houston
X-ORIGINAL-URL:https://spacecenter.org
X-WR-CALDESC:Events for Space Center Houston
REFRESH-INTERVAL;VALUE=DURATION:PT1H
X-Robots-Tag:noindex
X-PUBLISHED-TTL:PT1H
BEGIN:VTIMEZONE
TZID:America/Chicago
BEGIN:DAYLIGHT
TZOFFSETFROM:-0600
TZOFFSETTO:-0500
TZNAME:CDT
DTSTART:20290311T080000
END:DAYLIGHT
BEGIN:STANDARD
TZOFFSETFROM:-0500
TZOFFSETTO:-0600
TZNAME:CST
DTSTART:20291104T070000
END:STANDARD
BEGIN:DAYLIGHT
TZOFFSETFROM:-0600
TZOFFSETTO:-0500
TZNAME:CDT
DTSTART:20300310T080000
END:DAYLIGHT
BEGIN:STANDARD
TZOFFSETFROM:-0500
TZOFFSETTO:-0600
TZNAME:CST
DTSTART:20301103T070000
END:STANDARD
BEGIN:DAYLIGHT
TZOFFSETFROM:-0600
TZOFFSETTO:-0500
TZNAME:CDT
DTSTART:20310309T080000
END:DAYLIGHT
BEGIN:STANDARD
TZOFFSETFROM:-0500
TZOFFSETTO:-0600
TZNAME:CST
DTSTART:20311102T070000
END:STANDARD
END:VTIMEZONE
BEGIN:VEVENT
DTSTART;TZID=America/Chicago:20300102T121500
DTEND;TZID=America/Chicago:20300102T123000
DTSTAMP:20260423T013707
CREATED:20250602T213059Z
LAST-MODIFIED:20250603T190345Z
UID:10143158-1893586500-1893587400@spacecenter.org
SUMMARY:Story Corner Live Presentation
DESCRIPTION:
URL:https://spacecenter.org/events-calendar-event/story-corner-live-presentation-2/2030-01-02/
LOCATION:Theater – Artemis
CATEGORIES:Live Presentation
END:VEVENT
BEGIN:VEVENT
DTSTART;TZID=America/Chicago:20300102T124500
DTEND;TZID=America/Chicago:20300102T131500
DTSTAMP:20260423T013707
CREATED:20250602T214012Z
LAST-MODIFIED:20250603T190811Z
UID:10154126-1893588300-1893590100@spacecenter.org
SUMMARY:Artemis Live Presentation
DESCRIPTION:
URL:https://spacecenter.org/events-calendar-event/artemis-live-presentation-2/2030-01-02/
LOCATION:Theater – Destiny
CATEGORIES:Live Presentation
ATTACH;FMTTYPE=image/jpeg:https://spacecenter.org/wp-content/uploads/2022/10/Artemis-Capsule.jpeg
END:VEVENT
BEGIN:VEVENT
DTSTART;TZID=America/Chicago:20300102T131500
DTEND;TZID=America/Chicago:20300102T133000
DTSTAMP:20260423T013707
CREATED:20250602T213201Z
LAST-MODIFIED:20250603T190922Z
UID:10161438-1893590100-1893591000@spacecenter.org
SUMMARY:Story Corner Live Presentation
DESCRIPTION:
URL:https://spacecenter.org/events-calendar-event/story-corner-live-presentation-3/2030-01-02/
LOCATION:Theater – Artemis
CATEGORIES:Live Presentation
END:VEVENT
BEGIN:VEVENT
DTSTART;TZID=America/Chicago:20300102T134500
DTEND;TZID=America/Chicago:20300102T140000
DTSTAMP:20260423T013707
CREATED:20250602T212635Z
LAST-MODIFIED:20250603T191121Z
UID:10172406-1893591900-1893592800@spacecenter.org
SUMMARY:OSIRIS Rex Live Presentation
DESCRIPTION:
URL:https://spacecenter.org/events-calendar-event/osiris-rex-live-presentation-2/2030-01-02/
LOCATION:Mission Sketch Staircase
CATEGORIES:Live Presentation
ATTACH;FMTTYPE=image/jpeg:https://spacecenter.org/wp-content/uploads/2024/03/web-march2024_tls_osirisrex.jpg
END:VEVENT
BEGIN:VEVENT
DTSTART;TZID=America/Chicago:20300102T134500
DTEND;TZID=America/Chicago:20300102T140000
DTSTAMP:20260423T013707
CREATED:20250602T213557Z
LAST-MODIFIED:20250603T191327Z
UID:10176062-1893591900-1893592800@spacecenter.org
SUMMARY:James Webb Live Presentation
DESCRIPTION:
URL:https://spacecenter.org/events-calendar-event/james-webb-live-presentation-2/2030-01-02/
LOCATION:Theater – Destiny
CATEGORIES:Live Presentation
END:VEVENT
BEGIN:VEVENT
DTSTART;TZID=America/Chicago:20300102T144500
DTEND;TZID=America/Chicago:20300102T150000
DTSTAMP:20260423T013707
CREATED:20250602T213716Z
LAST-MODIFIED:20250603T191759Z
UID:10190686-1893595500-1893596400@spacecenter.org
SUMMARY:James Webb Live Presentation
DESCRIPTION:
URL:https://spacecenter.org/events-calendar-event/james-webb-live-presentation-3/2030-01-02/
LOCATION:Theater – Destiny
CATEGORIES:Live Presentation
END:VEVENT
BEGIN:VEVENT
DTSTART;TZID=America/Chicago:20300102T151500
DTEND;TZID=America/Chicago:20300102T153000
DTSTAMP:20260423T013707
CREATED:20250602T213249Z
LAST-MODIFIED:20250603T191942Z
UID:10197998-1893597300-1893598200@spacecenter.org
SUMMARY:Story Corner Live Presentation
DESCRIPTION:
URL:https://spacecenter.org/events-calendar-event/story-corner-live-presentation-4/2030-01-02/
LOCATION:Theater – Artemis
CATEGORIES:Live Presentation
END:VEVENT
BEGIN:VEVENT
DTSTART;TZID=America/Chicago:20300102T154500
DTEND;TZID=America/Chicago:20300102T161500
DTSTAMP:20260423T013707
CREATED:20250602T214125Z
LAST-MODIFIED:20250603T192119Z
UID:10208966-1893599100-1893600900@spacecenter.org
SUMMARY:Artemis Live Presentation
DESCRIPTION:
URL:https://spacecenter.org/events-calendar-event/artemis-live-presentation-3/2030-01-02/
LOCATION:Theater – Destiny
CATEGORIES:Live Presentation
ATTACH;FMTTYPE=image/jpeg:https://spacecenter.org/wp-content/uploads/2022/10/Artemis-Capsule.jpeg
END:VEVENT
BEGIN:VEVENT
DTSTART;TZID=America/Chicago:20300102T163000
DTEND;TZID=America/Chicago:20300102T164500
DTSTAMP:20260423T013707
CREATED:20250602T212726Z
LAST-MODIFIED:20250603T192225Z
UID:10216278-1893601800-1893602700@spacecenter.org
SUMMARY:OSIRIS Rex Live Presentation
DESCRIPTION:
URL:https://spacecenter.org/events-calendar-event/osiris-rex-live-presentation-3/2030-01-02/
LOCATION:Mission Sketch Staircase
CATEGORIES:Live Presentation
ATTACH;FMTTYPE=image/jpeg:https://spacecenter.org/wp-content/uploads/2024/03/web-march2024_tls_osirisrex.jpg
END:VEVENT
BEGIN:VEVENT
DTSTART;TZID=America/Chicago:20300103T104500
DTEND;TZID=America/Chicago:20300103T110000
DTSTAMP:20260423T013707
CREATED:20250602T212526Z
LAST-MODIFIED:20250603T185502Z
UID:10102943-1893667500-1893668400@spacecenter.org
SUMMARY:OSIRIS Rex Live Presentation
DESCRIPTION:
URL:https://spacecenter.org/events-calendar-event/osiris-rex-live-presentation/2030-01-03/
LOCATION:Mission Sketch Staircase
CATEGORIES:Live Presentation
ATTACH;FMTTYPE=image/jpeg:https://spacecenter.org/wp-content/uploads/2024/03/web-march2024_tls_osirisrex.jpg
END:VEVENT
BEGIN:VEVENT
DTSTART;TZID=America/Chicago:20300103T104500
DTEND;TZID=America/Chicago:20300103T111500
DTSTAMP:20260423T013707
CREATED:20250602T213905Z
LAST-MODIFIED:20250603T185637Z
UID:10110255-1893667500-1893669300@spacecenter.org
SUMMARY:Artemis Live Presentation
DESCRIPTION:
URL:https://spacecenter.org/events-calendar-event/artemis-live-presentation/2030-01-03/
LOCATION:Theater – Destiny
CATEGORIES:Live Presentation
ATTACH;FMTTYPE=image/jpeg:https://spacecenter.org/wp-content/uploads/2022/10/Artemis-Capsule.jpeg
END:VEVENT
BEGIN:VEVENT
DTSTART;TZID=America/Chicago:20300103T111500
DTEND;TZID=America/Chicago:20300103T113000
DTSTAMP:20260423T013707
CREATED:20250602T213010Z
LAST-MODIFIED:20250603T185901Z
UID:10121223-1893669300-1893670200@spacecenter.org
SUMMARY:Story Corner Live Presentation
DESCRIPTION:
URL:https://spacecenter.org/events-calendar-event/story-corner-live-presentation/2030-01-03/
LOCATION:Theater – Artemis
CATEGORIES:Live Presentation
END:VEVENT
BEGIN:VEVENT
DTSTART;TZID=America/Chicago:20300103T114500
DTEND;TZID=America/Chicago:20300103T120000
DTSTAMP:20260423T013707
CREATED:20250602T213503Z
LAST-MODIFIED:20250603T190256Z
UID:10139503-1893671100-1893672000@spacecenter.org
SUMMARY:James Webb Live Presentation
DESCRIPTION:
URL:https://spacecenter.org/events-calendar-event/james-webb-live-presentation/2030-01-03/
LOCATION:Theater – Destiny
CATEGORIES:Live Presentation
END:VEVENT
BEGIN:VEVENT
DTSTART;TZID=America/Chicago:20300103T121500
DTEND;TZID=America/Chicago:20300103T123000
DTSTAMP:20260423T013707
CREATED:20250602T213059Z
LAST-MODIFIED:20250603T190345Z
UID:10143159-1893672900-1893673800@spacecenter.org
SUMMARY:Story Corner Live Presentation
DESCRIPTION:
URL:https://spacecenter.org/events-calendar-event/story-corner-live-presentation-2/2030-01-03/
LOCATION:Theater – Artemis
CATEGORIES:Live Presentation
END:VEVENT
BEGIN:VEVENT
DTSTART;TZID=America/Chicago:20300103T124500
DTEND;TZID=America/Chicago:20300103T131500
DTSTAMP:20260423T013707
CREATED:20250602T214012Z
LAST-MODIFIED:20250603T190811Z
UID:10154127-1893674700-1893676500@spacecenter.org
SUMMARY:Artemis Live Presentation
DESCRIPTION:
URL:https://spacecenter.org/events-calendar-event/artemis-live-presentation-2/2030-01-03/
LOCATION:Theater – Destiny
CATEGORIES:Live Presentation
ATTACH;FMTTYPE=image/jpeg:https://spacecenter.org/wp-content/uploads/2022/10/Artemis-Capsule.jpeg
END:VEVENT
BEGIN:VEVENT
DTSTART;TZID=America/Chicago:20300103T131500
DTEND;TZID=America/Chicago:20300103T133000
DTSTAMP:20260423T013707
CREATED:20250602T213201Z
LAST-MODIFIED:20250603T190922Z
UID:10161439-1893676500-1893677400@spacecenter.org
SUMMARY:Story Corner Live Presentation
DESCRIPTION:
URL:https://spacecenter.org/events-calendar-event/story-corner-live-presentation-3/2030-01-03/
LOCATION:Theater – Artemis
CATEGORIES:Live Presentation
END:VEVENT
BEGIN:VEVENT
DTSTART;TZID=America/Chicago:20300103T134500
DTEND;TZID=America/Chicago:20300103T140000
DTSTAMP:20260423T013707
CREATED:20250602T212635Z
LAST-MODIFIED:20250603T191121Z
UID:10172407-1893678300-1893679200@spacecenter.org
SUMMARY:OSIRIS Rex Live Presentation
DESCRIPTION:
URL:https://spacecenter.org/events-calendar-event/osiris-rex-live-presentation-2/2030-01-03/
LOCATION:Mission Sketch Staircase
CATEGORIES:Live Presentation
ATTACH;FMTTYPE=image/jpeg:https://spacecenter.org/wp-content/uploads/2024/03/web-march2024_tls_osirisrex.jpg
END:VEVENT
BEGIN:VEVENT
DTSTART;TZID=America/Chicago:20300103T134500
DTEND;TZID=America/Chicago:20300103T140000
DTSTAMP:20260423T013707
CREATED:20250602T213557Z
LAST-MODIFIED:20250603T191327Z
UID:10176063-1893678300-1893679200@spacecenter.org
SUMMARY:James Webb Live Presentation
DESCRIPTION:
URL:https://spacecenter.org/events-calendar-event/james-webb-live-presentation-2/2030-01-03/
LOCATION:Theater – Destiny
CATEGORIES:Live Presentation
END:VEVENT
BEGIN:VEVENT
DTSTART;TZID=America/Chicago:20300103T144500
DTEND;TZID=America/Chicago:20300103T150000
DTSTAMP:20260423T013707
CREATED:20250602T213716Z
LAST-MODIFIED:20250603T191759Z
UID:10190687-1893681900-1893682800@spacecenter.org
SUMMARY:James Webb Live Presentation
DESCRIPTION:
URL:https://spacecenter.org/events-calendar-event/james-webb-live-presentation-3/2030-01-03/
LOCATION:Theater – Destiny
CATEGORIES:Live Presentation
END:VEVENT
BEGIN:VEVENT
DTSTART;TZID=America/Chicago:20300103T151500
DTEND;TZID=America/Chicago:20300103T153000
DTSTAMP:20260423T013707
CREATED:20250602T213249Z
LAST-MODIFIED:20250603T191942Z
UID:10197999-1893683700-1893684600@spacecenter.org
SUMMARY:Story Corner Live Presentation
DESCRIPTION:
URL:https://spacecenter.org/events-calendar-event/story-corner-live-presentation-4/2030-01-03/
LOCATION:Theater – Artemis
CATEGORIES:Live Presentation
END:VEVENT
BEGIN:VEVENT
DTSTART;TZID=America/Chicago:20300103T154500
DTEND;TZID=America/Chicago:20300103T161500
DTSTAMP:20260423T013707
CREATED:20250602T214125Z
LAST-MODIFIED:20250603T192119Z
UID:10208967-1893685500-1893687300@spacecenter.org
SUMMARY:Artemis Live Presentation
DESCRIPTION:
URL:https://spacecenter.org/events-calendar-event/artemis-live-presentation-3/2030-01-03/
LOCATION:Theater – Destiny
CATEGORIES:Live Presentation
ATTACH;FMTTYPE=image/jpeg:https://spacecenter.org/wp-content/uploads/2022/10/Artemis-Capsule.jpeg
END:VEVENT
BEGIN:VEVENT
DTSTART;TZID=America/Chicago:20300103T163000
DTEND;TZID=America/Chicago:20300103T164500
DTSTAMP:20260423T013707
CREATED:20250602T212726Z
LAST-MODIFIED:20250603T192225Z
UID:10216279-1893688200-1893689100@spacecenter.org
SUMMARY:OSIRIS Rex Live Presentation
DESCRIPTION:
URL:https://spacecenter.org/events-calendar-event/osiris-rex-live-presentation-3/2030-01-03/
LOCATION:Mission Sketch Staircase
CATEGORIES:Live Presentation
ATTACH;FMTTYPE=image/jpeg:https://spacecenter.org/wp-content/uploads/2024/03/web-march2024_tls_osirisrex.jpg
END:VEVENT
BEGIN:VEVENT
DTSTART;TZID=America/Chicago:20300104T104500
DTEND;TZID=America/Chicago:20300104T110000
DTSTAMP:20260423T013707
CREATED:20250602T212526Z
LAST-MODIFIED:20250603T185502Z
UID:10102944-1893753900-1893754800@spacecenter.org
SUMMARY:OSIRIS Rex Live Presentation
DESCRIPTION:
URL:https://spacecenter.org/events-calendar-event/osiris-rex-live-presentation/2030-01-04/
LOCATION:Mission Sketch Staircase
CATEGORIES:Live Presentation
ATTACH;FMTTYPE=image/jpeg:https://spacecenter.org/wp-content/uploads/2024/03/web-march2024_tls_osirisrex.jpg
END:VEVENT
BEGIN:VEVENT
DTSTART;TZID=America/Chicago:20300104T104500
DTEND;TZID=America/Chicago:20300104T111500
DTSTAMP:20260423T013707
CREATED:20250602T213905Z
LAST-MODIFIED:20250603T185637Z
UID:10110256-1893753900-1893755700@spacecenter.org
SUMMARY:Artemis Live Presentation
DESCRIPTION:
URL:https://spacecenter.org/events-calendar-event/artemis-live-presentation/2030-01-04/
LOCATION:Theater – Destiny
CATEGORIES:Live Presentation
ATTACH;FMTTYPE=image/jpeg:https://spacecenter.org/wp-content/uploads/2022/10/Artemis-Capsule.jpeg
END:VEVENT
BEGIN:VEVENT
DTSTART;TZID=America/Chicago:20300104T111500
DTEND;TZID=America/Chicago:20300104T113000
DTSTAMP:20260423T013707
CREATED:20250602T213010Z
LAST-MODIFIED:20250603T185901Z
UID:10121224-1893755700-1893756600@spacecenter.org
SUMMARY:Story Corner Live Presentation
DESCRIPTION:
URL:https://spacecenter.org/events-calendar-event/story-corner-live-presentation/2030-01-04/
LOCATION:Theater – Artemis
CATEGORIES:Live Presentation
END:VEVENT
BEGIN:VEVENT
DTSTART;TZID=America/Chicago:20300104T114500
DTEND;TZID=America/Chicago:20300104T120000
DTSTAMP:20260423T013707
CREATED:20250602T213503Z
LAST-MODIFIED:20250603T190256Z
UID:10139504-1893757500-1893758400@spacecenter.org
SUMMARY:James Webb Live Presentation
DESCRIPTION:
URL:https://spacecenter.org/events-calendar-event/james-webb-live-presentation/2030-01-04/
LOCATION:Theater – Destiny
CATEGORIES:Live Presentation
END:VEVENT
BEGIN:VEVENT
DTSTART;TZID=America/Chicago:20300104T121500
DTEND;TZID=America/Chicago:20300104T123000
DTSTAMP:20260423T013707
CREATED:20250602T213059Z
LAST-MODIFIED:20250603T190345Z
UID:10143160-1893759300-1893760200@spacecenter.org
SUMMARY:Story Corner Live Presentation
DESCRIPTION:
URL:https://spacecenter.org/events-calendar-event/story-corner-live-presentation-2/2030-01-04/
LOCATION:Theater – Artemis
CATEGORIES:Live Presentation
END:VEVENT
BEGIN:VEVENT
DTSTART;TZID=America/Chicago:20300104T124500
DTEND;TZID=America/Chicago:20300104T131500
DTSTAMP:20260423T013707
CREATED:20250602T214012Z
LAST-MODIFIED:20250603T190811Z
UID:10154128-1893761100-1893762900@spacecenter.org
SUMMARY:Artemis Live Presentation
DESCRIPTION:
URL:https://spacecenter.org/events-calendar-event/artemis-live-presentation-2/2030-01-04/
LOCATION:Theater – Destiny
CATEGORIES:Live Presentation
ATTACH;FMTTYPE=image/jpeg:https://spacecenter.org/wp-content/uploads/2022/10/Artemis-Capsule.jpeg
END:VEVENT
BEGIN:VEVENT
DTSTART;TZID=America/Chicago:20300104T131500
DTEND;TZID=America/Chicago:20300104T133000
DTSTAMP:20260423T013707
CREATED:20250602T213201Z
LAST-MODIFIED:20250603T190922Z
UID:10161440-1893762900-1893763800@spacecenter.org
SUMMARY:Story Corner Live Presentation
DESCRIPTION:
URL:https://spacecenter.org/events-calendar-event/story-corner-live-presentation-3/2030-01-04/
LOCATION:Theater – Artemis
CATEGORIES:Live Presentation
END:VEVENT
BEGIN:VEVENT
DTSTART;TZID=America/Chicago:20300104T134500
DTEND;TZID=America/Chicago:20300104T140000
DTSTAMP:20260423T013707
CREATED:20250602T212635Z
LAST-MODIFIED:20250603T191121Z
UID:10172408-1893764700-1893765600@spacecenter.org
SUMMARY:OSIRIS Rex Live Presentation
DESCRIPTION:
URL:https://spacecenter.org/events-calendar-event/osiris-rex-live-presentation-2/2030-01-04/
LOCATION:Mission Sketch Staircase
CATEGORIES:Live Presentation
ATTACH;FMTTYPE=image/jpeg:https://spacecenter.org/wp-content/uploads/2024/03/web-march2024_tls_osirisrex.jpg
END:VEVENT
END:VCALENDAR