BEGIN:VCALENDAR
VERSION:2.0
PRODID:-//Space Center Houston - ECPv6.15.15//NONSGML v1.0//EN
CALSCALE:GREGORIAN
METHOD:PUBLISH
X-ORIGINAL-URL:https://spacecenter.org
X-WR-CALDESC:Events for Space Center Houston
REFRESH-INTERVAL;VALUE=DURATION:PT1H
X-Robots-Tag:noindex
X-PUBLISHED-TTL:PT1H
BEGIN:VTIMEZONE
TZID:America/Chicago
BEGIN:DAYLIGHT
TZOFFSETFROM:-0600
TZOFFSETTO:-0500
TZNAME:CDT
DTSTART:20290311T080000
END:DAYLIGHT
BEGIN:STANDARD
TZOFFSETFROM:-0500
TZOFFSETTO:-0600
TZNAME:CST
DTSTART:20291104T070000
END:STANDARD
BEGIN:DAYLIGHT
TZOFFSETFROM:-0600
TZOFFSETTO:-0500
TZNAME:CDT
DTSTART:20300310T080000
END:DAYLIGHT
BEGIN:STANDARD
TZOFFSETFROM:-0500
TZOFFSETTO:-0600
TZNAME:CST
DTSTART:20301103T070000
END:STANDARD
BEGIN:DAYLIGHT
TZOFFSETFROM:-0600
TZOFFSETTO:-0500
TZNAME:CDT
DTSTART:20310309T080000
END:DAYLIGHT
BEGIN:STANDARD
TZOFFSETFROM:-0500
TZOFFSETTO:-0600
TZNAME:CST
DTSTART:20311102T070000
END:STANDARD
END:VTIMEZONE
BEGIN:VEVENT
DTSTART;TZID=America/Chicago:20300322T151500
DTEND;TZID=America/Chicago:20300322T153000
DTSTAMP:20260421T165751
CREATED:20250602T213249Z
LAST-MODIFIED:20250603T191942Z
UID:10198077-1900422900-1900423800@spacecenter.org
SUMMARY:Story Corner Live Presentation
DESCRIPTION:
URL:https://spacecenter.org/events-calendar-event/story-corner-live-presentation-4/2030-03-22/
LOCATION:Theater – Artemis
CATEGORIES:Live Presentation
END:VEVENT
BEGIN:VEVENT
DTSTART;TZID=America/Chicago:20300322T154500
DTEND;TZID=America/Chicago:20300322T161500
DTSTAMP:20260421T165751
CREATED:20250602T214125Z
LAST-MODIFIED:20250603T192119Z
UID:10209045-1900424700-1900426500@spacecenter.org
SUMMARY:Artemis Live Presentation
DESCRIPTION:
URL:https://spacecenter.org/events-calendar-event/artemis-live-presentation-3/2030-03-22/
LOCATION:Theater – Destiny
CATEGORIES:Live Presentation
ATTACH;FMTTYPE=image/jpeg:https://spacecenter.org/wp-content/uploads/2022/10/Artemis-Capsule.jpeg
END:VEVENT
BEGIN:VEVENT
DTSTART;TZID=America/Chicago:20300322T163000
DTEND;TZID=America/Chicago:20300322T164500
DTSTAMP:20260421T165751
CREATED:20250602T212726Z
LAST-MODIFIED:20250603T192225Z
UID:10216357-1900427400-1900428300@spacecenter.org
SUMMARY:OSIRIS Rex Live Presentation
DESCRIPTION:
URL:https://spacecenter.org/events-calendar-event/osiris-rex-live-presentation-3/2030-03-22/
LOCATION:Mission Sketch Staircase
CATEGORIES:Live Presentation
ATTACH;FMTTYPE=image/jpeg:https://spacecenter.org/wp-content/uploads/2024/03/web-march2024_tls_osirisrex.jpg
END:VEVENT
BEGIN:VEVENT
DTSTART;TZID=America/Chicago:20300323T104500
DTEND;TZID=America/Chicago:20300323T110000
DTSTAMP:20260421T165751
CREATED:20250602T212526Z
LAST-MODIFIED:20250603T185502Z
UID:10103022-1900493100-1900494000@spacecenter.org
SUMMARY:OSIRIS Rex Live Presentation
DESCRIPTION:
URL:https://spacecenter.org/events-calendar-event/osiris-rex-live-presentation/2030-03-23/
LOCATION:Mission Sketch Staircase
CATEGORIES:Live Presentation
ATTACH;FMTTYPE=image/jpeg:https://spacecenter.org/wp-content/uploads/2024/03/web-march2024_tls_osirisrex.jpg
END:VEVENT
BEGIN:VEVENT
DTSTART;TZID=America/Chicago:20300323T104500
DTEND;TZID=America/Chicago:20300323T111500
DTSTAMP:20260421T165751
CREATED:20250602T213905Z
LAST-MODIFIED:20250603T185637Z
UID:10110334-1900493100-1900494900@spacecenter.org
SUMMARY:Artemis Live Presentation
DESCRIPTION:
URL:https://spacecenter.org/events-calendar-event/artemis-live-presentation/2030-03-23/
LOCATION:Theater – Destiny
CATEGORIES:Live Presentation
ATTACH;FMTTYPE=image/jpeg:https://spacecenter.org/wp-content/uploads/2022/10/Artemis-Capsule.jpeg
END:VEVENT
BEGIN:VEVENT
DTSTART;TZID=America/Chicago:20300323T111500
DTEND;TZID=America/Chicago:20300323T113000
DTSTAMP:20260421T165751
CREATED:20250602T213010Z
LAST-MODIFIED:20250603T185901Z
UID:10121302-1900494900-1900495800@spacecenter.org
SUMMARY:Story Corner Live Presentation
DESCRIPTION:
URL:https://spacecenter.org/events-calendar-event/story-corner-live-presentation/2030-03-23/
LOCATION:Theater – Artemis
CATEGORIES:Live Presentation
END:VEVENT
BEGIN:VEVENT
DTSTART;TZID=America/Chicago:20300323T114500
DTEND;TZID=America/Chicago:20300323T120000
DTSTAMP:20260421T165751
CREATED:20250602T213503Z
LAST-MODIFIED:20250603T190256Z
UID:10139582-1900496700-1900497600@spacecenter.org
SUMMARY:James Webb Live Presentation
DESCRIPTION:
URL:https://spacecenter.org/events-calendar-event/james-webb-live-presentation/2030-03-23/
LOCATION:Theater – Destiny
CATEGORIES:Live Presentation
END:VEVENT
BEGIN:VEVENT
DTSTART;TZID=America/Chicago:20300323T121500
DTEND;TZID=America/Chicago:20300323T123000
DTSTAMP:20260421T165751
CREATED:20250602T213059Z
LAST-MODIFIED:20250603T190345Z
UID:10143238-1900498500-1900499400@spacecenter.org
SUMMARY:Story Corner Live Presentation
DESCRIPTION:
URL:https://spacecenter.org/events-calendar-event/story-corner-live-presentation-2/2030-03-23/
LOCATION:Theater – Artemis
CATEGORIES:Live Presentation
END:VEVENT
BEGIN:VEVENT
DTSTART;TZID=America/Chicago:20300323T124500
DTEND;TZID=America/Chicago:20300323T131500
DTSTAMP:20260421T165751
CREATED:20250602T214012Z
LAST-MODIFIED:20250603T190811Z
UID:10154206-1900500300-1900502100@spacecenter.org
SUMMARY:Artemis Live Presentation
DESCRIPTION:
URL:https://spacecenter.org/events-calendar-event/artemis-live-presentation-2/2030-03-23/
LOCATION:Theater – Destiny
CATEGORIES:Live Presentation
ATTACH;FMTTYPE=image/jpeg:https://spacecenter.org/wp-content/uploads/2022/10/Artemis-Capsule.jpeg
END:VEVENT
BEGIN:VEVENT
DTSTART;TZID=America/Chicago:20300323T131500
DTEND;TZID=America/Chicago:20300323T133000
DTSTAMP:20260421T165751
CREATED:20250602T213201Z
LAST-MODIFIED:20250603T190922Z
UID:10161518-1900502100-1900503000@spacecenter.org
SUMMARY:Story Corner Live Presentation
DESCRIPTION:
URL:https://spacecenter.org/events-calendar-event/story-corner-live-presentation-3/2030-03-23/
LOCATION:Theater – Artemis
CATEGORIES:Live Presentation
END:VEVENT
BEGIN:VEVENT
DTSTART;TZID=America/Chicago:20300323T134500
DTEND;TZID=America/Chicago:20300323T140000
DTSTAMP:20260421T165751
CREATED:20250602T212635Z
LAST-MODIFIED:20250603T191121Z
UID:10172486-1900503900-1900504800@spacecenter.org
SUMMARY:OSIRIS Rex Live Presentation
DESCRIPTION:
URL:https://spacecenter.org/events-calendar-event/osiris-rex-live-presentation-2/2030-03-23/
LOCATION:Mission Sketch Staircase
CATEGORIES:Live Presentation
ATTACH;FMTTYPE=image/jpeg:https://spacecenter.org/wp-content/uploads/2024/03/web-march2024_tls_osirisrex.jpg
END:VEVENT
BEGIN:VEVENT
DTSTART;TZID=America/Chicago:20300323T134500
DTEND;TZID=America/Chicago:20300323T140000
DTSTAMP:20260421T165751
CREATED:20250602T213557Z
LAST-MODIFIED:20250603T191327Z
UID:10176142-1900503900-1900504800@spacecenter.org
SUMMARY:James Webb Live Presentation
DESCRIPTION:
URL:https://spacecenter.org/events-calendar-event/james-webb-live-presentation-2/2030-03-23/
LOCATION:Theater – Destiny
CATEGORIES:Live Presentation
END:VEVENT
BEGIN:VEVENT
DTSTART;TZID=America/Chicago:20300323T144500
DTEND;TZID=America/Chicago:20300323T150000
DTSTAMP:20260421T165751
CREATED:20250602T213716Z
LAST-MODIFIED:20250603T191759Z
UID:10190766-1900507500-1900508400@spacecenter.org
SUMMARY:James Webb Live Presentation
DESCRIPTION:
URL:https://spacecenter.org/events-calendar-event/james-webb-live-presentation-3/2030-03-23/
LOCATION:Theater – Destiny
CATEGORIES:Live Presentation
END:VEVENT
BEGIN:VEVENT
DTSTART;TZID=America/Chicago:20300323T151500
DTEND;TZID=America/Chicago:20300323T153000
DTSTAMP:20260421T165751
CREATED:20250602T213249Z
LAST-MODIFIED:20250603T191942Z
UID:10198078-1900509300-1900510200@spacecenter.org
SUMMARY:Story Corner Live Presentation
DESCRIPTION:
URL:https://spacecenter.org/events-calendar-event/story-corner-live-presentation-4/2030-03-23/
LOCATION:Theater – Artemis
CATEGORIES:Live Presentation
END:VEVENT
BEGIN:VEVENT
DTSTART;TZID=America/Chicago:20300323T154500
DTEND;TZID=America/Chicago:20300323T161500
DTSTAMP:20260421T165751
CREATED:20250602T214125Z
LAST-MODIFIED:20250603T192119Z
UID:10209046-1900511100-1900512900@spacecenter.org
SUMMARY:Artemis Live Presentation
DESCRIPTION:
URL:https://spacecenter.org/events-calendar-event/artemis-live-presentation-3/2030-03-23/
LOCATION:Theater – Destiny
CATEGORIES:Live Presentation
ATTACH;FMTTYPE=image/jpeg:https://spacecenter.org/wp-content/uploads/2022/10/Artemis-Capsule.jpeg
END:VEVENT
BEGIN:VEVENT
DTSTART;TZID=America/Chicago:20300323T163000
DTEND;TZID=America/Chicago:20300323T164500
DTSTAMP:20260421T165751
CREATED:20250602T212726Z
LAST-MODIFIED:20250603T192225Z
UID:10216358-1900513800-1900514700@spacecenter.org
SUMMARY:OSIRIS Rex Live Presentation
DESCRIPTION:
URL:https://spacecenter.org/events-calendar-event/osiris-rex-live-presentation-3/2030-03-23/
LOCATION:Mission Sketch Staircase
CATEGORIES:Live Presentation
ATTACH;FMTTYPE=image/jpeg:https://spacecenter.org/wp-content/uploads/2024/03/web-march2024_tls_osirisrex.jpg
END:VEVENT
BEGIN:VEVENT
DTSTART;TZID=America/Chicago:20300324T104500
DTEND;TZID=America/Chicago:20300324T110000
DTSTAMP:20260421T165751
CREATED:20250602T212526Z
LAST-MODIFIED:20250603T185502Z
UID:10103023-1900579500-1900580400@spacecenter.org
SUMMARY:OSIRIS Rex Live Presentation
DESCRIPTION:
URL:https://spacecenter.org/events-calendar-event/osiris-rex-live-presentation/2030-03-24/
LOCATION:Mission Sketch Staircase
CATEGORIES:Live Presentation
ATTACH;FMTTYPE=image/jpeg:https://spacecenter.org/wp-content/uploads/2024/03/web-march2024_tls_osirisrex.jpg
END:VEVENT
BEGIN:VEVENT
DTSTART;TZID=America/Chicago:20300324T104500
DTEND;TZID=America/Chicago:20300324T111500
DTSTAMP:20260421T165751
CREATED:20250602T213905Z
LAST-MODIFIED:20250603T185637Z
UID:10110335-1900579500-1900581300@spacecenter.org
SUMMARY:Artemis Live Presentation
DESCRIPTION:
URL:https://spacecenter.org/events-calendar-event/artemis-live-presentation/2030-03-24/
LOCATION:Theater – Destiny
CATEGORIES:Live Presentation
ATTACH;FMTTYPE=image/jpeg:https://spacecenter.org/wp-content/uploads/2022/10/Artemis-Capsule.jpeg
END:VEVENT
BEGIN:VEVENT
DTSTART;TZID=America/Chicago:20300324T111500
DTEND;TZID=America/Chicago:20300324T113000
DTSTAMP:20260421T165751
CREATED:20250602T213010Z
LAST-MODIFIED:20250603T185901Z
UID:10121303-1900581300-1900582200@spacecenter.org
SUMMARY:Story Corner Live Presentation
DESCRIPTION:
URL:https://spacecenter.org/events-calendar-event/story-corner-live-presentation/2030-03-24/
LOCATION:Theater – Artemis
CATEGORIES:Live Presentation
END:VEVENT
BEGIN:VEVENT
DTSTART;TZID=America/Chicago:20300324T114500
DTEND;TZID=America/Chicago:20300324T120000
DTSTAMP:20260421T165751
CREATED:20250602T213503Z
LAST-MODIFIED:20250603T190256Z
UID:10139583-1900583100-1900584000@spacecenter.org
SUMMARY:James Webb Live Presentation
DESCRIPTION:
URL:https://spacecenter.org/events-calendar-event/james-webb-live-presentation/2030-03-24/
LOCATION:Theater – Destiny
CATEGORIES:Live Presentation
END:VEVENT
BEGIN:VEVENT
DTSTART;TZID=America/Chicago:20300324T121500
DTEND;TZID=America/Chicago:20300324T123000
DTSTAMP:20260421T165751
CREATED:20250602T213059Z
LAST-MODIFIED:20250603T190345Z
UID:10143239-1900584900-1900585800@spacecenter.org
SUMMARY:Story Corner Live Presentation
DESCRIPTION:
URL:https://spacecenter.org/events-calendar-event/story-corner-live-presentation-2/2030-03-24/
LOCATION:Theater – Artemis
CATEGORIES:Live Presentation
END:VEVENT
BEGIN:VEVENT
DTSTART;TZID=America/Chicago:20300324T124500
DTEND;TZID=America/Chicago:20300324T131500
DTSTAMP:20260421T165751
CREATED:20250602T214012Z
LAST-MODIFIED:20250603T190811Z
UID:10154207-1900586700-1900588500@spacecenter.org
SUMMARY:Artemis Live Presentation
DESCRIPTION:
URL:https://spacecenter.org/events-calendar-event/artemis-live-presentation-2/2030-03-24/
LOCATION:Theater – Destiny
CATEGORIES:Live Presentation
ATTACH;FMTTYPE=image/jpeg:https://spacecenter.org/wp-content/uploads/2022/10/Artemis-Capsule.jpeg
END:VEVENT
BEGIN:VEVENT
DTSTART;TZID=America/Chicago:20300324T131500
DTEND;TZID=America/Chicago:20300324T133000
DTSTAMP:20260421T165751
CREATED:20250602T213201Z
LAST-MODIFIED:20250603T190922Z
UID:10161519-1900588500-1900589400@spacecenter.org
SUMMARY:Story Corner Live Presentation
DESCRIPTION:
URL:https://spacecenter.org/events-calendar-event/story-corner-live-presentation-3/2030-03-24/
LOCATION:Theater – Artemis
CATEGORIES:Live Presentation
END:VEVENT
BEGIN:VEVENT
DTSTART;TZID=America/Chicago:20300324T134500
DTEND;TZID=America/Chicago:20300324T140000
DTSTAMP:20260421T165751
CREATED:20250602T212635Z
LAST-MODIFIED:20250603T191121Z
UID:10172487-1900590300-1900591200@spacecenter.org
SUMMARY:OSIRIS Rex Live Presentation
DESCRIPTION:
URL:https://spacecenter.org/events-calendar-event/osiris-rex-live-presentation-2/2030-03-24/
LOCATION:Mission Sketch Staircase
CATEGORIES:Live Presentation
ATTACH;FMTTYPE=image/jpeg:https://spacecenter.org/wp-content/uploads/2024/03/web-march2024_tls_osirisrex.jpg
END:VEVENT
BEGIN:VEVENT
DTSTART;TZID=America/Chicago:20300324T134500
DTEND;TZID=America/Chicago:20300324T140000
DTSTAMP:20260421T165751
CREATED:20250602T213557Z
LAST-MODIFIED:20250603T191327Z
UID:10176143-1900590300-1900591200@spacecenter.org
SUMMARY:James Webb Live Presentation
DESCRIPTION:
URL:https://spacecenter.org/events-calendar-event/james-webb-live-presentation-2/2030-03-24/
LOCATION:Theater – Destiny
CATEGORIES:Live Presentation
END:VEVENT
BEGIN:VEVENT
DTSTART;TZID=America/Chicago:20300324T144500
DTEND;TZID=America/Chicago:20300324T150000
DTSTAMP:20260421T165751
CREATED:20250602T213716Z
LAST-MODIFIED:20250603T191759Z
UID:10190767-1900593900-1900594800@spacecenter.org
SUMMARY:James Webb Live Presentation
DESCRIPTION:
URL:https://spacecenter.org/events-calendar-event/james-webb-live-presentation-3/2030-03-24/
LOCATION:Theater – Destiny
CATEGORIES:Live Presentation
END:VEVENT
BEGIN:VEVENT
DTSTART;TZID=America/Chicago:20300324T151500
DTEND;TZID=America/Chicago:20300324T153000
DTSTAMP:20260421T165751
CREATED:20250602T213249Z
LAST-MODIFIED:20250603T191942Z
UID:10198079-1900595700-1900596600@spacecenter.org
SUMMARY:Story Corner Live Presentation
DESCRIPTION:
URL:https://spacecenter.org/events-calendar-event/story-corner-live-presentation-4/2030-03-24/
LOCATION:Theater – Artemis
CATEGORIES:Live Presentation
END:VEVENT
BEGIN:VEVENT
DTSTART;TZID=America/Chicago:20300324T154500
DTEND;TZID=America/Chicago:20300324T161500
DTSTAMP:20260421T165751
CREATED:20250602T214125Z
LAST-MODIFIED:20250603T192119Z
UID:10209047-1900597500-1900599300@spacecenter.org
SUMMARY:Artemis Live Presentation
DESCRIPTION:
URL:https://spacecenter.org/events-calendar-event/artemis-live-presentation-3/2030-03-24/
LOCATION:Theater – Destiny
CATEGORIES:Live Presentation
ATTACH;FMTTYPE=image/jpeg:https://spacecenter.org/wp-content/uploads/2022/10/Artemis-Capsule.jpeg
END:VEVENT
BEGIN:VEVENT
DTSTART;TZID=America/Chicago:20300324T163000
DTEND;TZID=America/Chicago:20300324T164500
DTSTAMP:20260421T165751
CREATED:20250602T212726Z
LAST-MODIFIED:20250603T192225Z
UID:10216359-1900600200-1900601100@spacecenter.org
SUMMARY:OSIRIS Rex Live Presentation
DESCRIPTION:
URL:https://spacecenter.org/events-calendar-event/osiris-rex-live-presentation-3/2030-03-24/
LOCATION:Mission Sketch Staircase
CATEGORIES:Live Presentation
ATTACH;FMTTYPE=image/jpeg:https://spacecenter.org/wp-content/uploads/2024/03/web-march2024_tls_osirisrex.jpg
END:VEVENT
BEGIN:VEVENT
DTSTART;TZID=America/Chicago:20300325T104500
DTEND;TZID=America/Chicago:20300325T110000
DTSTAMP:20260421T165751
CREATED:20250602T212526Z
LAST-MODIFIED:20250603T185502Z
UID:10103024-1900665900-1900666800@spacecenter.org
SUMMARY:OSIRIS Rex Live Presentation
DESCRIPTION:
URL:https://spacecenter.org/events-calendar-event/osiris-rex-live-presentation/2030-03-25/
LOCATION:Mission Sketch Staircase
CATEGORIES:Live Presentation
ATTACH;FMTTYPE=image/jpeg:https://spacecenter.org/wp-content/uploads/2024/03/web-march2024_tls_osirisrex.jpg
END:VEVENT
END:VCALENDAR