BEGIN:VCALENDAR
VERSION:2.0
PRODID:-//Space Center Houston - ECPv6.15.15//NONSGML v1.0//EN
CALSCALE:GREGORIAN
METHOD:PUBLISH
X-WR-CALNAME:Space Center Houston
X-ORIGINAL-URL:https://spacecenter.org
X-WR-CALDESC:Events for Space Center Houston
REFRESH-INTERVAL;VALUE=DURATION:PT1H
X-Robots-Tag:noindex
X-PUBLISHED-TTL:PT1H
BEGIN:VTIMEZONE
TZID:America/Chicago
BEGIN:DAYLIGHT
TZOFFSETFROM:-0600
TZOFFSETTO:-0500
TZNAME:CDT
DTSTART:20290311T080000
END:DAYLIGHT
BEGIN:STANDARD
TZOFFSETFROM:-0500
TZOFFSETTO:-0600
TZNAME:CST
DTSTART:20291104T070000
END:STANDARD
BEGIN:DAYLIGHT
TZOFFSETFROM:-0600
TZOFFSETTO:-0500
TZNAME:CDT
DTSTART:20300310T080000
END:DAYLIGHT
BEGIN:STANDARD
TZOFFSETFROM:-0500
TZOFFSETTO:-0600
TZNAME:CST
DTSTART:20301103T070000
END:STANDARD
BEGIN:DAYLIGHT
TZOFFSETFROM:-0600
TZOFFSETTO:-0500
TZNAME:CDT
DTSTART:20310309T080000
END:DAYLIGHT
BEGIN:STANDARD
TZOFFSETFROM:-0500
TZOFFSETTO:-0600
TZNAME:CST
DTSTART:20311102T070000
END:STANDARD
END:VTIMEZONE
BEGIN:VEVENT
DTSTART;TZID=America/Chicago:20300314T104500
DTEND;TZID=America/Chicago:20300314T111500
DTSTAMP:20260420T194413
CREATED:20250602T213905Z
LAST-MODIFIED:20250603T185637Z
UID:10110325-1899715500-1899717300@spacecenter.org
SUMMARY:Artemis Live Presentation
DESCRIPTION:
URL:https://spacecenter.org/events-calendar-event/artemis-live-presentation/2030-03-14/
LOCATION:Theater – Destiny
CATEGORIES:Live Presentation
ATTACH;FMTTYPE=image/jpeg:https://spacecenter.org/wp-content/uploads/2022/10/Artemis-Capsule.jpeg
END:VEVENT
BEGIN:VEVENT
DTSTART;TZID=America/Chicago:20300314T111500
DTEND;TZID=America/Chicago:20300314T113000
DTSTAMP:20260420T194413
CREATED:20250602T213010Z
LAST-MODIFIED:20250603T185901Z
UID:10121293-1899717300-1899718200@spacecenter.org
SUMMARY:Story Corner Live Presentation
DESCRIPTION:
URL:https://spacecenter.org/events-calendar-event/story-corner-live-presentation/2030-03-14/
LOCATION:Theater – Artemis
CATEGORIES:Live Presentation
END:VEVENT
BEGIN:VEVENT
DTSTART;TZID=America/Chicago:20300314T114500
DTEND;TZID=America/Chicago:20300314T120000
DTSTAMP:20260420T194413
CREATED:20250602T213503Z
LAST-MODIFIED:20250603T190256Z
UID:10139573-1899719100-1899720000@spacecenter.org
SUMMARY:James Webb Live Presentation
DESCRIPTION:
URL:https://spacecenter.org/events-calendar-event/james-webb-live-presentation/2030-03-14/
LOCATION:Theater – Destiny
CATEGORIES:Live Presentation
END:VEVENT
BEGIN:VEVENT
DTSTART;TZID=America/Chicago:20300314T121500
DTEND;TZID=America/Chicago:20300314T123000
DTSTAMP:20260420T194413
CREATED:20250602T213059Z
LAST-MODIFIED:20250603T190345Z
UID:10143229-1899720900-1899721800@spacecenter.org
SUMMARY:Story Corner Live Presentation
DESCRIPTION:
URL:https://spacecenter.org/events-calendar-event/story-corner-live-presentation-2/2030-03-14/
LOCATION:Theater – Artemis
CATEGORIES:Live Presentation
END:VEVENT
BEGIN:VEVENT
DTSTART;TZID=America/Chicago:20300314T124500
DTEND;TZID=America/Chicago:20300314T131500
DTSTAMP:20260420T194413
CREATED:20250602T214012Z
LAST-MODIFIED:20250603T190811Z
UID:10154197-1899722700-1899724500@spacecenter.org
SUMMARY:Artemis Live Presentation
DESCRIPTION:
URL:https://spacecenter.org/events-calendar-event/artemis-live-presentation-2/2030-03-14/
LOCATION:Theater – Destiny
CATEGORIES:Live Presentation
ATTACH;FMTTYPE=image/jpeg:https://spacecenter.org/wp-content/uploads/2022/10/Artemis-Capsule.jpeg
END:VEVENT
BEGIN:VEVENT
DTSTART;TZID=America/Chicago:20300314T131500
DTEND;TZID=America/Chicago:20300314T133000
DTSTAMP:20260420T194413
CREATED:20250602T213201Z
LAST-MODIFIED:20250603T190922Z
UID:10161509-1899724500-1899725400@spacecenter.org
SUMMARY:Story Corner Live Presentation
DESCRIPTION:
URL:https://spacecenter.org/events-calendar-event/story-corner-live-presentation-3/2030-03-14/
LOCATION:Theater – Artemis
CATEGORIES:Live Presentation
END:VEVENT
BEGIN:VEVENT
DTSTART;TZID=America/Chicago:20300314T134500
DTEND;TZID=America/Chicago:20300314T140000
DTSTAMP:20260420T194413
CREATED:20250602T212635Z
LAST-MODIFIED:20250603T191121Z
UID:10172477-1899726300-1899727200@spacecenter.org
SUMMARY:OSIRIS Rex Live Presentation
DESCRIPTION:
URL:https://spacecenter.org/events-calendar-event/osiris-rex-live-presentation-2/2030-03-14/
LOCATION:Mission Sketch Staircase
CATEGORIES:Live Presentation
ATTACH;FMTTYPE=image/jpeg:https://spacecenter.org/wp-content/uploads/2024/03/web-march2024_tls_osirisrex.jpg
END:VEVENT
BEGIN:VEVENT
DTSTART;TZID=America/Chicago:20300314T134500
DTEND;TZID=America/Chicago:20300314T140000
DTSTAMP:20260420T194413
CREATED:20250602T213557Z
LAST-MODIFIED:20250603T191327Z
UID:10176133-1899726300-1899727200@spacecenter.org
SUMMARY:James Webb Live Presentation
DESCRIPTION:
URL:https://spacecenter.org/events-calendar-event/james-webb-live-presentation-2/2030-03-14/
LOCATION:Theater – Destiny
CATEGORIES:Live Presentation
END:VEVENT
BEGIN:VEVENT
DTSTART;TZID=America/Chicago:20300314T144500
DTEND;TZID=America/Chicago:20300314T150000
DTSTAMP:20260420T194413
CREATED:20250602T213716Z
LAST-MODIFIED:20250603T191759Z
UID:10190757-1899729900-1899730800@spacecenter.org
SUMMARY:James Webb Live Presentation
DESCRIPTION:
URL:https://spacecenter.org/events-calendar-event/james-webb-live-presentation-3/2030-03-14/
LOCATION:Theater – Destiny
CATEGORIES:Live Presentation
END:VEVENT
BEGIN:VEVENT
DTSTART;TZID=America/Chicago:20300314T151500
DTEND;TZID=America/Chicago:20300314T153000
DTSTAMP:20260420T194413
CREATED:20250602T213249Z
LAST-MODIFIED:20250603T191942Z
UID:10198069-1899731700-1899732600@spacecenter.org
SUMMARY:Story Corner Live Presentation
DESCRIPTION:
URL:https://spacecenter.org/events-calendar-event/story-corner-live-presentation-4/2030-03-14/
LOCATION:Theater – Artemis
CATEGORIES:Live Presentation
END:VEVENT
BEGIN:VEVENT
DTSTART;TZID=America/Chicago:20300314T154500
DTEND;TZID=America/Chicago:20300314T161500
DTSTAMP:20260420T194413
CREATED:20250602T214125Z
LAST-MODIFIED:20250603T192119Z
UID:10209037-1899733500-1899735300@spacecenter.org
SUMMARY:Artemis Live Presentation
DESCRIPTION:
URL:https://spacecenter.org/events-calendar-event/artemis-live-presentation-3/2030-03-14/
LOCATION:Theater – Destiny
CATEGORIES:Live Presentation
ATTACH;FMTTYPE=image/jpeg:https://spacecenter.org/wp-content/uploads/2022/10/Artemis-Capsule.jpeg
END:VEVENT
BEGIN:VEVENT
DTSTART;TZID=America/Chicago:20300314T163000
DTEND;TZID=America/Chicago:20300314T164500
DTSTAMP:20260420T194413
CREATED:20250602T212726Z
LAST-MODIFIED:20250603T192225Z
UID:10216349-1899736200-1899737100@spacecenter.org
SUMMARY:OSIRIS Rex Live Presentation
DESCRIPTION:
URL:https://spacecenter.org/events-calendar-event/osiris-rex-live-presentation-3/2030-03-14/
LOCATION:Mission Sketch Staircase
CATEGORIES:Live Presentation
ATTACH;FMTTYPE=image/jpeg:https://spacecenter.org/wp-content/uploads/2024/03/web-march2024_tls_osirisrex.jpg
END:VEVENT
BEGIN:VEVENT
DTSTART;TZID=America/Chicago:20300315T104500
DTEND;TZID=America/Chicago:20300315T110000
DTSTAMP:20260420T194413
CREATED:20250602T212526Z
LAST-MODIFIED:20250603T185502Z
UID:10103014-1899801900-1899802800@spacecenter.org
SUMMARY:OSIRIS Rex Live Presentation
DESCRIPTION:
URL:https://spacecenter.org/events-calendar-event/osiris-rex-live-presentation/2030-03-15/
LOCATION:Mission Sketch Staircase
CATEGORIES:Live Presentation
ATTACH;FMTTYPE=image/jpeg:https://spacecenter.org/wp-content/uploads/2024/03/web-march2024_tls_osirisrex.jpg
END:VEVENT
BEGIN:VEVENT
DTSTART;TZID=America/Chicago:20300315T104500
DTEND;TZID=America/Chicago:20300315T111500
DTSTAMP:20260420T194413
CREATED:20250602T213905Z
LAST-MODIFIED:20250603T185637Z
UID:10110326-1899801900-1899803700@spacecenter.org
SUMMARY:Artemis Live Presentation
DESCRIPTION:
URL:https://spacecenter.org/events-calendar-event/artemis-live-presentation/2030-03-15/
LOCATION:Theater – Destiny
CATEGORIES:Live Presentation
ATTACH;FMTTYPE=image/jpeg:https://spacecenter.org/wp-content/uploads/2022/10/Artemis-Capsule.jpeg
END:VEVENT
BEGIN:VEVENT
DTSTART;TZID=America/Chicago:20300315T111500
DTEND;TZID=America/Chicago:20300315T113000
DTSTAMP:20260420T194413
CREATED:20250602T213010Z
LAST-MODIFIED:20250603T185901Z
UID:10121294-1899803700-1899804600@spacecenter.org
SUMMARY:Story Corner Live Presentation
DESCRIPTION:
URL:https://spacecenter.org/events-calendar-event/story-corner-live-presentation/2030-03-15/
LOCATION:Theater – Artemis
CATEGORIES:Live Presentation
END:VEVENT
BEGIN:VEVENT
DTSTART;TZID=America/Chicago:20300315T114500
DTEND;TZID=America/Chicago:20300315T120000
DTSTAMP:20260420T194413
CREATED:20250602T213503Z
LAST-MODIFIED:20250603T190256Z
UID:10139574-1899805500-1899806400@spacecenter.org
SUMMARY:James Webb Live Presentation
DESCRIPTION:
URL:https://spacecenter.org/events-calendar-event/james-webb-live-presentation/2030-03-15/
LOCATION:Theater – Destiny
CATEGORIES:Live Presentation
END:VEVENT
BEGIN:VEVENT
DTSTART;TZID=America/Chicago:20300315T121500
DTEND;TZID=America/Chicago:20300315T123000
DTSTAMP:20260420T194413
CREATED:20250602T213059Z
LAST-MODIFIED:20250603T190345Z
UID:10143230-1899807300-1899808200@spacecenter.org
SUMMARY:Story Corner Live Presentation
DESCRIPTION:
URL:https://spacecenter.org/events-calendar-event/story-corner-live-presentation-2/2030-03-15/
LOCATION:Theater – Artemis
CATEGORIES:Live Presentation
END:VEVENT
BEGIN:VEVENT
DTSTART;TZID=America/Chicago:20300315T124500
DTEND;TZID=America/Chicago:20300315T131500
DTSTAMP:20260420T194413
CREATED:20250602T214012Z
LAST-MODIFIED:20250603T190811Z
UID:10154198-1899809100-1899810900@spacecenter.org
SUMMARY:Artemis Live Presentation
DESCRIPTION:
URL:https://spacecenter.org/events-calendar-event/artemis-live-presentation-2/2030-03-15/
LOCATION:Theater – Destiny
CATEGORIES:Live Presentation
ATTACH;FMTTYPE=image/jpeg:https://spacecenter.org/wp-content/uploads/2022/10/Artemis-Capsule.jpeg
END:VEVENT
BEGIN:VEVENT
DTSTART;TZID=America/Chicago:20300315T131500
DTEND;TZID=America/Chicago:20300315T133000
DTSTAMP:20260420T194413
CREATED:20250602T213201Z
LAST-MODIFIED:20250603T190922Z
UID:10161510-1899810900-1899811800@spacecenter.org
SUMMARY:Story Corner Live Presentation
DESCRIPTION:
URL:https://spacecenter.org/events-calendar-event/story-corner-live-presentation-3/2030-03-15/
LOCATION:Theater – Artemis
CATEGORIES:Live Presentation
END:VEVENT
BEGIN:VEVENT
DTSTART;TZID=America/Chicago:20300315T134500
DTEND;TZID=America/Chicago:20300315T140000
DTSTAMP:20260420T194413
CREATED:20250602T212635Z
LAST-MODIFIED:20250603T191121Z
UID:10172478-1899812700-1899813600@spacecenter.org
SUMMARY:OSIRIS Rex Live Presentation
DESCRIPTION:
URL:https://spacecenter.org/events-calendar-event/osiris-rex-live-presentation-2/2030-03-15/
LOCATION:Mission Sketch Staircase
CATEGORIES:Live Presentation
ATTACH;FMTTYPE=image/jpeg:https://spacecenter.org/wp-content/uploads/2024/03/web-march2024_tls_osirisrex.jpg
END:VEVENT
BEGIN:VEVENT
DTSTART;TZID=America/Chicago:20300315T134500
DTEND;TZID=America/Chicago:20300315T140000
DTSTAMP:20260420T194413
CREATED:20250602T213557Z
LAST-MODIFIED:20250603T191327Z
UID:10176134-1899812700-1899813600@spacecenter.org
SUMMARY:James Webb Live Presentation
DESCRIPTION:
URL:https://spacecenter.org/events-calendar-event/james-webb-live-presentation-2/2030-03-15/
LOCATION:Theater – Destiny
CATEGORIES:Live Presentation
END:VEVENT
BEGIN:VEVENT
DTSTART;TZID=America/Chicago:20300315T144500
DTEND;TZID=America/Chicago:20300315T150000
DTSTAMP:20260420T194413
CREATED:20250602T213716Z
LAST-MODIFIED:20250603T191759Z
UID:10190758-1899816300-1899817200@spacecenter.org
SUMMARY:James Webb Live Presentation
DESCRIPTION:
URL:https://spacecenter.org/events-calendar-event/james-webb-live-presentation-3/2030-03-15/
LOCATION:Theater – Destiny
CATEGORIES:Live Presentation
END:VEVENT
BEGIN:VEVENT
DTSTART;TZID=America/Chicago:20300315T151500
DTEND;TZID=America/Chicago:20300315T153000
DTSTAMP:20260420T194413
CREATED:20250602T213249Z
LAST-MODIFIED:20250603T191942Z
UID:10198070-1899818100-1899819000@spacecenter.org
SUMMARY:Story Corner Live Presentation
DESCRIPTION:
URL:https://spacecenter.org/events-calendar-event/story-corner-live-presentation-4/2030-03-15/
LOCATION:Theater – Artemis
CATEGORIES:Live Presentation
END:VEVENT
BEGIN:VEVENT
DTSTART;TZID=America/Chicago:20300315T154500
DTEND;TZID=America/Chicago:20300315T161500
DTSTAMP:20260420T194413
CREATED:20250602T214125Z
LAST-MODIFIED:20250603T192119Z
UID:10209038-1899819900-1899821700@spacecenter.org
SUMMARY:Artemis Live Presentation
DESCRIPTION:
URL:https://spacecenter.org/events-calendar-event/artemis-live-presentation-3/2030-03-15/
LOCATION:Theater – Destiny
CATEGORIES:Live Presentation
ATTACH;FMTTYPE=image/jpeg:https://spacecenter.org/wp-content/uploads/2022/10/Artemis-Capsule.jpeg
END:VEVENT
BEGIN:VEVENT
DTSTART;TZID=America/Chicago:20300315T163000
DTEND;TZID=America/Chicago:20300315T164500
DTSTAMP:20260420T194413
CREATED:20250602T212726Z
LAST-MODIFIED:20250603T192225Z
UID:10216350-1899822600-1899823500@spacecenter.org
SUMMARY:OSIRIS Rex Live Presentation
DESCRIPTION:
URL:https://spacecenter.org/events-calendar-event/osiris-rex-live-presentation-3/2030-03-15/
LOCATION:Mission Sketch Staircase
CATEGORIES:Live Presentation
ATTACH;FMTTYPE=image/jpeg:https://spacecenter.org/wp-content/uploads/2024/03/web-march2024_tls_osirisrex.jpg
END:VEVENT
BEGIN:VEVENT
DTSTART;TZID=America/Chicago:20300316T104500
DTEND;TZID=America/Chicago:20300316T110000
DTSTAMP:20260420T194413
CREATED:20250602T212526Z
LAST-MODIFIED:20250603T185502Z
UID:10103015-1899888300-1899889200@spacecenter.org
SUMMARY:OSIRIS Rex Live Presentation
DESCRIPTION:
URL:https://spacecenter.org/events-calendar-event/osiris-rex-live-presentation/2030-03-16/
LOCATION:Mission Sketch Staircase
CATEGORIES:Live Presentation
ATTACH;FMTTYPE=image/jpeg:https://spacecenter.org/wp-content/uploads/2024/03/web-march2024_tls_osirisrex.jpg
END:VEVENT
BEGIN:VEVENT
DTSTART;TZID=America/Chicago:20300316T104500
DTEND;TZID=America/Chicago:20300316T111500
DTSTAMP:20260420T194413
CREATED:20250602T213905Z
LAST-MODIFIED:20250603T185637Z
UID:10110327-1899888300-1899890100@spacecenter.org
SUMMARY:Artemis Live Presentation
DESCRIPTION:
URL:https://spacecenter.org/events-calendar-event/artemis-live-presentation/2030-03-16/
LOCATION:Theater – Destiny
CATEGORIES:Live Presentation
ATTACH;FMTTYPE=image/jpeg:https://spacecenter.org/wp-content/uploads/2022/10/Artemis-Capsule.jpeg
END:VEVENT
BEGIN:VEVENT
DTSTART;TZID=America/Chicago:20300316T111500
DTEND;TZID=America/Chicago:20300316T113000
DTSTAMP:20260420T194413
CREATED:20250602T213010Z
LAST-MODIFIED:20250603T185901Z
UID:10121295-1899890100-1899891000@spacecenter.org
SUMMARY:Story Corner Live Presentation
DESCRIPTION:
URL:https://spacecenter.org/events-calendar-event/story-corner-live-presentation/2030-03-16/
LOCATION:Theater – Artemis
CATEGORIES:Live Presentation
END:VEVENT
BEGIN:VEVENT
DTSTART;TZID=America/Chicago:20300316T114500
DTEND;TZID=America/Chicago:20300316T120000
DTSTAMP:20260420T194413
CREATED:20250602T213503Z
LAST-MODIFIED:20250603T190256Z
UID:10139575-1899891900-1899892800@spacecenter.org
SUMMARY:James Webb Live Presentation
DESCRIPTION:
URL:https://spacecenter.org/events-calendar-event/james-webb-live-presentation/2030-03-16/
LOCATION:Theater – Destiny
CATEGORIES:Live Presentation
END:VEVENT
BEGIN:VEVENT
DTSTART;TZID=America/Chicago:20300316T121500
DTEND;TZID=America/Chicago:20300316T123000
DTSTAMP:20260420T194413
CREATED:20250602T213059Z
LAST-MODIFIED:20250603T190345Z
UID:10143231-1899893700-1899894600@spacecenter.org
SUMMARY:Story Corner Live Presentation
DESCRIPTION:
URL:https://spacecenter.org/events-calendar-event/story-corner-live-presentation-2/2030-03-16/
LOCATION:Theater – Artemis
CATEGORIES:Live Presentation
END:VEVENT
END:VCALENDAR