BEGIN:VCALENDAR
VERSION:2.0
PRODID:-//Space Center Houston - ECPv6.15.15//NONSGML v1.0//EN
CALSCALE:GREGORIAN
METHOD:PUBLISH
X-WR-CALNAME:Space Center Houston
X-ORIGINAL-URL:https://spacecenter.org
X-WR-CALDESC:Events for Space Center Houston
REFRESH-INTERVAL;VALUE=DURATION:PT1H
X-Robots-Tag:noindex
X-PUBLISHED-TTL:PT1H
BEGIN:VTIMEZONE
TZID:America/Chicago
BEGIN:DAYLIGHT
TZOFFSETFROM:-0600
TZOFFSETTO:-0500
TZNAME:CDT
DTSTART:20280312T080000
END:DAYLIGHT
BEGIN:STANDARD
TZOFFSETFROM:-0500
TZOFFSETTO:-0600
TZNAME:CST
DTSTART:20281105T070000
END:STANDARD
BEGIN:DAYLIGHT
TZOFFSETFROM:-0600
TZOFFSETTO:-0500
TZNAME:CDT
DTSTART:20290311T080000
END:DAYLIGHT
BEGIN:STANDARD
TZOFFSETFROM:-0500
TZOFFSETTO:-0600
TZNAME:CST
DTSTART:20291104T070000
END:STANDARD
BEGIN:DAYLIGHT
TZOFFSETFROM:-0600
TZOFFSETTO:-0500
TZNAME:CDT
DTSTART:20300310T080000
END:DAYLIGHT
BEGIN:STANDARD
TZOFFSETFROM:-0500
TZOFFSETTO:-0600
TZNAME:CST
DTSTART:20301103T070000
END:STANDARD
END:VTIMEZONE
BEGIN:VEVENT
DTSTART;TZID=America/Chicago:20290816T151500
DTEND;TZID=America/Chicago:20290816T153000
DTSTAMP:20260422T222804
CREATED:20250602T213249Z
LAST-MODIFIED:20250603T191942Z
UID:10197859-1881587700-1881588600@spacecenter.org
SUMMARY:Story Corner Live Presentation
DESCRIPTION:
URL:https://spacecenter.org/events-calendar-event/story-corner-live-presentation-4/2029-08-16/
LOCATION:Theater – Artemis
CATEGORIES:Live Presentation
END:VEVENT
BEGIN:VEVENT
DTSTART;TZID=America/Chicago:20290816T154500
DTEND;TZID=America/Chicago:20290816T161500
DTSTAMP:20260422T222804
CREATED:20250602T214125Z
LAST-MODIFIED:20250603T192119Z
UID:10208827-1881589500-1881591300@spacecenter.org
SUMMARY:Artemis Live Presentation
DESCRIPTION:
URL:https://spacecenter.org/events-calendar-event/artemis-live-presentation-3/2029-08-16/
LOCATION:Theater – Destiny
CATEGORIES:Live Presentation
ATTACH;FMTTYPE=image/jpeg:https://spacecenter.org/wp-content/uploads/2022/10/Artemis-Capsule.jpeg
END:VEVENT
BEGIN:VEVENT
DTSTART;TZID=America/Chicago:20290816T163000
DTEND;TZID=America/Chicago:20290816T164500
DTSTAMP:20260422T222804
CREATED:20250602T212726Z
LAST-MODIFIED:20250603T192225Z
UID:10216139-1881592200-1881593100@spacecenter.org
SUMMARY:OSIRIS Rex Live Presentation
DESCRIPTION:
URL:https://spacecenter.org/events-calendar-event/osiris-rex-live-presentation-3/2029-08-16/
LOCATION:Mission Sketch Staircase
CATEGORIES:Live Presentation
ATTACH;FMTTYPE=image/jpeg:https://spacecenter.org/wp-content/uploads/2024/03/web-march2024_tls_osirisrex.jpg
END:VEVENT
BEGIN:VEVENT
DTSTART;TZID=America/Chicago:20290817T104500
DTEND;TZID=America/Chicago:20290817T110000
DTSTAMP:20260422T222804
CREATED:20250602T212526Z
LAST-MODIFIED:20250603T185502Z
UID:10102804-1881657900-1881658800@spacecenter.org
SUMMARY:OSIRIS Rex Live Presentation
DESCRIPTION:
URL:https://spacecenter.org/events-calendar-event/osiris-rex-live-presentation/2029-08-17/
LOCATION:Mission Sketch Staircase
CATEGORIES:Live Presentation
ATTACH;FMTTYPE=image/jpeg:https://spacecenter.org/wp-content/uploads/2024/03/web-march2024_tls_osirisrex.jpg
END:VEVENT
BEGIN:VEVENT
DTSTART;TZID=America/Chicago:20290817T104500
DTEND;TZID=America/Chicago:20290817T111500
DTSTAMP:20260422T222804
CREATED:20250602T213905Z
LAST-MODIFIED:20250603T185637Z
UID:10110116-1881657900-1881659700@spacecenter.org
SUMMARY:Artemis Live Presentation
DESCRIPTION:
URL:https://spacecenter.org/events-calendar-event/artemis-live-presentation/2029-08-17/
LOCATION:Theater – Destiny
CATEGORIES:Live Presentation
ATTACH;FMTTYPE=image/jpeg:https://spacecenter.org/wp-content/uploads/2022/10/Artemis-Capsule.jpeg
END:VEVENT
BEGIN:VEVENT
DTSTART;TZID=America/Chicago:20290817T111500
DTEND;TZID=America/Chicago:20290817T113000
DTSTAMP:20260422T222804
CREATED:20250602T213010Z
LAST-MODIFIED:20250603T185901Z
UID:10121084-1881659700-1881660600@spacecenter.org
SUMMARY:Story Corner Live Presentation
DESCRIPTION:
URL:https://spacecenter.org/events-calendar-event/story-corner-live-presentation/2029-08-17/
LOCATION:Theater – Artemis
CATEGORIES:Live Presentation
END:VEVENT
BEGIN:VEVENT
DTSTART;TZID=America/Chicago:20290817T114500
DTEND;TZID=America/Chicago:20290817T120000
DTSTAMP:20260422T222804
CREATED:20250602T213503Z
LAST-MODIFIED:20250603T190256Z
UID:10139364-1881661500-1881662400@spacecenter.org
SUMMARY:James Webb Live Presentation
DESCRIPTION:
URL:https://spacecenter.org/events-calendar-event/james-webb-live-presentation/2029-08-17/
LOCATION:Theater – Destiny
CATEGORIES:Live Presentation
END:VEVENT
BEGIN:VEVENT
DTSTART;TZID=America/Chicago:20290817T121500
DTEND;TZID=America/Chicago:20290817T123000
DTSTAMP:20260422T222804
CREATED:20250602T213059Z
LAST-MODIFIED:20250603T190345Z
UID:10143020-1881663300-1881664200@spacecenter.org
SUMMARY:Story Corner Live Presentation
DESCRIPTION:
URL:https://spacecenter.org/events-calendar-event/story-corner-live-presentation-2/2029-08-17/
LOCATION:Theater – Artemis
CATEGORIES:Live Presentation
END:VEVENT
BEGIN:VEVENT
DTSTART;TZID=America/Chicago:20290817T124500
DTEND;TZID=America/Chicago:20290817T131500
DTSTAMP:20260422T222804
CREATED:20250602T214012Z
LAST-MODIFIED:20250603T190811Z
UID:10153988-1881665100-1881666900@spacecenter.org
SUMMARY:Artemis Live Presentation
DESCRIPTION:
URL:https://spacecenter.org/events-calendar-event/artemis-live-presentation-2/2029-08-17/
LOCATION:Theater – Destiny
CATEGORIES:Live Presentation
ATTACH;FMTTYPE=image/jpeg:https://spacecenter.org/wp-content/uploads/2022/10/Artemis-Capsule.jpeg
END:VEVENT
BEGIN:VEVENT
DTSTART;TZID=America/Chicago:20290817T131500
DTEND;TZID=America/Chicago:20290817T133000
DTSTAMP:20260422T222804
CREATED:20250602T213201Z
LAST-MODIFIED:20250603T190922Z
UID:10161300-1881666900-1881667800@spacecenter.org
SUMMARY:Story Corner Live Presentation
DESCRIPTION:
URL:https://spacecenter.org/events-calendar-event/story-corner-live-presentation-3/2029-08-17/
LOCATION:Theater – Artemis
CATEGORIES:Live Presentation
END:VEVENT
BEGIN:VEVENT
DTSTART;TZID=America/Chicago:20290817T134500
DTEND;TZID=America/Chicago:20290817T140000
DTSTAMP:20260422T222804
CREATED:20250602T212635Z
LAST-MODIFIED:20250603T191121Z
UID:10172268-1881668700-1881669600@spacecenter.org
SUMMARY:OSIRIS Rex Live Presentation
DESCRIPTION:
URL:https://spacecenter.org/events-calendar-event/osiris-rex-live-presentation-2/2029-08-17/
LOCATION:Mission Sketch Staircase
CATEGORIES:Live Presentation
ATTACH;FMTTYPE=image/jpeg:https://spacecenter.org/wp-content/uploads/2024/03/web-march2024_tls_osirisrex.jpg
END:VEVENT
BEGIN:VEVENT
DTSTART;TZID=America/Chicago:20290817T134500
DTEND;TZID=America/Chicago:20290817T140000
DTSTAMP:20260422T222804
CREATED:20250602T213557Z
LAST-MODIFIED:20250603T191327Z
UID:10175924-1881668700-1881669600@spacecenter.org
SUMMARY:James Webb Live Presentation
DESCRIPTION:
URL:https://spacecenter.org/events-calendar-event/james-webb-live-presentation-2/2029-08-17/
LOCATION:Theater – Destiny
CATEGORIES:Live Presentation
END:VEVENT
BEGIN:VEVENT
DTSTART;TZID=America/Chicago:20290817T144500
DTEND;TZID=America/Chicago:20290817T150000
DTSTAMP:20260422T222804
CREATED:20250602T213716Z
LAST-MODIFIED:20250603T191759Z
UID:10190548-1881672300-1881673200@spacecenter.org
SUMMARY:James Webb Live Presentation
DESCRIPTION:
URL:https://spacecenter.org/events-calendar-event/james-webb-live-presentation-3/2029-08-17/
LOCATION:Theater – Destiny
CATEGORIES:Live Presentation
END:VEVENT
BEGIN:VEVENT
DTSTART;TZID=America/Chicago:20290817T151500
DTEND;TZID=America/Chicago:20290817T153000
DTSTAMP:20260422T222804
CREATED:20250602T213249Z
LAST-MODIFIED:20250603T191942Z
UID:10197860-1881674100-1881675000@spacecenter.org
SUMMARY:Story Corner Live Presentation
DESCRIPTION:
URL:https://spacecenter.org/events-calendar-event/story-corner-live-presentation-4/2029-08-17/
LOCATION:Theater – Artemis
CATEGORIES:Live Presentation
END:VEVENT
BEGIN:VEVENT
DTSTART;TZID=America/Chicago:20290817T154500
DTEND;TZID=America/Chicago:20290817T161500
DTSTAMP:20260422T222804
CREATED:20250602T214125Z
LAST-MODIFIED:20250603T192119Z
UID:10208828-1881675900-1881677700@spacecenter.org
SUMMARY:Artemis Live Presentation
DESCRIPTION:
URL:https://spacecenter.org/events-calendar-event/artemis-live-presentation-3/2029-08-17/
LOCATION:Theater – Destiny
CATEGORIES:Live Presentation
ATTACH;FMTTYPE=image/jpeg:https://spacecenter.org/wp-content/uploads/2022/10/Artemis-Capsule.jpeg
END:VEVENT
BEGIN:VEVENT
DTSTART;TZID=America/Chicago:20290817T163000
DTEND;TZID=America/Chicago:20290817T164500
DTSTAMP:20260422T222804
CREATED:20250602T212726Z
LAST-MODIFIED:20250603T192225Z
UID:10216140-1881678600-1881679500@spacecenter.org
SUMMARY:OSIRIS Rex Live Presentation
DESCRIPTION:
URL:https://spacecenter.org/events-calendar-event/osiris-rex-live-presentation-3/2029-08-17/
LOCATION:Mission Sketch Staircase
CATEGORIES:Live Presentation
ATTACH;FMTTYPE=image/jpeg:https://spacecenter.org/wp-content/uploads/2024/03/web-march2024_tls_osirisrex.jpg
END:VEVENT
BEGIN:VEVENT
DTSTART;TZID=America/Chicago:20290818T104500
DTEND;TZID=America/Chicago:20290818T110000
DTSTAMP:20260422T222804
CREATED:20250602T212526Z
LAST-MODIFIED:20250603T185502Z
UID:10102805-1881744300-1881745200@spacecenter.org
SUMMARY:OSIRIS Rex Live Presentation
DESCRIPTION:
URL:https://spacecenter.org/events-calendar-event/osiris-rex-live-presentation/2029-08-18/
LOCATION:Mission Sketch Staircase
CATEGORIES:Live Presentation
ATTACH;FMTTYPE=image/jpeg:https://spacecenter.org/wp-content/uploads/2024/03/web-march2024_tls_osirisrex.jpg
END:VEVENT
BEGIN:VEVENT
DTSTART;TZID=America/Chicago:20290818T104500
DTEND;TZID=America/Chicago:20290818T111500
DTSTAMP:20260422T222804
CREATED:20250602T213905Z
LAST-MODIFIED:20250603T185637Z
UID:10110117-1881744300-1881746100@spacecenter.org
SUMMARY:Artemis Live Presentation
DESCRIPTION:
URL:https://spacecenter.org/events-calendar-event/artemis-live-presentation/2029-08-18/
LOCATION:Theater – Destiny
CATEGORIES:Live Presentation
ATTACH;FMTTYPE=image/jpeg:https://spacecenter.org/wp-content/uploads/2022/10/Artemis-Capsule.jpeg
END:VEVENT
BEGIN:VEVENT
DTSTART;TZID=America/Chicago:20290818T111500
DTEND;TZID=America/Chicago:20290818T113000
DTSTAMP:20260422T222804
CREATED:20250602T213010Z
LAST-MODIFIED:20250603T185901Z
UID:10121085-1881746100-1881747000@spacecenter.org
SUMMARY:Story Corner Live Presentation
DESCRIPTION:
URL:https://spacecenter.org/events-calendar-event/story-corner-live-presentation/2029-08-18/
LOCATION:Theater – Artemis
CATEGORIES:Live Presentation
END:VEVENT
BEGIN:VEVENT
DTSTART;TZID=America/Chicago:20290818T114500
DTEND;TZID=America/Chicago:20290818T120000
DTSTAMP:20260422T222804
CREATED:20250602T213503Z
LAST-MODIFIED:20250603T190256Z
UID:10139365-1881747900-1881748800@spacecenter.org
SUMMARY:James Webb Live Presentation
DESCRIPTION:
URL:https://spacecenter.org/events-calendar-event/james-webb-live-presentation/2029-08-18/
LOCATION:Theater – Destiny
CATEGORIES:Live Presentation
END:VEVENT
BEGIN:VEVENT
DTSTART;TZID=America/Chicago:20290818T121500
DTEND;TZID=America/Chicago:20290818T123000
DTSTAMP:20260422T222804
CREATED:20250602T213059Z
LAST-MODIFIED:20250603T190345Z
UID:10143021-1881749700-1881750600@spacecenter.org
SUMMARY:Story Corner Live Presentation
DESCRIPTION:
URL:https://spacecenter.org/events-calendar-event/story-corner-live-presentation-2/2029-08-18/
LOCATION:Theater – Artemis
CATEGORIES:Live Presentation
END:VEVENT
BEGIN:VEVENT
DTSTART;TZID=America/Chicago:20290818T124500
DTEND;TZID=America/Chicago:20290818T131500
DTSTAMP:20260422T222804
CREATED:20250602T214012Z
LAST-MODIFIED:20250603T190811Z
UID:10153989-1881751500-1881753300@spacecenter.org
SUMMARY:Artemis Live Presentation
DESCRIPTION:
URL:https://spacecenter.org/events-calendar-event/artemis-live-presentation-2/2029-08-18/
LOCATION:Theater – Destiny
CATEGORIES:Live Presentation
ATTACH;FMTTYPE=image/jpeg:https://spacecenter.org/wp-content/uploads/2022/10/Artemis-Capsule.jpeg
END:VEVENT
BEGIN:VEVENT
DTSTART;TZID=America/Chicago:20290818T131500
DTEND;TZID=America/Chicago:20290818T133000
DTSTAMP:20260422T222804
CREATED:20250602T213201Z
LAST-MODIFIED:20250603T190922Z
UID:10161301-1881753300-1881754200@spacecenter.org
SUMMARY:Story Corner Live Presentation
DESCRIPTION:
URL:https://spacecenter.org/events-calendar-event/story-corner-live-presentation-3/2029-08-18/
LOCATION:Theater – Artemis
CATEGORIES:Live Presentation
END:VEVENT
BEGIN:VEVENT
DTSTART;TZID=America/Chicago:20290818T134500
DTEND;TZID=America/Chicago:20290818T140000
DTSTAMP:20260422T222804
CREATED:20250602T212635Z
LAST-MODIFIED:20250603T191121Z
UID:10172269-1881755100-1881756000@spacecenter.org
SUMMARY:OSIRIS Rex Live Presentation
DESCRIPTION:
URL:https://spacecenter.org/events-calendar-event/osiris-rex-live-presentation-2/2029-08-18/
LOCATION:Mission Sketch Staircase
CATEGORIES:Live Presentation
ATTACH;FMTTYPE=image/jpeg:https://spacecenter.org/wp-content/uploads/2024/03/web-march2024_tls_osirisrex.jpg
END:VEVENT
BEGIN:VEVENT
DTSTART;TZID=America/Chicago:20290818T134500
DTEND;TZID=America/Chicago:20290818T140000
DTSTAMP:20260422T222804
CREATED:20250602T213557Z
LAST-MODIFIED:20250603T191327Z
UID:10175925-1881755100-1881756000@spacecenter.org
SUMMARY:James Webb Live Presentation
DESCRIPTION:
URL:https://spacecenter.org/events-calendar-event/james-webb-live-presentation-2/2029-08-18/
LOCATION:Theater – Destiny
CATEGORIES:Live Presentation
END:VEVENT
BEGIN:VEVENT
DTSTART;TZID=America/Chicago:20290818T144500
DTEND;TZID=America/Chicago:20290818T150000
DTSTAMP:20260422T222804
CREATED:20250602T213716Z
LAST-MODIFIED:20250603T191759Z
UID:10190549-1881758700-1881759600@spacecenter.org
SUMMARY:James Webb Live Presentation
DESCRIPTION:
URL:https://spacecenter.org/events-calendar-event/james-webb-live-presentation-3/2029-08-18/
LOCATION:Theater – Destiny
CATEGORIES:Live Presentation
END:VEVENT
BEGIN:VEVENT
DTSTART;TZID=America/Chicago:20290818T151500
DTEND;TZID=America/Chicago:20290818T153000
DTSTAMP:20260422T222804
CREATED:20250602T213249Z
LAST-MODIFIED:20250603T191942Z
UID:10197861-1881760500-1881761400@spacecenter.org
SUMMARY:Story Corner Live Presentation
DESCRIPTION:
URL:https://spacecenter.org/events-calendar-event/story-corner-live-presentation-4/2029-08-18/
LOCATION:Theater – Artemis
CATEGORIES:Live Presentation
END:VEVENT
BEGIN:VEVENT
DTSTART;TZID=America/Chicago:20290818T154500
DTEND;TZID=America/Chicago:20290818T161500
DTSTAMP:20260422T222804
CREATED:20250602T214125Z
LAST-MODIFIED:20250603T192119Z
UID:10208829-1881762300-1881764100@spacecenter.org
SUMMARY:Artemis Live Presentation
DESCRIPTION:
URL:https://spacecenter.org/events-calendar-event/artemis-live-presentation-3/2029-08-18/
LOCATION:Theater – Destiny
CATEGORIES:Live Presentation
ATTACH;FMTTYPE=image/jpeg:https://spacecenter.org/wp-content/uploads/2022/10/Artemis-Capsule.jpeg
END:VEVENT
BEGIN:VEVENT
DTSTART;TZID=America/Chicago:20290818T163000
DTEND;TZID=America/Chicago:20290818T164500
DTSTAMP:20260422T222804
CREATED:20250602T212726Z
LAST-MODIFIED:20250603T192225Z
UID:10216141-1881765000-1881765900@spacecenter.org
SUMMARY:OSIRIS Rex Live Presentation
DESCRIPTION:
URL:https://spacecenter.org/events-calendar-event/osiris-rex-live-presentation-3/2029-08-18/
LOCATION:Mission Sketch Staircase
CATEGORIES:Live Presentation
ATTACH;FMTTYPE=image/jpeg:https://spacecenter.org/wp-content/uploads/2024/03/web-march2024_tls_osirisrex.jpg
END:VEVENT
BEGIN:VEVENT
DTSTART;TZID=America/Chicago:20290819T104500
DTEND;TZID=America/Chicago:20290819T110000
DTSTAMP:20260422T222804
CREATED:20250602T212526Z
LAST-MODIFIED:20250603T185502Z
UID:10102806-1881830700-1881831600@spacecenter.org
SUMMARY:OSIRIS Rex Live Presentation
DESCRIPTION:
URL:https://spacecenter.org/events-calendar-event/osiris-rex-live-presentation/2029-08-19/
LOCATION:Mission Sketch Staircase
CATEGORIES:Live Presentation
ATTACH;FMTTYPE=image/jpeg:https://spacecenter.org/wp-content/uploads/2024/03/web-march2024_tls_osirisrex.jpg
END:VEVENT
END:VCALENDAR