BEGIN:VCALENDAR
VERSION:2.0
PRODID:-//Space Center Houston - ECPv6.15.15//NONSGML v1.0//EN
CALSCALE:GREGORIAN
METHOD:PUBLISH
X-WR-CALNAME:Space Center Houston
X-ORIGINAL-URL:https://spacecenter.org
X-WR-CALDESC:Events for Space Center Houston
REFRESH-INTERVAL;VALUE=DURATION:PT1H
X-Robots-Tag:noindex
X-PUBLISHED-TTL:PT1H
BEGIN:VTIMEZONE
TZID:America/Chicago
BEGIN:DAYLIGHT
TZOFFSETFROM:-0600
TZOFFSETTO:-0500
TZNAME:CDT
DTSTART:20280312T080000
END:DAYLIGHT
BEGIN:STANDARD
TZOFFSETFROM:-0500
TZOFFSETTO:-0600
TZNAME:CST
DTSTART:20281105T070000
END:STANDARD
BEGIN:DAYLIGHT
TZOFFSETFROM:-0600
TZOFFSETTO:-0500
TZNAME:CDT
DTSTART:20290311T080000
END:DAYLIGHT
BEGIN:STANDARD
TZOFFSETFROM:-0500
TZOFFSETTO:-0600
TZNAME:CST
DTSTART:20291104T070000
END:STANDARD
BEGIN:DAYLIGHT
TZOFFSETFROM:-0600
TZOFFSETTO:-0500
TZNAME:CDT
DTSTART:20300310T080000
END:DAYLIGHT
BEGIN:STANDARD
TZOFFSETFROM:-0500
TZOFFSETTO:-0600
TZNAME:CST
DTSTART:20301103T070000
END:STANDARD
END:VTIMEZONE
BEGIN:VEVENT
DTSTART;TZID=America/Chicago:20290805T114500
DTEND;TZID=America/Chicago:20290805T120000
DTSTAMP:20260420T144147
CREATED:20250602T213503Z
LAST-MODIFIED:20250603T190256Z
UID:10139352-1880624700-1880625600@spacecenter.org
SUMMARY:James Webb Live Presentation
DESCRIPTION:
URL:https://spacecenter.org/events-calendar-event/james-webb-live-presentation/2029-08-05/
LOCATION:Theater – Destiny
CATEGORIES:Live Presentation
END:VEVENT
BEGIN:VEVENT
DTSTART;TZID=America/Chicago:20290805T121500
DTEND;TZID=America/Chicago:20290805T123000
DTSTAMP:20260420T144147
CREATED:20250602T213059Z
LAST-MODIFIED:20250603T190345Z
UID:10143008-1880626500-1880627400@spacecenter.org
SUMMARY:Story Corner Live Presentation
DESCRIPTION:
URL:https://spacecenter.org/events-calendar-event/story-corner-live-presentation-2/2029-08-05/
LOCATION:Theater – Artemis
CATEGORIES:Live Presentation
END:VEVENT
BEGIN:VEVENT
DTSTART;TZID=America/Chicago:20290805T124500
DTEND;TZID=America/Chicago:20290805T131500
DTSTAMP:20260420T144147
CREATED:20250602T214012Z
LAST-MODIFIED:20250603T190811Z
UID:10153976-1880628300-1880630100@spacecenter.org
SUMMARY:Artemis Live Presentation
DESCRIPTION:
URL:https://spacecenter.org/events-calendar-event/artemis-live-presentation-2/2029-08-05/
LOCATION:Theater – Destiny
CATEGORIES:Live Presentation
ATTACH;FMTTYPE=image/jpeg:https://spacecenter.org/wp-content/uploads/2022/10/Artemis-Capsule.jpeg
END:VEVENT
BEGIN:VEVENT
DTSTART;TZID=America/Chicago:20290805T131500
DTEND;TZID=America/Chicago:20290805T133000
DTSTAMP:20260420T144147
CREATED:20250602T213201Z
LAST-MODIFIED:20250603T190922Z
UID:10161288-1880630100-1880631000@spacecenter.org
SUMMARY:Story Corner Live Presentation
DESCRIPTION:
URL:https://spacecenter.org/events-calendar-event/story-corner-live-presentation-3/2029-08-05/
LOCATION:Theater – Artemis
CATEGORIES:Live Presentation
END:VEVENT
BEGIN:VEVENT
DTSTART;TZID=America/Chicago:20290805T134500
DTEND;TZID=America/Chicago:20290805T140000
DTSTAMP:20260420T144147
CREATED:20250602T212635Z
LAST-MODIFIED:20250603T191121Z
UID:10172256-1880631900-1880632800@spacecenter.org
SUMMARY:OSIRIS Rex Live Presentation
DESCRIPTION:
URL:https://spacecenter.org/events-calendar-event/osiris-rex-live-presentation-2/2029-08-05/
LOCATION:Mission Sketch Staircase
CATEGORIES:Live Presentation
ATTACH;FMTTYPE=image/jpeg:https://spacecenter.org/wp-content/uploads/2024/03/web-march2024_tls_osirisrex.jpg
END:VEVENT
BEGIN:VEVENT
DTSTART;TZID=America/Chicago:20290805T134500
DTEND;TZID=America/Chicago:20290805T140000
DTSTAMP:20260420T144147
CREATED:20250602T213557Z
LAST-MODIFIED:20250603T191327Z
UID:10175912-1880631900-1880632800@spacecenter.org
SUMMARY:James Webb Live Presentation
DESCRIPTION:
URL:https://spacecenter.org/events-calendar-event/james-webb-live-presentation-2/2029-08-05/
LOCATION:Theater – Destiny
CATEGORIES:Live Presentation
END:VEVENT
BEGIN:VEVENT
DTSTART;TZID=America/Chicago:20290805T144500
DTEND;TZID=America/Chicago:20290805T150000
DTSTAMP:20260420T144147
CREATED:20250602T213716Z
LAST-MODIFIED:20250603T191759Z
UID:10190536-1880635500-1880636400@spacecenter.org
SUMMARY:James Webb Live Presentation
DESCRIPTION:
URL:https://spacecenter.org/events-calendar-event/james-webb-live-presentation-3/2029-08-05/
LOCATION:Theater – Destiny
CATEGORIES:Live Presentation
END:VEVENT
BEGIN:VEVENT
DTSTART;TZID=America/Chicago:20290805T151500
DTEND;TZID=America/Chicago:20290805T153000
DTSTAMP:20260420T144148
CREATED:20250602T213249Z
LAST-MODIFIED:20250603T191942Z
UID:10197848-1880637300-1880638200@spacecenter.org
SUMMARY:Story Corner Live Presentation
DESCRIPTION:
URL:https://spacecenter.org/events-calendar-event/story-corner-live-presentation-4/2029-08-05/
LOCATION:Theater – Artemis
CATEGORIES:Live Presentation
END:VEVENT
BEGIN:VEVENT
DTSTART;TZID=America/Chicago:20290805T154500
DTEND;TZID=America/Chicago:20290805T161500
DTSTAMP:20260420T144148
CREATED:20250602T214125Z
LAST-MODIFIED:20250603T192119Z
UID:10208816-1880639100-1880640900@spacecenter.org
SUMMARY:Artemis Live Presentation
DESCRIPTION:
URL:https://spacecenter.org/events-calendar-event/artemis-live-presentation-3/2029-08-05/
LOCATION:Theater – Destiny
CATEGORIES:Live Presentation
ATTACH;FMTTYPE=image/jpeg:https://spacecenter.org/wp-content/uploads/2022/10/Artemis-Capsule.jpeg
END:VEVENT
BEGIN:VEVENT
DTSTART;TZID=America/Chicago:20290805T163000
DTEND;TZID=America/Chicago:20290805T164500
DTSTAMP:20260420T144148
CREATED:20250602T212726Z
LAST-MODIFIED:20250603T192225Z
UID:10216128-1880641800-1880642700@spacecenter.org
SUMMARY:OSIRIS Rex Live Presentation
DESCRIPTION:
URL:https://spacecenter.org/events-calendar-event/osiris-rex-live-presentation-3/2029-08-05/
LOCATION:Mission Sketch Staircase
CATEGORIES:Live Presentation
ATTACH;FMTTYPE=image/jpeg:https://spacecenter.org/wp-content/uploads/2024/03/web-march2024_tls_osirisrex.jpg
END:VEVENT
BEGIN:VEVENT
DTSTART;TZID=America/Chicago:20290806T104500
DTEND;TZID=America/Chicago:20290806T110000
DTSTAMP:20260420T144148
CREATED:20250602T212526Z
LAST-MODIFIED:20250603T185502Z
UID:10102793-1880707500-1880708400@spacecenter.org
SUMMARY:OSIRIS Rex Live Presentation
DESCRIPTION:
URL:https://spacecenter.org/events-calendar-event/osiris-rex-live-presentation/2029-08-06/
LOCATION:Mission Sketch Staircase
CATEGORIES:Live Presentation
ATTACH;FMTTYPE=image/jpeg:https://spacecenter.org/wp-content/uploads/2024/03/web-march2024_tls_osirisrex.jpg
END:VEVENT
BEGIN:VEVENT
DTSTART;TZID=America/Chicago:20290806T104500
DTEND;TZID=America/Chicago:20290806T111500
DTSTAMP:20260420T144148
CREATED:20250602T213905Z
LAST-MODIFIED:20250603T185637Z
UID:10110105-1880707500-1880709300@spacecenter.org
SUMMARY:Artemis Live Presentation
DESCRIPTION:
URL:https://spacecenter.org/events-calendar-event/artemis-live-presentation/2029-08-06/
LOCATION:Theater – Destiny
CATEGORIES:Live Presentation
ATTACH;FMTTYPE=image/jpeg:https://spacecenter.org/wp-content/uploads/2022/10/Artemis-Capsule.jpeg
END:VEVENT
BEGIN:VEVENT
DTSTART;TZID=America/Chicago:20290806T111500
DTEND;TZID=America/Chicago:20290806T113000
DTSTAMP:20260420T144148
CREATED:20250602T213010Z
LAST-MODIFIED:20250603T185901Z
UID:10121073-1880709300-1880710200@spacecenter.org
SUMMARY:Story Corner Live Presentation
DESCRIPTION:
URL:https://spacecenter.org/events-calendar-event/story-corner-live-presentation/2029-08-06/
LOCATION:Theater – Artemis
CATEGORIES:Live Presentation
END:VEVENT
BEGIN:VEVENT
DTSTART;TZID=America/Chicago:20290806T114500
DTEND;TZID=America/Chicago:20290806T120000
DTSTAMP:20260420T144148
CREATED:20250602T213503Z
LAST-MODIFIED:20250603T190256Z
UID:10139353-1880711100-1880712000@spacecenter.org
SUMMARY:James Webb Live Presentation
DESCRIPTION:
URL:https://spacecenter.org/events-calendar-event/james-webb-live-presentation/2029-08-06/
LOCATION:Theater – Destiny
CATEGORIES:Live Presentation
END:VEVENT
BEGIN:VEVENT
DTSTART;TZID=America/Chicago:20290806T121500
DTEND;TZID=America/Chicago:20290806T123000
DTSTAMP:20260420T144148
CREATED:20250602T213059Z
LAST-MODIFIED:20250603T190345Z
UID:10143009-1880712900-1880713800@spacecenter.org
SUMMARY:Story Corner Live Presentation
DESCRIPTION:
URL:https://spacecenter.org/events-calendar-event/story-corner-live-presentation-2/2029-08-06/
LOCATION:Theater – Artemis
CATEGORIES:Live Presentation
END:VEVENT
BEGIN:VEVENT
DTSTART;TZID=America/Chicago:20290806T124500
DTEND;TZID=America/Chicago:20290806T131500
DTSTAMP:20260420T144148
CREATED:20250602T214012Z
LAST-MODIFIED:20250603T190811Z
UID:10153977-1880714700-1880716500@spacecenter.org
SUMMARY:Artemis Live Presentation
DESCRIPTION:
URL:https://spacecenter.org/events-calendar-event/artemis-live-presentation-2/2029-08-06/
LOCATION:Theater – Destiny
CATEGORIES:Live Presentation
ATTACH;FMTTYPE=image/jpeg:https://spacecenter.org/wp-content/uploads/2022/10/Artemis-Capsule.jpeg
END:VEVENT
BEGIN:VEVENT
DTSTART;TZID=America/Chicago:20290806T131500
DTEND;TZID=America/Chicago:20290806T133000
DTSTAMP:20260420T144148
CREATED:20250602T213201Z
LAST-MODIFIED:20250603T190922Z
UID:10161289-1880716500-1880717400@spacecenter.org
SUMMARY:Story Corner Live Presentation
DESCRIPTION:
URL:https://spacecenter.org/events-calendar-event/story-corner-live-presentation-3/2029-08-06/
LOCATION:Theater – Artemis
CATEGORIES:Live Presentation
END:VEVENT
BEGIN:VEVENT
DTSTART;TZID=America/Chicago:20290806T134500
DTEND;TZID=America/Chicago:20290806T140000
DTSTAMP:20260420T144148
CREATED:20250602T212635Z
LAST-MODIFIED:20250603T191121Z
UID:10172257-1880718300-1880719200@spacecenter.org
SUMMARY:OSIRIS Rex Live Presentation
DESCRIPTION:
URL:https://spacecenter.org/events-calendar-event/osiris-rex-live-presentation-2/2029-08-06/
LOCATION:Mission Sketch Staircase
CATEGORIES:Live Presentation
ATTACH;FMTTYPE=image/jpeg:https://spacecenter.org/wp-content/uploads/2024/03/web-march2024_tls_osirisrex.jpg
END:VEVENT
BEGIN:VEVENT
DTSTART;TZID=America/Chicago:20290806T134500
DTEND;TZID=America/Chicago:20290806T140000
DTSTAMP:20260420T144148
CREATED:20250602T213557Z
LAST-MODIFIED:20250603T191327Z
UID:10175913-1880718300-1880719200@spacecenter.org
SUMMARY:James Webb Live Presentation
DESCRIPTION:
URL:https://spacecenter.org/events-calendar-event/james-webb-live-presentation-2/2029-08-06/
LOCATION:Theater – Destiny
CATEGORIES:Live Presentation
END:VEVENT
BEGIN:VEVENT
DTSTART;TZID=America/Chicago:20290806T144500
DTEND;TZID=America/Chicago:20290806T150000
DTSTAMP:20260420T144148
CREATED:20250602T213716Z
LAST-MODIFIED:20250603T191759Z
UID:10190537-1880721900-1880722800@spacecenter.org
SUMMARY:James Webb Live Presentation
DESCRIPTION:
URL:https://spacecenter.org/events-calendar-event/james-webb-live-presentation-3/2029-08-06/
LOCATION:Theater – Destiny
CATEGORIES:Live Presentation
END:VEVENT
BEGIN:VEVENT
DTSTART;TZID=America/Chicago:20290806T151500
DTEND;TZID=America/Chicago:20290806T153000
DTSTAMP:20260420T144148
CREATED:20250602T213249Z
LAST-MODIFIED:20250603T191942Z
UID:10197849-1880723700-1880724600@spacecenter.org
SUMMARY:Story Corner Live Presentation
DESCRIPTION:
URL:https://spacecenter.org/events-calendar-event/story-corner-live-presentation-4/2029-08-06/
LOCATION:Theater – Artemis
CATEGORIES:Live Presentation
END:VEVENT
BEGIN:VEVENT
DTSTART;TZID=America/Chicago:20290806T154500
DTEND;TZID=America/Chicago:20290806T161500
DTSTAMP:20260420T144148
CREATED:20250602T214125Z
LAST-MODIFIED:20250603T192119Z
UID:10208817-1880725500-1880727300@spacecenter.org
SUMMARY:Artemis Live Presentation
DESCRIPTION:
URL:https://spacecenter.org/events-calendar-event/artemis-live-presentation-3/2029-08-06/
LOCATION:Theater – Destiny
CATEGORIES:Live Presentation
ATTACH;FMTTYPE=image/jpeg:https://spacecenter.org/wp-content/uploads/2022/10/Artemis-Capsule.jpeg
END:VEVENT
BEGIN:VEVENT
DTSTART;TZID=America/Chicago:20290806T163000
DTEND;TZID=America/Chicago:20290806T164500
DTSTAMP:20260420T144148
CREATED:20250602T212726Z
LAST-MODIFIED:20250603T192225Z
UID:10216129-1880728200-1880729100@spacecenter.org
SUMMARY:OSIRIS Rex Live Presentation
DESCRIPTION:
URL:https://spacecenter.org/events-calendar-event/osiris-rex-live-presentation-3/2029-08-06/
LOCATION:Mission Sketch Staircase
CATEGORIES:Live Presentation
ATTACH;FMTTYPE=image/jpeg:https://spacecenter.org/wp-content/uploads/2024/03/web-march2024_tls_osirisrex.jpg
END:VEVENT
BEGIN:VEVENT
DTSTART;TZID=America/Chicago:20290807T104500
DTEND;TZID=America/Chicago:20290807T110000
DTSTAMP:20260420T144148
CREATED:20250602T212526Z
LAST-MODIFIED:20250603T185502Z
UID:10102794-1880793900-1880794800@spacecenter.org
SUMMARY:OSIRIS Rex Live Presentation
DESCRIPTION:
URL:https://spacecenter.org/events-calendar-event/osiris-rex-live-presentation/2029-08-07/
LOCATION:Mission Sketch Staircase
CATEGORIES:Live Presentation
ATTACH;FMTTYPE=image/jpeg:https://spacecenter.org/wp-content/uploads/2024/03/web-march2024_tls_osirisrex.jpg
END:VEVENT
BEGIN:VEVENT
DTSTART;TZID=America/Chicago:20290807T104500
DTEND;TZID=America/Chicago:20290807T111500
DTSTAMP:20260420T144148
CREATED:20250602T213905Z
LAST-MODIFIED:20250603T185637Z
UID:10110106-1880793900-1880795700@spacecenter.org
SUMMARY:Artemis Live Presentation
DESCRIPTION:
URL:https://spacecenter.org/events-calendar-event/artemis-live-presentation/2029-08-07/
LOCATION:Theater – Destiny
CATEGORIES:Live Presentation
ATTACH;FMTTYPE=image/jpeg:https://spacecenter.org/wp-content/uploads/2022/10/Artemis-Capsule.jpeg
END:VEVENT
BEGIN:VEVENT
DTSTART;TZID=America/Chicago:20290807T111500
DTEND;TZID=America/Chicago:20290807T113000
DTSTAMP:20260420T144148
CREATED:20250602T213010Z
LAST-MODIFIED:20250603T185901Z
UID:10121074-1880795700-1880796600@spacecenter.org
SUMMARY:Story Corner Live Presentation
DESCRIPTION:
URL:https://spacecenter.org/events-calendar-event/story-corner-live-presentation/2029-08-07/
LOCATION:Theater – Artemis
CATEGORIES:Live Presentation
END:VEVENT
BEGIN:VEVENT
DTSTART;TZID=America/Chicago:20290807T114500
DTEND;TZID=America/Chicago:20290807T120000
DTSTAMP:20260420T144148
CREATED:20250602T213503Z
LAST-MODIFIED:20250603T190256Z
UID:10139354-1880797500-1880798400@spacecenter.org
SUMMARY:James Webb Live Presentation
DESCRIPTION:
URL:https://spacecenter.org/events-calendar-event/james-webb-live-presentation/2029-08-07/
LOCATION:Theater – Destiny
CATEGORIES:Live Presentation
END:VEVENT
BEGIN:VEVENT
DTSTART;TZID=America/Chicago:20290807T121500
DTEND;TZID=America/Chicago:20290807T123000
DTSTAMP:20260420T144148
CREATED:20250602T213059Z
LAST-MODIFIED:20250603T190345Z
UID:10143010-1880799300-1880800200@spacecenter.org
SUMMARY:Story Corner Live Presentation
DESCRIPTION:
URL:https://spacecenter.org/events-calendar-event/story-corner-live-presentation-2/2029-08-07/
LOCATION:Theater – Artemis
CATEGORIES:Live Presentation
END:VEVENT
BEGIN:VEVENT
DTSTART;TZID=America/Chicago:20290807T124500
DTEND;TZID=America/Chicago:20290807T131500
DTSTAMP:20260420T144148
CREATED:20250602T214012Z
LAST-MODIFIED:20250603T190811Z
UID:10153978-1880801100-1880802900@spacecenter.org
SUMMARY:Artemis Live Presentation
DESCRIPTION:
URL:https://spacecenter.org/events-calendar-event/artemis-live-presentation-2/2029-08-07/
LOCATION:Theater – Destiny
CATEGORIES:Live Presentation
ATTACH;FMTTYPE=image/jpeg:https://spacecenter.org/wp-content/uploads/2022/10/Artemis-Capsule.jpeg
END:VEVENT
BEGIN:VEVENT
DTSTART;TZID=America/Chicago:20290807T131500
DTEND;TZID=America/Chicago:20290807T133000
DTSTAMP:20260420T144148
CREATED:20250602T213201Z
LAST-MODIFIED:20250603T190922Z
UID:10161290-1880802900-1880803800@spacecenter.org
SUMMARY:Story Corner Live Presentation
DESCRIPTION:
URL:https://spacecenter.org/events-calendar-event/story-corner-live-presentation-3/2029-08-07/
LOCATION:Theater – Artemis
CATEGORIES:Live Presentation
END:VEVENT
END:VCALENDAR