BEGIN:VCALENDAR
VERSION:2.0
PRODID:-//Space Center Houston - ECPv6.15.15//NONSGML v1.0//EN
CALSCALE:GREGORIAN
METHOD:PUBLISH
X-WR-CALNAME:Space Center Houston
X-ORIGINAL-URL:https://spacecenter.org
X-WR-CALDESC:Events for Space Center Houston
REFRESH-INTERVAL;VALUE=DURATION:PT1H
X-Robots-Tag:noindex
X-PUBLISHED-TTL:PT1H
BEGIN:VTIMEZONE
TZID:America/Chicago
BEGIN:DAYLIGHT
TZOFFSETFROM:-0600
TZOFFSETTO:-0500
TZNAME:CDT
DTSTART:20280312T080000
END:DAYLIGHT
BEGIN:STANDARD
TZOFFSETFROM:-0500
TZOFFSETTO:-0600
TZNAME:CST
DTSTART:20281105T070000
END:STANDARD
BEGIN:DAYLIGHT
TZOFFSETFROM:-0600
TZOFFSETTO:-0500
TZNAME:CDT
DTSTART:20290311T080000
END:DAYLIGHT
BEGIN:STANDARD
TZOFFSETFROM:-0500
TZOFFSETTO:-0600
TZNAME:CST
DTSTART:20291104T070000
END:STANDARD
BEGIN:DAYLIGHT
TZOFFSETFROM:-0600
TZOFFSETTO:-0500
TZNAME:CDT
DTSTART:20300310T080000
END:DAYLIGHT
BEGIN:STANDARD
TZOFFSETFROM:-0500
TZOFFSETTO:-0600
TZNAME:CST
DTSTART:20301103T070000
END:STANDARD
END:VTIMEZONE
BEGIN:VEVENT
DTSTART;TZID=America/Chicago:20290731T114500
DTEND;TZID=America/Chicago:20290731T120000
DTSTAMP:20260423T213557
CREATED:20250602T213503Z
LAST-MODIFIED:20250603T190256Z
UID:10139347-1880192700-1880193600@spacecenter.org
SUMMARY:James Webb Live Presentation
DESCRIPTION:
URL:https://spacecenter.org/events-calendar-event/james-webb-live-presentation/2029-07-31/
LOCATION:Theater – Destiny
CATEGORIES:Live Presentation
END:VEVENT
BEGIN:VEVENT
DTSTART;TZID=America/Chicago:20290731T121500
DTEND;TZID=America/Chicago:20290731T123000
DTSTAMP:20260423T213557
CREATED:20250602T213059Z
LAST-MODIFIED:20250603T190345Z
UID:10143003-1880194500-1880195400@spacecenter.org
SUMMARY:Story Corner Live Presentation
DESCRIPTION:
URL:https://spacecenter.org/events-calendar-event/story-corner-live-presentation-2/2029-07-31/
LOCATION:Theater – Artemis
CATEGORIES:Live Presentation
END:VEVENT
BEGIN:VEVENT
DTSTART;TZID=America/Chicago:20290731T124500
DTEND;TZID=America/Chicago:20290731T131500
DTSTAMP:20260423T213557
CREATED:20250602T214012Z
LAST-MODIFIED:20250603T190811Z
UID:10153971-1880196300-1880198100@spacecenter.org
SUMMARY:Artemis Live Presentation
DESCRIPTION:
URL:https://spacecenter.org/events-calendar-event/artemis-live-presentation-2/2029-07-31/
LOCATION:Theater – Destiny
CATEGORIES:Live Presentation
ATTACH;FMTTYPE=image/jpeg:https://spacecenter.org/wp-content/uploads/2022/10/Artemis-Capsule.jpeg
END:VEVENT
BEGIN:VEVENT
DTSTART;TZID=America/Chicago:20290731T131500
DTEND;TZID=America/Chicago:20290731T133000
DTSTAMP:20260423T213557
CREATED:20250602T213201Z
LAST-MODIFIED:20250603T190922Z
UID:10161283-1880198100-1880199000@spacecenter.org
SUMMARY:Story Corner Live Presentation
DESCRIPTION:
URL:https://spacecenter.org/events-calendar-event/story-corner-live-presentation-3/2029-07-31/
LOCATION:Theater – Artemis
CATEGORIES:Live Presentation
END:VEVENT
BEGIN:VEVENT
DTSTART;TZID=America/Chicago:20290731T134500
DTEND;TZID=America/Chicago:20290731T140000
DTSTAMP:20260423T213557
CREATED:20250602T212635Z
LAST-MODIFIED:20250603T191121Z
UID:10172251-1880199900-1880200800@spacecenter.org
SUMMARY:OSIRIS Rex Live Presentation
DESCRIPTION:
URL:https://spacecenter.org/events-calendar-event/osiris-rex-live-presentation-2/2029-07-31/
LOCATION:Mission Sketch Staircase
CATEGORIES:Live Presentation
ATTACH;FMTTYPE=image/jpeg:https://spacecenter.org/wp-content/uploads/2024/03/web-march2024_tls_osirisrex.jpg
END:VEVENT
BEGIN:VEVENT
DTSTART;TZID=America/Chicago:20290731T134500
DTEND;TZID=America/Chicago:20290731T140000
DTSTAMP:20260423T213557
CREATED:20250602T213557Z
LAST-MODIFIED:20250603T191327Z
UID:10175907-1880199900-1880200800@spacecenter.org
SUMMARY:James Webb Live Presentation
DESCRIPTION:
URL:https://spacecenter.org/events-calendar-event/james-webb-live-presentation-2/2029-07-31/
LOCATION:Theater – Destiny
CATEGORIES:Live Presentation
END:VEVENT
BEGIN:VEVENT
DTSTART;TZID=America/Chicago:20290731T144500
DTEND;TZID=America/Chicago:20290731T150000
DTSTAMP:20260423T213557
CREATED:20250602T213716Z
LAST-MODIFIED:20250603T191759Z
UID:10190531-1880203500-1880204400@spacecenter.org
SUMMARY:James Webb Live Presentation
DESCRIPTION:
URL:https://spacecenter.org/events-calendar-event/james-webb-live-presentation-3/2029-07-31/
LOCATION:Theater – Destiny
CATEGORIES:Live Presentation
END:VEVENT
BEGIN:VEVENT
DTSTART;TZID=America/Chicago:20290731T151500
DTEND;TZID=America/Chicago:20290731T153000
DTSTAMP:20260423T213557
CREATED:20250602T213249Z
LAST-MODIFIED:20250603T191942Z
UID:10197843-1880205300-1880206200@spacecenter.org
SUMMARY:Story Corner Live Presentation
DESCRIPTION:
URL:https://spacecenter.org/events-calendar-event/story-corner-live-presentation-4/2029-07-31/
LOCATION:Theater – Artemis
CATEGORIES:Live Presentation
END:VEVENT
BEGIN:VEVENT
DTSTART;TZID=America/Chicago:20290731T154500
DTEND;TZID=America/Chicago:20290731T161500
DTSTAMP:20260423T213557
CREATED:20250602T214125Z
LAST-MODIFIED:20250603T192119Z
UID:10208811-1880207100-1880208900@spacecenter.org
SUMMARY:Artemis Live Presentation
DESCRIPTION:
URL:https://spacecenter.org/events-calendar-event/artemis-live-presentation-3/2029-07-31/
LOCATION:Theater – Destiny
CATEGORIES:Live Presentation
ATTACH;FMTTYPE=image/jpeg:https://spacecenter.org/wp-content/uploads/2022/10/Artemis-Capsule.jpeg
END:VEVENT
BEGIN:VEVENT
DTSTART;TZID=America/Chicago:20290731T163000
DTEND;TZID=America/Chicago:20290731T164500
DTSTAMP:20260423T213557
CREATED:20250602T212726Z
LAST-MODIFIED:20250603T192225Z
UID:10216123-1880209800-1880210700@spacecenter.org
SUMMARY:OSIRIS Rex Live Presentation
DESCRIPTION:
URL:https://spacecenter.org/events-calendar-event/osiris-rex-live-presentation-3/2029-07-31/
LOCATION:Mission Sketch Staircase
CATEGORIES:Live Presentation
ATTACH;FMTTYPE=image/jpeg:https://spacecenter.org/wp-content/uploads/2024/03/web-march2024_tls_osirisrex.jpg
END:VEVENT
BEGIN:VEVENT
DTSTART;TZID=America/Chicago:20290801T104500
DTEND;TZID=America/Chicago:20290801T110000
DTSTAMP:20260423T213557
CREATED:20250602T212526Z
LAST-MODIFIED:20250603T185502Z
UID:10102788-1880275500-1880276400@spacecenter.org
SUMMARY:OSIRIS Rex Live Presentation
DESCRIPTION:
URL:https://spacecenter.org/events-calendar-event/osiris-rex-live-presentation/2029-08-01/
LOCATION:Mission Sketch Staircase
CATEGORIES:Live Presentation
ATTACH;FMTTYPE=image/jpeg:https://spacecenter.org/wp-content/uploads/2024/03/web-march2024_tls_osirisrex.jpg
END:VEVENT
BEGIN:VEVENT
DTSTART;TZID=America/Chicago:20290801T104500
DTEND;TZID=America/Chicago:20290801T111500
DTSTAMP:20260423T213557
CREATED:20250602T213905Z
LAST-MODIFIED:20250603T185637Z
UID:10110100-1880275500-1880277300@spacecenter.org
SUMMARY:Artemis Live Presentation
DESCRIPTION:
URL:https://spacecenter.org/events-calendar-event/artemis-live-presentation/2029-08-01/
LOCATION:Theater – Destiny
CATEGORIES:Live Presentation
ATTACH;FMTTYPE=image/jpeg:https://spacecenter.org/wp-content/uploads/2022/10/Artemis-Capsule.jpeg
END:VEVENT
BEGIN:VEVENT
DTSTART;TZID=America/Chicago:20290801T111500
DTEND;TZID=America/Chicago:20290801T113000
DTSTAMP:20260423T213557
CREATED:20250602T213010Z
LAST-MODIFIED:20250603T185901Z
UID:10121068-1880277300-1880278200@spacecenter.org
SUMMARY:Story Corner Live Presentation
DESCRIPTION:
URL:https://spacecenter.org/events-calendar-event/story-corner-live-presentation/2029-08-01/
LOCATION:Theater – Artemis
CATEGORIES:Live Presentation
END:VEVENT
BEGIN:VEVENT
DTSTART;TZID=America/Chicago:20290801T114500
DTEND;TZID=America/Chicago:20290801T120000
DTSTAMP:20260423T213557
CREATED:20250602T213503Z
LAST-MODIFIED:20250603T190256Z
UID:10139348-1880279100-1880280000@spacecenter.org
SUMMARY:James Webb Live Presentation
DESCRIPTION:
URL:https://spacecenter.org/events-calendar-event/james-webb-live-presentation/2029-08-01/
LOCATION:Theater – Destiny
CATEGORIES:Live Presentation
END:VEVENT
BEGIN:VEVENT
DTSTART;TZID=America/Chicago:20290801T121500
DTEND;TZID=America/Chicago:20290801T123000
DTSTAMP:20260423T213557
CREATED:20250602T213059Z
LAST-MODIFIED:20250603T190345Z
UID:10143004-1880280900-1880281800@spacecenter.org
SUMMARY:Story Corner Live Presentation
DESCRIPTION:
URL:https://spacecenter.org/events-calendar-event/story-corner-live-presentation-2/2029-08-01/
LOCATION:Theater – Artemis
CATEGORIES:Live Presentation
END:VEVENT
BEGIN:VEVENT
DTSTART;TZID=America/Chicago:20290801T124500
DTEND;TZID=America/Chicago:20290801T131500
DTSTAMP:20260423T213557
CREATED:20250602T214012Z
LAST-MODIFIED:20250603T190811Z
UID:10153972-1880282700-1880284500@spacecenter.org
SUMMARY:Artemis Live Presentation
DESCRIPTION:
URL:https://spacecenter.org/events-calendar-event/artemis-live-presentation-2/2029-08-01/
LOCATION:Theater – Destiny
CATEGORIES:Live Presentation
ATTACH;FMTTYPE=image/jpeg:https://spacecenter.org/wp-content/uploads/2022/10/Artemis-Capsule.jpeg
END:VEVENT
BEGIN:VEVENT
DTSTART;TZID=America/Chicago:20290801T131500
DTEND;TZID=America/Chicago:20290801T133000
DTSTAMP:20260423T213557
CREATED:20250602T213201Z
LAST-MODIFIED:20250603T190922Z
UID:10161284-1880284500-1880285400@spacecenter.org
SUMMARY:Story Corner Live Presentation
DESCRIPTION:
URL:https://spacecenter.org/events-calendar-event/story-corner-live-presentation-3/2029-08-01/
LOCATION:Theater – Artemis
CATEGORIES:Live Presentation
END:VEVENT
BEGIN:VEVENT
DTSTART;TZID=America/Chicago:20290801T134500
DTEND;TZID=America/Chicago:20290801T140000
DTSTAMP:20260423T213557
CREATED:20250602T212635Z
LAST-MODIFIED:20250603T191121Z
UID:10172252-1880286300-1880287200@spacecenter.org
SUMMARY:OSIRIS Rex Live Presentation
DESCRIPTION:
URL:https://spacecenter.org/events-calendar-event/osiris-rex-live-presentation-2/2029-08-01/
LOCATION:Mission Sketch Staircase
CATEGORIES:Live Presentation
ATTACH;FMTTYPE=image/jpeg:https://spacecenter.org/wp-content/uploads/2024/03/web-march2024_tls_osirisrex.jpg
END:VEVENT
BEGIN:VEVENT
DTSTART;TZID=America/Chicago:20290801T134500
DTEND;TZID=America/Chicago:20290801T140000
DTSTAMP:20260423T213557
CREATED:20250602T213557Z
LAST-MODIFIED:20250603T191327Z
UID:10175908-1880286300-1880287200@spacecenter.org
SUMMARY:James Webb Live Presentation
DESCRIPTION:
URL:https://spacecenter.org/events-calendar-event/james-webb-live-presentation-2/2029-08-01/
LOCATION:Theater – Destiny
CATEGORIES:Live Presentation
END:VEVENT
BEGIN:VEVENT
DTSTART;TZID=America/Chicago:20290801T144500
DTEND;TZID=America/Chicago:20290801T150000
DTSTAMP:20260423T213557
CREATED:20250602T213716Z
LAST-MODIFIED:20250603T191759Z
UID:10190532-1880289900-1880290800@spacecenter.org
SUMMARY:James Webb Live Presentation
DESCRIPTION:
URL:https://spacecenter.org/events-calendar-event/james-webb-live-presentation-3/2029-08-01/
LOCATION:Theater – Destiny
CATEGORIES:Live Presentation
END:VEVENT
BEGIN:VEVENT
DTSTART;TZID=America/Chicago:20290801T151500
DTEND;TZID=America/Chicago:20290801T153000
DTSTAMP:20260423T213557
CREATED:20250602T213249Z
LAST-MODIFIED:20250603T191942Z
UID:10197844-1880291700-1880292600@spacecenter.org
SUMMARY:Story Corner Live Presentation
DESCRIPTION:
URL:https://spacecenter.org/events-calendar-event/story-corner-live-presentation-4/2029-08-01/
LOCATION:Theater – Artemis
CATEGORIES:Live Presentation
END:VEVENT
BEGIN:VEVENT
DTSTART;TZID=America/Chicago:20290801T154500
DTEND;TZID=America/Chicago:20290801T161500
DTSTAMP:20260423T213557
CREATED:20250602T214125Z
LAST-MODIFIED:20250603T192119Z
UID:10208812-1880293500-1880295300@spacecenter.org
SUMMARY:Artemis Live Presentation
DESCRIPTION:
URL:https://spacecenter.org/events-calendar-event/artemis-live-presentation-3/2029-08-01/
LOCATION:Theater – Destiny
CATEGORIES:Live Presentation
ATTACH;FMTTYPE=image/jpeg:https://spacecenter.org/wp-content/uploads/2022/10/Artemis-Capsule.jpeg
END:VEVENT
BEGIN:VEVENT
DTSTART;TZID=America/Chicago:20290801T163000
DTEND;TZID=America/Chicago:20290801T164500
DTSTAMP:20260423T213557
CREATED:20250602T212726Z
LAST-MODIFIED:20250603T192225Z
UID:10216124-1880296200-1880297100@spacecenter.org
SUMMARY:OSIRIS Rex Live Presentation
DESCRIPTION:
URL:https://spacecenter.org/events-calendar-event/osiris-rex-live-presentation-3/2029-08-01/
LOCATION:Mission Sketch Staircase
CATEGORIES:Live Presentation
ATTACH;FMTTYPE=image/jpeg:https://spacecenter.org/wp-content/uploads/2024/03/web-march2024_tls_osirisrex.jpg
END:VEVENT
BEGIN:VEVENT
DTSTART;TZID=America/Chicago:20290802T104500
DTEND;TZID=America/Chicago:20290802T110000
DTSTAMP:20260423T213557
CREATED:20250602T212526Z
LAST-MODIFIED:20250603T185502Z
UID:10102789-1880361900-1880362800@spacecenter.org
SUMMARY:OSIRIS Rex Live Presentation
DESCRIPTION:
URL:https://spacecenter.org/events-calendar-event/osiris-rex-live-presentation/2029-08-02/
LOCATION:Mission Sketch Staircase
CATEGORIES:Live Presentation
ATTACH;FMTTYPE=image/jpeg:https://spacecenter.org/wp-content/uploads/2024/03/web-march2024_tls_osirisrex.jpg
END:VEVENT
BEGIN:VEVENT
DTSTART;TZID=America/Chicago:20290802T104500
DTEND;TZID=America/Chicago:20290802T111500
DTSTAMP:20260423T213557
CREATED:20250602T213905Z
LAST-MODIFIED:20250603T185637Z
UID:10110101-1880361900-1880363700@spacecenter.org
SUMMARY:Artemis Live Presentation
DESCRIPTION:
URL:https://spacecenter.org/events-calendar-event/artemis-live-presentation/2029-08-02/
LOCATION:Theater – Destiny
CATEGORIES:Live Presentation
ATTACH;FMTTYPE=image/jpeg:https://spacecenter.org/wp-content/uploads/2022/10/Artemis-Capsule.jpeg
END:VEVENT
BEGIN:VEVENT
DTSTART;TZID=America/Chicago:20290802T111500
DTEND;TZID=America/Chicago:20290802T113000
DTSTAMP:20260423T213557
CREATED:20250602T213010Z
LAST-MODIFIED:20250603T185901Z
UID:10121069-1880363700-1880364600@spacecenter.org
SUMMARY:Story Corner Live Presentation
DESCRIPTION:
URL:https://spacecenter.org/events-calendar-event/story-corner-live-presentation/2029-08-02/
LOCATION:Theater – Artemis
CATEGORIES:Live Presentation
END:VEVENT
BEGIN:VEVENT
DTSTART;TZID=America/Chicago:20290802T114500
DTEND;TZID=America/Chicago:20290802T120000
DTSTAMP:20260423T213557
CREATED:20250602T213503Z
LAST-MODIFIED:20250603T190256Z
UID:10139349-1880365500-1880366400@spacecenter.org
SUMMARY:James Webb Live Presentation
DESCRIPTION:
URL:https://spacecenter.org/events-calendar-event/james-webb-live-presentation/2029-08-02/
LOCATION:Theater – Destiny
CATEGORIES:Live Presentation
END:VEVENT
BEGIN:VEVENT
DTSTART;TZID=America/Chicago:20290802T121500
DTEND;TZID=America/Chicago:20290802T123000
DTSTAMP:20260423T213557
CREATED:20250602T213059Z
LAST-MODIFIED:20250603T190345Z
UID:10143005-1880367300-1880368200@spacecenter.org
SUMMARY:Story Corner Live Presentation
DESCRIPTION:
URL:https://spacecenter.org/events-calendar-event/story-corner-live-presentation-2/2029-08-02/
LOCATION:Theater – Artemis
CATEGORIES:Live Presentation
END:VEVENT
BEGIN:VEVENT
DTSTART;TZID=America/Chicago:20290802T124500
DTEND;TZID=America/Chicago:20290802T131500
DTSTAMP:20260423T213557
CREATED:20250602T214012Z
LAST-MODIFIED:20250603T190811Z
UID:10153973-1880369100-1880370900@spacecenter.org
SUMMARY:Artemis Live Presentation
DESCRIPTION:
URL:https://spacecenter.org/events-calendar-event/artemis-live-presentation-2/2029-08-02/
LOCATION:Theater – Destiny
CATEGORIES:Live Presentation
ATTACH;FMTTYPE=image/jpeg:https://spacecenter.org/wp-content/uploads/2022/10/Artemis-Capsule.jpeg
END:VEVENT
BEGIN:VEVENT
DTSTART;TZID=America/Chicago:20290802T131500
DTEND;TZID=America/Chicago:20290802T133000
DTSTAMP:20260423T213557
CREATED:20250602T213201Z
LAST-MODIFIED:20250603T190922Z
UID:10161285-1880370900-1880371800@spacecenter.org
SUMMARY:Story Corner Live Presentation
DESCRIPTION:
URL:https://spacecenter.org/events-calendar-event/story-corner-live-presentation-3/2029-08-02/
LOCATION:Theater – Artemis
CATEGORIES:Live Presentation
END:VEVENT
END:VCALENDAR