BEGIN:VCALENDAR
VERSION:2.0
PRODID:-//Space Center Houston - ECPv6.15.15//NONSGML v1.0//EN
CALSCALE:GREGORIAN
METHOD:PUBLISH
X-ORIGINAL-URL:https://spacecenter.org
X-WR-CALDESC:Events for Space Center Houston
REFRESH-INTERVAL;VALUE=DURATION:PT1H
X-Robots-Tag:noindex
X-PUBLISHED-TTL:PT1H
BEGIN:VTIMEZONE
TZID:America/Chicago
BEGIN:DAYLIGHT
TZOFFSETFROM:-0600
TZOFFSETTO:-0500
TZNAME:CDT
DTSTART:20280312T080000
END:DAYLIGHT
BEGIN:STANDARD
TZOFFSETFROM:-0500
TZOFFSETTO:-0600
TZNAME:CST
DTSTART:20281105T070000
END:STANDARD
BEGIN:DAYLIGHT
TZOFFSETFROM:-0600
TZOFFSETTO:-0500
TZNAME:CDT
DTSTART:20290311T080000
END:DAYLIGHT
BEGIN:STANDARD
TZOFFSETFROM:-0500
TZOFFSETTO:-0600
TZNAME:CST
DTSTART:20291104T070000
END:STANDARD
BEGIN:DAYLIGHT
TZOFFSETFROM:-0600
TZOFFSETTO:-0500
TZNAME:CDT
DTSTART:20300310T080000
END:DAYLIGHT
BEGIN:STANDARD
TZOFFSETFROM:-0500
TZOFFSETTO:-0600
TZNAME:CST
DTSTART:20301103T070000
END:STANDARD
END:VTIMEZONE
BEGIN:VEVENT
DTSTART;TZID=America/Chicago:20290727T124500
DTEND;TZID=America/Chicago:20290727T131500
DTSTAMP:20260422T150133
CREATED:20250602T214012Z
LAST-MODIFIED:20250603T190811Z
UID:10153967-1879850700-1879852500@spacecenter.org
SUMMARY:Artemis Live Presentation
DESCRIPTION:
URL:https://spacecenter.org/events-calendar-event/artemis-live-presentation-2/2029-07-27/
LOCATION:Theater – Destiny
CATEGORIES:Live Presentation
ATTACH;FMTTYPE=image/jpeg:https://spacecenter.org/wp-content/uploads/2022/10/Artemis-Capsule.jpeg
END:VEVENT
BEGIN:VEVENT
DTSTART;TZID=America/Chicago:20290727T131500
DTEND;TZID=America/Chicago:20290727T133000
DTSTAMP:20260422T150133
CREATED:20250602T213201Z
LAST-MODIFIED:20250603T190922Z
UID:10161279-1879852500-1879853400@spacecenter.org
SUMMARY:Story Corner Live Presentation
DESCRIPTION:
URL:https://spacecenter.org/events-calendar-event/story-corner-live-presentation-3/2029-07-27/
LOCATION:Theater – Artemis
CATEGORIES:Live Presentation
END:VEVENT
BEGIN:VEVENT
DTSTART;TZID=America/Chicago:20290727T134500
DTEND;TZID=America/Chicago:20290727T140000
DTSTAMP:20260422T150133
CREATED:20250602T212635Z
LAST-MODIFIED:20250603T191121Z
UID:10172247-1879854300-1879855200@spacecenter.org
SUMMARY:OSIRIS Rex Live Presentation
DESCRIPTION:
URL:https://spacecenter.org/events-calendar-event/osiris-rex-live-presentation-2/2029-07-27/
LOCATION:Mission Sketch Staircase
CATEGORIES:Live Presentation
ATTACH;FMTTYPE=image/jpeg:https://spacecenter.org/wp-content/uploads/2024/03/web-march2024_tls_osirisrex.jpg
END:VEVENT
BEGIN:VEVENT
DTSTART;TZID=America/Chicago:20290727T134500
DTEND;TZID=America/Chicago:20290727T140000
DTSTAMP:20260422T150133
CREATED:20250602T213557Z
LAST-MODIFIED:20250603T191327Z
UID:10175903-1879854300-1879855200@spacecenter.org
SUMMARY:James Webb Live Presentation
DESCRIPTION:
URL:https://spacecenter.org/events-calendar-event/james-webb-live-presentation-2/2029-07-27/
LOCATION:Theater – Destiny
CATEGORIES:Live Presentation
END:VEVENT
BEGIN:VEVENT
DTSTART;TZID=America/Chicago:20290727T144500
DTEND;TZID=America/Chicago:20290727T150000
DTSTAMP:20260422T150133
CREATED:20250602T213716Z
LAST-MODIFIED:20250603T191759Z
UID:10190527-1879857900-1879858800@spacecenter.org
SUMMARY:James Webb Live Presentation
DESCRIPTION:
URL:https://spacecenter.org/events-calendar-event/james-webb-live-presentation-3/2029-07-27/
LOCATION:Theater – Destiny
CATEGORIES:Live Presentation
END:VEVENT
BEGIN:VEVENT
DTSTART;TZID=America/Chicago:20290727T151500
DTEND;TZID=America/Chicago:20290727T153000
DTSTAMP:20260422T150133
CREATED:20250602T213249Z
LAST-MODIFIED:20250603T191942Z
UID:10197839-1879859700-1879860600@spacecenter.org
SUMMARY:Story Corner Live Presentation
DESCRIPTION:
URL:https://spacecenter.org/events-calendar-event/story-corner-live-presentation-4/2029-07-27/
LOCATION:Theater – Artemis
CATEGORIES:Live Presentation
END:VEVENT
BEGIN:VEVENT
DTSTART;TZID=America/Chicago:20290727T154500
DTEND;TZID=America/Chicago:20290727T161500
DTSTAMP:20260422T150133
CREATED:20250602T214125Z
LAST-MODIFIED:20250603T192119Z
UID:10208807-1879861500-1879863300@spacecenter.org
SUMMARY:Artemis Live Presentation
DESCRIPTION:
URL:https://spacecenter.org/events-calendar-event/artemis-live-presentation-3/2029-07-27/
LOCATION:Theater – Destiny
CATEGORIES:Live Presentation
ATTACH;FMTTYPE=image/jpeg:https://spacecenter.org/wp-content/uploads/2022/10/Artemis-Capsule.jpeg
END:VEVENT
BEGIN:VEVENT
DTSTART;TZID=America/Chicago:20290727T163000
DTEND;TZID=America/Chicago:20290727T164500
DTSTAMP:20260422T150133
CREATED:20250602T212726Z
LAST-MODIFIED:20250603T192225Z
UID:10216119-1879864200-1879865100@spacecenter.org
SUMMARY:OSIRIS Rex Live Presentation
DESCRIPTION:
URL:https://spacecenter.org/events-calendar-event/osiris-rex-live-presentation-3/2029-07-27/
LOCATION:Mission Sketch Staircase
CATEGORIES:Live Presentation
ATTACH;FMTTYPE=image/jpeg:https://spacecenter.org/wp-content/uploads/2024/03/web-march2024_tls_osirisrex.jpg
END:VEVENT
BEGIN:VEVENT
DTSTART;TZID=America/Chicago:20290728T104500
DTEND;TZID=America/Chicago:20290728T110000
DTSTAMP:20260422T150133
CREATED:20250602T212526Z
LAST-MODIFIED:20250603T185502Z
UID:10102784-1879929900-1879930800@spacecenter.org
SUMMARY:OSIRIS Rex Live Presentation
DESCRIPTION:
URL:https://spacecenter.org/events-calendar-event/osiris-rex-live-presentation/2029-07-28/
LOCATION:Mission Sketch Staircase
CATEGORIES:Live Presentation
ATTACH;FMTTYPE=image/jpeg:https://spacecenter.org/wp-content/uploads/2024/03/web-march2024_tls_osirisrex.jpg
END:VEVENT
BEGIN:VEVENT
DTSTART;TZID=America/Chicago:20290728T104500
DTEND;TZID=America/Chicago:20290728T111500
DTSTAMP:20260422T150133
CREATED:20250602T213905Z
LAST-MODIFIED:20250603T185637Z
UID:10110096-1879929900-1879931700@spacecenter.org
SUMMARY:Artemis Live Presentation
DESCRIPTION:
URL:https://spacecenter.org/events-calendar-event/artemis-live-presentation/2029-07-28/
LOCATION:Theater – Destiny
CATEGORIES:Live Presentation
ATTACH;FMTTYPE=image/jpeg:https://spacecenter.org/wp-content/uploads/2022/10/Artemis-Capsule.jpeg
END:VEVENT
BEGIN:VEVENT
DTSTART;TZID=America/Chicago:20290728T111500
DTEND;TZID=America/Chicago:20290728T113000
DTSTAMP:20260422T150133
CREATED:20250602T213010Z
LAST-MODIFIED:20250603T185901Z
UID:10121064-1879931700-1879932600@spacecenter.org
SUMMARY:Story Corner Live Presentation
DESCRIPTION:
URL:https://spacecenter.org/events-calendar-event/story-corner-live-presentation/2029-07-28/
LOCATION:Theater – Artemis
CATEGORIES:Live Presentation
END:VEVENT
BEGIN:VEVENT
DTSTART;TZID=America/Chicago:20290728T114500
DTEND;TZID=America/Chicago:20290728T120000
DTSTAMP:20260422T150133
CREATED:20250602T213503Z
LAST-MODIFIED:20250603T190256Z
UID:10139344-1879933500-1879934400@spacecenter.org
SUMMARY:James Webb Live Presentation
DESCRIPTION:
URL:https://spacecenter.org/events-calendar-event/james-webb-live-presentation/2029-07-28/
LOCATION:Theater – Destiny
CATEGORIES:Live Presentation
END:VEVENT
BEGIN:VEVENT
DTSTART;TZID=America/Chicago:20290728T121500
DTEND;TZID=America/Chicago:20290728T123000
DTSTAMP:20260422T150133
CREATED:20250602T213059Z
LAST-MODIFIED:20250603T190345Z
UID:10143000-1879935300-1879936200@spacecenter.org
SUMMARY:Story Corner Live Presentation
DESCRIPTION:
URL:https://spacecenter.org/events-calendar-event/story-corner-live-presentation-2/2029-07-28/
LOCATION:Theater – Artemis
CATEGORIES:Live Presentation
END:VEVENT
BEGIN:VEVENT
DTSTART;TZID=America/Chicago:20290728T124500
DTEND;TZID=America/Chicago:20290728T131500
DTSTAMP:20260422T150133
CREATED:20250602T214012Z
LAST-MODIFIED:20250603T190811Z
UID:10153968-1879937100-1879938900@spacecenter.org
SUMMARY:Artemis Live Presentation
DESCRIPTION:
URL:https://spacecenter.org/events-calendar-event/artemis-live-presentation-2/2029-07-28/
LOCATION:Theater – Destiny
CATEGORIES:Live Presentation
ATTACH;FMTTYPE=image/jpeg:https://spacecenter.org/wp-content/uploads/2022/10/Artemis-Capsule.jpeg
END:VEVENT
BEGIN:VEVENT
DTSTART;TZID=America/Chicago:20290728T131500
DTEND;TZID=America/Chicago:20290728T133000
DTSTAMP:20260422T150133
CREATED:20250602T213201Z
LAST-MODIFIED:20250603T190922Z
UID:10161280-1879938900-1879939800@spacecenter.org
SUMMARY:Story Corner Live Presentation
DESCRIPTION:
URL:https://spacecenter.org/events-calendar-event/story-corner-live-presentation-3/2029-07-28/
LOCATION:Theater – Artemis
CATEGORIES:Live Presentation
END:VEVENT
BEGIN:VEVENT
DTSTART;TZID=America/Chicago:20290728T134500
DTEND;TZID=America/Chicago:20290728T140000
DTSTAMP:20260422T150133
CREATED:20250602T212635Z
LAST-MODIFIED:20250603T191121Z
UID:10172248-1879940700-1879941600@spacecenter.org
SUMMARY:OSIRIS Rex Live Presentation
DESCRIPTION:
URL:https://spacecenter.org/events-calendar-event/osiris-rex-live-presentation-2/2029-07-28/
LOCATION:Mission Sketch Staircase
CATEGORIES:Live Presentation
ATTACH;FMTTYPE=image/jpeg:https://spacecenter.org/wp-content/uploads/2024/03/web-march2024_tls_osirisrex.jpg
END:VEVENT
BEGIN:VEVENT
DTSTART;TZID=America/Chicago:20290728T134500
DTEND;TZID=America/Chicago:20290728T140000
DTSTAMP:20260422T150133
CREATED:20250602T213557Z
LAST-MODIFIED:20250603T191327Z
UID:10175904-1879940700-1879941600@spacecenter.org
SUMMARY:James Webb Live Presentation
DESCRIPTION:
URL:https://spacecenter.org/events-calendar-event/james-webb-live-presentation-2/2029-07-28/
LOCATION:Theater – Destiny
CATEGORIES:Live Presentation
END:VEVENT
BEGIN:VEVENT
DTSTART;TZID=America/Chicago:20290728T144500
DTEND;TZID=America/Chicago:20290728T150000
DTSTAMP:20260422T150133
CREATED:20250602T213716Z
LAST-MODIFIED:20250603T191759Z
UID:10190528-1879944300-1879945200@spacecenter.org
SUMMARY:James Webb Live Presentation
DESCRIPTION:
URL:https://spacecenter.org/events-calendar-event/james-webb-live-presentation-3/2029-07-28/
LOCATION:Theater – Destiny
CATEGORIES:Live Presentation
END:VEVENT
BEGIN:VEVENT
DTSTART;TZID=America/Chicago:20290728T151500
DTEND;TZID=America/Chicago:20290728T153000
DTSTAMP:20260422T150133
CREATED:20250602T213249Z
LAST-MODIFIED:20250603T191942Z
UID:10197840-1879946100-1879947000@spacecenter.org
SUMMARY:Story Corner Live Presentation
DESCRIPTION:
URL:https://spacecenter.org/events-calendar-event/story-corner-live-presentation-4/2029-07-28/
LOCATION:Theater – Artemis
CATEGORIES:Live Presentation
END:VEVENT
BEGIN:VEVENT
DTSTART;TZID=America/Chicago:20290728T154500
DTEND;TZID=America/Chicago:20290728T161500
DTSTAMP:20260422T150133
CREATED:20250602T214125Z
LAST-MODIFIED:20250603T192119Z
UID:10208808-1879947900-1879949700@spacecenter.org
SUMMARY:Artemis Live Presentation
DESCRIPTION:
URL:https://spacecenter.org/events-calendar-event/artemis-live-presentation-3/2029-07-28/
LOCATION:Theater – Destiny
CATEGORIES:Live Presentation
ATTACH;FMTTYPE=image/jpeg:https://spacecenter.org/wp-content/uploads/2022/10/Artemis-Capsule.jpeg
END:VEVENT
BEGIN:VEVENT
DTSTART;TZID=America/Chicago:20290728T163000
DTEND;TZID=America/Chicago:20290728T164500
DTSTAMP:20260422T150133
CREATED:20250602T212726Z
LAST-MODIFIED:20250603T192225Z
UID:10216120-1879950600-1879951500@spacecenter.org
SUMMARY:OSIRIS Rex Live Presentation
DESCRIPTION:
URL:https://spacecenter.org/events-calendar-event/osiris-rex-live-presentation-3/2029-07-28/
LOCATION:Mission Sketch Staircase
CATEGORIES:Live Presentation
ATTACH;FMTTYPE=image/jpeg:https://spacecenter.org/wp-content/uploads/2024/03/web-march2024_tls_osirisrex.jpg
END:VEVENT
BEGIN:VEVENT
DTSTART;TZID=America/Chicago:20290729T104500
DTEND;TZID=America/Chicago:20290729T110000
DTSTAMP:20260422T150133
CREATED:20250602T212526Z
LAST-MODIFIED:20250603T185502Z
UID:10102785-1880016300-1880017200@spacecenter.org
SUMMARY:OSIRIS Rex Live Presentation
DESCRIPTION:
URL:https://spacecenter.org/events-calendar-event/osiris-rex-live-presentation/2029-07-29/
LOCATION:Mission Sketch Staircase
CATEGORIES:Live Presentation
ATTACH;FMTTYPE=image/jpeg:https://spacecenter.org/wp-content/uploads/2024/03/web-march2024_tls_osirisrex.jpg
END:VEVENT
BEGIN:VEVENT
DTSTART;TZID=America/Chicago:20290729T104500
DTEND;TZID=America/Chicago:20290729T111500
DTSTAMP:20260422T150133
CREATED:20250602T213905Z
LAST-MODIFIED:20250603T185637Z
UID:10110097-1880016300-1880018100@spacecenter.org
SUMMARY:Artemis Live Presentation
DESCRIPTION:
URL:https://spacecenter.org/events-calendar-event/artemis-live-presentation/2029-07-29/
LOCATION:Theater – Destiny
CATEGORIES:Live Presentation
ATTACH;FMTTYPE=image/jpeg:https://spacecenter.org/wp-content/uploads/2022/10/Artemis-Capsule.jpeg
END:VEVENT
BEGIN:VEVENT
DTSTART;TZID=America/Chicago:20290729T111500
DTEND;TZID=America/Chicago:20290729T113000
DTSTAMP:20260422T150133
CREATED:20250602T213010Z
LAST-MODIFIED:20250603T185901Z
UID:10121065-1880018100-1880019000@spacecenter.org
SUMMARY:Story Corner Live Presentation
DESCRIPTION:
URL:https://spacecenter.org/events-calendar-event/story-corner-live-presentation/2029-07-29/
LOCATION:Theater – Artemis
CATEGORIES:Live Presentation
END:VEVENT
BEGIN:VEVENT
DTSTART;TZID=America/Chicago:20290729T114500
DTEND;TZID=America/Chicago:20290729T120000
DTSTAMP:20260422T150133
CREATED:20250602T213503Z
LAST-MODIFIED:20250603T190256Z
UID:10139345-1880019900-1880020800@spacecenter.org
SUMMARY:James Webb Live Presentation
DESCRIPTION:
URL:https://spacecenter.org/events-calendar-event/james-webb-live-presentation/2029-07-29/
LOCATION:Theater – Destiny
CATEGORIES:Live Presentation
END:VEVENT
BEGIN:VEVENT
DTSTART;TZID=America/Chicago:20290729T121500
DTEND;TZID=America/Chicago:20290729T123000
DTSTAMP:20260422T150133
CREATED:20250602T213059Z
LAST-MODIFIED:20250603T190345Z
UID:10143001-1880021700-1880022600@spacecenter.org
SUMMARY:Story Corner Live Presentation
DESCRIPTION:
URL:https://spacecenter.org/events-calendar-event/story-corner-live-presentation-2/2029-07-29/
LOCATION:Theater – Artemis
CATEGORIES:Live Presentation
END:VEVENT
BEGIN:VEVENT
DTSTART;TZID=America/Chicago:20290729T124500
DTEND;TZID=America/Chicago:20290729T131500
DTSTAMP:20260422T150133
CREATED:20250602T214012Z
LAST-MODIFIED:20250603T190811Z
UID:10153969-1880023500-1880025300@spacecenter.org
SUMMARY:Artemis Live Presentation
DESCRIPTION:
URL:https://spacecenter.org/events-calendar-event/artemis-live-presentation-2/2029-07-29/
LOCATION:Theater – Destiny
CATEGORIES:Live Presentation
ATTACH;FMTTYPE=image/jpeg:https://spacecenter.org/wp-content/uploads/2022/10/Artemis-Capsule.jpeg
END:VEVENT
BEGIN:VEVENT
DTSTART;TZID=America/Chicago:20290729T131500
DTEND;TZID=America/Chicago:20290729T133000
DTSTAMP:20260422T150133
CREATED:20250602T213201Z
LAST-MODIFIED:20250603T190922Z
UID:10161281-1880025300-1880026200@spacecenter.org
SUMMARY:Story Corner Live Presentation
DESCRIPTION:
URL:https://spacecenter.org/events-calendar-event/story-corner-live-presentation-3/2029-07-29/
LOCATION:Theater – Artemis
CATEGORIES:Live Presentation
END:VEVENT
BEGIN:VEVENT
DTSTART;TZID=America/Chicago:20290729T134500
DTEND;TZID=America/Chicago:20290729T140000
DTSTAMP:20260422T150134
CREATED:20250602T212635Z
LAST-MODIFIED:20250603T191121Z
UID:10172249-1880027100-1880028000@spacecenter.org
SUMMARY:OSIRIS Rex Live Presentation
DESCRIPTION:
URL:https://spacecenter.org/events-calendar-event/osiris-rex-live-presentation-2/2029-07-29/
LOCATION:Mission Sketch Staircase
CATEGORIES:Live Presentation
ATTACH;FMTTYPE=image/jpeg:https://spacecenter.org/wp-content/uploads/2024/03/web-march2024_tls_osirisrex.jpg
END:VEVENT
BEGIN:VEVENT
DTSTART;TZID=America/Chicago:20290729T134500
DTEND;TZID=America/Chicago:20290729T140000
DTSTAMP:20260422T150134
CREATED:20250602T213557Z
LAST-MODIFIED:20250603T191327Z
UID:10175905-1880027100-1880028000@spacecenter.org
SUMMARY:James Webb Live Presentation
DESCRIPTION:
URL:https://spacecenter.org/events-calendar-event/james-webb-live-presentation-2/2029-07-29/
LOCATION:Theater – Destiny
CATEGORIES:Live Presentation
END:VEVENT
END:VCALENDAR