BEGIN:VCALENDAR
VERSION:2.0
PRODID:-//Space Center Houston - ECPv6.15.15//NONSGML v1.0//EN
CALSCALE:GREGORIAN
METHOD:PUBLISH
X-ORIGINAL-URL:https://spacecenter.org
X-WR-CALDESC:Events for Space Center Houston
REFRESH-INTERVAL;VALUE=DURATION:PT1H
X-Robots-Tag:noindex
X-PUBLISHED-TTL:PT1H
BEGIN:VTIMEZONE
TZID:America/Chicago
BEGIN:DAYLIGHT
TZOFFSETFROM:-0600
TZOFFSETTO:-0500
TZNAME:CDT
DTSTART:20280312T080000
END:DAYLIGHT
BEGIN:STANDARD
TZOFFSETFROM:-0500
TZOFFSETTO:-0600
TZNAME:CST
DTSTART:20281105T070000
END:STANDARD
BEGIN:DAYLIGHT
TZOFFSETFROM:-0600
TZOFFSETTO:-0500
TZNAME:CDT
DTSTART:20290311T080000
END:DAYLIGHT
BEGIN:STANDARD
TZOFFSETFROM:-0500
TZOFFSETTO:-0600
TZNAME:CST
DTSTART:20291104T070000
END:STANDARD
BEGIN:DAYLIGHT
TZOFFSETFROM:-0600
TZOFFSETTO:-0500
TZNAME:CDT
DTSTART:20300310T080000
END:DAYLIGHT
BEGIN:STANDARD
TZOFFSETFROM:-0500
TZOFFSETTO:-0600
TZNAME:CST
DTSTART:20301103T070000
END:STANDARD
END:VTIMEZONE
BEGIN:VEVENT
DTSTART;TZID=America/Chicago:20290704T121500
DTEND;TZID=America/Chicago:20290704T123000
DTSTAMP:20260420T223356
CREATED:20250602T213059Z
LAST-MODIFIED:20250603T190345Z
UID:10142976-1877861700-1877862600@spacecenter.org
SUMMARY:Story Corner Live Presentation
DESCRIPTION:
URL:https://spacecenter.org/events-calendar-event/story-corner-live-presentation-2/2029-07-04/
LOCATION:Theater – Artemis
CATEGORIES:Live Presentation
END:VEVENT
BEGIN:VEVENT
DTSTART;TZID=America/Chicago:20290704T124500
DTEND;TZID=America/Chicago:20290704T131500
DTSTAMP:20260420T223356
CREATED:20250602T214012Z
LAST-MODIFIED:20250603T190811Z
UID:10153944-1877863500-1877865300@spacecenter.org
SUMMARY:Artemis Live Presentation
DESCRIPTION:
URL:https://spacecenter.org/events-calendar-event/artemis-live-presentation-2/2029-07-04/
LOCATION:Theater – Destiny
CATEGORIES:Live Presentation
ATTACH;FMTTYPE=image/jpeg:https://spacecenter.org/wp-content/uploads/2022/10/Artemis-Capsule.jpeg
END:VEVENT
BEGIN:VEVENT
DTSTART;TZID=America/Chicago:20290704T131500
DTEND;TZID=America/Chicago:20290704T133000
DTSTAMP:20260420T223356
CREATED:20250602T213201Z
LAST-MODIFIED:20250603T190922Z
UID:10161256-1877865300-1877866200@spacecenter.org
SUMMARY:Story Corner Live Presentation
DESCRIPTION:
URL:https://spacecenter.org/events-calendar-event/story-corner-live-presentation-3/2029-07-04/
LOCATION:Theater – Artemis
CATEGORIES:Live Presentation
END:VEVENT
BEGIN:VEVENT
DTSTART;TZID=America/Chicago:20290704T134500
DTEND;TZID=America/Chicago:20290704T140000
DTSTAMP:20260420T223356
CREATED:20250602T212635Z
LAST-MODIFIED:20250603T191121Z
UID:10172224-1877867100-1877868000@spacecenter.org
SUMMARY:OSIRIS Rex Live Presentation
DESCRIPTION:
URL:https://spacecenter.org/events-calendar-event/osiris-rex-live-presentation-2/2029-07-04/
LOCATION:Mission Sketch Staircase
CATEGORIES:Live Presentation
ATTACH;FMTTYPE=image/jpeg:https://spacecenter.org/wp-content/uploads/2024/03/web-march2024_tls_osirisrex.jpg
END:VEVENT
BEGIN:VEVENT
DTSTART;TZID=America/Chicago:20290704T134500
DTEND;TZID=America/Chicago:20290704T140000
DTSTAMP:20260420T223356
CREATED:20250602T213557Z
LAST-MODIFIED:20250603T191327Z
UID:10175880-1877867100-1877868000@spacecenter.org
SUMMARY:James Webb Live Presentation
DESCRIPTION:
URL:https://spacecenter.org/events-calendar-event/james-webb-live-presentation-2/2029-07-04/
LOCATION:Theater – Destiny
CATEGORIES:Live Presentation
END:VEVENT
BEGIN:VEVENT
DTSTART;TZID=America/Chicago:20290704T144500
DTEND;TZID=America/Chicago:20290704T150000
DTSTAMP:20260420T223356
CREATED:20250602T213716Z
LAST-MODIFIED:20250603T191759Z
UID:10190504-1877870700-1877871600@spacecenter.org
SUMMARY:James Webb Live Presentation
DESCRIPTION:
URL:https://spacecenter.org/events-calendar-event/james-webb-live-presentation-3/2029-07-04/
LOCATION:Theater – Destiny
CATEGORIES:Live Presentation
END:VEVENT
BEGIN:VEVENT
DTSTART;TZID=America/Chicago:20290704T151500
DTEND;TZID=America/Chicago:20290704T153000
DTSTAMP:20260420T223356
CREATED:20250602T213249Z
LAST-MODIFIED:20250603T191942Z
UID:10197816-1877872500-1877873400@spacecenter.org
SUMMARY:Story Corner Live Presentation
DESCRIPTION:
URL:https://spacecenter.org/events-calendar-event/story-corner-live-presentation-4/2029-07-04/
LOCATION:Theater – Artemis
CATEGORIES:Live Presentation
END:VEVENT
BEGIN:VEVENT
DTSTART;TZID=America/Chicago:20290704T154500
DTEND;TZID=America/Chicago:20290704T161500
DTSTAMP:20260420T223356
CREATED:20250602T214125Z
LAST-MODIFIED:20250603T192119Z
UID:10208784-1877874300-1877876100@spacecenter.org
SUMMARY:Artemis Live Presentation
DESCRIPTION:
URL:https://spacecenter.org/events-calendar-event/artemis-live-presentation-3/2029-07-04/
LOCATION:Theater – Destiny
CATEGORIES:Live Presentation
ATTACH;FMTTYPE=image/jpeg:https://spacecenter.org/wp-content/uploads/2022/10/Artemis-Capsule.jpeg
END:VEVENT
BEGIN:VEVENT
DTSTART;TZID=America/Chicago:20290704T163000
DTEND;TZID=America/Chicago:20290704T164500
DTSTAMP:20260420T223356
CREATED:20250602T212726Z
LAST-MODIFIED:20250603T192225Z
UID:10216096-1877877000-1877877900@spacecenter.org
SUMMARY:OSIRIS Rex Live Presentation
DESCRIPTION:
URL:https://spacecenter.org/events-calendar-event/osiris-rex-live-presentation-3/2029-07-04/
LOCATION:Mission Sketch Staircase
CATEGORIES:Live Presentation
ATTACH;FMTTYPE=image/jpeg:https://spacecenter.org/wp-content/uploads/2024/03/web-march2024_tls_osirisrex.jpg
END:VEVENT
BEGIN:VEVENT
DTSTART;TZID=America/Chicago:20290705T104500
DTEND;TZID=America/Chicago:20290705T110000
DTSTAMP:20260420T223356
CREATED:20250602T212526Z
LAST-MODIFIED:20250603T185502Z
UID:10102761-1877942700-1877943600@spacecenter.org
SUMMARY:OSIRIS Rex Live Presentation
DESCRIPTION:
URL:https://spacecenter.org/events-calendar-event/osiris-rex-live-presentation/2029-07-05/
LOCATION:Mission Sketch Staircase
CATEGORIES:Live Presentation
ATTACH;FMTTYPE=image/jpeg:https://spacecenter.org/wp-content/uploads/2024/03/web-march2024_tls_osirisrex.jpg
END:VEVENT
BEGIN:VEVENT
DTSTART;TZID=America/Chicago:20290705T104500
DTEND;TZID=America/Chicago:20290705T111500
DTSTAMP:20260420T223356
CREATED:20250602T213905Z
LAST-MODIFIED:20250603T185637Z
UID:10110073-1877942700-1877944500@spacecenter.org
SUMMARY:Artemis Live Presentation
DESCRIPTION:
URL:https://spacecenter.org/events-calendar-event/artemis-live-presentation/2029-07-05/
LOCATION:Theater – Destiny
CATEGORIES:Live Presentation
ATTACH;FMTTYPE=image/jpeg:https://spacecenter.org/wp-content/uploads/2022/10/Artemis-Capsule.jpeg
END:VEVENT
BEGIN:VEVENT
DTSTART;TZID=America/Chicago:20290705T111500
DTEND;TZID=America/Chicago:20290705T113000
DTSTAMP:20260420T223356
CREATED:20250602T213010Z
LAST-MODIFIED:20250603T185901Z
UID:10121041-1877944500-1877945400@spacecenter.org
SUMMARY:Story Corner Live Presentation
DESCRIPTION:
URL:https://spacecenter.org/events-calendar-event/story-corner-live-presentation/2029-07-05/
LOCATION:Theater – Artemis
CATEGORIES:Live Presentation
END:VEVENT
BEGIN:VEVENT
DTSTART;TZID=America/Chicago:20290705T114500
DTEND;TZID=America/Chicago:20290705T120000
DTSTAMP:20260420T223356
CREATED:20250602T213503Z
LAST-MODIFIED:20250603T190256Z
UID:10139321-1877946300-1877947200@spacecenter.org
SUMMARY:James Webb Live Presentation
DESCRIPTION:
URL:https://spacecenter.org/events-calendar-event/james-webb-live-presentation/2029-07-05/
LOCATION:Theater – Destiny
CATEGORIES:Live Presentation
END:VEVENT
BEGIN:VEVENT
DTSTART;TZID=America/Chicago:20290705T121500
DTEND;TZID=America/Chicago:20290705T123000
DTSTAMP:20260420T223356
CREATED:20250602T213059Z
LAST-MODIFIED:20250603T190345Z
UID:10142977-1877948100-1877949000@spacecenter.org
SUMMARY:Story Corner Live Presentation
DESCRIPTION:
URL:https://spacecenter.org/events-calendar-event/story-corner-live-presentation-2/2029-07-05/
LOCATION:Theater – Artemis
CATEGORIES:Live Presentation
END:VEVENT
BEGIN:VEVENT
DTSTART;TZID=America/Chicago:20290705T124500
DTEND;TZID=America/Chicago:20290705T131500
DTSTAMP:20260420T223356
CREATED:20250602T214012Z
LAST-MODIFIED:20250603T190811Z
UID:10153945-1877949900-1877951700@spacecenter.org
SUMMARY:Artemis Live Presentation
DESCRIPTION:
URL:https://spacecenter.org/events-calendar-event/artemis-live-presentation-2/2029-07-05/
LOCATION:Theater – Destiny
CATEGORIES:Live Presentation
ATTACH;FMTTYPE=image/jpeg:https://spacecenter.org/wp-content/uploads/2022/10/Artemis-Capsule.jpeg
END:VEVENT
BEGIN:VEVENT
DTSTART;TZID=America/Chicago:20290705T131500
DTEND;TZID=America/Chicago:20290705T133000
DTSTAMP:20260420T223356
CREATED:20250602T213201Z
LAST-MODIFIED:20250603T190922Z
UID:10161257-1877951700-1877952600@spacecenter.org
SUMMARY:Story Corner Live Presentation
DESCRIPTION:
URL:https://spacecenter.org/events-calendar-event/story-corner-live-presentation-3/2029-07-05/
LOCATION:Theater – Artemis
CATEGORIES:Live Presentation
END:VEVENT
BEGIN:VEVENT
DTSTART;TZID=America/Chicago:20290705T134500
DTEND;TZID=America/Chicago:20290705T140000
DTSTAMP:20260420T223356
CREATED:20250602T212635Z
LAST-MODIFIED:20250603T191121Z
UID:10172225-1877953500-1877954400@spacecenter.org
SUMMARY:OSIRIS Rex Live Presentation
DESCRIPTION:
URL:https://spacecenter.org/events-calendar-event/osiris-rex-live-presentation-2/2029-07-05/
LOCATION:Mission Sketch Staircase
CATEGORIES:Live Presentation
ATTACH;FMTTYPE=image/jpeg:https://spacecenter.org/wp-content/uploads/2024/03/web-march2024_tls_osirisrex.jpg
END:VEVENT
BEGIN:VEVENT
DTSTART;TZID=America/Chicago:20290705T134500
DTEND;TZID=America/Chicago:20290705T140000
DTSTAMP:20260420T223356
CREATED:20250602T213557Z
LAST-MODIFIED:20250603T191327Z
UID:10175881-1877953500-1877954400@spacecenter.org
SUMMARY:James Webb Live Presentation
DESCRIPTION:
URL:https://spacecenter.org/events-calendar-event/james-webb-live-presentation-2/2029-07-05/
LOCATION:Theater – Destiny
CATEGORIES:Live Presentation
END:VEVENT
BEGIN:VEVENT
DTSTART;TZID=America/Chicago:20290705T144500
DTEND;TZID=America/Chicago:20290705T150000
DTSTAMP:20260420T223356
CREATED:20250602T213716Z
LAST-MODIFIED:20250603T191759Z
UID:10190505-1877957100-1877958000@spacecenter.org
SUMMARY:James Webb Live Presentation
DESCRIPTION:
URL:https://spacecenter.org/events-calendar-event/james-webb-live-presentation-3/2029-07-05/
LOCATION:Theater – Destiny
CATEGORIES:Live Presentation
END:VEVENT
BEGIN:VEVENT
DTSTART;TZID=America/Chicago:20290705T151500
DTEND;TZID=America/Chicago:20290705T153000
DTSTAMP:20260420T223356
CREATED:20250602T213249Z
LAST-MODIFIED:20250603T191942Z
UID:10197817-1877958900-1877959800@spacecenter.org
SUMMARY:Story Corner Live Presentation
DESCRIPTION:
URL:https://spacecenter.org/events-calendar-event/story-corner-live-presentation-4/2029-07-05/
LOCATION:Theater – Artemis
CATEGORIES:Live Presentation
END:VEVENT
BEGIN:VEVENT
DTSTART;TZID=America/Chicago:20290705T154500
DTEND;TZID=America/Chicago:20290705T161500
DTSTAMP:20260420T223356
CREATED:20250602T214125Z
LAST-MODIFIED:20250603T192119Z
UID:10208785-1877960700-1877962500@spacecenter.org
SUMMARY:Artemis Live Presentation
DESCRIPTION:
URL:https://spacecenter.org/events-calendar-event/artemis-live-presentation-3/2029-07-05/
LOCATION:Theater – Destiny
CATEGORIES:Live Presentation
ATTACH;FMTTYPE=image/jpeg:https://spacecenter.org/wp-content/uploads/2022/10/Artemis-Capsule.jpeg
END:VEVENT
BEGIN:VEVENT
DTSTART;TZID=America/Chicago:20290705T163000
DTEND;TZID=America/Chicago:20290705T164500
DTSTAMP:20260420T223356
CREATED:20250602T212726Z
LAST-MODIFIED:20250603T192225Z
UID:10216097-1877963400-1877964300@spacecenter.org
SUMMARY:OSIRIS Rex Live Presentation
DESCRIPTION:
URL:https://spacecenter.org/events-calendar-event/osiris-rex-live-presentation-3/2029-07-05/
LOCATION:Mission Sketch Staircase
CATEGORIES:Live Presentation
ATTACH;FMTTYPE=image/jpeg:https://spacecenter.org/wp-content/uploads/2024/03/web-march2024_tls_osirisrex.jpg
END:VEVENT
BEGIN:VEVENT
DTSTART;TZID=America/Chicago:20290706T104500
DTEND;TZID=America/Chicago:20290706T110000
DTSTAMP:20260420T223356
CREATED:20250602T212526Z
LAST-MODIFIED:20250603T185502Z
UID:10102762-1878029100-1878030000@spacecenter.org
SUMMARY:OSIRIS Rex Live Presentation
DESCRIPTION:
URL:https://spacecenter.org/events-calendar-event/osiris-rex-live-presentation/2029-07-06/
LOCATION:Mission Sketch Staircase
CATEGORIES:Live Presentation
ATTACH;FMTTYPE=image/jpeg:https://spacecenter.org/wp-content/uploads/2024/03/web-march2024_tls_osirisrex.jpg
END:VEVENT
BEGIN:VEVENT
DTSTART;TZID=America/Chicago:20290706T104500
DTEND;TZID=America/Chicago:20290706T111500
DTSTAMP:20260420T223356
CREATED:20250602T213905Z
LAST-MODIFIED:20250603T185637Z
UID:10110074-1878029100-1878030900@spacecenter.org
SUMMARY:Artemis Live Presentation
DESCRIPTION:
URL:https://spacecenter.org/events-calendar-event/artemis-live-presentation/2029-07-06/
LOCATION:Theater – Destiny
CATEGORIES:Live Presentation
ATTACH;FMTTYPE=image/jpeg:https://spacecenter.org/wp-content/uploads/2022/10/Artemis-Capsule.jpeg
END:VEVENT
BEGIN:VEVENT
DTSTART;TZID=America/Chicago:20290706T111500
DTEND;TZID=America/Chicago:20290706T113000
DTSTAMP:20260420T223356
CREATED:20250602T213010Z
LAST-MODIFIED:20250603T185901Z
UID:10121042-1878030900-1878031800@spacecenter.org
SUMMARY:Story Corner Live Presentation
DESCRIPTION:
URL:https://spacecenter.org/events-calendar-event/story-corner-live-presentation/2029-07-06/
LOCATION:Theater – Artemis
CATEGORIES:Live Presentation
END:VEVENT
BEGIN:VEVENT
DTSTART;TZID=America/Chicago:20290706T114500
DTEND;TZID=America/Chicago:20290706T120000
DTSTAMP:20260420T223356
CREATED:20250602T213503Z
LAST-MODIFIED:20250603T190256Z
UID:10139322-1878032700-1878033600@spacecenter.org
SUMMARY:James Webb Live Presentation
DESCRIPTION:
URL:https://spacecenter.org/events-calendar-event/james-webb-live-presentation/2029-07-06/
LOCATION:Theater – Destiny
CATEGORIES:Live Presentation
END:VEVENT
BEGIN:VEVENT
DTSTART;TZID=America/Chicago:20290706T121500
DTEND;TZID=America/Chicago:20290706T123000
DTSTAMP:20260420T223356
CREATED:20250602T213059Z
LAST-MODIFIED:20250603T190345Z
UID:10142978-1878034500-1878035400@spacecenter.org
SUMMARY:Story Corner Live Presentation
DESCRIPTION:
URL:https://spacecenter.org/events-calendar-event/story-corner-live-presentation-2/2029-07-06/
LOCATION:Theater – Artemis
CATEGORIES:Live Presentation
END:VEVENT
BEGIN:VEVENT
DTSTART;TZID=America/Chicago:20290706T124500
DTEND;TZID=America/Chicago:20290706T131500
DTSTAMP:20260420T223356
CREATED:20250602T214012Z
LAST-MODIFIED:20250603T190811Z
UID:10153946-1878036300-1878038100@spacecenter.org
SUMMARY:Artemis Live Presentation
DESCRIPTION:
URL:https://spacecenter.org/events-calendar-event/artemis-live-presentation-2/2029-07-06/
LOCATION:Theater – Destiny
CATEGORIES:Live Presentation
ATTACH;FMTTYPE=image/jpeg:https://spacecenter.org/wp-content/uploads/2022/10/Artemis-Capsule.jpeg
END:VEVENT
BEGIN:VEVENT
DTSTART;TZID=America/Chicago:20290706T131500
DTEND;TZID=America/Chicago:20290706T133000
DTSTAMP:20260420T223356
CREATED:20250602T213201Z
LAST-MODIFIED:20250603T190922Z
UID:10161258-1878038100-1878039000@spacecenter.org
SUMMARY:Story Corner Live Presentation
DESCRIPTION:
URL:https://spacecenter.org/events-calendar-event/story-corner-live-presentation-3/2029-07-06/
LOCATION:Theater – Artemis
CATEGORIES:Live Presentation
END:VEVENT
BEGIN:VEVENT
DTSTART;TZID=America/Chicago:20290706T134500
DTEND;TZID=America/Chicago:20290706T140000
DTSTAMP:20260420T223356
CREATED:20250602T212635Z
LAST-MODIFIED:20250603T191121Z
UID:10172226-1878039900-1878040800@spacecenter.org
SUMMARY:OSIRIS Rex Live Presentation
DESCRIPTION:
URL:https://spacecenter.org/events-calendar-event/osiris-rex-live-presentation-2/2029-07-06/
LOCATION:Mission Sketch Staircase
CATEGORIES:Live Presentation
ATTACH;FMTTYPE=image/jpeg:https://spacecenter.org/wp-content/uploads/2024/03/web-march2024_tls_osirisrex.jpg
END:VEVENT
END:VCALENDAR