BEGIN:VCALENDAR
VERSION:2.0
PRODID:-//Space Center Houston - ECPv6.15.15//NONSGML v1.0//EN
CALSCALE:GREGORIAN
METHOD:PUBLISH
X-ORIGINAL-URL:https://spacecenter.org
X-WR-CALDESC:Events for Space Center Houston
REFRESH-INTERVAL;VALUE=DURATION:PT1H
X-Robots-Tag:noindex
X-PUBLISHED-TTL:PT1H
BEGIN:VTIMEZONE
TZID:America/Chicago
BEGIN:DAYLIGHT
TZOFFSETFROM:-0600
TZOFFSETTO:-0500
TZNAME:CDT
DTSTART:20280312T080000
END:DAYLIGHT
BEGIN:STANDARD
TZOFFSETFROM:-0500
TZOFFSETTO:-0600
TZNAME:CST
DTSTART:20281105T070000
END:STANDARD
BEGIN:DAYLIGHT
TZOFFSETFROM:-0600
TZOFFSETTO:-0500
TZNAME:CDT
DTSTART:20290311T080000
END:DAYLIGHT
BEGIN:STANDARD
TZOFFSETFROM:-0500
TZOFFSETTO:-0600
TZNAME:CST
DTSTART:20291104T070000
END:STANDARD
BEGIN:DAYLIGHT
TZOFFSETFROM:-0600
TZOFFSETTO:-0500
TZNAME:CDT
DTSTART:20300310T080000
END:DAYLIGHT
BEGIN:STANDARD
TZOFFSETFROM:-0500
TZOFFSETTO:-0600
TZNAME:CST
DTSTART:20301103T070000
END:STANDARD
END:VTIMEZONE
BEGIN:VEVENT
DTSTART;TZID=America/Chicago:20290630T131500
DTEND;TZID=America/Chicago:20290630T133000
DTSTAMP:20260419T182816
CREATED:20250602T213201Z
LAST-MODIFIED:20250603T190922Z
UID:10161252-1877519700-1877520600@spacecenter.org
SUMMARY:Story Corner Live Presentation
DESCRIPTION:
URL:https://spacecenter.org/events-calendar-event/story-corner-live-presentation-3/2029-06-30/
LOCATION:Theater – Artemis
CATEGORIES:Live Presentation
END:VEVENT
BEGIN:VEVENT
DTSTART;TZID=America/Chicago:20290630T134500
DTEND;TZID=America/Chicago:20290630T140000
DTSTAMP:20260419T182816
CREATED:20250602T212635Z
LAST-MODIFIED:20250603T191121Z
UID:10172220-1877521500-1877522400@spacecenter.org
SUMMARY:OSIRIS Rex Live Presentation
DESCRIPTION:
URL:https://spacecenter.org/events-calendar-event/osiris-rex-live-presentation-2/2029-06-30/
LOCATION:Mission Sketch Staircase
CATEGORIES:Live Presentation
ATTACH;FMTTYPE=image/jpeg:https://spacecenter.org/wp-content/uploads/2024/03/web-march2024_tls_osirisrex.jpg
END:VEVENT
BEGIN:VEVENT
DTSTART;TZID=America/Chicago:20290630T134500
DTEND;TZID=America/Chicago:20290630T140000
DTSTAMP:20260419T182816
CREATED:20250602T213557Z
LAST-MODIFIED:20250603T191327Z
UID:10175876-1877521500-1877522400@spacecenter.org
SUMMARY:James Webb Live Presentation
DESCRIPTION:
URL:https://spacecenter.org/events-calendar-event/james-webb-live-presentation-2/2029-06-30/
LOCATION:Theater – Destiny
CATEGORIES:Live Presentation
END:VEVENT
BEGIN:VEVENT
DTSTART;TZID=America/Chicago:20290630T144500
DTEND;TZID=America/Chicago:20290630T150000
DTSTAMP:20260419T182816
CREATED:20250602T213716Z
LAST-MODIFIED:20250603T191759Z
UID:10190500-1877525100-1877526000@spacecenter.org
SUMMARY:James Webb Live Presentation
DESCRIPTION:
URL:https://spacecenter.org/events-calendar-event/james-webb-live-presentation-3/2029-06-30/
LOCATION:Theater – Destiny
CATEGORIES:Live Presentation
END:VEVENT
BEGIN:VEVENT
DTSTART;TZID=America/Chicago:20290630T151500
DTEND;TZID=America/Chicago:20290630T153000
DTSTAMP:20260419T182816
CREATED:20250602T213249Z
LAST-MODIFIED:20250603T191942Z
UID:10197812-1877526900-1877527800@spacecenter.org
SUMMARY:Story Corner Live Presentation
DESCRIPTION:
URL:https://spacecenter.org/events-calendar-event/story-corner-live-presentation-4/2029-06-30/
LOCATION:Theater – Artemis
CATEGORIES:Live Presentation
END:VEVENT
BEGIN:VEVENT
DTSTART;TZID=America/Chicago:20290630T154500
DTEND;TZID=America/Chicago:20290630T161500
DTSTAMP:20260419T182816
CREATED:20250602T214125Z
LAST-MODIFIED:20250603T192119Z
UID:10208780-1877528700-1877530500@spacecenter.org
SUMMARY:Artemis Live Presentation
DESCRIPTION:
URL:https://spacecenter.org/events-calendar-event/artemis-live-presentation-3/2029-06-30/
LOCATION:Theater – Destiny
CATEGORIES:Live Presentation
ATTACH;FMTTYPE=image/jpeg:https://spacecenter.org/wp-content/uploads/2022/10/Artemis-Capsule.jpeg
END:VEVENT
BEGIN:VEVENT
DTSTART;TZID=America/Chicago:20290630T163000
DTEND;TZID=America/Chicago:20290630T164500
DTSTAMP:20260419T182816
CREATED:20250602T212726Z
LAST-MODIFIED:20250603T192225Z
UID:10216092-1877531400-1877532300@spacecenter.org
SUMMARY:OSIRIS Rex Live Presentation
DESCRIPTION:
URL:https://spacecenter.org/events-calendar-event/osiris-rex-live-presentation-3/2029-06-30/
LOCATION:Mission Sketch Staircase
CATEGORIES:Live Presentation
ATTACH;FMTTYPE=image/jpeg:https://spacecenter.org/wp-content/uploads/2024/03/web-march2024_tls_osirisrex.jpg
END:VEVENT
BEGIN:VEVENT
DTSTART;TZID=America/Chicago:20290701T104500
DTEND;TZID=America/Chicago:20290701T110000
DTSTAMP:20260419T182816
CREATED:20250602T212526Z
LAST-MODIFIED:20250603T185502Z
UID:10102757-1877597100-1877598000@spacecenter.org
SUMMARY:OSIRIS Rex Live Presentation
DESCRIPTION:
URL:https://spacecenter.org/events-calendar-event/osiris-rex-live-presentation/2029-07-01/
LOCATION:Mission Sketch Staircase
CATEGORIES:Live Presentation
ATTACH;FMTTYPE=image/jpeg:https://spacecenter.org/wp-content/uploads/2024/03/web-march2024_tls_osirisrex.jpg
END:VEVENT
BEGIN:VEVENT
DTSTART;TZID=America/Chicago:20290701T104500
DTEND;TZID=America/Chicago:20290701T111500
DTSTAMP:20260419T182816
CREATED:20250602T213905Z
LAST-MODIFIED:20250603T185637Z
UID:10110069-1877597100-1877598900@spacecenter.org
SUMMARY:Artemis Live Presentation
DESCRIPTION:
URL:https://spacecenter.org/events-calendar-event/artemis-live-presentation/2029-07-01/
LOCATION:Theater – Destiny
CATEGORIES:Live Presentation
ATTACH;FMTTYPE=image/jpeg:https://spacecenter.org/wp-content/uploads/2022/10/Artemis-Capsule.jpeg
END:VEVENT
BEGIN:VEVENT
DTSTART;TZID=America/Chicago:20290701T111500
DTEND;TZID=America/Chicago:20290701T113000
DTSTAMP:20260419T182816
CREATED:20250602T213010Z
LAST-MODIFIED:20250603T185901Z
UID:10121037-1877598900-1877599800@spacecenter.org
SUMMARY:Story Corner Live Presentation
DESCRIPTION:
URL:https://spacecenter.org/events-calendar-event/story-corner-live-presentation/2029-07-01/
LOCATION:Theater – Artemis
CATEGORIES:Live Presentation
END:VEVENT
BEGIN:VEVENT
DTSTART;TZID=America/Chicago:20290701T114500
DTEND;TZID=America/Chicago:20290701T120000
DTSTAMP:20260419T182816
CREATED:20250602T213503Z
LAST-MODIFIED:20250603T190256Z
UID:10139317-1877600700-1877601600@spacecenter.org
SUMMARY:James Webb Live Presentation
DESCRIPTION:
URL:https://spacecenter.org/events-calendar-event/james-webb-live-presentation/2029-07-01/
LOCATION:Theater – Destiny
CATEGORIES:Live Presentation
END:VEVENT
BEGIN:VEVENT
DTSTART;TZID=America/Chicago:20290701T121500
DTEND;TZID=America/Chicago:20290701T123000
DTSTAMP:20260419T182816
CREATED:20250602T213059Z
LAST-MODIFIED:20250603T190345Z
UID:10142973-1877602500-1877603400@spacecenter.org
SUMMARY:Story Corner Live Presentation
DESCRIPTION:
URL:https://spacecenter.org/events-calendar-event/story-corner-live-presentation-2/2029-07-01/
LOCATION:Theater – Artemis
CATEGORIES:Live Presentation
END:VEVENT
BEGIN:VEVENT
DTSTART;TZID=America/Chicago:20290701T124500
DTEND;TZID=America/Chicago:20290701T131500
DTSTAMP:20260419T182816
CREATED:20250602T214012Z
LAST-MODIFIED:20250603T190811Z
UID:10153941-1877604300-1877606100@spacecenter.org
SUMMARY:Artemis Live Presentation
DESCRIPTION:
URL:https://spacecenter.org/events-calendar-event/artemis-live-presentation-2/2029-07-01/
LOCATION:Theater – Destiny
CATEGORIES:Live Presentation
ATTACH;FMTTYPE=image/jpeg:https://spacecenter.org/wp-content/uploads/2022/10/Artemis-Capsule.jpeg
END:VEVENT
BEGIN:VEVENT
DTSTART;TZID=America/Chicago:20290701T131500
DTEND;TZID=America/Chicago:20290701T133000
DTSTAMP:20260419T182816
CREATED:20250602T213201Z
LAST-MODIFIED:20250603T190922Z
UID:10161253-1877606100-1877607000@spacecenter.org
SUMMARY:Story Corner Live Presentation
DESCRIPTION:
URL:https://spacecenter.org/events-calendar-event/story-corner-live-presentation-3/2029-07-01/
LOCATION:Theater – Artemis
CATEGORIES:Live Presentation
END:VEVENT
BEGIN:VEVENT
DTSTART;TZID=America/Chicago:20290701T134500
DTEND;TZID=America/Chicago:20290701T140000
DTSTAMP:20260419T182816
CREATED:20250602T212635Z
LAST-MODIFIED:20250603T191121Z
UID:10172221-1877607900-1877608800@spacecenter.org
SUMMARY:OSIRIS Rex Live Presentation
DESCRIPTION:
URL:https://spacecenter.org/events-calendar-event/osiris-rex-live-presentation-2/2029-07-01/
LOCATION:Mission Sketch Staircase
CATEGORIES:Live Presentation
ATTACH;FMTTYPE=image/jpeg:https://spacecenter.org/wp-content/uploads/2024/03/web-march2024_tls_osirisrex.jpg
END:VEVENT
BEGIN:VEVENT
DTSTART;TZID=America/Chicago:20290701T134500
DTEND;TZID=America/Chicago:20290701T140000
DTSTAMP:20260419T182816
CREATED:20250602T213557Z
LAST-MODIFIED:20250603T191327Z
UID:10175877-1877607900-1877608800@spacecenter.org
SUMMARY:James Webb Live Presentation
DESCRIPTION:
URL:https://spacecenter.org/events-calendar-event/james-webb-live-presentation-2/2029-07-01/
LOCATION:Theater – Destiny
CATEGORIES:Live Presentation
END:VEVENT
BEGIN:VEVENT
DTSTART;TZID=America/Chicago:20290701T144500
DTEND;TZID=America/Chicago:20290701T150000
DTSTAMP:20260419T182816
CREATED:20250602T213716Z
LAST-MODIFIED:20250603T191759Z
UID:10190501-1877611500-1877612400@spacecenter.org
SUMMARY:James Webb Live Presentation
DESCRIPTION:
URL:https://spacecenter.org/events-calendar-event/james-webb-live-presentation-3/2029-07-01/
LOCATION:Theater – Destiny
CATEGORIES:Live Presentation
END:VEVENT
BEGIN:VEVENT
DTSTART;TZID=America/Chicago:20290701T151500
DTEND;TZID=America/Chicago:20290701T153000
DTSTAMP:20260419T182816
CREATED:20250602T213249Z
LAST-MODIFIED:20250603T191942Z
UID:10197813-1877613300-1877614200@spacecenter.org
SUMMARY:Story Corner Live Presentation
DESCRIPTION:
URL:https://spacecenter.org/events-calendar-event/story-corner-live-presentation-4/2029-07-01/
LOCATION:Theater – Artemis
CATEGORIES:Live Presentation
END:VEVENT
BEGIN:VEVENT
DTSTART;TZID=America/Chicago:20290701T154500
DTEND;TZID=America/Chicago:20290701T161500
DTSTAMP:20260419T182816
CREATED:20250602T214125Z
LAST-MODIFIED:20250603T192119Z
UID:10208781-1877615100-1877616900@spacecenter.org
SUMMARY:Artemis Live Presentation
DESCRIPTION:
URL:https://spacecenter.org/events-calendar-event/artemis-live-presentation-3/2029-07-01/
LOCATION:Theater – Destiny
CATEGORIES:Live Presentation
ATTACH;FMTTYPE=image/jpeg:https://spacecenter.org/wp-content/uploads/2022/10/Artemis-Capsule.jpeg
END:VEVENT
BEGIN:VEVENT
DTSTART;TZID=America/Chicago:20290701T163000
DTEND;TZID=America/Chicago:20290701T164500
DTSTAMP:20260419T182816
CREATED:20250602T212726Z
LAST-MODIFIED:20250603T192225Z
UID:10216093-1877617800-1877618700@spacecenter.org
SUMMARY:OSIRIS Rex Live Presentation
DESCRIPTION:
URL:https://spacecenter.org/events-calendar-event/osiris-rex-live-presentation-3/2029-07-01/
LOCATION:Mission Sketch Staircase
CATEGORIES:Live Presentation
ATTACH;FMTTYPE=image/jpeg:https://spacecenter.org/wp-content/uploads/2024/03/web-march2024_tls_osirisrex.jpg
END:VEVENT
BEGIN:VEVENT
DTSTART;TZID=America/Chicago:20290702T104500
DTEND;TZID=America/Chicago:20290702T110000
DTSTAMP:20260419T182816
CREATED:20250602T212526Z
LAST-MODIFIED:20250603T185502Z
UID:10102758-1877683500-1877684400@spacecenter.org
SUMMARY:OSIRIS Rex Live Presentation
DESCRIPTION:
URL:https://spacecenter.org/events-calendar-event/osiris-rex-live-presentation/2029-07-02/
LOCATION:Mission Sketch Staircase
CATEGORIES:Live Presentation
ATTACH;FMTTYPE=image/jpeg:https://spacecenter.org/wp-content/uploads/2024/03/web-march2024_tls_osirisrex.jpg
END:VEVENT
BEGIN:VEVENT
DTSTART;TZID=America/Chicago:20290702T104500
DTEND;TZID=America/Chicago:20290702T111500
DTSTAMP:20260419T182816
CREATED:20250602T213905Z
LAST-MODIFIED:20250603T185637Z
UID:10110070-1877683500-1877685300@spacecenter.org
SUMMARY:Artemis Live Presentation
DESCRIPTION:
URL:https://spacecenter.org/events-calendar-event/artemis-live-presentation/2029-07-02/
LOCATION:Theater – Destiny
CATEGORIES:Live Presentation
ATTACH;FMTTYPE=image/jpeg:https://spacecenter.org/wp-content/uploads/2022/10/Artemis-Capsule.jpeg
END:VEVENT
BEGIN:VEVENT
DTSTART;TZID=America/Chicago:20290702T111500
DTEND;TZID=America/Chicago:20290702T113000
DTSTAMP:20260419T182816
CREATED:20250602T213010Z
LAST-MODIFIED:20250603T185901Z
UID:10121038-1877685300-1877686200@spacecenter.org
SUMMARY:Story Corner Live Presentation
DESCRIPTION:
URL:https://spacecenter.org/events-calendar-event/story-corner-live-presentation/2029-07-02/
LOCATION:Theater – Artemis
CATEGORIES:Live Presentation
END:VEVENT
BEGIN:VEVENT
DTSTART;TZID=America/Chicago:20290702T114500
DTEND;TZID=America/Chicago:20290702T120000
DTSTAMP:20260419T182816
CREATED:20250602T213503Z
LAST-MODIFIED:20250603T190256Z
UID:10139318-1877687100-1877688000@spacecenter.org
SUMMARY:James Webb Live Presentation
DESCRIPTION:
URL:https://spacecenter.org/events-calendar-event/james-webb-live-presentation/2029-07-02/
LOCATION:Theater – Destiny
CATEGORIES:Live Presentation
END:VEVENT
BEGIN:VEVENT
DTSTART;TZID=America/Chicago:20290702T121500
DTEND;TZID=America/Chicago:20290702T123000
DTSTAMP:20260419T182816
CREATED:20250602T213059Z
LAST-MODIFIED:20250603T190345Z
UID:10142974-1877688900-1877689800@spacecenter.org
SUMMARY:Story Corner Live Presentation
DESCRIPTION:
URL:https://spacecenter.org/events-calendar-event/story-corner-live-presentation-2/2029-07-02/
LOCATION:Theater – Artemis
CATEGORIES:Live Presentation
END:VEVENT
BEGIN:VEVENT
DTSTART;TZID=America/Chicago:20290702T124500
DTEND;TZID=America/Chicago:20290702T131500
DTSTAMP:20260419T182816
CREATED:20250602T214012Z
LAST-MODIFIED:20250603T190811Z
UID:10153942-1877690700-1877692500@spacecenter.org
SUMMARY:Artemis Live Presentation
DESCRIPTION:
URL:https://spacecenter.org/events-calendar-event/artemis-live-presentation-2/2029-07-02/
LOCATION:Theater – Destiny
CATEGORIES:Live Presentation
ATTACH;FMTTYPE=image/jpeg:https://spacecenter.org/wp-content/uploads/2022/10/Artemis-Capsule.jpeg
END:VEVENT
BEGIN:VEVENT
DTSTART;TZID=America/Chicago:20290702T131500
DTEND;TZID=America/Chicago:20290702T133000
DTSTAMP:20260419T182816
CREATED:20250602T213201Z
LAST-MODIFIED:20250603T190922Z
UID:10161254-1877692500-1877693400@spacecenter.org
SUMMARY:Story Corner Live Presentation
DESCRIPTION:
URL:https://spacecenter.org/events-calendar-event/story-corner-live-presentation-3/2029-07-02/
LOCATION:Theater – Artemis
CATEGORIES:Live Presentation
END:VEVENT
BEGIN:VEVENT
DTSTART;TZID=America/Chicago:20290702T134500
DTEND;TZID=America/Chicago:20290702T140000
DTSTAMP:20260419T182816
CREATED:20250602T212635Z
LAST-MODIFIED:20250603T191121Z
UID:10172222-1877694300-1877695200@spacecenter.org
SUMMARY:OSIRIS Rex Live Presentation
DESCRIPTION:
URL:https://spacecenter.org/events-calendar-event/osiris-rex-live-presentation-2/2029-07-02/
LOCATION:Mission Sketch Staircase
CATEGORIES:Live Presentation
ATTACH;FMTTYPE=image/jpeg:https://spacecenter.org/wp-content/uploads/2024/03/web-march2024_tls_osirisrex.jpg
END:VEVENT
BEGIN:VEVENT
DTSTART;TZID=America/Chicago:20290702T134500
DTEND;TZID=America/Chicago:20290702T140000
DTSTAMP:20260419T182816
CREATED:20250602T213557Z
LAST-MODIFIED:20250603T191327Z
UID:10175878-1877694300-1877695200@spacecenter.org
SUMMARY:James Webb Live Presentation
DESCRIPTION:
URL:https://spacecenter.org/events-calendar-event/james-webb-live-presentation-2/2029-07-02/
LOCATION:Theater – Destiny
CATEGORIES:Live Presentation
END:VEVENT
BEGIN:VEVENT
DTSTART;TZID=America/Chicago:20290702T144500
DTEND;TZID=America/Chicago:20290702T150000
DTSTAMP:20260419T182816
CREATED:20250602T213716Z
LAST-MODIFIED:20250603T191759Z
UID:10190502-1877697900-1877698800@spacecenter.org
SUMMARY:James Webb Live Presentation
DESCRIPTION:
URL:https://spacecenter.org/events-calendar-event/james-webb-live-presentation-3/2029-07-02/
LOCATION:Theater – Destiny
CATEGORIES:Live Presentation
END:VEVENT
END:VCALENDAR