BEGIN:VCALENDAR
VERSION:2.0
PRODID:-//Space Center Houston - ECPv6.15.15//NONSGML v1.0//EN
CALSCALE:GREGORIAN
METHOD:PUBLISH
X-WR-CALNAME:Space Center Houston
X-ORIGINAL-URL:https://spacecenter.org
X-WR-CALDESC:Events for Space Center Houston
REFRESH-INTERVAL;VALUE=DURATION:PT1H
X-Robots-Tag:noindex
X-PUBLISHED-TTL:PT1H
BEGIN:VTIMEZONE
TZID:America/Chicago
BEGIN:DAYLIGHT
TZOFFSETFROM:-0600
TZOFFSETTO:-0500
TZNAME:CDT
DTSTART:20280312T080000
END:DAYLIGHT
BEGIN:STANDARD
TZOFFSETFROM:-0500
TZOFFSETTO:-0600
TZNAME:CST
DTSTART:20281105T070000
END:STANDARD
BEGIN:DAYLIGHT
TZOFFSETFROM:-0600
TZOFFSETTO:-0500
TZNAME:CDT
DTSTART:20290311T080000
END:DAYLIGHT
BEGIN:STANDARD
TZOFFSETFROM:-0500
TZOFFSETTO:-0600
TZNAME:CST
DTSTART:20291104T070000
END:STANDARD
BEGIN:DAYLIGHT
TZOFFSETFROM:-0600
TZOFFSETTO:-0500
TZNAME:CDT
DTSTART:20300310T080000
END:DAYLIGHT
BEGIN:STANDARD
TZOFFSETFROM:-0500
TZOFFSETTO:-0600
TZNAME:CST
DTSTART:20301103T070000
END:STANDARD
END:VTIMEZONE
BEGIN:VEVENT
DTSTART;TZID=America/Chicago:20290626T134500
DTEND;TZID=America/Chicago:20290626T140000
DTSTAMP:20260420T023302
CREATED:20250602T213557Z
LAST-MODIFIED:20250603T191327Z
UID:10175872-1877175900-1877176800@spacecenter.org
SUMMARY:James Webb Live Presentation
DESCRIPTION:
URL:https://spacecenter.org/events-calendar-event/james-webb-live-presentation-2/2029-06-26/
LOCATION:Theater – Destiny
CATEGORIES:Live Presentation
END:VEVENT
BEGIN:VEVENT
DTSTART;TZID=America/Chicago:20290626T144500
DTEND;TZID=America/Chicago:20290626T150000
DTSTAMP:20260420T023302
CREATED:20250602T213716Z
LAST-MODIFIED:20250603T191759Z
UID:10190496-1877179500-1877180400@spacecenter.org
SUMMARY:James Webb Live Presentation
DESCRIPTION:
URL:https://spacecenter.org/events-calendar-event/james-webb-live-presentation-3/2029-06-26/
LOCATION:Theater – Destiny
CATEGORIES:Live Presentation
END:VEVENT
BEGIN:VEVENT
DTSTART;TZID=America/Chicago:20290626T151500
DTEND;TZID=America/Chicago:20290626T153000
DTSTAMP:20260420T023302
CREATED:20250602T213249Z
LAST-MODIFIED:20250603T191942Z
UID:10197808-1877181300-1877182200@spacecenter.org
SUMMARY:Story Corner Live Presentation
DESCRIPTION:
URL:https://spacecenter.org/events-calendar-event/story-corner-live-presentation-4/2029-06-26/
LOCATION:Theater – Artemis
CATEGORIES:Live Presentation
END:VEVENT
BEGIN:VEVENT
DTSTART;TZID=America/Chicago:20290626T154500
DTEND;TZID=America/Chicago:20290626T161500
DTSTAMP:20260420T023302
CREATED:20250602T214125Z
LAST-MODIFIED:20250603T192119Z
UID:10208776-1877183100-1877184900@spacecenter.org
SUMMARY:Artemis Live Presentation
DESCRIPTION:
URL:https://spacecenter.org/events-calendar-event/artemis-live-presentation-3/2029-06-26/
LOCATION:Theater – Destiny
CATEGORIES:Live Presentation
ATTACH;FMTTYPE=image/jpeg:https://spacecenter.org/wp-content/uploads/2022/10/Artemis-Capsule.jpeg
END:VEVENT
BEGIN:VEVENT
DTSTART;TZID=America/Chicago:20290626T163000
DTEND;TZID=America/Chicago:20290626T164500
DTSTAMP:20260420T023302
CREATED:20250602T212726Z
LAST-MODIFIED:20250603T192225Z
UID:10216088-1877185800-1877186700@spacecenter.org
SUMMARY:OSIRIS Rex Live Presentation
DESCRIPTION:
URL:https://spacecenter.org/events-calendar-event/osiris-rex-live-presentation-3/2029-06-26/
LOCATION:Mission Sketch Staircase
CATEGORIES:Live Presentation
ATTACH;FMTTYPE=image/jpeg:https://spacecenter.org/wp-content/uploads/2024/03/web-march2024_tls_osirisrex.jpg
END:VEVENT
BEGIN:VEVENT
DTSTART;TZID=America/Chicago:20290627T104500
DTEND;TZID=America/Chicago:20290627T110000
DTSTAMP:20260420T023302
CREATED:20250602T212526Z
LAST-MODIFIED:20250603T185502Z
UID:10102753-1877251500-1877252400@spacecenter.org
SUMMARY:OSIRIS Rex Live Presentation
DESCRIPTION:
URL:https://spacecenter.org/events-calendar-event/osiris-rex-live-presentation/2029-06-27/
LOCATION:Mission Sketch Staircase
CATEGORIES:Live Presentation
ATTACH;FMTTYPE=image/jpeg:https://spacecenter.org/wp-content/uploads/2024/03/web-march2024_tls_osirisrex.jpg
END:VEVENT
BEGIN:VEVENT
DTSTART;TZID=America/Chicago:20290627T104500
DTEND;TZID=America/Chicago:20290627T111500
DTSTAMP:20260420T023302
CREATED:20250602T213905Z
LAST-MODIFIED:20250603T185637Z
UID:10110065-1877251500-1877253300@spacecenter.org
SUMMARY:Artemis Live Presentation
DESCRIPTION:
URL:https://spacecenter.org/events-calendar-event/artemis-live-presentation/2029-06-27/
LOCATION:Theater – Destiny
CATEGORIES:Live Presentation
ATTACH;FMTTYPE=image/jpeg:https://spacecenter.org/wp-content/uploads/2022/10/Artemis-Capsule.jpeg
END:VEVENT
BEGIN:VEVENT
DTSTART;TZID=America/Chicago:20290627T111500
DTEND;TZID=America/Chicago:20290627T113000
DTSTAMP:20260420T023302
CREATED:20250602T213010Z
LAST-MODIFIED:20250603T185901Z
UID:10121033-1877253300-1877254200@spacecenter.org
SUMMARY:Story Corner Live Presentation
DESCRIPTION:
URL:https://spacecenter.org/events-calendar-event/story-corner-live-presentation/2029-06-27/
LOCATION:Theater – Artemis
CATEGORIES:Live Presentation
END:VEVENT
BEGIN:VEVENT
DTSTART;TZID=America/Chicago:20290627T114500
DTEND;TZID=America/Chicago:20290627T120000
DTSTAMP:20260420T023302
CREATED:20250602T213503Z
LAST-MODIFIED:20250603T190256Z
UID:10139313-1877255100-1877256000@spacecenter.org
SUMMARY:James Webb Live Presentation
DESCRIPTION:
URL:https://spacecenter.org/events-calendar-event/james-webb-live-presentation/2029-06-27/
LOCATION:Theater – Destiny
CATEGORIES:Live Presentation
END:VEVENT
BEGIN:VEVENT
DTSTART;TZID=America/Chicago:20290627T121500
DTEND;TZID=America/Chicago:20290627T123000
DTSTAMP:20260420T023302
CREATED:20250602T213059Z
LAST-MODIFIED:20250603T190345Z
UID:10142969-1877256900-1877257800@spacecenter.org
SUMMARY:Story Corner Live Presentation
DESCRIPTION:
URL:https://spacecenter.org/events-calendar-event/story-corner-live-presentation-2/2029-06-27/
LOCATION:Theater – Artemis
CATEGORIES:Live Presentation
END:VEVENT
BEGIN:VEVENT
DTSTART;TZID=America/Chicago:20290627T124500
DTEND;TZID=America/Chicago:20290627T131500
DTSTAMP:20260420T023302
CREATED:20250602T214012Z
LAST-MODIFIED:20250603T190811Z
UID:10153937-1877258700-1877260500@spacecenter.org
SUMMARY:Artemis Live Presentation
DESCRIPTION:
URL:https://spacecenter.org/events-calendar-event/artemis-live-presentation-2/2029-06-27/
LOCATION:Theater – Destiny
CATEGORIES:Live Presentation
ATTACH;FMTTYPE=image/jpeg:https://spacecenter.org/wp-content/uploads/2022/10/Artemis-Capsule.jpeg
END:VEVENT
BEGIN:VEVENT
DTSTART;TZID=America/Chicago:20290627T131500
DTEND;TZID=America/Chicago:20290627T133000
DTSTAMP:20260420T023302
CREATED:20250602T213201Z
LAST-MODIFIED:20250603T190922Z
UID:10161249-1877260500-1877261400@spacecenter.org
SUMMARY:Story Corner Live Presentation
DESCRIPTION:
URL:https://spacecenter.org/events-calendar-event/story-corner-live-presentation-3/2029-06-27/
LOCATION:Theater – Artemis
CATEGORIES:Live Presentation
END:VEVENT
BEGIN:VEVENT
DTSTART;TZID=America/Chicago:20290627T134500
DTEND;TZID=America/Chicago:20290627T140000
DTSTAMP:20260420T023302
CREATED:20250602T212635Z
LAST-MODIFIED:20250603T191121Z
UID:10172217-1877262300-1877263200@spacecenter.org
SUMMARY:OSIRIS Rex Live Presentation
DESCRIPTION:
URL:https://spacecenter.org/events-calendar-event/osiris-rex-live-presentation-2/2029-06-27/
LOCATION:Mission Sketch Staircase
CATEGORIES:Live Presentation
ATTACH;FMTTYPE=image/jpeg:https://spacecenter.org/wp-content/uploads/2024/03/web-march2024_tls_osirisrex.jpg
END:VEVENT
BEGIN:VEVENT
DTSTART;TZID=America/Chicago:20290627T134500
DTEND;TZID=America/Chicago:20290627T140000
DTSTAMP:20260420T023302
CREATED:20250602T213557Z
LAST-MODIFIED:20250603T191327Z
UID:10175873-1877262300-1877263200@spacecenter.org
SUMMARY:James Webb Live Presentation
DESCRIPTION:
URL:https://spacecenter.org/events-calendar-event/james-webb-live-presentation-2/2029-06-27/
LOCATION:Theater – Destiny
CATEGORIES:Live Presentation
END:VEVENT
BEGIN:VEVENT
DTSTART;TZID=America/Chicago:20290627T144500
DTEND;TZID=America/Chicago:20290627T150000
DTSTAMP:20260420T023302
CREATED:20250602T213716Z
LAST-MODIFIED:20250603T191759Z
UID:10190497-1877265900-1877266800@spacecenter.org
SUMMARY:James Webb Live Presentation
DESCRIPTION:
URL:https://spacecenter.org/events-calendar-event/james-webb-live-presentation-3/2029-06-27/
LOCATION:Theater – Destiny
CATEGORIES:Live Presentation
END:VEVENT
BEGIN:VEVENT
DTSTART;TZID=America/Chicago:20290627T151500
DTEND;TZID=America/Chicago:20290627T153000
DTSTAMP:20260420T023302
CREATED:20250602T213249Z
LAST-MODIFIED:20250603T191942Z
UID:10197809-1877267700-1877268600@spacecenter.org
SUMMARY:Story Corner Live Presentation
DESCRIPTION:
URL:https://spacecenter.org/events-calendar-event/story-corner-live-presentation-4/2029-06-27/
LOCATION:Theater – Artemis
CATEGORIES:Live Presentation
END:VEVENT
BEGIN:VEVENT
DTSTART;TZID=America/Chicago:20290627T154500
DTEND;TZID=America/Chicago:20290627T161500
DTSTAMP:20260420T023302
CREATED:20250602T214125Z
LAST-MODIFIED:20250603T192119Z
UID:10208777-1877269500-1877271300@spacecenter.org
SUMMARY:Artemis Live Presentation
DESCRIPTION:
URL:https://spacecenter.org/events-calendar-event/artemis-live-presentation-3/2029-06-27/
LOCATION:Theater – Destiny
CATEGORIES:Live Presentation
ATTACH;FMTTYPE=image/jpeg:https://spacecenter.org/wp-content/uploads/2022/10/Artemis-Capsule.jpeg
END:VEVENT
BEGIN:VEVENT
DTSTART;TZID=America/Chicago:20290627T163000
DTEND;TZID=America/Chicago:20290627T164500
DTSTAMP:20260420T023302
CREATED:20250602T212726Z
LAST-MODIFIED:20250603T192225Z
UID:10216089-1877272200-1877273100@spacecenter.org
SUMMARY:OSIRIS Rex Live Presentation
DESCRIPTION:
URL:https://spacecenter.org/events-calendar-event/osiris-rex-live-presentation-3/2029-06-27/
LOCATION:Mission Sketch Staircase
CATEGORIES:Live Presentation
ATTACH;FMTTYPE=image/jpeg:https://spacecenter.org/wp-content/uploads/2024/03/web-march2024_tls_osirisrex.jpg
END:VEVENT
BEGIN:VEVENT
DTSTART;TZID=America/Chicago:20290628T104500
DTEND;TZID=America/Chicago:20290628T110000
DTSTAMP:20260420T023302
CREATED:20250602T212526Z
LAST-MODIFIED:20250603T185502Z
UID:10102754-1877337900-1877338800@spacecenter.org
SUMMARY:OSIRIS Rex Live Presentation
DESCRIPTION:
URL:https://spacecenter.org/events-calendar-event/osiris-rex-live-presentation/2029-06-28/
LOCATION:Mission Sketch Staircase
CATEGORIES:Live Presentation
ATTACH;FMTTYPE=image/jpeg:https://spacecenter.org/wp-content/uploads/2024/03/web-march2024_tls_osirisrex.jpg
END:VEVENT
BEGIN:VEVENT
DTSTART;TZID=America/Chicago:20290628T104500
DTEND;TZID=America/Chicago:20290628T111500
DTSTAMP:20260420T023302
CREATED:20250602T213905Z
LAST-MODIFIED:20250603T185637Z
UID:10110066-1877337900-1877339700@spacecenter.org
SUMMARY:Artemis Live Presentation
DESCRIPTION:
URL:https://spacecenter.org/events-calendar-event/artemis-live-presentation/2029-06-28/
LOCATION:Theater – Destiny
CATEGORIES:Live Presentation
ATTACH;FMTTYPE=image/jpeg:https://spacecenter.org/wp-content/uploads/2022/10/Artemis-Capsule.jpeg
END:VEVENT
BEGIN:VEVENT
DTSTART;TZID=America/Chicago:20290628T111500
DTEND;TZID=America/Chicago:20290628T113000
DTSTAMP:20260420T023302
CREATED:20250602T213010Z
LAST-MODIFIED:20250603T185901Z
UID:10121034-1877339700-1877340600@spacecenter.org
SUMMARY:Story Corner Live Presentation
DESCRIPTION:
URL:https://spacecenter.org/events-calendar-event/story-corner-live-presentation/2029-06-28/
LOCATION:Theater – Artemis
CATEGORIES:Live Presentation
END:VEVENT
BEGIN:VEVENT
DTSTART;TZID=America/Chicago:20290628T114500
DTEND;TZID=America/Chicago:20290628T120000
DTSTAMP:20260420T023302
CREATED:20250602T213503Z
LAST-MODIFIED:20250603T190256Z
UID:10139314-1877341500-1877342400@spacecenter.org
SUMMARY:James Webb Live Presentation
DESCRIPTION:
URL:https://spacecenter.org/events-calendar-event/james-webb-live-presentation/2029-06-28/
LOCATION:Theater – Destiny
CATEGORIES:Live Presentation
END:VEVENT
BEGIN:VEVENT
DTSTART;TZID=America/Chicago:20290628T121500
DTEND;TZID=America/Chicago:20290628T123000
DTSTAMP:20260420T023302
CREATED:20250602T213059Z
LAST-MODIFIED:20250603T190345Z
UID:10142970-1877343300-1877344200@spacecenter.org
SUMMARY:Story Corner Live Presentation
DESCRIPTION:
URL:https://spacecenter.org/events-calendar-event/story-corner-live-presentation-2/2029-06-28/
LOCATION:Theater – Artemis
CATEGORIES:Live Presentation
END:VEVENT
BEGIN:VEVENT
DTSTART;TZID=America/Chicago:20290628T124500
DTEND;TZID=America/Chicago:20290628T131500
DTSTAMP:20260420T023302
CREATED:20250602T214012Z
LAST-MODIFIED:20250603T190811Z
UID:10153938-1877345100-1877346900@spacecenter.org
SUMMARY:Artemis Live Presentation
DESCRIPTION:
URL:https://spacecenter.org/events-calendar-event/artemis-live-presentation-2/2029-06-28/
LOCATION:Theater – Destiny
CATEGORIES:Live Presentation
ATTACH;FMTTYPE=image/jpeg:https://spacecenter.org/wp-content/uploads/2022/10/Artemis-Capsule.jpeg
END:VEVENT
BEGIN:VEVENT
DTSTART;TZID=America/Chicago:20290628T131500
DTEND;TZID=America/Chicago:20290628T133000
DTSTAMP:20260420T023302
CREATED:20250602T213201Z
LAST-MODIFIED:20250603T190922Z
UID:10161250-1877346900-1877347800@spacecenter.org
SUMMARY:Story Corner Live Presentation
DESCRIPTION:
URL:https://spacecenter.org/events-calendar-event/story-corner-live-presentation-3/2029-06-28/
LOCATION:Theater – Artemis
CATEGORIES:Live Presentation
END:VEVENT
BEGIN:VEVENT
DTSTART;TZID=America/Chicago:20290628T134500
DTEND;TZID=America/Chicago:20290628T140000
DTSTAMP:20260420T023302
CREATED:20250602T212635Z
LAST-MODIFIED:20250603T191121Z
UID:10172218-1877348700-1877349600@spacecenter.org
SUMMARY:OSIRIS Rex Live Presentation
DESCRIPTION:
URL:https://spacecenter.org/events-calendar-event/osiris-rex-live-presentation-2/2029-06-28/
LOCATION:Mission Sketch Staircase
CATEGORIES:Live Presentation
ATTACH;FMTTYPE=image/jpeg:https://spacecenter.org/wp-content/uploads/2024/03/web-march2024_tls_osirisrex.jpg
END:VEVENT
BEGIN:VEVENT
DTSTART;TZID=America/Chicago:20290628T134500
DTEND;TZID=America/Chicago:20290628T140000
DTSTAMP:20260420T023302
CREATED:20250602T213557Z
LAST-MODIFIED:20250603T191327Z
UID:10175874-1877348700-1877349600@spacecenter.org
SUMMARY:James Webb Live Presentation
DESCRIPTION:
URL:https://spacecenter.org/events-calendar-event/james-webb-live-presentation-2/2029-06-28/
LOCATION:Theater – Destiny
CATEGORIES:Live Presentation
END:VEVENT
BEGIN:VEVENT
DTSTART;TZID=America/Chicago:20290628T144500
DTEND;TZID=America/Chicago:20290628T150000
DTSTAMP:20260420T023302
CREATED:20250602T213716Z
LAST-MODIFIED:20250603T191759Z
UID:10190498-1877352300-1877353200@spacecenter.org
SUMMARY:James Webb Live Presentation
DESCRIPTION:
URL:https://spacecenter.org/events-calendar-event/james-webb-live-presentation-3/2029-06-28/
LOCATION:Theater – Destiny
CATEGORIES:Live Presentation
END:VEVENT
BEGIN:VEVENT
DTSTART;TZID=America/Chicago:20290628T151500
DTEND;TZID=America/Chicago:20290628T153000
DTSTAMP:20260420T023302
CREATED:20250602T213249Z
LAST-MODIFIED:20250603T191942Z
UID:10197810-1877354100-1877355000@spacecenter.org
SUMMARY:Story Corner Live Presentation
DESCRIPTION:
URL:https://spacecenter.org/events-calendar-event/story-corner-live-presentation-4/2029-06-28/
LOCATION:Theater – Artemis
CATEGORIES:Live Presentation
END:VEVENT
BEGIN:VEVENT
DTSTART;TZID=America/Chicago:20290628T154500
DTEND;TZID=America/Chicago:20290628T161500
DTSTAMP:20260420T023302
CREATED:20250602T214125Z
LAST-MODIFIED:20250603T192119Z
UID:10208778-1877355900-1877357700@spacecenter.org
SUMMARY:Artemis Live Presentation
DESCRIPTION:
URL:https://spacecenter.org/events-calendar-event/artemis-live-presentation-3/2029-06-28/
LOCATION:Theater – Destiny
CATEGORIES:Live Presentation
ATTACH;FMTTYPE=image/jpeg:https://spacecenter.org/wp-content/uploads/2022/10/Artemis-Capsule.jpeg
END:VEVENT
END:VCALENDAR