BEGIN:VCALENDAR
VERSION:2.0
PRODID:-//Space Center Houston - ECPv6.15.15//NONSGML v1.0//EN
CALSCALE:GREGORIAN
METHOD:PUBLISH
X-ORIGINAL-URL:https://spacecenter.org
X-WR-CALDESC:Events for Space Center Houston
REFRESH-INTERVAL;VALUE=DURATION:PT1H
X-Robots-Tag:noindex
X-PUBLISHED-TTL:PT1H
BEGIN:VTIMEZONE
TZID:America/Chicago
BEGIN:DAYLIGHT
TZOFFSETFROM:-0600
TZOFFSETTO:-0500
TZNAME:CDT
DTSTART:20280312T080000
END:DAYLIGHT
BEGIN:STANDARD
TZOFFSETFROM:-0500
TZOFFSETTO:-0600
TZNAME:CST
DTSTART:20281105T070000
END:STANDARD
BEGIN:DAYLIGHT
TZOFFSETFROM:-0600
TZOFFSETTO:-0500
TZNAME:CDT
DTSTART:20290311T080000
END:DAYLIGHT
BEGIN:STANDARD
TZOFFSETFROM:-0500
TZOFFSETTO:-0600
TZNAME:CST
DTSTART:20291104T070000
END:STANDARD
BEGIN:DAYLIGHT
TZOFFSETFROM:-0600
TZOFFSETTO:-0500
TZNAME:CDT
DTSTART:20300310T080000
END:DAYLIGHT
BEGIN:STANDARD
TZOFFSETFROM:-0500
TZOFFSETTO:-0600
TZNAME:CST
DTSTART:20301103T070000
END:STANDARD
END:VTIMEZONE
BEGIN:VEVENT
DTSTART;TZID=America/Chicago:20290622T151500
DTEND;TZID=America/Chicago:20290622T153000
DTSTAMP:20260419T073425
CREATED:20250602T213249Z
LAST-MODIFIED:20250603T191942Z
UID:10197804-1876835700-1876836600@spacecenter.org
SUMMARY:Story Corner Live Presentation
DESCRIPTION:
URL:https://spacecenter.org/events-calendar-event/story-corner-live-presentation-4/2029-06-22/
LOCATION:Theater – Artemis
CATEGORIES:Live Presentation
END:VEVENT
BEGIN:VEVENT
DTSTART;TZID=America/Chicago:20290622T154500
DTEND;TZID=America/Chicago:20290622T161500
DTSTAMP:20260419T073425
CREATED:20250602T214125Z
LAST-MODIFIED:20250603T192119Z
UID:10208772-1876837500-1876839300@spacecenter.org
SUMMARY:Artemis Live Presentation
DESCRIPTION:
URL:https://spacecenter.org/events-calendar-event/artemis-live-presentation-3/2029-06-22/
LOCATION:Theater – Destiny
CATEGORIES:Live Presentation
ATTACH;FMTTYPE=image/jpeg:https://spacecenter.org/wp-content/uploads/2022/10/Artemis-Capsule.jpeg
END:VEVENT
BEGIN:VEVENT
DTSTART;TZID=America/Chicago:20290622T163000
DTEND;TZID=America/Chicago:20290622T164500
DTSTAMP:20260419T073425
CREATED:20250602T212726Z
LAST-MODIFIED:20250603T192225Z
UID:10216084-1876840200-1876841100@spacecenter.org
SUMMARY:OSIRIS Rex Live Presentation
DESCRIPTION:
URL:https://spacecenter.org/events-calendar-event/osiris-rex-live-presentation-3/2029-06-22/
LOCATION:Mission Sketch Staircase
CATEGORIES:Live Presentation
ATTACH;FMTTYPE=image/jpeg:https://spacecenter.org/wp-content/uploads/2024/03/web-march2024_tls_osirisrex.jpg
END:VEVENT
BEGIN:VEVENT
DTSTART;TZID=America/Chicago:20290623T104500
DTEND;TZID=America/Chicago:20290623T110000
DTSTAMP:20260419T073425
CREATED:20250602T212526Z
LAST-MODIFIED:20250603T185502Z
UID:10102749-1876905900-1876906800@spacecenter.org
SUMMARY:OSIRIS Rex Live Presentation
DESCRIPTION:
URL:https://spacecenter.org/events-calendar-event/osiris-rex-live-presentation/2029-06-23/
LOCATION:Mission Sketch Staircase
CATEGORIES:Live Presentation
ATTACH;FMTTYPE=image/jpeg:https://spacecenter.org/wp-content/uploads/2024/03/web-march2024_tls_osirisrex.jpg
END:VEVENT
BEGIN:VEVENT
DTSTART;TZID=America/Chicago:20290623T104500
DTEND;TZID=America/Chicago:20290623T111500
DTSTAMP:20260419T073425
CREATED:20250602T213905Z
LAST-MODIFIED:20250603T185637Z
UID:10110061-1876905900-1876907700@spacecenter.org
SUMMARY:Artemis Live Presentation
DESCRIPTION:
URL:https://spacecenter.org/events-calendar-event/artemis-live-presentation/2029-06-23/
LOCATION:Theater – Destiny
CATEGORIES:Live Presentation
ATTACH;FMTTYPE=image/jpeg:https://spacecenter.org/wp-content/uploads/2022/10/Artemis-Capsule.jpeg
END:VEVENT
BEGIN:VEVENT
DTSTART;TZID=America/Chicago:20290623T111500
DTEND;TZID=America/Chicago:20290623T113000
DTSTAMP:20260419T073425
CREATED:20250602T213010Z
LAST-MODIFIED:20250603T185901Z
UID:10121029-1876907700-1876908600@spacecenter.org
SUMMARY:Story Corner Live Presentation
DESCRIPTION:
URL:https://spacecenter.org/events-calendar-event/story-corner-live-presentation/2029-06-23/
LOCATION:Theater – Artemis
CATEGORIES:Live Presentation
END:VEVENT
BEGIN:VEVENT
DTSTART;TZID=America/Chicago:20290623T114500
DTEND;TZID=America/Chicago:20290623T120000
DTSTAMP:20260419T073425
CREATED:20250602T213503Z
LAST-MODIFIED:20250603T190256Z
UID:10139309-1876909500-1876910400@spacecenter.org
SUMMARY:James Webb Live Presentation
DESCRIPTION:
URL:https://spacecenter.org/events-calendar-event/james-webb-live-presentation/2029-06-23/
LOCATION:Theater – Destiny
CATEGORIES:Live Presentation
END:VEVENT
BEGIN:VEVENT
DTSTART;TZID=America/Chicago:20290623T121500
DTEND;TZID=America/Chicago:20290623T123000
DTSTAMP:20260419T073425
CREATED:20250602T213059Z
LAST-MODIFIED:20250603T190345Z
UID:10142965-1876911300-1876912200@spacecenter.org
SUMMARY:Story Corner Live Presentation
DESCRIPTION:
URL:https://spacecenter.org/events-calendar-event/story-corner-live-presentation-2/2029-06-23/
LOCATION:Theater – Artemis
CATEGORIES:Live Presentation
END:VEVENT
BEGIN:VEVENT
DTSTART;TZID=America/Chicago:20290623T124500
DTEND;TZID=America/Chicago:20290623T131500
DTSTAMP:20260419T073425
CREATED:20250602T214012Z
LAST-MODIFIED:20250603T190811Z
UID:10153933-1876913100-1876914900@spacecenter.org
SUMMARY:Artemis Live Presentation
DESCRIPTION:
URL:https://spacecenter.org/events-calendar-event/artemis-live-presentation-2/2029-06-23/
LOCATION:Theater – Destiny
CATEGORIES:Live Presentation
ATTACH;FMTTYPE=image/jpeg:https://spacecenter.org/wp-content/uploads/2022/10/Artemis-Capsule.jpeg
END:VEVENT
BEGIN:VEVENT
DTSTART;TZID=America/Chicago:20290623T131500
DTEND;TZID=America/Chicago:20290623T133000
DTSTAMP:20260419T073425
CREATED:20250602T213201Z
LAST-MODIFIED:20250603T190922Z
UID:10161245-1876914900-1876915800@spacecenter.org
SUMMARY:Story Corner Live Presentation
DESCRIPTION:
URL:https://spacecenter.org/events-calendar-event/story-corner-live-presentation-3/2029-06-23/
LOCATION:Theater – Artemis
CATEGORIES:Live Presentation
END:VEVENT
BEGIN:VEVENT
DTSTART;TZID=America/Chicago:20290623T134500
DTEND;TZID=America/Chicago:20290623T140000
DTSTAMP:20260419T073425
CREATED:20250602T212635Z
LAST-MODIFIED:20250603T191121Z
UID:10172213-1876916700-1876917600@spacecenter.org
SUMMARY:OSIRIS Rex Live Presentation
DESCRIPTION:
URL:https://spacecenter.org/events-calendar-event/osiris-rex-live-presentation-2/2029-06-23/
LOCATION:Mission Sketch Staircase
CATEGORIES:Live Presentation
ATTACH;FMTTYPE=image/jpeg:https://spacecenter.org/wp-content/uploads/2024/03/web-march2024_tls_osirisrex.jpg
END:VEVENT
BEGIN:VEVENT
DTSTART;TZID=America/Chicago:20290623T134500
DTEND;TZID=America/Chicago:20290623T140000
DTSTAMP:20260419T073425
CREATED:20250602T213557Z
LAST-MODIFIED:20250603T191327Z
UID:10175869-1876916700-1876917600@spacecenter.org
SUMMARY:James Webb Live Presentation
DESCRIPTION:
URL:https://spacecenter.org/events-calendar-event/james-webb-live-presentation-2/2029-06-23/
LOCATION:Theater – Destiny
CATEGORIES:Live Presentation
END:VEVENT
BEGIN:VEVENT
DTSTART;TZID=America/Chicago:20290623T144500
DTEND;TZID=America/Chicago:20290623T150000
DTSTAMP:20260419T073425
CREATED:20250602T213716Z
LAST-MODIFIED:20250603T191759Z
UID:10190493-1876920300-1876921200@spacecenter.org
SUMMARY:James Webb Live Presentation
DESCRIPTION:
URL:https://spacecenter.org/events-calendar-event/james-webb-live-presentation-3/2029-06-23/
LOCATION:Theater – Destiny
CATEGORIES:Live Presentation
END:VEVENT
BEGIN:VEVENT
DTSTART;TZID=America/Chicago:20290623T151500
DTEND;TZID=America/Chicago:20290623T153000
DTSTAMP:20260419T073425
CREATED:20250602T213249Z
LAST-MODIFIED:20250603T191942Z
UID:10197805-1876922100-1876923000@spacecenter.org
SUMMARY:Story Corner Live Presentation
DESCRIPTION:
URL:https://spacecenter.org/events-calendar-event/story-corner-live-presentation-4/2029-06-23/
LOCATION:Theater – Artemis
CATEGORIES:Live Presentation
END:VEVENT
BEGIN:VEVENT
DTSTART;TZID=America/Chicago:20290623T154500
DTEND;TZID=America/Chicago:20290623T161500
DTSTAMP:20260419T073425
CREATED:20250602T214125Z
LAST-MODIFIED:20250603T192119Z
UID:10208773-1876923900-1876925700@spacecenter.org
SUMMARY:Artemis Live Presentation
DESCRIPTION:
URL:https://spacecenter.org/events-calendar-event/artemis-live-presentation-3/2029-06-23/
LOCATION:Theater – Destiny
CATEGORIES:Live Presentation
ATTACH;FMTTYPE=image/jpeg:https://spacecenter.org/wp-content/uploads/2022/10/Artemis-Capsule.jpeg
END:VEVENT
BEGIN:VEVENT
DTSTART;TZID=America/Chicago:20290623T163000
DTEND;TZID=America/Chicago:20290623T164500
DTSTAMP:20260419T073425
CREATED:20250602T212726Z
LAST-MODIFIED:20250603T192225Z
UID:10216085-1876926600-1876927500@spacecenter.org
SUMMARY:OSIRIS Rex Live Presentation
DESCRIPTION:
URL:https://spacecenter.org/events-calendar-event/osiris-rex-live-presentation-3/2029-06-23/
LOCATION:Mission Sketch Staircase
CATEGORIES:Live Presentation
ATTACH;FMTTYPE=image/jpeg:https://spacecenter.org/wp-content/uploads/2024/03/web-march2024_tls_osirisrex.jpg
END:VEVENT
BEGIN:VEVENT
DTSTART;TZID=America/Chicago:20290624T104500
DTEND;TZID=America/Chicago:20290624T110000
DTSTAMP:20260419T073425
CREATED:20250602T212526Z
LAST-MODIFIED:20250603T185502Z
UID:10102750-1876992300-1876993200@spacecenter.org
SUMMARY:OSIRIS Rex Live Presentation
DESCRIPTION:
URL:https://spacecenter.org/events-calendar-event/osiris-rex-live-presentation/2029-06-24/
LOCATION:Mission Sketch Staircase
CATEGORIES:Live Presentation
ATTACH;FMTTYPE=image/jpeg:https://spacecenter.org/wp-content/uploads/2024/03/web-march2024_tls_osirisrex.jpg
END:VEVENT
BEGIN:VEVENT
DTSTART;TZID=America/Chicago:20290624T104500
DTEND;TZID=America/Chicago:20290624T111500
DTSTAMP:20260419T073425
CREATED:20250602T213905Z
LAST-MODIFIED:20250603T185637Z
UID:10110062-1876992300-1876994100@spacecenter.org
SUMMARY:Artemis Live Presentation
DESCRIPTION:
URL:https://spacecenter.org/events-calendar-event/artemis-live-presentation/2029-06-24/
LOCATION:Theater – Destiny
CATEGORIES:Live Presentation
ATTACH;FMTTYPE=image/jpeg:https://spacecenter.org/wp-content/uploads/2022/10/Artemis-Capsule.jpeg
END:VEVENT
BEGIN:VEVENT
DTSTART;TZID=America/Chicago:20290624T111500
DTEND;TZID=America/Chicago:20290624T113000
DTSTAMP:20260419T073425
CREATED:20250602T213010Z
LAST-MODIFIED:20250603T185901Z
UID:10121030-1876994100-1876995000@spacecenter.org
SUMMARY:Story Corner Live Presentation
DESCRIPTION:
URL:https://spacecenter.org/events-calendar-event/story-corner-live-presentation/2029-06-24/
LOCATION:Theater – Artemis
CATEGORIES:Live Presentation
END:VEVENT
BEGIN:VEVENT
DTSTART;TZID=America/Chicago:20290624T114500
DTEND;TZID=America/Chicago:20290624T120000
DTSTAMP:20260419T073425
CREATED:20250602T213503Z
LAST-MODIFIED:20250603T190256Z
UID:10139310-1876995900-1876996800@spacecenter.org
SUMMARY:James Webb Live Presentation
DESCRIPTION:
URL:https://spacecenter.org/events-calendar-event/james-webb-live-presentation/2029-06-24/
LOCATION:Theater – Destiny
CATEGORIES:Live Presentation
END:VEVENT
BEGIN:VEVENT
DTSTART;TZID=America/Chicago:20290624T121500
DTEND;TZID=America/Chicago:20290624T123000
DTSTAMP:20260419T073425
CREATED:20250602T213059Z
LAST-MODIFIED:20250603T190345Z
UID:10142966-1876997700-1876998600@spacecenter.org
SUMMARY:Story Corner Live Presentation
DESCRIPTION:
URL:https://spacecenter.org/events-calendar-event/story-corner-live-presentation-2/2029-06-24/
LOCATION:Theater – Artemis
CATEGORIES:Live Presentation
END:VEVENT
BEGIN:VEVENT
DTSTART;TZID=America/Chicago:20290624T124500
DTEND;TZID=America/Chicago:20290624T131500
DTSTAMP:20260419T073425
CREATED:20250602T214012Z
LAST-MODIFIED:20250603T190811Z
UID:10153934-1876999500-1877001300@spacecenter.org
SUMMARY:Artemis Live Presentation
DESCRIPTION:
URL:https://spacecenter.org/events-calendar-event/artemis-live-presentation-2/2029-06-24/
LOCATION:Theater – Destiny
CATEGORIES:Live Presentation
ATTACH;FMTTYPE=image/jpeg:https://spacecenter.org/wp-content/uploads/2022/10/Artemis-Capsule.jpeg
END:VEVENT
BEGIN:VEVENT
DTSTART;TZID=America/Chicago:20290624T131500
DTEND;TZID=America/Chicago:20290624T133000
DTSTAMP:20260419T073425
CREATED:20250602T213201Z
LAST-MODIFIED:20250603T190922Z
UID:10161246-1877001300-1877002200@spacecenter.org
SUMMARY:Story Corner Live Presentation
DESCRIPTION:
URL:https://spacecenter.org/events-calendar-event/story-corner-live-presentation-3/2029-06-24/
LOCATION:Theater – Artemis
CATEGORIES:Live Presentation
END:VEVENT
BEGIN:VEVENT
DTSTART;TZID=America/Chicago:20290624T134500
DTEND;TZID=America/Chicago:20290624T140000
DTSTAMP:20260419T073425
CREATED:20250602T212635Z
LAST-MODIFIED:20250603T191121Z
UID:10172214-1877003100-1877004000@spacecenter.org
SUMMARY:OSIRIS Rex Live Presentation
DESCRIPTION:
URL:https://spacecenter.org/events-calendar-event/osiris-rex-live-presentation-2/2029-06-24/
LOCATION:Mission Sketch Staircase
CATEGORIES:Live Presentation
ATTACH;FMTTYPE=image/jpeg:https://spacecenter.org/wp-content/uploads/2024/03/web-march2024_tls_osirisrex.jpg
END:VEVENT
BEGIN:VEVENT
DTSTART;TZID=America/Chicago:20290624T134500
DTEND;TZID=America/Chicago:20290624T140000
DTSTAMP:20260419T073425
CREATED:20250602T213557Z
LAST-MODIFIED:20250603T191327Z
UID:10175870-1877003100-1877004000@spacecenter.org
SUMMARY:James Webb Live Presentation
DESCRIPTION:
URL:https://spacecenter.org/events-calendar-event/james-webb-live-presentation-2/2029-06-24/
LOCATION:Theater – Destiny
CATEGORIES:Live Presentation
END:VEVENT
BEGIN:VEVENT
DTSTART;TZID=America/Chicago:20290624T144500
DTEND;TZID=America/Chicago:20290624T150000
DTSTAMP:20260419T073425
CREATED:20250602T213716Z
LAST-MODIFIED:20250603T191759Z
UID:10190494-1877006700-1877007600@spacecenter.org
SUMMARY:James Webb Live Presentation
DESCRIPTION:
URL:https://spacecenter.org/events-calendar-event/james-webb-live-presentation-3/2029-06-24/
LOCATION:Theater – Destiny
CATEGORIES:Live Presentation
END:VEVENT
BEGIN:VEVENT
DTSTART;TZID=America/Chicago:20290624T151500
DTEND;TZID=America/Chicago:20290624T153000
DTSTAMP:20260419T073425
CREATED:20250602T213249Z
LAST-MODIFIED:20250603T191942Z
UID:10197806-1877008500-1877009400@spacecenter.org
SUMMARY:Story Corner Live Presentation
DESCRIPTION:
URL:https://spacecenter.org/events-calendar-event/story-corner-live-presentation-4/2029-06-24/
LOCATION:Theater – Artemis
CATEGORIES:Live Presentation
END:VEVENT
BEGIN:VEVENT
DTSTART;TZID=America/Chicago:20290624T154500
DTEND;TZID=America/Chicago:20290624T161500
DTSTAMP:20260419T073425
CREATED:20250602T214125Z
LAST-MODIFIED:20250603T192119Z
UID:10208774-1877010300-1877012100@spacecenter.org
SUMMARY:Artemis Live Presentation
DESCRIPTION:
URL:https://spacecenter.org/events-calendar-event/artemis-live-presentation-3/2029-06-24/
LOCATION:Theater – Destiny
CATEGORIES:Live Presentation
ATTACH;FMTTYPE=image/jpeg:https://spacecenter.org/wp-content/uploads/2022/10/Artemis-Capsule.jpeg
END:VEVENT
BEGIN:VEVENT
DTSTART;TZID=America/Chicago:20290624T163000
DTEND;TZID=America/Chicago:20290624T164500
DTSTAMP:20260419T073425
CREATED:20250602T212726Z
LAST-MODIFIED:20250603T192225Z
UID:10216086-1877013000-1877013900@spacecenter.org
SUMMARY:OSIRIS Rex Live Presentation
DESCRIPTION:
URL:https://spacecenter.org/events-calendar-event/osiris-rex-live-presentation-3/2029-06-24/
LOCATION:Mission Sketch Staircase
CATEGORIES:Live Presentation
ATTACH;FMTTYPE=image/jpeg:https://spacecenter.org/wp-content/uploads/2024/03/web-march2024_tls_osirisrex.jpg
END:VEVENT
BEGIN:VEVENT
DTSTART;TZID=America/Chicago:20290625T104500
DTEND;TZID=America/Chicago:20290625T110000
DTSTAMP:20260419T073425
CREATED:20250602T212526Z
LAST-MODIFIED:20250603T185502Z
UID:10102751-1877078700-1877079600@spacecenter.org
SUMMARY:OSIRIS Rex Live Presentation
DESCRIPTION:
URL:https://spacecenter.org/events-calendar-event/osiris-rex-live-presentation/2029-06-25/
LOCATION:Mission Sketch Staircase
CATEGORIES:Live Presentation
ATTACH;FMTTYPE=image/jpeg:https://spacecenter.org/wp-content/uploads/2024/03/web-march2024_tls_osirisrex.jpg
END:VEVENT
END:VCALENDAR