BEGIN:VCALENDAR
VERSION:2.0
PRODID:-//Space Center Houston - ECPv6.15.15//NONSGML v1.0//EN
CALSCALE:GREGORIAN
METHOD:PUBLISH
X-ORIGINAL-URL:https://spacecenter.org
X-WR-CALDESC:Events for Space Center Houston
REFRESH-INTERVAL;VALUE=DURATION:PT1H
X-Robots-Tag:noindex
X-PUBLISHED-TTL:PT1H
BEGIN:VTIMEZONE
TZID:America/Chicago
BEGIN:DAYLIGHT
TZOFFSETFROM:-0600
TZOFFSETTO:-0500
TZNAME:CDT
DTSTART:20280312T080000
END:DAYLIGHT
BEGIN:STANDARD
TZOFFSETFROM:-0500
TZOFFSETTO:-0600
TZNAME:CST
DTSTART:20281105T070000
END:STANDARD
BEGIN:DAYLIGHT
TZOFFSETFROM:-0600
TZOFFSETTO:-0500
TZNAME:CDT
DTSTART:20290311T080000
END:DAYLIGHT
BEGIN:STANDARD
TZOFFSETFROM:-0500
TZOFFSETTO:-0600
TZNAME:CST
DTSTART:20291104T070000
END:STANDARD
BEGIN:DAYLIGHT
TZOFFSETFROM:-0600
TZOFFSETTO:-0500
TZNAME:CDT
DTSTART:20300310T080000
END:DAYLIGHT
BEGIN:STANDARD
TZOFFSETFROM:-0500
TZOFFSETTO:-0600
TZNAME:CST
DTSTART:20301103T070000
END:STANDARD
END:VTIMEZONE
BEGIN:VEVENT
DTSTART;TZID=America/Chicago:20290521T131500
DTEND;TZID=America/Chicago:20290521T133000
DTSTAMP:20260425T112539
CREATED:20250602T213201Z
LAST-MODIFIED:20250603T190922Z
UID:10161212-1874063700-1874064600@spacecenter.org
SUMMARY:Story Corner Live Presentation
DESCRIPTION:
URL:https://spacecenter.org/events-calendar-event/story-corner-live-presentation-3/2029-05-21/
LOCATION:Theater – Artemis
CATEGORIES:Live Presentation
END:VEVENT
BEGIN:VEVENT
DTSTART;TZID=America/Chicago:20290521T134500
DTEND;TZID=America/Chicago:20290521T140000
DTSTAMP:20260425T112539
CREATED:20250602T212635Z
LAST-MODIFIED:20250603T191121Z
UID:10172180-1874065500-1874066400@spacecenter.org
SUMMARY:OSIRIS Rex Live Presentation
DESCRIPTION:
URL:https://spacecenter.org/events-calendar-event/osiris-rex-live-presentation-2/2029-05-21/
LOCATION:Mission Sketch Staircase
CATEGORIES:Live Presentation
ATTACH;FMTTYPE=image/jpeg:https://spacecenter.org/wp-content/uploads/2024/03/web-march2024_tls_osirisrex.jpg
END:VEVENT
BEGIN:VEVENT
DTSTART;TZID=America/Chicago:20290521T134500
DTEND;TZID=America/Chicago:20290521T140000
DTSTAMP:20260425T112539
CREATED:20250602T213557Z
LAST-MODIFIED:20250603T191327Z
UID:10175836-1874065500-1874066400@spacecenter.org
SUMMARY:James Webb Live Presentation
DESCRIPTION:
URL:https://spacecenter.org/events-calendar-event/james-webb-live-presentation-2/2029-05-21/
LOCATION:Theater – Destiny
CATEGORIES:Live Presentation
END:VEVENT
BEGIN:VEVENT
DTSTART;TZID=America/Chicago:20290521T144500
DTEND;TZID=America/Chicago:20290521T150000
DTSTAMP:20260425T112539
CREATED:20250602T213716Z
LAST-MODIFIED:20250603T191759Z
UID:10190460-1874069100-1874070000@spacecenter.org
SUMMARY:James Webb Live Presentation
DESCRIPTION:
URL:https://spacecenter.org/events-calendar-event/james-webb-live-presentation-3/2029-05-21/
LOCATION:Theater – Destiny
CATEGORIES:Live Presentation
END:VEVENT
BEGIN:VEVENT
DTSTART;TZID=America/Chicago:20290521T151500
DTEND;TZID=America/Chicago:20290521T153000
DTSTAMP:20260425T112539
CREATED:20250602T213249Z
LAST-MODIFIED:20250603T191942Z
UID:10197772-1874070900-1874071800@spacecenter.org
SUMMARY:Story Corner Live Presentation
DESCRIPTION:
URL:https://spacecenter.org/events-calendar-event/story-corner-live-presentation-4/2029-05-21/
LOCATION:Theater – Artemis
CATEGORIES:Live Presentation
END:VEVENT
BEGIN:VEVENT
DTSTART;TZID=America/Chicago:20290521T154500
DTEND;TZID=America/Chicago:20290521T161500
DTSTAMP:20260425T112539
CREATED:20250602T214125Z
LAST-MODIFIED:20250603T192119Z
UID:10208740-1874072700-1874074500@spacecenter.org
SUMMARY:Artemis Live Presentation
DESCRIPTION:
URL:https://spacecenter.org/events-calendar-event/artemis-live-presentation-3/2029-05-21/
LOCATION:Theater – Destiny
CATEGORIES:Live Presentation
ATTACH;FMTTYPE=image/jpeg:https://spacecenter.org/wp-content/uploads/2022/10/Artemis-Capsule.jpeg
END:VEVENT
BEGIN:VEVENT
DTSTART;TZID=America/Chicago:20290521T163000
DTEND;TZID=America/Chicago:20290521T164500
DTSTAMP:20260425T112539
CREATED:20250602T212726Z
LAST-MODIFIED:20250603T192225Z
UID:10216052-1874075400-1874076300@spacecenter.org
SUMMARY:OSIRIS Rex Live Presentation
DESCRIPTION:
URL:https://spacecenter.org/events-calendar-event/osiris-rex-live-presentation-3/2029-05-21/
LOCATION:Mission Sketch Staircase
CATEGORIES:Live Presentation
ATTACH;FMTTYPE=image/jpeg:https://spacecenter.org/wp-content/uploads/2024/03/web-march2024_tls_osirisrex.jpg
END:VEVENT
BEGIN:VEVENT
DTSTART;TZID=America/Chicago:20290522T104500
DTEND;TZID=America/Chicago:20290522T110000
DTSTAMP:20260425T112539
CREATED:20250602T212526Z
LAST-MODIFIED:20250603T185502Z
UID:10102717-1874141100-1874142000@spacecenter.org
SUMMARY:OSIRIS Rex Live Presentation
DESCRIPTION:
URL:https://spacecenter.org/events-calendar-event/osiris-rex-live-presentation/2029-05-22/
LOCATION:Mission Sketch Staircase
CATEGORIES:Live Presentation
ATTACH;FMTTYPE=image/jpeg:https://spacecenter.org/wp-content/uploads/2024/03/web-march2024_tls_osirisrex.jpg
END:VEVENT
BEGIN:VEVENT
DTSTART;TZID=America/Chicago:20290522T104500
DTEND;TZID=America/Chicago:20290522T111500
DTSTAMP:20260425T112539
CREATED:20250602T213905Z
LAST-MODIFIED:20250603T185637Z
UID:10110029-1874141100-1874142900@spacecenter.org
SUMMARY:Artemis Live Presentation
DESCRIPTION:
URL:https://spacecenter.org/events-calendar-event/artemis-live-presentation/2029-05-22/
LOCATION:Theater – Destiny
CATEGORIES:Live Presentation
ATTACH;FMTTYPE=image/jpeg:https://spacecenter.org/wp-content/uploads/2022/10/Artemis-Capsule.jpeg
END:VEVENT
BEGIN:VEVENT
DTSTART;TZID=America/Chicago:20290522T111500
DTEND;TZID=America/Chicago:20290522T113000
DTSTAMP:20260425T112539
CREATED:20250602T213010Z
LAST-MODIFIED:20250603T185901Z
UID:10120997-1874142900-1874143800@spacecenter.org
SUMMARY:Story Corner Live Presentation
DESCRIPTION:
URL:https://spacecenter.org/events-calendar-event/story-corner-live-presentation/2029-05-22/
LOCATION:Theater – Artemis
CATEGORIES:Live Presentation
END:VEVENT
BEGIN:VEVENT
DTSTART;TZID=America/Chicago:20290522T114500
DTEND;TZID=America/Chicago:20290522T120000
DTSTAMP:20260425T112539
CREATED:20250602T213503Z
LAST-MODIFIED:20250603T190256Z
UID:10139277-1874144700-1874145600@spacecenter.org
SUMMARY:James Webb Live Presentation
DESCRIPTION:
URL:https://spacecenter.org/events-calendar-event/james-webb-live-presentation/2029-05-22/
LOCATION:Theater – Destiny
CATEGORIES:Live Presentation
END:VEVENT
BEGIN:VEVENT
DTSTART;TZID=America/Chicago:20290522T121500
DTEND;TZID=America/Chicago:20290522T123000
DTSTAMP:20260425T112539
CREATED:20250602T213059Z
LAST-MODIFIED:20250603T190345Z
UID:10142933-1874146500-1874147400@spacecenter.org
SUMMARY:Story Corner Live Presentation
DESCRIPTION:
URL:https://spacecenter.org/events-calendar-event/story-corner-live-presentation-2/2029-05-22/
LOCATION:Theater – Artemis
CATEGORIES:Live Presentation
END:VEVENT
BEGIN:VEVENT
DTSTART;TZID=America/Chicago:20290522T124500
DTEND;TZID=America/Chicago:20290522T131500
DTSTAMP:20260425T112539
CREATED:20250602T214012Z
LAST-MODIFIED:20250603T190811Z
UID:10153901-1874148300-1874150100@spacecenter.org
SUMMARY:Artemis Live Presentation
DESCRIPTION:
URL:https://spacecenter.org/events-calendar-event/artemis-live-presentation-2/2029-05-22/
LOCATION:Theater – Destiny
CATEGORIES:Live Presentation
ATTACH;FMTTYPE=image/jpeg:https://spacecenter.org/wp-content/uploads/2022/10/Artemis-Capsule.jpeg
END:VEVENT
BEGIN:VEVENT
DTSTART;TZID=America/Chicago:20290522T131500
DTEND;TZID=America/Chicago:20290522T133000
DTSTAMP:20260425T112539
CREATED:20250602T213201Z
LAST-MODIFIED:20250603T190922Z
UID:10161213-1874150100-1874151000@spacecenter.org
SUMMARY:Story Corner Live Presentation
DESCRIPTION:
URL:https://spacecenter.org/events-calendar-event/story-corner-live-presentation-3/2029-05-22/
LOCATION:Theater – Artemis
CATEGORIES:Live Presentation
END:VEVENT
BEGIN:VEVENT
DTSTART;TZID=America/Chicago:20290522T134500
DTEND;TZID=America/Chicago:20290522T140000
DTSTAMP:20260425T112539
CREATED:20250602T212635Z
LAST-MODIFIED:20250603T191121Z
UID:10172181-1874151900-1874152800@spacecenter.org
SUMMARY:OSIRIS Rex Live Presentation
DESCRIPTION:
URL:https://spacecenter.org/events-calendar-event/osiris-rex-live-presentation-2/2029-05-22/
LOCATION:Mission Sketch Staircase
CATEGORIES:Live Presentation
ATTACH;FMTTYPE=image/jpeg:https://spacecenter.org/wp-content/uploads/2024/03/web-march2024_tls_osirisrex.jpg
END:VEVENT
BEGIN:VEVENT
DTSTART;TZID=America/Chicago:20290522T134500
DTEND;TZID=America/Chicago:20290522T140000
DTSTAMP:20260425T112539
CREATED:20250602T213557Z
LAST-MODIFIED:20250603T191327Z
UID:10175837-1874151900-1874152800@spacecenter.org
SUMMARY:James Webb Live Presentation
DESCRIPTION:
URL:https://spacecenter.org/events-calendar-event/james-webb-live-presentation-2/2029-05-22/
LOCATION:Theater – Destiny
CATEGORIES:Live Presentation
END:VEVENT
BEGIN:VEVENT
DTSTART;TZID=America/Chicago:20290522T144500
DTEND;TZID=America/Chicago:20290522T150000
DTSTAMP:20260425T112539
CREATED:20250602T213716Z
LAST-MODIFIED:20250603T191759Z
UID:10190461-1874155500-1874156400@spacecenter.org
SUMMARY:James Webb Live Presentation
DESCRIPTION:
URL:https://spacecenter.org/events-calendar-event/james-webb-live-presentation-3/2029-05-22/
LOCATION:Theater – Destiny
CATEGORIES:Live Presentation
END:VEVENT
BEGIN:VEVENT
DTSTART;TZID=America/Chicago:20290522T151500
DTEND;TZID=America/Chicago:20290522T153000
DTSTAMP:20260425T112539
CREATED:20250602T213249Z
LAST-MODIFIED:20250603T191942Z
UID:10197773-1874157300-1874158200@spacecenter.org
SUMMARY:Story Corner Live Presentation
DESCRIPTION:
URL:https://spacecenter.org/events-calendar-event/story-corner-live-presentation-4/2029-05-22/
LOCATION:Theater – Artemis
CATEGORIES:Live Presentation
END:VEVENT
BEGIN:VEVENT
DTSTART;TZID=America/Chicago:20290522T154500
DTEND;TZID=America/Chicago:20290522T161500
DTSTAMP:20260425T112539
CREATED:20250602T214125Z
LAST-MODIFIED:20250603T192119Z
UID:10208741-1874159100-1874160900@spacecenter.org
SUMMARY:Artemis Live Presentation
DESCRIPTION:
URL:https://spacecenter.org/events-calendar-event/artemis-live-presentation-3/2029-05-22/
LOCATION:Theater – Destiny
CATEGORIES:Live Presentation
ATTACH;FMTTYPE=image/jpeg:https://spacecenter.org/wp-content/uploads/2022/10/Artemis-Capsule.jpeg
END:VEVENT
BEGIN:VEVENT
DTSTART;TZID=America/Chicago:20290522T163000
DTEND;TZID=America/Chicago:20290522T164500
DTSTAMP:20260425T112539
CREATED:20250602T212726Z
LAST-MODIFIED:20250603T192225Z
UID:10216053-1874161800-1874162700@spacecenter.org
SUMMARY:OSIRIS Rex Live Presentation
DESCRIPTION:
URL:https://spacecenter.org/events-calendar-event/osiris-rex-live-presentation-3/2029-05-22/
LOCATION:Mission Sketch Staircase
CATEGORIES:Live Presentation
ATTACH;FMTTYPE=image/jpeg:https://spacecenter.org/wp-content/uploads/2024/03/web-march2024_tls_osirisrex.jpg
END:VEVENT
BEGIN:VEVENT
DTSTART;TZID=America/Chicago:20290523T104500
DTEND;TZID=America/Chicago:20290523T110000
DTSTAMP:20260425T112539
CREATED:20250602T212526Z
LAST-MODIFIED:20250603T185502Z
UID:10102718-1874227500-1874228400@spacecenter.org
SUMMARY:OSIRIS Rex Live Presentation
DESCRIPTION:
URL:https://spacecenter.org/events-calendar-event/osiris-rex-live-presentation/2029-05-23/
LOCATION:Mission Sketch Staircase
CATEGORIES:Live Presentation
ATTACH;FMTTYPE=image/jpeg:https://spacecenter.org/wp-content/uploads/2024/03/web-march2024_tls_osirisrex.jpg
END:VEVENT
BEGIN:VEVENT
DTSTART;TZID=America/Chicago:20290523T104500
DTEND;TZID=America/Chicago:20290523T111500
DTSTAMP:20260425T112539
CREATED:20250602T213905Z
LAST-MODIFIED:20250603T185637Z
UID:10110030-1874227500-1874229300@spacecenter.org
SUMMARY:Artemis Live Presentation
DESCRIPTION:
URL:https://spacecenter.org/events-calendar-event/artemis-live-presentation/2029-05-23/
LOCATION:Theater – Destiny
CATEGORIES:Live Presentation
ATTACH;FMTTYPE=image/jpeg:https://spacecenter.org/wp-content/uploads/2022/10/Artemis-Capsule.jpeg
END:VEVENT
BEGIN:VEVENT
DTSTART;TZID=America/Chicago:20290523T111500
DTEND;TZID=America/Chicago:20290523T113000
DTSTAMP:20260425T112539
CREATED:20250602T213010Z
LAST-MODIFIED:20250603T185901Z
UID:10120998-1874229300-1874230200@spacecenter.org
SUMMARY:Story Corner Live Presentation
DESCRIPTION:
URL:https://spacecenter.org/events-calendar-event/story-corner-live-presentation/2029-05-23/
LOCATION:Theater – Artemis
CATEGORIES:Live Presentation
END:VEVENT
BEGIN:VEVENT
DTSTART;TZID=America/Chicago:20290523T114500
DTEND;TZID=America/Chicago:20290523T120000
DTSTAMP:20260425T112539
CREATED:20250602T213503Z
LAST-MODIFIED:20250603T190256Z
UID:10139278-1874231100-1874232000@spacecenter.org
SUMMARY:James Webb Live Presentation
DESCRIPTION:
URL:https://spacecenter.org/events-calendar-event/james-webb-live-presentation/2029-05-23/
LOCATION:Theater – Destiny
CATEGORIES:Live Presentation
END:VEVENT
BEGIN:VEVENT
DTSTART;TZID=America/Chicago:20290523T121500
DTEND;TZID=America/Chicago:20290523T123000
DTSTAMP:20260425T112539
CREATED:20250602T213059Z
LAST-MODIFIED:20250603T190345Z
UID:10142934-1874232900-1874233800@spacecenter.org
SUMMARY:Story Corner Live Presentation
DESCRIPTION:
URL:https://spacecenter.org/events-calendar-event/story-corner-live-presentation-2/2029-05-23/
LOCATION:Theater – Artemis
CATEGORIES:Live Presentation
END:VEVENT
BEGIN:VEVENT
DTSTART;TZID=America/Chicago:20290523T124500
DTEND;TZID=America/Chicago:20290523T131500
DTSTAMP:20260425T112539
CREATED:20250602T214012Z
LAST-MODIFIED:20250603T190811Z
UID:10153902-1874234700-1874236500@spacecenter.org
SUMMARY:Artemis Live Presentation
DESCRIPTION:
URL:https://spacecenter.org/events-calendar-event/artemis-live-presentation-2/2029-05-23/
LOCATION:Theater – Destiny
CATEGORIES:Live Presentation
ATTACH;FMTTYPE=image/jpeg:https://spacecenter.org/wp-content/uploads/2022/10/Artemis-Capsule.jpeg
END:VEVENT
BEGIN:VEVENT
DTSTART;TZID=America/Chicago:20290523T131500
DTEND;TZID=America/Chicago:20290523T133000
DTSTAMP:20260425T112539
CREATED:20250602T213201Z
LAST-MODIFIED:20250603T190922Z
UID:10161214-1874236500-1874237400@spacecenter.org
SUMMARY:Story Corner Live Presentation
DESCRIPTION:
URL:https://spacecenter.org/events-calendar-event/story-corner-live-presentation-3/2029-05-23/
LOCATION:Theater – Artemis
CATEGORIES:Live Presentation
END:VEVENT
BEGIN:VEVENT
DTSTART;TZID=America/Chicago:20290523T134500
DTEND;TZID=America/Chicago:20290523T140000
DTSTAMP:20260425T112539
CREATED:20250602T212635Z
LAST-MODIFIED:20250603T191121Z
UID:10172182-1874238300-1874239200@spacecenter.org
SUMMARY:OSIRIS Rex Live Presentation
DESCRIPTION:
URL:https://spacecenter.org/events-calendar-event/osiris-rex-live-presentation-2/2029-05-23/
LOCATION:Mission Sketch Staircase
CATEGORIES:Live Presentation
ATTACH;FMTTYPE=image/jpeg:https://spacecenter.org/wp-content/uploads/2024/03/web-march2024_tls_osirisrex.jpg
END:VEVENT
BEGIN:VEVENT
DTSTART;TZID=America/Chicago:20290523T134500
DTEND;TZID=America/Chicago:20290523T140000
DTSTAMP:20260425T112539
CREATED:20250602T213557Z
LAST-MODIFIED:20250603T191327Z
UID:10175838-1874238300-1874239200@spacecenter.org
SUMMARY:James Webb Live Presentation
DESCRIPTION:
URL:https://spacecenter.org/events-calendar-event/james-webb-live-presentation-2/2029-05-23/
LOCATION:Theater – Destiny
CATEGORIES:Live Presentation
END:VEVENT
BEGIN:VEVENT
DTSTART;TZID=America/Chicago:20290523T144500
DTEND;TZID=America/Chicago:20290523T150000
DTSTAMP:20260425T112539
CREATED:20250602T213716Z
LAST-MODIFIED:20250603T191759Z
UID:10190462-1874241900-1874242800@spacecenter.org
SUMMARY:James Webb Live Presentation
DESCRIPTION:
URL:https://spacecenter.org/events-calendar-event/james-webb-live-presentation-3/2029-05-23/
LOCATION:Theater – Destiny
CATEGORIES:Live Presentation
END:VEVENT
END:VCALENDAR