BEGIN:VCALENDAR
VERSION:2.0
PRODID:-//Space Center Houston - ECPv6.15.15//NONSGML v1.0//EN
CALSCALE:GREGORIAN
METHOD:PUBLISH
X-WR-CALNAME:Space Center Houston
X-ORIGINAL-URL:https://spacecenter.org
X-WR-CALDESC:Events for Space Center Houston
REFRESH-INTERVAL;VALUE=DURATION:PT1H
X-Robots-Tag:noindex
X-PUBLISHED-TTL:PT1H
BEGIN:VTIMEZONE
TZID:America/Chicago
BEGIN:DAYLIGHT
TZOFFSETFROM:-0600
TZOFFSETTO:-0500
TZNAME:CDT
DTSTART:20280312T080000
END:DAYLIGHT
BEGIN:STANDARD
TZOFFSETFROM:-0500
TZOFFSETTO:-0600
TZNAME:CST
DTSTART:20281105T070000
END:STANDARD
BEGIN:DAYLIGHT
TZOFFSETFROM:-0600
TZOFFSETTO:-0500
TZNAME:CDT
DTSTART:20290311T080000
END:DAYLIGHT
BEGIN:STANDARD
TZOFFSETFROM:-0500
TZOFFSETTO:-0600
TZNAME:CST
DTSTART:20291104T070000
END:STANDARD
BEGIN:DAYLIGHT
TZOFFSETFROM:-0600
TZOFFSETTO:-0500
TZNAME:CDT
DTSTART:20300310T080000
END:DAYLIGHT
BEGIN:STANDARD
TZOFFSETFROM:-0500
TZOFFSETTO:-0600
TZNAME:CST
DTSTART:20301103T070000
END:STANDARD
END:VTIMEZONE
BEGIN:VEVENT
DTSTART;TZID=America/Chicago:20290225T111500
DTEND;TZID=America/Chicago:20290225T113000
DTSTAMP:20260423T013811
CREATED:20250602T213010Z
LAST-MODIFIED:20250603T185901Z
UID:10120911-1866712500-1866713400@spacecenter.org
SUMMARY:Story Corner Live Presentation
DESCRIPTION:
URL:https://spacecenter.org/events-calendar-event/story-corner-live-presentation/2029-02-25/
LOCATION:Theater – Artemis
CATEGORIES:Live Presentation
END:VEVENT
BEGIN:VEVENT
DTSTART;TZID=America/Chicago:20290225T114500
DTEND;TZID=America/Chicago:20290225T120000
DTSTAMP:20260423T013811
CREATED:20250602T213503Z
LAST-MODIFIED:20250603T190256Z
UID:10139191-1866714300-1866715200@spacecenter.org
SUMMARY:James Webb Live Presentation
DESCRIPTION:
URL:https://spacecenter.org/events-calendar-event/james-webb-live-presentation/2029-02-25/
LOCATION:Theater – Destiny
CATEGORIES:Live Presentation
END:VEVENT
BEGIN:VEVENT
DTSTART;TZID=America/Chicago:20290225T121500
DTEND;TZID=America/Chicago:20290225T123000
DTSTAMP:20260423T013811
CREATED:20250602T213059Z
LAST-MODIFIED:20250603T190345Z
UID:10142847-1866716100-1866717000@spacecenter.org
SUMMARY:Story Corner Live Presentation
DESCRIPTION:
URL:https://spacecenter.org/events-calendar-event/story-corner-live-presentation-2/2029-02-25/
LOCATION:Theater – Artemis
CATEGORIES:Live Presentation
END:VEVENT
BEGIN:VEVENT
DTSTART;TZID=America/Chicago:20290225T124500
DTEND;TZID=America/Chicago:20290225T131500
DTSTAMP:20260423T013811
CREATED:20250602T214012Z
LAST-MODIFIED:20250603T190811Z
UID:10153815-1866717900-1866719700@spacecenter.org
SUMMARY:Artemis Live Presentation
DESCRIPTION:
URL:https://spacecenter.org/events-calendar-event/artemis-live-presentation-2/2029-02-25/
LOCATION:Theater – Destiny
CATEGORIES:Live Presentation
ATTACH;FMTTYPE=image/jpeg:https://spacecenter.org/wp-content/uploads/2022/10/Artemis-Capsule.jpeg
END:VEVENT
BEGIN:VEVENT
DTSTART;TZID=America/Chicago:20290225T131500
DTEND;TZID=America/Chicago:20290225T133000
DTSTAMP:20260423T013811
CREATED:20250602T213201Z
LAST-MODIFIED:20250603T190922Z
UID:10161127-1866719700-1866720600@spacecenter.org
SUMMARY:Story Corner Live Presentation
DESCRIPTION:
URL:https://spacecenter.org/events-calendar-event/story-corner-live-presentation-3/2029-02-25/
LOCATION:Theater – Artemis
CATEGORIES:Live Presentation
END:VEVENT
BEGIN:VEVENT
DTSTART;TZID=America/Chicago:20290225T134500
DTEND;TZID=America/Chicago:20290225T140000
DTSTAMP:20260423T013811
CREATED:20250602T212635Z
LAST-MODIFIED:20250603T191121Z
UID:10172095-1866721500-1866722400@spacecenter.org
SUMMARY:OSIRIS Rex Live Presentation
DESCRIPTION:
URL:https://spacecenter.org/events-calendar-event/osiris-rex-live-presentation-2/2029-02-25/
LOCATION:Mission Sketch Staircase
CATEGORIES:Live Presentation
ATTACH;FMTTYPE=image/jpeg:https://spacecenter.org/wp-content/uploads/2024/03/web-march2024_tls_osirisrex.jpg
END:VEVENT
BEGIN:VEVENT
DTSTART;TZID=America/Chicago:20290225T134500
DTEND;TZID=America/Chicago:20290225T140000
DTSTAMP:20260423T013811
CREATED:20250602T213557Z
LAST-MODIFIED:20250603T191327Z
UID:10175751-1866721500-1866722400@spacecenter.org
SUMMARY:James Webb Live Presentation
DESCRIPTION:
URL:https://spacecenter.org/events-calendar-event/james-webb-live-presentation-2/2029-02-25/
LOCATION:Theater – Destiny
CATEGORIES:Live Presentation
END:VEVENT
BEGIN:VEVENT
DTSTART;TZID=America/Chicago:20290225T144500
DTEND;TZID=America/Chicago:20290225T150000
DTSTAMP:20260423T013811
CREATED:20250602T213716Z
LAST-MODIFIED:20250603T191759Z
UID:10190375-1866725100-1866726000@spacecenter.org
SUMMARY:James Webb Live Presentation
DESCRIPTION:
URL:https://spacecenter.org/events-calendar-event/james-webb-live-presentation-3/2029-02-25/
LOCATION:Theater – Destiny
CATEGORIES:Live Presentation
END:VEVENT
BEGIN:VEVENT
DTSTART;TZID=America/Chicago:20290225T151500
DTEND;TZID=America/Chicago:20290225T153000
DTSTAMP:20260423T013811
CREATED:20250602T213249Z
LAST-MODIFIED:20250603T191942Z
UID:10197687-1866726900-1866727800@spacecenter.org
SUMMARY:Story Corner Live Presentation
DESCRIPTION:
URL:https://spacecenter.org/events-calendar-event/story-corner-live-presentation-4/2029-02-25/
LOCATION:Theater – Artemis
CATEGORIES:Live Presentation
END:VEVENT
BEGIN:VEVENT
DTSTART;TZID=America/Chicago:20290225T154500
DTEND;TZID=America/Chicago:20290225T161500
DTSTAMP:20260423T013811
CREATED:20250602T214125Z
LAST-MODIFIED:20250603T192119Z
UID:10208655-1866728700-1866730500@spacecenter.org
SUMMARY:Artemis Live Presentation
DESCRIPTION:
URL:https://spacecenter.org/events-calendar-event/artemis-live-presentation-3/2029-02-25/
LOCATION:Theater – Destiny
CATEGORIES:Live Presentation
ATTACH;FMTTYPE=image/jpeg:https://spacecenter.org/wp-content/uploads/2022/10/Artemis-Capsule.jpeg
END:VEVENT
BEGIN:VEVENT
DTSTART;TZID=America/Chicago:20290225T163000
DTEND;TZID=America/Chicago:20290225T164500
DTSTAMP:20260423T013811
CREATED:20250602T212726Z
LAST-MODIFIED:20250603T192225Z
UID:10215967-1866731400-1866732300@spacecenter.org
SUMMARY:OSIRIS Rex Live Presentation
DESCRIPTION:
URL:https://spacecenter.org/events-calendar-event/osiris-rex-live-presentation-3/2029-02-25/
LOCATION:Mission Sketch Staircase
CATEGORIES:Live Presentation
ATTACH;FMTTYPE=image/jpeg:https://spacecenter.org/wp-content/uploads/2024/03/web-march2024_tls_osirisrex.jpg
END:VEVENT
BEGIN:VEVENT
DTSTART;TZID=America/Chicago:20290226T104500
DTEND;TZID=America/Chicago:20290226T110000
DTSTAMP:20260423T013811
CREATED:20250602T212526Z
LAST-MODIFIED:20250603T185502Z
UID:10102632-1866797100-1866798000@spacecenter.org
SUMMARY:OSIRIS Rex Live Presentation
DESCRIPTION:
URL:https://spacecenter.org/events-calendar-event/osiris-rex-live-presentation/2029-02-26/
LOCATION:Mission Sketch Staircase
CATEGORIES:Live Presentation
ATTACH;FMTTYPE=image/jpeg:https://spacecenter.org/wp-content/uploads/2024/03/web-march2024_tls_osirisrex.jpg
END:VEVENT
BEGIN:VEVENT
DTSTART;TZID=America/Chicago:20290226T104500
DTEND;TZID=America/Chicago:20290226T111500
DTSTAMP:20260423T013811
CREATED:20250602T213905Z
LAST-MODIFIED:20250603T185637Z
UID:10109944-1866797100-1866798900@spacecenter.org
SUMMARY:Artemis Live Presentation
DESCRIPTION:
URL:https://spacecenter.org/events-calendar-event/artemis-live-presentation/2029-02-26/
LOCATION:Theater – Destiny
CATEGORIES:Live Presentation
ATTACH;FMTTYPE=image/jpeg:https://spacecenter.org/wp-content/uploads/2022/10/Artemis-Capsule.jpeg
END:VEVENT
BEGIN:VEVENT
DTSTART;TZID=America/Chicago:20290226T111500
DTEND;TZID=America/Chicago:20290226T113000
DTSTAMP:20260423T013811
CREATED:20250602T213010Z
LAST-MODIFIED:20250603T185901Z
UID:10120912-1866798900-1866799800@spacecenter.org
SUMMARY:Story Corner Live Presentation
DESCRIPTION:
URL:https://spacecenter.org/events-calendar-event/story-corner-live-presentation/2029-02-26/
LOCATION:Theater – Artemis
CATEGORIES:Live Presentation
END:VEVENT
BEGIN:VEVENT
DTSTART;TZID=America/Chicago:20290226T114500
DTEND;TZID=America/Chicago:20290226T120000
DTSTAMP:20260423T013811
CREATED:20250602T213503Z
LAST-MODIFIED:20250603T190256Z
UID:10139192-1866800700-1866801600@spacecenter.org
SUMMARY:James Webb Live Presentation
DESCRIPTION:
URL:https://spacecenter.org/events-calendar-event/james-webb-live-presentation/2029-02-26/
LOCATION:Theater – Destiny
CATEGORIES:Live Presentation
END:VEVENT
BEGIN:VEVENT
DTSTART;TZID=America/Chicago:20290226T121500
DTEND;TZID=America/Chicago:20290226T123000
DTSTAMP:20260423T013811
CREATED:20250602T213059Z
LAST-MODIFIED:20250603T190345Z
UID:10142848-1866802500-1866803400@spacecenter.org
SUMMARY:Story Corner Live Presentation
DESCRIPTION:
URL:https://spacecenter.org/events-calendar-event/story-corner-live-presentation-2/2029-02-26/
LOCATION:Theater – Artemis
CATEGORIES:Live Presentation
END:VEVENT
BEGIN:VEVENT
DTSTART;TZID=America/Chicago:20290226T124500
DTEND;TZID=America/Chicago:20290226T131500
DTSTAMP:20260423T013811
CREATED:20250602T214012Z
LAST-MODIFIED:20250603T190811Z
UID:10153816-1866804300-1866806100@spacecenter.org
SUMMARY:Artemis Live Presentation
DESCRIPTION:
URL:https://spacecenter.org/events-calendar-event/artemis-live-presentation-2/2029-02-26/
LOCATION:Theater – Destiny
CATEGORIES:Live Presentation
ATTACH;FMTTYPE=image/jpeg:https://spacecenter.org/wp-content/uploads/2022/10/Artemis-Capsule.jpeg
END:VEVENT
BEGIN:VEVENT
DTSTART;TZID=America/Chicago:20290226T131500
DTEND;TZID=America/Chicago:20290226T133000
DTSTAMP:20260423T013811
CREATED:20250602T213201Z
LAST-MODIFIED:20250603T190922Z
UID:10161128-1866806100-1866807000@spacecenter.org
SUMMARY:Story Corner Live Presentation
DESCRIPTION:
URL:https://spacecenter.org/events-calendar-event/story-corner-live-presentation-3/2029-02-26/
LOCATION:Theater – Artemis
CATEGORIES:Live Presentation
END:VEVENT
BEGIN:VEVENT
DTSTART;TZID=America/Chicago:20290226T134500
DTEND;TZID=America/Chicago:20290226T140000
DTSTAMP:20260423T013811
CREATED:20250602T212635Z
LAST-MODIFIED:20250603T191121Z
UID:10172096-1866807900-1866808800@spacecenter.org
SUMMARY:OSIRIS Rex Live Presentation
DESCRIPTION:
URL:https://spacecenter.org/events-calendar-event/osiris-rex-live-presentation-2/2029-02-26/
LOCATION:Mission Sketch Staircase
CATEGORIES:Live Presentation
ATTACH;FMTTYPE=image/jpeg:https://spacecenter.org/wp-content/uploads/2024/03/web-march2024_tls_osirisrex.jpg
END:VEVENT
BEGIN:VEVENT
DTSTART;TZID=America/Chicago:20290226T134500
DTEND;TZID=America/Chicago:20290226T140000
DTSTAMP:20260423T013811
CREATED:20250602T213557Z
LAST-MODIFIED:20250603T191327Z
UID:10175752-1866807900-1866808800@spacecenter.org
SUMMARY:James Webb Live Presentation
DESCRIPTION:
URL:https://spacecenter.org/events-calendar-event/james-webb-live-presentation-2/2029-02-26/
LOCATION:Theater – Destiny
CATEGORIES:Live Presentation
END:VEVENT
BEGIN:VEVENT
DTSTART;TZID=America/Chicago:20290226T144500
DTEND;TZID=America/Chicago:20290226T150000
DTSTAMP:20260423T013811
CREATED:20250602T213716Z
LAST-MODIFIED:20250603T191759Z
UID:10190376-1866811500-1866812400@spacecenter.org
SUMMARY:James Webb Live Presentation
DESCRIPTION:
URL:https://spacecenter.org/events-calendar-event/james-webb-live-presentation-3/2029-02-26/
LOCATION:Theater – Destiny
CATEGORIES:Live Presentation
END:VEVENT
BEGIN:VEVENT
DTSTART;TZID=America/Chicago:20290226T151500
DTEND;TZID=America/Chicago:20290226T153000
DTSTAMP:20260423T013811
CREATED:20250602T213249Z
LAST-MODIFIED:20250603T191942Z
UID:10197688-1866813300-1866814200@spacecenter.org
SUMMARY:Story Corner Live Presentation
DESCRIPTION:
URL:https://spacecenter.org/events-calendar-event/story-corner-live-presentation-4/2029-02-26/
LOCATION:Theater – Artemis
CATEGORIES:Live Presentation
END:VEVENT
BEGIN:VEVENT
DTSTART;TZID=America/Chicago:20290226T154500
DTEND;TZID=America/Chicago:20290226T161500
DTSTAMP:20260423T013811
CREATED:20250602T214125Z
LAST-MODIFIED:20250603T192119Z
UID:10208656-1866815100-1866816900@spacecenter.org
SUMMARY:Artemis Live Presentation
DESCRIPTION:
URL:https://spacecenter.org/events-calendar-event/artemis-live-presentation-3/2029-02-26/
LOCATION:Theater – Destiny
CATEGORIES:Live Presentation
ATTACH;FMTTYPE=image/jpeg:https://spacecenter.org/wp-content/uploads/2022/10/Artemis-Capsule.jpeg
END:VEVENT
BEGIN:VEVENT
DTSTART;TZID=America/Chicago:20290226T163000
DTEND;TZID=America/Chicago:20290226T164500
DTSTAMP:20260423T013811
CREATED:20250602T212726Z
LAST-MODIFIED:20250603T192225Z
UID:10215968-1866817800-1866818700@spacecenter.org
SUMMARY:OSIRIS Rex Live Presentation
DESCRIPTION:
URL:https://spacecenter.org/events-calendar-event/osiris-rex-live-presentation-3/2029-02-26/
LOCATION:Mission Sketch Staircase
CATEGORIES:Live Presentation
ATTACH;FMTTYPE=image/jpeg:https://spacecenter.org/wp-content/uploads/2024/03/web-march2024_tls_osirisrex.jpg
END:VEVENT
BEGIN:VEVENT
DTSTART;TZID=America/Chicago:20290227T104500
DTEND;TZID=America/Chicago:20290227T110000
DTSTAMP:20260423T013811
CREATED:20250602T212526Z
LAST-MODIFIED:20250603T185502Z
UID:10102633-1866883500-1866884400@spacecenter.org
SUMMARY:OSIRIS Rex Live Presentation
DESCRIPTION:
URL:https://spacecenter.org/events-calendar-event/osiris-rex-live-presentation/2029-02-27/
LOCATION:Mission Sketch Staircase
CATEGORIES:Live Presentation
ATTACH;FMTTYPE=image/jpeg:https://spacecenter.org/wp-content/uploads/2024/03/web-march2024_tls_osirisrex.jpg
END:VEVENT
BEGIN:VEVENT
DTSTART;TZID=America/Chicago:20290227T104500
DTEND;TZID=America/Chicago:20290227T111500
DTSTAMP:20260423T013811
CREATED:20250602T213905Z
LAST-MODIFIED:20250603T185637Z
UID:10109945-1866883500-1866885300@spacecenter.org
SUMMARY:Artemis Live Presentation
DESCRIPTION:
URL:https://spacecenter.org/events-calendar-event/artemis-live-presentation/2029-02-27/
LOCATION:Theater – Destiny
CATEGORIES:Live Presentation
ATTACH;FMTTYPE=image/jpeg:https://spacecenter.org/wp-content/uploads/2022/10/Artemis-Capsule.jpeg
END:VEVENT
BEGIN:VEVENT
DTSTART;TZID=America/Chicago:20290227T111500
DTEND;TZID=America/Chicago:20290227T113000
DTSTAMP:20260423T013811
CREATED:20250602T213010Z
LAST-MODIFIED:20250603T185901Z
UID:10120913-1866885300-1866886200@spacecenter.org
SUMMARY:Story Corner Live Presentation
DESCRIPTION:
URL:https://spacecenter.org/events-calendar-event/story-corner-live-presentation/2029-02-27/
LOCATION:Theater – Artemis
CATEGORIES:Live Presentation
END:VEVENT
BEGIN:VEVENT
DTSTART;TZID=America/Chicago:20290227T114500
DTEND;TZID=America/Chicago:20290227T120000
DTSTAMP:20260423T013811
CREATED:20250602T213503Z
LAST-MODIFIED:20250603T190256Z
UID:10139193-1866887100-1866888000@spacecenter.org
SUMMARY:James Webb Live Presentation
DESCRIPTION:
URL:https://spacecenter.org/events-calendar-event/james-webb-live-presentation/2029-02-27/
LOCATION:Theater – Destiny
CATEGORIES:Live Presentation
END:VEVENT
BEGIN:VEVENT
DTSTART;TZID=America/Chicago:20290227T121500
DTEND;TZID=America/Chicago:20290227T123000
DTSTAMP:20260423T013811
CREATED:20250602T213059Z
LAST-MODIFIED:20250603T190345Z
UID:10142849-1866888900-1866889800@spacecenter.org
SUMMARY:Story Corner Live Presentation
DESCRIPTION:
URL:https://spacecenter.org/events-calendar-event/story-corner-live-presentation-2/2029-02-27/
LOCATION:Theater – Artemis
CATEGORIES:Live Presentation
END:VEVENT
BEGIN:VEVENT
DTSTART;TZID=America/Chicago:20290227T124500
DTEND;TZID=America/Chicago:20290227T131500
DTSTAMP:20260423T013811
CREATED:20250602T214012Z
LAST-MODIFIED:20250603T190811Z
UID:10153817-1866890700-1866892500@spacecenter.org
SUMMARY:Artemis Live Presentation
DESCRIPTION:
URL:https://spacecenter.org/events-calendar-event/artemis-live-presentation-2/2029-02-27/
LOCATION:Theater – Destiny
CATEGORIES:Live Presentation
ATTACH;FMTTYPE=image/jpeg:https://spacecenter.org/wp-content/uploads/2022/10/Artemis-Capsule.jpeg
END:VEVENT
END:VCALENDAR