BEGIN:VCALENDAR
VERSION:2.0
PRODID:-//Space Center Houston - ECPv6.15.15//NONSGML v1.0//EN
CALSCALE:GREGORIAN
METHOD:PUBLISH
X-ORIGINAL-URL:https://spacecenter.org
X-WR-CALDESC:Events for Space Center Houston
REFRESH-INTERVAL;VALUE=DURATION:PT1H
X-Robots-Tag:noindex
X-PUBLISHED-TTL:PT1H
BEGIN:VTIMEZONE
TZID:America/Chicago
BEGIN:DAYLIGHT
TZOFFSETFROM:-0600
TZOFFSETTO:-0500
TZNAME:CDT
DTSTART:20280312T080000
END:DAYLIGHT
BEGIN:STANDARD
TZOFFSETFROM:-0500
TZOFFSETTO:-0600
TZNAME:CST
DTSTART:20281105T070000
END:STANDARD
BEGIN:DAYLIGHT
TZOFFSETFROM:-0600
TZOFFSETTO:-0500
TZNAME:CDT
DTSTART:20290311T080000
END:DAYLIGHT
BEGIN:STANDARD
TZOFFSETFROM:-0500
TZOFFSETTO:-0600
TZNAME:CST
DTSTART:20291104T070000
END:STANDARD
BEGIN:DAYLIGHT
TZOFFSETFROM:-0600
TZOFFSETTO:-0500
TZNAME:CDT
DTSTART:20300310T080000
END:DAYLIGHT
BEGIN:STANDARD
TZOFFSETFROM:-0500
TZOFFSETTO:-0600
TZNAME:CST
DTSTART:20301103T070000
END:STANDARD
END:VTIMEZONE
BEGIN:VEVENT
DTSTART;TZID=America/Chicago:20290218T131500
DTEND;TZID=America/Chicago:20290218T133000
DTSTAMP:20260420T173048
CREATED:20250602T213201Z
LAST-MODIFIED:20250603T190922Z
UID:10161120-1866114900-1866115800@spacecenter.org
SUMMARY:Story Corner Live Presentation
DESCRIPTION:
URL:https://spacecenter.org/events-calendar-event/story-corner-live-presentation-3/2029-02-18/
LOCATION:Theater – Artemis
CATEGORIES:Live Presentation
END:VEVENT
BEGIN:VEVENT
DTSTART;TZID=America/Chicago:20290218T134500
DTEND;TZID=America/Chicago:20290218T140000
DTSTAMP:20260420T173048
CREATED:20250602T212635Z
LAST-MODIFIED:20250603T191121Z
UID:10172088-1866116700-1866117600@spacecenter.org
SUMMARY:OSIRIS Rex Live Presentation
DESCRIPTION:
URL:https://spacecenter.org/events-calendar-event/osiris-rex-live-presentation-2/2029-02-18/
LOCATION:Mission Sketch Staircase
CATEGORIES:Live Presentation
ATTACH;FMTTYPE=image/jpeg:https://spacecenter.org/wp-content/uploads/2024/03/web-march2024_tls_osirisrex.jpg
END:VEVENT
BEGIN:VEVENT
DTSTART;TZID=America/Chicago:20290218T134500
DTEND;TZID=America/Chicago:20290218T140000
DTSTAMP:20260420T173048
CREATED:20250602T213557Z
LAST-MODIFIED:20250603T191327Z
UID:10175744-1866116700-1866117600@spacecenter.org
SUMMARY:James Webb Live Presentation
DESCRIPTION:
URL:https://spacecenter.org/events-calendar-event/james-webb-live-presentation-2/2029-02-18/
LOCATION:Theater – Destiny
CATEGORIES:Live Presentation
END:VEVENT
BEGIN:VEVENT
DTSTART;TZID=America/Chicago:20290218T144500
DTEND;TZID=America/Chicago:20290218T150000
DTSTAMP:20260420T173048
CREATED:20250602T213716Z
LAST-MODIFIED:20250603T191759Z
UID:10190368-1866120300-1866121200@spacecenter.org
SUMMARY:James Webb Live Presentation
DESCRIPTION:
URL:https://spacecenter.org/events-calendar-event/james-webb-live-presentation-3/2029-02-18/
LOCATION:Theater – Destiny
CATEGORIES:Live Presentation
END:VEVENT
BEGIN:VEVENT
DTSTART;TZID=America/Chicago:20290218T151500
DTEND;TZID=America/Chicago:20290218T153000
DTSTAMP:20260420T173048
CREATED:20250602T213249Z
LAST-MODIFIED:20250603T191942Z
UID:10197680-1866122100-1866123000@spacecenter.org
SUMMARY:Story Corner Live Presentation
DESCRIPTION:
URL:https://spacecenter.org/events-calendar-event/story-corner-live-presentation-4/2029-02-18/
LOCATION:Theater – Artemis
CATEGORIES:Live Presentation
END:VEVENT
BEGIN:VEVENT
DTSTART;TZID=America/Chicago:20290218T154500
DTEND;TZID=America/Chicago:20290218T161500
DTSTAMP:20260420T173048
CREATED:20250602T214125Z
LAST-MODIFIED:20250603T192119Z
UID:10208648-1866123900-1866125700@spacecenter.org
SUMMARY:Artemis Live Presentation
DESCRIPTION:
URL:https://spacecenter.org/events-calendar-event/artemis-live-presentation-3/2029-02-18/
LOCATION:Theater – Destiny
CATEGORIES:Live Presentation
ATTACH;FMTTYPE=image/jpeg:https://spacecenter.org/wp-content/uploads/2022/10/Artemis-Capsule.jpeg
END:VEVENT
BEGIN:VEVENT
DTSTART;TZID=America/Chicago:20290218T163000
DTEND;TZID=America/Chicago:20290218T164500
DTSTAMP:20260420T173048
CREATED:20250602T212726Z
LAST-MODIFIED:20250603T192225Z
UID:10215960-1866126600-1866127500@spacecenter.org
SUMMARY:OSIRIS Rex Live Presentation
DESCRIPTION:
URL:https://spacecenter.org/events-calendar-event/osiris-rex-live-presentation-3/2029-02-18/
LOCATION:Mission Sketch Staircase
CATEGORIES:Live Presentation
ATTACH;FMTTYPE=image/jpeg:https://spacecenter.org/wp-content/uploads/2024/03/web-march2024_tls_osirisrex.jpg
END:VEVENT
BEGIN:VEVENT
DTSTART;TZID=America/Chicago:20290219T104500
DTEND;TZID=America/Chicago:20290219T110000
DTSTAMP:20260420T173048
CREATED:20250602T212526Z
LAST-MODIFIED:20250603T185502Z
UID:10102625-1866192300-1866193200@spacecenter.org
SUMMARY:OSIRIS Rex Live Presentation
DESCRIPTION:
URL:https://spacecenter.org/events-calendar-event/osiris-rex-live-presentation/2029-02-19/
LOCATION:Mission Sketch Staircase
CATEGORIES:Live Presentation
ATTACH;FMTTYPE=image/jpeg:https://spacecenter.org/wp-content/uploads/2024/03/web-march2024_tls_osirisrex.jpg
END:VEVENT
BEGIN:VEVENT
DTSTART;TZID=America/Chicago:20290219T104500
DTEND;TZID=America/Chicago:20290219T111500
DTSTAMP:20260420T173048
CREATED:20250602T213905Z
LAST-MODIFIED:20250603T185637Z
UID:10109937-1866192300-1866194100@spacecenter.org
SUMMARY:Artemis Live Presentation
DESCRIPTION:
URL:https://spacecenter.org/events-calendar-event/artemis-live-presentation/2029-02-19/
LOCATION:Theater – Destiny
CATEGORIES:Live Presentation
ATTACH;FMTTYPE=image/jpeg:https://spacecenter.org/wp-content/uploads/2022/10/Artemis-Capsule.jpeg
END:VEVENT
BEGIN:VEVENT
DTSTART;TZID=America/Chicago:20290219T111500
DTEND;TZID=America/Chicago:20290219T113000
DTSTAMP:20260420T173048
CREATED:20250602T213010Z
LAST-MODIFIED:20250603T185901Z
UID:10120905-1866194100-1866195000@spacecenter.org
SUMMARY:Story Corner Live Presentation
DESCRIPTION:
URL:https://spacecenter.org/events-calendar-event/story-corner-live-presentation/2029-02-19/
LOCATION:Theater – Artemis
CATEGORIES:Live Presentation
END:VEVENT
BEGIN:VEVENT
DTSTART;TZID=America/Chicago:20290219T114500
DTEND;TZID=America/Chicago:20290219T120000
DTSTAMP:20260420T173048
CREATED:20250602T213503Z
LAST-MODIFIED:20250603T190256Z
UID:10139185-1866195900-1866196800@spacecenter.org
SUMMARY:James Webb Live Presentation
DESCRIPTION:
URL:https://spacecenter.org/events-calendar-event/james-webb-live-presentation/2029-02-19/
LOCATION:Theater – Destiny
CATEGORIES:Live Presentation
END:VEVENT
BEGIN:VEVENT
DTSTART;TZID=America/Chicago:20290219T121500
DTEND;TZID=America/Chicago:20290219T123000
DTSTAMP:20260420T173048
CREATED:20250602T213059Z
LAST-MODIFIED:20250603T190345Z
UID:10142841-1866197700-1866198600@spacecenter.org
SUMMARY:Story Corner Live Presentation
DESCRIPTION:
URL:https://spacecenter.org/events-calendar-event/story-corner-live-presentation-2/2029-02-19/
LOCATION:Theater – Artemis
CATEGORIES:Live Presentation
END:VEVENT
BEGIN:VEVENT
DTSTART;TZID=America/Chicago:20290219T124500
DTEND;TZID=America/Chicago:20290219T131500
DTSTAMP:20260420T173049
CREATED:20250602T214012Z
LAST-MODIFIED:20250603T190811Z
UID:10153809-1866199500-1866201300@spacecenter.org
SUMMARY:Artemis Live Presentation
DESCRIPTION:
URL:https://spacecenter.org/events-calendar-event/artemis-live-presentation-2/2029-02-19/
LOCATION:Theater – Destiny
CATEGORIES:Live Presentation
ATTACH;FMTTYPE=image/jpeg:https://spacecenter.org/wp-content/uploads/2022/10/Artemis-Capsule.jpeg
END:VEVENT
BEGIN:VEVENT
DTSTART;TZID=America/Chicago:20290219T131500
DTEND;TZID=America/Chicago:20290219T133000
DTSTAMP:20260420T173049
CREATED:20250602T213201Z
LAST-MODIFIED:20250603T190922Z
UID:10161121-1866201300-1866202200@spacecenter.org
SUMMARY:Story Corner Live Presentation
DESCRIPTION:
URL:https://spacecenter.org/events-calendar-event/story-corner-live-presentation-3/2029-02-19/
LOCATION:Theater – Artemis
CATEGORIES:Live Presentation
END:VEVENT
BEGIN:VEVENT
DTSTART;TZID=America/Chicago:20290219T134500
DTEND;TZID=America/Chicago:20290219T140000
DTSTAMP:20260420T173049
CREATED:20250602T212635Z
LAST-MODIFIED:20250603T191121Z
UID:10172089-1866203100-1866204000@spacecenter.org
SUMMARY:OSIRIS Rex Live Presentation
DESCRIPTION:
URL:https://spacecenter.org/events-calendar-event/osiris-rex-live-presentation-2/2029-02-19/
LOCATION:Mission Sketch Staircase
CATEGORIES:Live Presentation
ATTACH;FMTTYPE=image/jpeg:https://spacecenter.org/wp-content/uploads/2024/03/web-march2024_tls_osirisrex.jpg
END:VEVENT
BEGIN:VEVENT
DTSTART;TZID=America/Chicago:20290219T134500
DTEND;TZID=America/Chicago:20290219T140000
DTSTAMP:20260420T173049
CREATED:20250602T213557Z
LAST-MODIFIED:20250603T191327Z
UID:10175745-1866203100-1866204000@spacecenter.org
SUMMARY:James Webb Live Presentation
DESCRIPTION:
URL:https://spacecenter.org/events-calendar-event/james-webb-live-presentation-2/2029-02-19/
LOCATION:Theater – Destiny
CATEGORIES:Live Presentation
END:VEVENT
BEGIN:VEVENT
DTSTART;TZID=America/Chicago:20290219T144500
DTEND;TZID=America/Chicago:20290219T150000
DTSTAMP:20260420T173049
CREATED:20250602T213716Z
LAST-MODIFIED:20250603T191759Z
UID:10190369-1866206700-1866207600@spacecenter.org
SUMMARY:James Webb Live Presentation
DESCRIPTION:
URL:https://spacecenter.org/events-calendar-event/james-webb-live-presentation-3/2029-02-19/
LOCATION:Theater – Destiny
CATEGORIES:Live Presentation
END:VEVENT
BEGIN:VEVENT
DTSTART;TZID=America/Chicago:20290219T151500
DTEND;TZID=America/Chicago:20290219T153000
DTSTAMP:20260420T173049
CREATED:20250602T213249Z
LAST-MODIFIED:20250603T191942Z
UID:10197681-1866208500-1866209400@spacecenter.org
SUMMARY:Story Corner Live Presentation
DESCRIPTION:
URL:https://spacecenter.org/events-calendar-event/story-corner-live-presentation-4/2029-02-19/
LOCATION:Theater – Artemis
CATEGORIES:Live Presentation
END:VEVENT
BEGIN:VEVENT
DTSTART;TZID=America/Chicago:20290219T154500
DTEND;TZID=America/Chicago:20290219T161500
DTSTAMP:20260420T173049
CREATED:20250602T214125Z
LAST-MODIFIED:20250603T192119Z
UID:10208649-1866210300-1866212100@spacecenter.org
SUMMARY:Artemis Live Presentation
DESCRIPTION:
URL:https://spacecenter.org/events-calendar-event/artemis-live-presentation-3/2029-02-19/
LOCATION:Theater – Destiny
CATEGORIES:Live Presentation
ATTACH;FMTTYPE=image/jpeg:https://spacecenter.org/wp-content/uploads/2022/10/Artemis-Capsule.jpeg
END:VEVENT
BEGIN:VEVENT
DTSTART;TZID=America/Chicago:20290219T163000
DTEND;TZID=America/Chicago:20290219T164500
DTSTAMP:20260420T173049
CREATED:20250602T212726Z
LAST-MODIFIED:20250603T192225Z
UID:10215961-1866213000-1866213900@spacecenter.org
SUMMARY:OSIRIS Rex Live Presentation
DESCRIPTION:
URL:https://spacecenter.org/events-calendar-event/osiris-rex-live-presentation-3/2029-02-19/
LOCATION:Mission Sketch Staircase
CATEGORIES:Live Presentation
ATTACH;FMTTYPE=image/jpeg:https://spacecenter.org/wp-content/uploads/2024/03/web-march2024_tls_osirisrex.jpg
END:VEVENT
BEGIN:VEVENT
DTSTART;TZID=America/Chicago:20290220T104500
DTEND;TZID=America/Chicago:20290220T110000
DTSTAMP:20260420T173049
CREATED:20250602T212526Z
LAST-MODIFIED:20250603T185502Z
UID:10102626-1866278700-1866279600@spacecenter.org
SUMMARY:OSIRIS Rex Live Presentation
DESCRIPTION:
URL:https://spacecenter.org/events-calendar-event/osiris-rex-live-presentation/2029-02-20/
LOCATION:Mission Sketch Staircase
CATEGORIES:Live Presentation
ATTACH;FMTTYPE=image/jpeg:https://spacecenter.org/wp-content/uploads/2024/03/web-march2024_tls_osirisrex.jpg
END:VEVENT
BEGIN:VEVENT
DTSTART;TZID=America/Chicago:20290220T104500
DTEND;TZID=America/Chicago:20290220T111500
DTSTAMP:20260420T173049
CREATED:20250602T213905Z
LAST-MODIFIED:20250603T185637Z
UID:10109938-1866278700-1866280500@spacecenter.org
SUMMARY:Artemis Live Presentation
DESCRIPTION:
URL:https://spacecenter.org/events-calendar-event/artemis-live-presentation/2029-02-20/
LOCATION:Theater – Destiny
CATEGORIES:Live Presentation
ATTACH;FMTTYPE=image/jpeg:https://spacecenter.org/wp-content/uploads/2022/10/Artemis-Capsule.jpeg
END:VEVENT
BEGIN:VEVENT
DTSTART;TZID=America/Chicago:20290220T111500
DTEND;TZID=America/Chicago:20290220T113000
DTSTAMP:20260420T173049
CREATED:20250602T213010Z
LAST-MODIFIED:20250603T185901Z
UID:10120906-1866280500-1866281400@spacecenter.org
SUMMARY:Story Corner Live Presentation
DESCRIPTION:
URL:https://spacecenter.org/events-calendar-event/story-corner-live-presentation/2029-02-20/
LOCATION:Theater – Artemis
CATEGORIES:Live Presentation
END:VEVENT
BEGIN:VEVENT
DTSTART;TZID=America/Chicago:20290220T114500
DTEND;TZID=America/Chicago:20290220T120000
DTSTAMP:20260420T173049
CREATED:20250602T213503Z
LAST-MODIFIED:20250603T190256Z
UID:10139186-1866282300-1866283200@spacecenter.org
SUMMARY:James Webb Live Presentation
DESCRIPTION:
URL:https://spacecenter.org/events-calendar-event/james-webb-live-presentation/2029-02-20/
LOCATION:Theater – Destiny
CATEGORIES:Live Presentation
END:VEVENT
BEGIN:VEVENT
DTSTART;TZID=America/Chicago:20290220T121500
DTEND;TZID=America/Chicago:20290220T123000
DTSTAMP:20260420T173049
CREATED:20250602T213059Z
LAST-MODIFIED:20250603T190345Z
UID:10142842-1866284100-1866285000@spacecenter.org
SUMMARY:Story Corner Live Presentation
DESCRIPTION:
URL:https://spacecenter.org/events-calendar-event/story-corner-live-presentation-2/2029-02-20/
LOCATION:Theater – Artemis
CATEGORIES:Live Presentation
END:VEVENT
BEGIN:VEVENT
DTSTART;TZID=America/Chicago:20290220T124500
DTEND;TZID=America/Chicago:20290220T131500
DTSTAMP:20260420T173049
CREATED:20250602T214012Z
LAST-MODIFIED:20250603T190811Z
UID:10153810-1866285900-1866287700@spacecenter.org
SUMMARY:Artemis Live Presentation
DESCRIPTION:
URL:https://spacecenter.org/events-calendar-event/artemis-live-presentation-2/2029-02-20/
LOCATION:Theater – Destiny
CATEGORIES:Live Presentation
ATTACH;FMTTYPE=image/jpeg:https://spacecenter.org/wp-content/uploads/2022/10/Artemis-Capsule.jpeg
END:VEVENT
BEGIN:VEVENT
DTSTART;TZID=America/Chicago:20290220T131500
DTEND;TZID=America/Chicago:20290220T133000
DTSTAMP:20260420T173049
CREATED:20250602T213201Z
LAST-MODIFIED:20250603T190922Z
UID:10161122-1866287700-1866288600@spacecenter.org
SUMMARY:Story Corner Live Presentation
DESCRIPTION:
URL:https://spacecenter.org/events-calendar-event/story-corner-live-presentation-3/2029-02-20/
LOCATION:Theater – Artemis
CATEGORIES:Live Presentation
END:VEVENT
BEGIN:VEVENT
DTSTART;TZID=America/Chicago:20290220T134500
DTEND;TZID=America/Chicago:20290220T140000
DTSTAMP:20260420T173049
CREATED:20250602T212635Z
LAST-MODIFIED:20250603T191121Z
UID:10172090-1866289500-1866290400@spacecenter.org
SUMMARY:OSIRIS Rex Live Presentation
DESCRIPTION:
URL:https://spacecenter.org/events-calendar-event/osiris-rex-live-presentation-2/2029-02-20/
LOCATION:Mission Sketch Staircase
CATEGORIES:Live Presentation
ATTACH;FMTTYPE=image/jpeg:https://spacecenter.org/wp-content/uploads/2024/03/web-march2024_tls_osirisrex.jpg
END:VEVENT
BEGIN:VEVENT
DTSTART;TZID=America/Chicago:20290220T134500
DTEND;TZID=America/Chicago:20290220T140000
DTSTAMP:20260420T173049
CREATED:20250602T213557Z
LAST-MODIFIED:20250603T191327Z
UID:10175746-1866289500-1866290400@spacecenter.org
SUMMARY:James Webb Live Presentation
DESCRIPTION:
URL:https://spacecenter.org/events-calendar-event/james-webb-live-presentation-2/2029-02-20/
LOCATION:Theater – Destiny
CATEGORIES:Live Presentation
END:VEVENT
BEGIN:VEVENT
DTSTART;TZID=America/Chicago:20290220T144500
DTEND;TZID=America/Chicago:20290220T150000
DTSTAMP:20260420T173049
CREATED:20250602T213716Z
LAST-MODIFIED:20250603T191759Z
UID:10190370-1866293100-1866294000@spacecenter.org
SUMMARY:James Webb Live Presentation
DESCRIPTION:
URL:https://spacecenter.org/events-calendar-event/james-webb-live-presentation-3/2029-02-20/
LOCATION:Theater – Destiny
CATEGORIES:Live Presentation
END:VEVENT
END:VCALENDAR