BEGIN:VCALENDAR
VERSION:2.0
PRODID:-//Space Center Houston - ECPv6.15.15//NONSGML v1.0//EN
CALSCALE:GREGORIAN
METHOD:PUBLISH
X-ORIGINAL-URL:https://spacecenter.org
X-WR-CALDESC:Events for Space Center Houston
REFRESH-INTERVAL;VALUE=DURATION:PT1H
X-Robots-Tag:noindex
X-PUBLISHED-TTL:PT1H
BEGIN:VTIMEZONE
TZID:America/Chicago
BEGIN:DAYLIGHT
TZOFFSETFROM:-0600
TZOFFSETTO:-0500
TZNAME:CDT
DTSTART:20280312T080000
END:DAYLIGHT
BEGIN:STANDARD
TZOFFSETFROM:-0500
TZOFFSETTO:-0600
TZNAME:CST
DTSTART:20281105T070000
END:STANDARD
BEGIN:DAYLIGHT
TZOFFSETFROM:-0600
TZOFFSETTO:-0500
TZNAME:CDT
DTSTART:20290311T080000
END:DAYLIGHT
BEGIN:STANDARD
TZOFFSETFROM:-0500
TZOFFSETTO:-0600
TZNAME:CST
DTSTART:20291104T070000
END:STANDARD
BEGIN:DAYLIGHT
TZOFFSETFROM:-0600
TZOFFSETTO:-0500
TZNAME:CDT
DTSTART:20300310T080000
END:DAYLIGHT
BEGIN:STANDARD
TZOFFSETFROM:-0500
TZOFFSETTO:-0600
TZNAME:CST
DTSTART:20301103T070000
END:STANDARD
END:VTIMEZONE
BEGIN:VEVENT
DTSTART;TZID=America/Chicago:20290122T134500
DTEND;TZID=America/Chicago:20290122T140000
DTSTAMP:20260420T225709
CREATED:20250602T212635Z
LAST-MODIFIED:20250603T191121Z
UID:10172061-1863783900-1863784800@spacecenter.org
SUMMARY:OSIRIS Rex Live Presentation
DESCRIPTION:
URL:https://spacecenter.org/events-calendar-event/osiris-rex-live-presentation-2/2029-01-22/
LOCATION:Mission Sketch Staircase
CATEGORIES:Live Presentation
ATTACH;FMTTYPE=image/jpeg:https://spacecenter.org/wp-content/uploads/2024/03/web-march2024_tls_osirisrex.jpg
END:VEVENT
BEGIN:VEVENT
DTSTART;TZID=America/Chicago:20290122T134500
DTEND;TZID=America/Chicago:20290122T140000
DTSTAMP:20260420T225709
CREATED:20250602T213557Z
LAST-MODIFIED:20250603T191327Z
UID:10175717-1863783900-1863784800@spacecenter.org
SUMMARY:James Webb Live Presentation
DESCRIPTION:
URL:https://spacecenter.org/events-calendar-event/james-webb-live-presentation-2/2029-01-22/
LOCATION:Theater – Destiny
CATEGORIES:Live Presentation
END:VEVENT
BEGIN:VEVENT
DTSTART;TZID=America/Chicago:20290122T144500
DTEND;TZID=America/Chicago:20290122T150000
DTSTAMP:20260420T225709
CREATED:20250602T213716Z
LAST-MODIFIED:20250603T191759Z
UID:10190341-1863787500-1863788400@spacecenter.org
SUMMARY:James Webb Live Presentation
DESCRIPTION:
URL:https://spacecenter.org/events-calendar-event/james-webb-live-presentation-3/2029-01-22/
LOCATION:Theater – Destiny
CATEGORIES:Live Presentation
END:VEVENT
BEGIN:VEVENT
DTSTART;TZID=America/Chicago:20290122T151500
DTEND;TZID=America/Chicago:20290122T153000
DTSTAMP:20260420T225709
CREATED:20250602T213249Z
LAST-MODIFIED:20250603T191942Z
UID:10197653-1863789300-1863790200@spacecenter.org
SUMMARY:Story Corner Live Presentation
DESCRIPTION:
URL:https://spacecenter.org/events-calendar-event/story-corner-live-presentation-4/2029-01-22/
LOCATION:Theater – Artemis
CATEGORIES:Live Presentation
END:VEVENT
BEGIN:VEVENT
DTSTART;TZID=America/Chicago:20290122T154500
DTEND;TZID=America/Chicago:20290122T161500
DTSTAMP:20260420T225709
CREATED:20250602T214125Z
LAST-MODIFIED:20250603T192119Z
UID:10208621-1863791100-1863792900@spacecenter.org
SUMMARY:Artemis Live Presentation
DESCRIPTION:
URL:https://spacecenter.org/events-calendar-event/artemis-live-presentation-3/2029-01-22/
LOCATION:Theater – Destiny
CATEGORIES:Live Presentation
ATTACH;FMTTYPE=image/jpeg:https://spacecenter.org/wp-content/uploads/2022/10/Artemis-Capsule.jpeg
END:VEVENT
BEGIN:VEVENT
DTSTART;TZID=America/Chicago:20290122T163000
DTEND;TZID=America/Chicago:20290122T164500
DTSTAMP:20260420T225709
CREATED:20250602T212726Z
LAST-MODIFIED:20250603T192225Z
UID:10215933-1863793800-1863794700@spacecenter.org
SUMMARY:OSIRIS Rex Live Presentation
DESCRIPTION:
URL:https://spacecenter.org/events-calendar-event/osiris-rex-live-presentation-3/2029-01-22/
LOCATION:Mission Sketch Staircase
CATEGORIES:Live Presentation
ATTACH;FMTTYPE=image/jpeg:https://spacecenter.org/wp-content/uploads/2024/03/web-march2024_tls_osirisrex.jpg
END:VEVENT
BEGIN:VEVENT
DTSTART;TZID=America/Chicago:20290123T104500
DTEND;TZID=America/Chicago:20290123T110000
DTSTAMP:20260420T225709
CREATED:20250602T212526Z
LAST-MODIFIED:20250603T185502Z
UID:10102598-1863859500-1863860400@spacecenter.org
SUMMARY:OSIRIS Rex Live Presentation
DESCRIPTION:
URL:https://spacecenter.org/events-calendar-event/osiris-rex-live-presentation/2029-01-23/
LOCATION:Mission Sketch Staircase
CATEGORIES:Live Presentation
ATTACH;FMTTYPE=image/jpeg:https://spacecenter.org/wp-content/uploads/2024/03/web-march2024_tls_osirisrex.jpg
END:VEVENT
BEGIN:VEVENT
DTSTART;TZID=America/Chicago:20290123T104500
DTEND;TZID=America/Chicago:20290123T111500
DTSTAMP:20260420T225709
CREATED:20250602T213905Z
LAST-MODIFIED:20250603T185637Z
UID:10109910-1863859500-1863861300@spacecenter.org
SUMMARY:Artemis Live Presentation
DESCRIPTION:
URL:https://spacecenter.org/events-calendar-event/artemis-live-presentation/2029-01-23/
LOCATION:Theater – Destiny
CATEGORIES:Live Presentation
ATTACH;FMTTYPE=image/jpeg:https://spacecenter.org/wp-content/uploads/2022/10/Artemis-Capsule.jpeg
END:VEVENT
BEGIN:VEVENT
DTSTART;TZID=America/Chicago:20290123T111500
DTEND;TZID=America/Chicago:20290123T113000
DTSTAMP:20260420T225709
CREATED:20250602T213010Z
LAST-MODIFIED:20250603T185901Z
UID:10120878-1863861300-1863862200@spacecenter.org
SUMMARY:Story Corner Live Presentation
DESCRIPTION:
URL:https://spacecenter.org/events-calendar-event/story-corner-live-presentation/2029-01-23/
LOCATION:Theater – Artemis
CATEGORIES:Live Presentation
END:VEVENT
BEGIN:VEVENT
DTSTART;TZID=America/Chicago:20290123T114500
DTEND;TZID=America/Chicago:20290123T120000
DTSTAMP:20260420T225709
CREATED:20250602T213503Z
LAST-MODIFIED:20250603T190256Z
UID:10139158-1863863100-1863864000@spacecenter.org
SUMMARY:James Webb Live Presentation
DESCRIPTION:
URL:https://spacecenter.org/events-calendar-event/james-webb-live-presentation/2029-01-23/
LOCATION:Theater – Destiny
CATEGORIES:Live Presentation
END:VEVENT
BEGIN:VEVENT
DTSTART;TZID=America/Chicago:20290123T121500
DTEND;TZID=America/Chicago:20290123T123000
DTSTAMP:20260420T225709
CREATED:20250602T213059Z
LAST-MODIFIED:20250603T190345Z
UID:10142814-1863864900-1863865800@spacecenter.org
SUMMARY:Story Corner Live Presentation
DESCRIPTION:
URL:https://spacecenter.org/events-calendar-event/story-corner-live-presentation-2/2029-01-23/
LOCATION:Theater – Artemis
CATEGORIES:Live Presentation
END:VEVENT
BEGIN:VEVENT
DTSTART;TZID=America/Chicago:20290123T124500
DTEND;TZID=America/Chicago:20290123T131500
DTSTAMP:20260420T225709
CREATED:20250602T214012Z
LAST-MODIFIED:20250603T190811Z
UID:10153782-1863866700-1863868500@spacecenter.org
SUMMARY:Artemis Live Presentation
DESCRIPTION:
URL:https://spacecenter.org/events-calendar-event/artemis-live-presentation-2/2029-01-23/
LOCATION:Theater – Destiny
CATEGORIES:Live Presentation
ATTACH;FMTTYPE=image/jpeg:https://spacecenter.org/wp-content/uploads/2022/10/Artemis-Capsule.jpeg
END:VEVENT
BEGIN:VEVENT
DTSTART;TZID=America/Chicago:20290123T131500
DTEND;TZID=America/Chicago:20290123T133000
DTSTAMP:20260420T225709
CREATED:20250602T213201Z
LAST-MODIFIED:20250603T190922Z
UID:10161094-1863868500-1863869400@spacecenter.org
SUMMARY:Story Corner Live Presentation
DESCRIPTION:
URL:https://spacecenter.org/events-calendar-event/story-corner-live-presentation-3/2029-01-23/
LOCATION:Theater – Artemis
CATEGORIES:Live Presentation
END:VEVENT
BEGIN:VEVENT
DTSTART;TZID=America/Chicago:20290123T134500
DTEND;TZID=America/Chicago:20290123T140000
DTSTAMP:20260420T225709
CREATED:20250602T212635Z
LAST-MODIFIED:20250603T191121Z
UID:10172062-1863870300-1863871200@spacecenter.org
SUMMARY:OSIRIS Rex Live Presentation
DESCRIPTION:
URL:https://spacecenter.org/events-calendar-event/osiris-rex-live-presentation-2/2029-01-23/
LOCATION:Mission Sketch Staircase
CATEGORIES:Live Presentation
ATTACH;FMTTYPE=image/jpeg:https://spacecenter.org/wp-content/uploads/2024/03/web-march2024_tls_osirisrex.jpg
END:VEVENT
BEGIN:VEVENT
DTSTART;TZID=America/Chicago:20290123T134500
DTEND;TZID=America/Chicago:20290123T140000
DTSTAMP:20260420T225709
CREATED:20250602T213557Z
LAST-MODIFIED:20250603T191327Z
UID:10175718-1863870300-1863871200@spacecenter.org
SUMMARY:James Webb Live Presentation
DESCRIPTION:
URL:https://spacecenter.org/events-calendar-event/james-webb-live-presentation-2/2029-01-23/
LOCATION:Theater – Destiny
CATEGORIES:Live Presentation
END:VEVENT
BEGIN:VEVENT
DTSTART;TZID=America/Chicago:20290123T144500
DTEND;TZID=America/Chicago:20290123T150000
DTSTAMP:20260420T225709
CREATED:20250602T213716Z
LAST-MODIFIED:20250603T191759Z
UID:10190342-1863873900-1863874800@spacecenter.org
SUMMARY:James Webb Live Presentation
DESCRIPTION:
URL:https://spacecenter.org/events-calendar-event/james-webb-live-presentation-3/2029-01-23/
LOCATION:Theater – Destiny
CATEGORIES:Live Presentation
END:VEVENT
BEGIN:VEVENT
DTSTART;TZID=America/Chicago:20290123T151500
DTEND;TZID=America/Chicago:20290123T153000
DTSTAMP:20260420T225709
CREATED:20250602T213249Z
LAST-MODIFIED:20250603T191942Z
UID:10197654-1863875700-1863876600@spacecenter.org
SUMMARY:Story Corner Live Presentation
DESCRIPTION:
URL:https://spacecenter.org/events-calendar-event/story-corner-live-presentation-4/2029-01-23/
LOCATION:Theater – Artemis
CATEGORIES:Live Presentation
END:VEVENT
BEGIN:VEVENT
DTSTART;TZID=America/Chicago:20290123T154500
DTEND;TZID=America/Chicago:20290123T161500
DTSTAMP:20260420T225709
CREATED:20250602T214125Z
LAST-MODIFIED:20250603T192119Z
UID:10208622-1863877500-1863879300@spacecenter.org
SUMMARY:Artemis Live Presentation
DESCRIPTION:
URL:https://spacecenter.org/events-calendar-event/artemis-live-presentation-3/2029-01-23/
LOCATION:Theater – Destiny
CATEGORIES:Live Presentation
ATTACH;FMTTYPE=image/jpeg:https://spacecenter.org/wp-content/uploads/2022/10/Artemis-Capsule.jpeg
END:VEVENT
BEGIN:VEVENT
DTSTART;TZID=America/Chicago:20290123T163000
DTEND;TZID=America/Chicago:20290123T164500
DTSTAMP:20260420T225709
CREATED:20250602T212726Z
LAST-MODIFIED:20250603T192225Z
UID:10215934-1863880200-1863881100@spacecenter.org
SUMMARY:OSIRIS Rex Live Presentation
DESCRIPTION:
URL:https://spacecenter.org/events-calendar-event/osiris-rex-live-presentation-3/2029-01-23/
LOCATION:Mission Sketch Staircase
CATEGORIES:Live Presentation
ATTACH;FMTTYPE=image/jpeg:https://spacecenter.org/wp-content/uploads/2024/03/web-march2024_tls_osirisrex.jpg
END:VEVENT
BEGIN:VEVENT
DTSTART;TZID=America/Chicago:20290124T104500
DTEND;TZID=America/Chicago:20290124T110000
DTSTAMP:20260420T225709
CREATED:20250602T212526Z
LAST-MODIFIED:20250603T185502Z
UID:10102599-1863945900-1863946800@spacecenter.org
SUMMARY:OSIRIS Rex Live Presentation
DESCRIPTION:
URL:https://spacecenter.org/events-calendar-event/osiris-rex-live-presentation/2029-01-24/
LOCATION:Mission Sketch Staircase
CATEGORIES:Live Presentation
ATTACH;FMTTYPE=image/jpeg:https://spacecenter.org/wp-content/uploads/2024/03/web-march2024_tls_osirisrex.jpg
END:VEVENT
BEGIN:VEVENT
DTSTART;TZID=America/Chicago:20290124T104500
DTEND;TZID=America/Chicago:20290124T111500
DTSTAMP:20260420T225709
CREATED:20250602T213905Z
LAST-MODIFIED:20250603T185637Z
UID:10109911-1863945900-1863947700@spacecenter.org
SUMMARY:Artemis Live Presentation
DESCRIPTION:
URL:https://spacecenter.org/events-calendar-event/artemis-live-presentation/2029-01-24/
LOCATION:Theater – Destiny
CATEGORIES:Live Presentation
ATTACH;FMTTYPE=image/jpeg:https://spacecenter.org/wp-content/uploads/2022/10/Artemis-Capsule.jpeg
END:VEVENT
BEGIN:VEVENT
DTSTART;TZID=America/Chicago:20290124T111500
DTEND;TZID=America/Chicago:20290124T113000
DTSTAMP:20260420T225709
CREATED:20250602T213010Z
LAST-MODIFIED:20250603T185901Z
UID:10120879-1863947700-1863948600@spacecenter.org
SUMMARY:Story Corner Live Presentation
DESCRIPTION:
URL:https://spacecenter.org/events-calendar-event/story-corner-live-presentation/2029-01-24/
LOCATION:Theater – Artemis
CATEGORIES:Live Presentation
END:VEVENT
BEGIN:VEVENT
DTSTART;TZID=America/Chicago:20290124T114500
DTEND;TZID=America/Chicago:20290124T120000
DTSTAMP:20260420T225709
CREATED:20250602T213503Z
LAST-MODIFIED:20250603T190256Z
UID:10139159-1863949500-1863950400@spacecenter.org
SUMMARY:James Webb Live Presentation
DESCRIPTION:
URL:https://spacecenter.org/events-calendar-event/james-webb-live-presentation/2029-01-24/
LOCATION:Theater – Destiny
CATEGORIES:Live Presentation
END:VEVENT
BEGIN:VEVENT
DTSTART;TZID=America/Chicago:20290124T121500
DTEND;TZID=America/Chicago:20290124T123000
DTSTAMP:20260420T225709
CREATED:20250602T213059Z
LAST-MODIFIED:20250603T190345Z
UID:10142815-1863951300-1863952200@spacecenter.org
SUMMARY:Story Corner Live Presentation
DESCRIPTION:
URL:https://spacecenter.org/events-calendar-event/story-corner-live-presentation-2/2029-01-24/
LOCATION:Theater – Artemis
CATEGORIES:Live Presentation
END:VEVENT
BEGIN:VEVENT
DTSTART;TZID=America/Chicago:20290124T124500
DTEND;TZID=America/Chicago:20290124T131500
DTSTAMP:20260420T225709
CREATED:20250602T214012Z
LAST-MODIFIED:20250603T190811Z
UID:10153783-1863953100-1863954900@spacecenter.org
SUMMARY:Artemis Live Presentation
DESCRIPTION:
URL:https://spacecenter.org/events-calendar-event/artemis-live-presentation-2/2029-01-24/
LOCATION:Theater – Destiny
CATEGORIES:Live Presentation
ATTACH;FMTTYPE=image/jpeg:https://spacecenter.org/wp-content/uploads/2022/10/Artemis-Capsule.jpeg
END:VEVENT
BEGIN:VEVENT
DTSTART;TZID=America/Chicago:20290124T131500
DTEND;TZID=America/Chicago:20290124T133000
DTSTAMP:20260420T225709
CREATED:20250602T213201Z
LAST-MODIFIED:20250603T190922Z
UID:10161095-1863954900-1863955800@spacecenter.org
SUMMARY:Story Corner Live Presentation
DESCRIPTION:
URL:https://spacecenter.org/events-calendar-event/story-corner-live-presentation-3/2029-01-24/
LOCATION:Theater – Artemis
CATEGORIES:Live Presentation
END:VEVENT
BEGIN:VEVENT
DTSTART;TZID=America/Chicago:20290124T134500
DTEND;TZID=America/Chicago:20290124T140000
DTSTAMP:20260420T225709
CREATED:20250602T212635Z
LAST-MODIFIED:20250603T191121Z
UID:10172063-1863956700-1863957600@spacecenter.org
SUMMARY:OSIRIS Rex Live Presentation
DESCRIPTION:
URL:https://spacecenter.org/events-calendar-event/osiris-rex-live-presentation-2/2029-01-24/
LOCATION:Mission Sketch Staircase
CATEGORIES:Live Presentation
ATTACH;FMTTYPE=image/jpeg:https://spacecenter.org/wp-content/uploads/2024/03/web-march2024_tls_osirisrex.jpg
END:VEVENT
BEGIN:VEVENT
DTSTART;TZID=America/Chicago:20290124T134500
DTEND;TZID=America/Chicago:20290124T140000
DTSTAMP:20260420T225709
CREATED:20250602T213557Z
LAST-MODIFIED:20250603T191327Z
UID:10175719-1863956700-1863957600@spacecenter.org
SUMMARY:James Webb Live Presentation
DESCRIPTION:
URL:https://spacecenter.org/events-calendar-event/james-webb-live-presentation-2/2029-01-24/
LOCATION:Theater – Destiny
CATEGORIES:Live Presentation
END:VEVENT
BEGIN:VEVENT
DTSTART;TZID=America/Chicago:20290124T144500
DTEND;TZID=America/Chicago:20290124T150000
DTSTAMP:20260420T225709
CREATED:20250602T213716Z
LAST-MODIFIED:20250603T191759Z
UID:10190343-1863960300-1863961200@spacecenter.org
SUMMARY:James Webb Live Presentation
DESCRIPTION:
URL:https://spacecenter.org/events-calendar-event/james-webb-live-presentation-3/2029-01-24/
LOCATION:Theater – Destiny
CATEGORIES:Live Presentation
END:VEVENT
BEGIN:VEVENT
DTSTART;TZID=America/Chicago:20290124T151500
DTEND;TZID=America/Chicago:20290124T153000
DTSTAMP:20260420T225709
CREATED:20250602T213249Z
LAST-MODIFIED:20250603T191942Z
UID:10197655-1863962100-1863963000@spacecenter.org
SUMMARY:Story Corner Live Presentation
DESCRIPTION:
URL:https://spacecenter.org/events-calendar-event/story-corner-live-presentation-4/2029-01-24/
LOCATION:Theater – Artemis
CATEGORIES:Live Presentation
END:VEVENT
END:VCALENDAR