BEGIN:VCALENDAR
VERSION:2.0
PRODID:-//Space Center Houston - ECPv6.15.15//NONSGML v1.0//EN
CALSCALE:GREGORIAN
METHOD:PUBLISH
X-WR-CALNAME:Space Center Houston
X-ORIGINAL-URL:https://spacecenter.org
X-WR-CALDESC:Events for Space Center Houston
REFRESH-INTERVAL;VALUE=DURATION:PT1H
X-Robots-Tag:noindex
X-PUBLISHED-TTL:PT1H
BEGIN:VTIMEZONE
TZID:America/Chicago
BEGIN:DAYLIGHT
TZOFFSETFROM:-0600
TZOFFSETTO:-0500
TZNAME:CDT
DTSTART:20240310T080000
END:DAYLIGHT
BEGIN:STANDARD
TZOFFSETFROM:-0500
TZOFFSETTO:-0600
TZNAME:CST
DTSTART:20241103T070000
END:STANDARD
BEGIN:DAYLIGHT
TZOFFSETFROM:-0600
TZOFFSETTO:-0500
TZNAME:CDT
DTSTART:20250309T080000
END:DAYLIGHT
BEGIN:STANDARD
TZOFFSETFROM:-0500
TZOFFSETTO:-0600
TZNAME:CST
DTSTART:20251102T070000
END:STANDARD
BEGIN:DAYLIGHT
TZOFFSETFROM:-0600
TZOFFSETTO:-0500
TZNAME:CDT
DTSTART:20260308T080000
END:DAYLIGHT
BEGIN:STANDARD
TZOFFSETFROM:-0500
TZOFFSETTO:-0600
TZNAME:CST
DTSTART:20261101T070000
END:STANDARD
END:VTIMEZONE
BEGIN:VEVENT
DTSTART;TZID=America/Chicago:20250710T154500
DTEND;TZID=America/Chicago:20250710T161500
DTSTAMP:20260420T145717
CREATED:20250602T214125Z
LAST-MODIFIED:20250603T192119Z
UID:10207329-1752162300-1752164100@spacecenter.org
SUMMARY:Artemis Live Presentation
DESCRIPTION:
URL:https://spacecenter.org/events-calendar-event/artemis-live-presentation-3/2025-07-10/
LOCATION:Theater – Destiny
CATEGORIES:Live Presentation
ATTACH;FMTTYPE=image/jpeg:https://spacecenter.org/wp-content/uploads/2022/10/Artemis-Capsule.jpeg
END:VEVENT
BEGIN:VEVENT
DTSTART;TZID=America/Chicago:20250710T163000
DTEND;TZID=America/Chicago:20250710T164500
DTSTAMP:20260420T145717
CREATED:20250602T212726Z
LAST-MODIFIED:20250603T192225Z
UID:10214641-1752165000-1752165900@spacecenter.org
SUMMARY:OSIRIS Rex Live Presentation
DESCRIPTION:
URL:https://spacecenter.org/events-calendar-event/osiris-rex-live-presentation-3/2025-07-10/
LOCATION:Mission Sketch Staircase
CATEGORIES:Live Presentation
ATTACH;FMTTYPE=image/jpeg:https://spacecenter.org/wp-content/uploads/2024/03/web-march2024_tls_osirisrex.jpg
END:VEVENT
BEGIN:VEVENT
DTSTART;TZID=America/Chicago:20250711T104500
DTEND;TZID=America/Chicago:20250711T110000
DTSTAMP:20260420T145717
CREATED:20250602T212526Z
LAST-MODIFIED:20250603T185502Z
UID:10101306-1752230700-1752231600@spacecenter.org
SUMMARY:OSIRIS Rex Live Presentation
DESCRIPTION:
URL:https://spacecenter.org/events-calendar-event/osiris-rex-live-presentation/2025-07-11/
LOCATION:Mission Sketch Staircase
CATEGORIES:Live Presentation
ATTACH;FMTTYPE=image/jpeg:https://spacecenter.org/wp-content/uploads/2024/03/web-march2024_tls_osirisrex.jpg
END:VEVENT
BEGIN:VEVENT
DTSTART;TZID=America/Chicago:20250711T104500
DTEND;TZID=America/Chicago:20250711T111500
DTSTAMP:20260420T145717
CREATED:20250602T213905Z
LAST-MODIFIED:20250603T185637Z
UID:10108618-1752230700-1752232500@spacecenter.org
SUMMARY:Artemis Live Presentation
DESCRIPTION:
URL:https://spacecenter.org/events-calendar-event/artemis-live-presentation/2025-07-11/
LOCATION:Theater – Destiny
CATEGORIES:Live Presentation
ATTACH;FMTTYPE=image/jpeg:https://spacecenter.org/wp-content/uploads/2022/10/Artemis-Capsule.jpeg
END:VEVENT
BEGIN:VEVENT
DTSTART;TZID=America/Chicago:20250711T111500
DTEND;TZID=America/Chicago:20250711T113000
DTSTAMP:20260420T145717
CREATED:20250602T213010Z
LAST-MODIFIED:20250603T185901Z
UID:10119586-1752232500-1752233400@spacecenter.org
SUMMARY:Story Corner Live Presentation
DESCRIPTION:
URL:https://spacecenter.org/events-calendar-event/story-corner-live-presentation/2025-07-11/
LOCATION:Theater – Artemis
CATEGORIES:Live Presentation
END:VEVENT
BEGIN:VEVENT
DTSTART;TZID=America/Chicago:20250711T114500
DTEND;TZID=America/Chicago:20250711T120000
DTSTAMP:20260420T145717
CREATED:20250602T213503Z
LAST-MODIFIED:20250603T190256Z
UID:10137866-1752234300-1752235200@spacecenter.org
SUMMARY:James Webb Live Presentation
DESCRIPTION:
URL:https://spacecenter.org/events-calendar-event/james-webb-live-presentation/2025-07-11/
LOCATION:Theater – Destiny
CATEGORIES:Live Presentation
END:VEVENT
BEGIN:VEVENT
DTSTART;TZID=America/Chicago:20250711T121500
DTEND;TZID=America/Chicago:20250711T123000
DTSTAMP:20260420T145717
CREATED:20250602T213059Z
LAST-MODIFIED:20250603T190345Z
UID:10141522-1752236100-1752237000@spacecenter.org
SUMMARY:Story Corner Live Presentation
DESCRIPTION:
URL:https://spacecenter.org/events-calendar-event/story-corner-live-presentation-2/2025-07-11/
LOCATION:Theater – Artemis
CATEGORIES:Live Presentation
END:VEVENT
BEGIN:VEVENT
DTSTART;TZID=America/Chicago:20250711T124500
DTEND;TZID=America/Chicago:20250711T131500
DTSTAMP:20260420T145717
CREATED:20250602T214012Z
LAST-MODIFIED:20250603T190811Z
UID:10152490-1752237900-1752239700@spacecenter.org
SUMMARY:Artemis Live Presentation
DESCRIPTION:
URL:https://spacecenter.org/events-calendar-event/artemis-live-presentation-2/2025-07-11/
LOCATION:Theater – Destiny
CATEGORIES:Live Presentation
ATTACH;FMTTYPE=image/jpeg:https://spacecenter.org/wp-content/uploads/2022/10/Artemis-Capsule.jpeg
END:VEVENT
BEGIN:VEVENT
DTSTART;TZID=America/Chicago:20250711T131500
DTEND;TZID=America/Chicago:20250711T133000
DTSTAMP:20260420T145717
CREATED:20250602T213201Z
LAST-MODIFIED:20250603T190922Z
UID:10159802-1752239700-1752240600@spacecenter.org
SUMMARY:Story Corner Live Presentation
DESCRIPTION:
URL:https://spacecenter.org/events-calendar-event/story-corner-live-presentation-3/2025-07-11/
LOCATION:Theater – Artemis
CATEGORIES:Live Presentation
END:VEVENT
BEGIN:VEVENT
DTSTART;TZID=America/Chicago:20250711T134500
DTEND;TZID=America/Chicago:20250711T140000
DTSTAMP:20260420T145717
CREATED:20250602T212635Z
LAST-MODIFIED:20250603T191121Z
UID:10170770-1752241500-1752242400@spacecenter.org
SUMMARY:OSIRIS Rex Live Presentation
DESCRIPTION:
URL:https://spacecenter.org/events-calendar-event/osiris-rex-live-presentation-2/2025-07-11/
LOCATION:Mission Sketch Staircase
CATEGORIES:Live Presentation
ATTACH;FMTTYPE=image/jpeg:https://spacecenter.org/wp-content/uploads/2024/03/web-march2024_tls_osirisrex.jpg
END:VEVENT
BEGIN:VEVENT
DTSTART;TZID=America/Chicago:20250711T134500
DTEND;TZID=America/Chicago:20250711T140000
DTSTAMP:20260420T145717
CREATED:20250602T213557Z
LAST-MODIFIED:20250603T191327Z
UID:10174426-1752241500-1752242400@spacecenter.org
SUMMARY:James Webb Live Presentation
DESCRIPTION:
URL:https://spacecenter.org/events-calendar-event/james-webb-live-presentation-2/2025-07-11/
LOCATION:Theater – Destiny
CATEGORIES:Live Presentation
END:VEVENT
BEGIN:VEVENT
DTSTART;TZID=America/Chicago:20250711T144500
DTEND;TZID=America/Chicago:20250711T150000
DTSTAMP:20260420T145717
CREATED:20250602T213716Z
LAST-MODIFIED:20250603T191759Z
UID:10189050-1752245100-1752246000@spacecenter.org
SUMMARY:James Webb Live Presentation
DESCRIPTION:
URL:https://spacecenter.org/events-calendar-event/james-webb-live-presentation-3/2025-07-11/
LOCATION:Theater – Destiny
CATEGORIES:Live Presentation
END:VEVENT
BEGIN:VEVENT
DTSTART;TZID=America/Chicago:20250711T151500
DTEND;TZID=America/Chicago:20250711T153000
DTSTAMP:20260420T145717
CREATED:20250602T213249Z
LAST-MODIFIED:20250603T191942Z
UID:10196362-1752246900-1752247800@spacecenter.org
SUMMARY:Story Corner Live Presentation
DESCRIPTION:
URL:https://spacecenter.org/events-calendar-event/story-corner-live-presentation-4/2025-07-11/
LOCATION:Theater – Artemis
CATEGORIES:Live Presentation
END:VEVENT
BEGIN:VEVENT
DTSTART;TZID=America/Chicago:20250711T154500
DTEND;TZID=America/Chicago:20250711T161500
DTSTAMP:20260420T145717
CREATED:20250602T214125Z
LAST-MODIFIED:20250603T192119Z
UID:10207330-1752248700-1752250500@spacecenter.org
SUMMARY:Artemis Live Presentation
DESCRIPTION:
URL:https://spacecenter.org/events-calendar-event/artemis-live-presentation-3/2025-07-11/
LOCATION:Theater – Destiny
CATEGORIES:Live Presentation
ATTACH;FMTTYPE=image/jpeg:https://spacecenter.org/wp-content/uploads/2022/10/Artemis-Capsule.jpeg
END:VEVENT
BEGIN:VEVENT
DTSTART;TZID=America/Chicago:20250711T163000
DTEND;TZID=America/Chicago:20250711T164500
DTSTAMP:20260420T145717
CREATED:20250602T212726Z
LAST-MODIFIED:20250603T192225Z
UID:10214642-1752251400-1752252300@spacecenter.org
SUMMARY:OSIRIS Rex Live Presentation
DESCRIPTION:
URL:https://spacecenter.org/events-calendar-event/osiris-rex-live-presentation-3/2025-07-11/
LOCATION:Mission Sketch Staircase
CATEGORIES:Live Presentation
ATTACH;FMTTYPE=image/jpeg:https://spacecenter.org/wp-content/uploads/2024/03/web-march2024_tls_osirisrex.jpg
END:VEVENT
BEGIN:VEVENT
DTSTART;TZID=America/Chicago:20250712T104500
DTEND;TZID=America/Chicago:20250712T110000
DTSTAMP:20260420T145717
CREATED:20250602T212526Z
LAST-MODIFIED:20250603T185502Z
UID:10101307-1752317100-1752318000@spacecenter.org
SUMMARY:OSIRIS Rex Live Presentation
DESCRIPTION:
URL:https://spacecenter.org/events-calendar-event/osiris-rex-live-presentation/2025-07-12/
LOCATION:Mission Sketch Staircase
CATEGORIES:Live Presentation
ATTACH;FMTTYPE=image/jpeg:https://spacecenter.org/wp-content/uploads/2024/03/web-march2024_tls_osirisrex.jpg
END:VEVENT
BEGIN:VEVENT
DTSTART;TZID=America/Chicago:20250712T104500
DTEND;TZID=America/Chicago:20250712T111500
DTSTAMP:20260420T145717
CREATED:20250602T213905Z
LAST-MODIFIED:20250603T185637Z
UID:10108619-1752317100-1752318900@spacecenter.org
SUMMARY:Artemis Live Presentation
DESCRIPTION:
URL:https://spacecenter.org/events-calendar-event/artemis-live-presentation/2025-07-12/
LOCATION:Theater – Destiny
CATEGORIES:Live Presentation
ATTACH;FMTTYPE=image/jpeg:https://spacecenter.org/wp-content/uploads/2022/10/Artemis-Capsule.jpeg
END:VEVENT
BEGIN:VEVENT
DTSTART;TZID=America/Chicago:20250712T111500
DTEND;TZID=America/Chicago:20250712T113000
DTSTAMP:20260420T145717
CREATED:20250602T213010Z
LAST-MODIFIED:20250603T185901Z
UID:10119587-1752318900-1752319800@spacecenter.org
SUMMARY:Story Corner Live Presentation
DESCRIPTION:
URL:https://spacecenter.org/events-calendar-event/story-corner-live-presentation/2025-07-12/
LOCATION:Theater – Artemis
CATEGORIES:Live Presentation
END:VEVENT
BEGIN:VEVENT
DTSTART;TZID=America/Chicago:20250712T114500
DTEND;TZID=America/Chicago:20250712T120000
DTSTAMP:20260420T145717
CREATED:20250602T213503Z
LAST-MODIFIED:20250603T190256Z
UID:10137867-1752320700-1752321600@spacecenter.org
SUMMARY:James Webb Live Presentation
DESCRIPTION:
URL:https://spacecenter.org/events-calendar-event/james-webb-live-presentation/2025-07-12/
LOCATION:Theater – Destiny
CATEGORIES:Live Presentation
END:VEVENT
BEGIN:VEVENT
DTSTART;TZID=America/Chicago:20250712T121500
DTEND;TZID=America/Chicago:20250712T123000
DTSTAMP:20260420T145717
CREATED:20250602T213059Z
LAST-MODIFIED:20250603T190345Z
UID:10141523-1752322500-1752323400@spacecenter.org
SUMMARY:Story Corner Live Presentation
DESCRIPTION:
URL:https://spacecenter.org/events-calendar-event/story-corner-live-presentation-2/2025-07-12/
LOCATION:Theater – Artemis
CATEGORIES:Live Presentation
END:VEVENT
BEGIN:VEVENT
DTSTART;TZID=America/Chicago:20250712T124500
DTEND;TZID=America/Chicago:20250712T131500
DTSTAMP:20260420T145717
CREATED:20250602T214012Z
LAST-MODIFIED:20250603T190811Z
UID:10152491-1752324300-1752326100@spacecenter.org
SUMMARY:Artemis Live Presentation
DESCRIPTION:
URL:https://spacecenter.org/events-calendar-event/artemis-live-presentation-2/2025-07-12/
LOCATION:Theater – Destiny
CATEGORIES:Live Presentation
ATTACH;FMTTYPE=image/jpeg:https://spacecenter.org/wp-content/uploads/2022/10/Artemis-Capsule.jpeg
END:VEVENT
BEGIN:VEVENT
DTSTART;TZID=America/Chicago:20250712T131500
DTEND;TZID=America/Chicago:20250712T133000
DTSTAMP:20260420T145717
CREATED:20250602T213201Z
LAST-MODIFIED:20250603T190922Z
UID:10159803-1752326100-1752327000@spacecenter.org
SUMMARY:Story Corner Live Presentation
DESCRIPTION:
URL:https://spacecenter.org/events-calendar-event/story-corner-live-presentation-3/2025-07-12/
LOCATION:Theater – Artemis
CATEGORIES:Live Presentation
END:VEVENT
BEGIN:VEVENT
DTSTART;TZID=America/Chicago:20250712T134500
DTEND;TZID=America/Chicago:20250712T140000
DTSTAMP:20260420T145717
CREATED:20250602T212635Z
LAST-MODIFIED:20250603T191121Z
UID:10170771-1752327900-1752328800@spacecenter.org
SUMMARY:OSIRIS Rex Live Presentation
DESCRIPTION:
URL:https://spacecenter.org/events-calendar-event/osiris-rex-live-presentation-2/2025-07-12/
LOCATION:Mission Sketch Staircase
CATEGORIES:Live Presentation
ATTACH;FMTTYPE=image/jpeg:https://spacecenter.org/wp-content/uploads/2024/03/web-march2024_tls_osirisrex.jpg
END:VEVENT
BEGIN:VEVENT
DTSTART;TZID=America/Chicago:20250712T134500
DTEND;TZID=America/Chicago:20250712T140000
DTSTAMP:20260420T145717
CREATED:20250602T213557Z
LAST-MODIFIED:20250603T191327Z
UID:10174427-1752327900-1752328800@spacecenter.org
SUMMARY:James Webb Live Presentation
DESCRIPTION:
URL:https://spacecenter.org/events-calendar-event/james-webb-live-presentation-2/2025-07-12/
LOCATION:Theater – Destiny
CATEGORIES:Live Presentation
END:VEVENT
BEGIN:VEVENT
DTSTART;TZID=America/Chicago:20250712T144500
DTEND;TZID=America/Chicago:20250712T150000
DTSTAMP:20260420T145717
CREATED:20250602T213716Z
LAST-MODIFIED:20250603T191759Z
UID:10189051-1752331500-1752332400@spacecenter.org
SUMMARY:James Webb Live Presentation
DESCRIPTION:
URL:https://spacecenter.org/events-calendar-event/james-webb-live-presentation-3/2025-07-12/
LOCATION:Theater – Destiny
CATEGORIES:Live Presentation
END:VEVENT
BEGIN:VEVENT
DTSTART;TZID=America/Chicago:20250712T151500
DTEND;TZID=America/Chicago:20250712T153000
DTSTAMP:20260420T145717
CREATED:20250602T213249Z
LAST-MODIFIED:20250603T191942Z
UID:10196363-1752333300-1752334200@spacecenter.org
SUMMARY:Story Corner Live Presentation
DESCRIPTION:
URL:https://spacecenter.org/events-calendar-event/story-corner-live-presentation-4/2025-07-12/
LOCATION:Theater – Artemis
CATEGORIES:Live Presentation
END:VEVENT
BEGIN:VEVENT
DTSTART;TZID=America/Chicago:20250712T154500
DTEND;TZID=America/Chicago:20250712T161500
DTSTAMP:20260420T145717
CREATED:20250602T214125Z
LAST-MODIFIED:20250603T192119Z
UID:10207331-1752335100-1752336900@spacecenter.org
SUMMARY:Artemis Live Presentation
DESCRIPTION:
URL:https://spacecenter.org/events-calendar-event/artemis-live-presentation-3/2025-07-12/
LOCATION:Theater – Destiny
CATEGORIES:Live Presentation
ATTACH;FMTTYPE=image/jpeg:https://spacecenter.org/wp-content/uploads/2022/10/Artemis-Capsule.jpeg
END:VEVENT
BEGIN:VEVENT
DTSTART;TZID=America/Chicago:20250712T163000
DTEND;TZID=America/Chicago:20250712T164500
DTSTAMP:20260420T145717
CREATED:20250602T212726Z
LAST-MODIFIED:20250603T192225Z
UID:10214643-1752337800-1752338700@spacecenter.org
SUMMARY:OSIRIS Rex Live Presentation
DESCRIPTION:
URL:https://spacecenter.org/events-calendar-event/osiris-rex-live-presentation-3/2025-07-12/
LOCATION:Mission Sketch Staircase
CATEGORIES:Live Presentation
ATTACH;FMTTYPE=image/jpeg:https://spacecenter.org/wp-content/uploads/2024/03/web-march2024_tls_osirisrex.jpg
END:VEVENT
BEGIN:VEVENT
DTSTART;TZID=America/Chicago:20250713T104500
DTEND;TZID=America/Chicago:20250713T110000
DTSTAMP:20260420T145717
CREATED:20250602T212526Z
LAST-MODIFIED:20250603T185502Z
UID:10101308-1752403500-1752404400@spacecenter.org
SUMMARY:OSIRIS Rex Live Presentation
DESCRIPTION:
URL:https://spacecenter.org/events-calendar-event/osiris-rex-live-presentation/2025-07-13/
LOCATION:Mission Sketch Staircase
CATEGORIES:Live Presentation
ATTACH;FMTTYPE=image/jpeg:https://spacecenter.org/wp-content/uploads/2024/03/web-march2024_tls_osirisrex.jpg
END:VEVENT
BEGIN:VEVENT
DTSTART;TZID=America/Chicago:20250713T104500
DTEND;TZID=America/Chicago:20250713T111500
DTSTAMP:20260420T145717
CREATED:20250602T213905Z
LAST-MODIFIED:20250603T185637Z
UID:10108620-1752403500-1752405300@spacecenter.org
SUMMARY:Artemis Live Presentation
DESCRIPTION:
URL:https://spacecenter.org/events-calendar-event/artemis-live-presentation/2025-07-13/
LOCATION:Theater – Destiny
CATEGORIES:Live Presentation
ATTACH;FMTTYPE=image/jpeg:https://spacecenter.org/wp-content/uploads/2022/10/Artemis-Capsule.jpeg
END:VEVENT
END:VCALENDAR