BEGIN:VCALENDAR
VERSION:2.0
PRODID:-//Space Center Houston - ECPv6.15.15//NONSGML v1.0//EN
CALSCALE:GREGORIAN
METHOD:PUBLISH
X-WR-CALNAME:Space Center Houston
X-ORIGINAL-URL:https://spacecenter.org
X-WR-CALDESC:Events for Space Center Houston
REFRESH-INTERVAL;VALUE=DURATION:PT1H
X-Robots-Tag:noindex
X-PUBLISHED-TTL:PT1H
BEGIN:VTIMEZONE
TZID:America/Chicago
BEGIN:DAYLIGHT
TZOFFSETFROM:-0600
TZOFFSETTO:-0500
TZNAME:CDT
DTSTART:20240310T080000
END:DAYLIGHT
BEGIN:STANDARD
TZOFFSETFROM:-0500
TZOFFSETTO:-0600
TZNAME:CST
DTSTART:20241103T070000
END:STANDARD
BEGIN:DAYLIGHT
TZOFFSETFROM:-0600
TZOFFSETTO:-0500
TZNAME:CDT
DTSTART:20250309T080000
END:DAYLIGHT
BEGIN:STANDARD
TZOFFSETFROM:-0500
TZOFFSETTO:-0600
TZNAME:CST
DTSTART:20251102T070000
END:STANDARD
BEGIN:DAYLIGHT
TZOFFSETFROM:-0600
TZOFFSETTO:-0500
TZNAME:CDT
DTSTART:20260308T080000
END:DAYLIGHT
BEGIN:STANDARD
TZOFFSETFROM:-0500
TZOFFSETTO:-0600
TZNAME:CST
DTSTART:20261101T070000
END:STANDARD
END:VTIMEZONE
BEGIN:VEVENT
DTSTART;TZID=America/Chicago:20250827T154500
DTEND;TZID=America/Chicago:20250827T161500
DTSTAMP:20260423T170819
CREATED:20250602T214125Z
LAST-MODIFIED:20250603T192119Z
UID:10207377-1756309500-1756311300@spacecenter.org
SUMMARY:Artemis Live Presentation
DESCRIPTION:
URL:https://spacecenter.org/events-calendar-event/artemis-live-presentation-3/2025-08-27/
LOCATION:Theater – Destiny
CATEGORIES:Live Presentation
ATTACH;FMTTYPE=image/jpeg:https://spacecenter.org/wp-content/uploads/2022/10/Artemis-Capsule.jpeg
END:VEVENT
BEGIN:VEVENT
DTSTART;TZID=America/Chicago:20250827T163000
DTEND;TZID=America/Chicago:20250827T164500
DTSTAMP:20260423T170819
CREATED:20250602T212726Z
LAST-MODIFIED:20250603T192225Z
UID:10214689-1756312200-1756313100@spacecenter.org
SUMMARY:OSIRIS Rex Live Presentation
DESCRIPTION:
URL:https://spacecenter.org/events-calendar-event/osiris-rex-live-presentation-3/2025-08-27/
LOCATION:Mission Sketch Staircase
CATEGORIES:Live Presentation
ATTACH;FMTTYPE=image/jpeg:https://spacecenter.org/wp-content/uploads/2024/03/web-march2024_tls_osirisrex.jpg
END:VEVENT
BEGIN:VEVENT
DTSTART;TZID=America/Chicago:20250828T104500
DTEND;TZID=America/Chicago:20250828T110000
DTSTAMP:20260423T170819
CREATED:20250602T212526Z
LAST-MODIFIED:20250603T185502Z
UID:10101354-1756377900-1756378800@spacecenter.org
SUMMARY:OSIRIS Rex Live Presentation
DESCRIPTION:
URL:https://spacecenter.org/events-calendar-event/osiris-rex-live-presentation/2025-08-28/
LOCATION:Mission Sketch Staircase
CATEGORIES:Live Presentation
ATTACH;FMTTYPE=image/jpeg:https://spacecenter.org/wp-content/uploads/2024/03/web-march2024_tls_osirisrex.jpg
END:VEVENT
BEGIN:VEVENT
DTSTART;TZID=America/Chicago:20250828T104500
DTEND;TZID=America/Chicago:20250828T111500
DTSTAMP:20260423T170819
CREATED:20250602T213905Z
LAST-MODIFIED:20250603T185637Z
UID:10108666-1756377900-1756379700@spacecenter.org
SUMMARY:Artemis Live Presentation
DESCRIPTION:
URL:https://spacecenter.org/events-calendar-event/artemis-live-presentation/2025-08-28/
LOCATION:Theater – Destiny
CATEGORIES:Live Presentation
ATTACH;FMTTYPE=image/jpeg:https://spacecenter.org/wp-content/uploads/2022/10/Artemis-Capsule.jpeg
END:VEVENT
BEGIN:VEVENT
DTSTART;TZID=America/Chicago:20250828T111500
DTEND;TZID=America/Chicago:20250828T113000
DTSTAMP:20260423T170819
CREATED:20250602T213010Z
LAST-MODIFIED:20250603T185901Z
UID:10119634-1756379700-1756380600@spacecenter.org
SUMMARY:Story Corner Live Presentation
DESCRIPTION:
URL:https://spacecenter.org/events-calendar-event/story-corner-live-presentation/2025-08-28/
LOCATION:Theater – Artemis
CATEGORIES:Live Presentation
END:VEVENT
BEGIN:VEVENT
DTSTART;TZID=America/Chicago:20250828T114500
DTEND;TZID=America/Chicago:20250828T120000
DTSTAMP:20260423T170819
CREATED:20250602T213503Z
LAST-MODIFIED:20250603T190256Z
UID:10137914-1756381500-1756382400@spacecenter.org
SUMMARY:James Webb Live Presentation
DESCRIPTION:
URL:https://spacecenter.org/events-calendar-event/james-webb-live-presentation/2025-08-28/
LOCATION:Theater – Destiny
CATEGORIES:Live Presentation
END:VEVENT
BEGIN:VEVENT
DTSTART;TZID=America/Chicago:20250828T121500
DTEND;TZID=America/Chicago:20250828T123000
DTSTAMP:20260423T170819
CREATED:20250602T213059Z
LAST-MODIFIED:20250603T190345Z
UID:10141570-1756383300-1756384200@spacecenter.org
SUMMARY:Story Corner Live Presentation
DESCRIPTION:
URL:https://spacecenter.org/events-calendar-event/story-corner-live-presentation-2/2025-08-28/
LOCATION:Theater – Artemis
CATEGORIES:Live Presentation
END:VEVENT
BEGIN:VEVENT
DTSTART;TZID=America/Chicago:20250828T124500
DTEND;TZID=America/Chicago:20250828T131500
DTSTAMP:20260423T170819
CREATED:20250602T214012Z
LAST-MODIFIED:20250603T190811Z
UID:10152538-1756385100-1756386900@spacecenter.org
SUMMARY:Artemis Live Presentation
DESCRIPTION:
URL:https://spacecenter.org/events-calendar-event/artemis-live-presentation-2/2025-08-28/
LOCATION:Theater – Destiny
CATEGORIES:Live Presentation
ATTACH;FMTTYPE=image/jpeg:https://spacecenter.org/wp-content/uploads/2022/10/Artemis-Capsule.jpeg
END:VEVENT
BEGIN:VEVENT
DTSTART;TZID=America/Chicago:20250828T131500
DTEND;TZID=America/Chicago:20250828T133000
DTSTAMP:20260423T170819
CREATED:20250602T213201Z
LAST-MODIFIED:20250603T190922Z
UID:10159850-1756386900-1756387800@spacecenter.org
SUMMARY:Story Corner Live Presentation
DESCRIPTION:
URL:https://spacecenter.org/events-calendar-event/story-corner-live-presentation-3/2025-08-28/
LOCATION:Theater – Artemis
CATEGORIES:Live Presentation
END:VEVENT
BEGIN:VEVENT
DTSTART;TZID=America/Chicago:20250828T134500
DTEND;TZID=America/Chicago:20250828T140000
DTSTAMP:20260423T170819
CREATED:20250602T212635Z
LAST-MODIFIED:20250603T191121Z
UID:10170818-1756388700-1756389600@spacecenter.org
SUMMARY:OSIRIS Rex Live Presentation
DESCRIPTION:
URL:https://spacecenter.org/events-calendar-event/osiris-rex-live-presentation-2/2025-08-28/
LOCATION:Mission Sketch Staircase
CATEGORIES:Live Presentation
ATTACH;FMTTYPE=image/jpeg:https://spacecenter.org/wp-content/uploads/2024/03/web-march2024_tls_osirisrex.jpg
END:VEVENT
BEGIN:VEVENT
DTSTART;TZID=America/Chicago:20250828T134500
DTEND;TZID=America/Chicago:20250828T140000
DTSTAMP:20260423T170819
CREATED:20250602T213557Z
LAST-MODIFIED:20250603T191327Z
UID:10174474-1756388700-1756389600@spacecenter.org
SUMMARY:James Webb Live Presentation
DESCRIPTION:
URL:https://spacecenter.org/events-calendar-event/james-webb-live-presentation-2/2025-08-28/
LOCATION:Theater – Destiny
CATEGORIES:Live Presentation
END:VEVENT
BEGIN:VEVENT
DTSTART;TZID=America/Chicago:20250828T144500
DTEND;TZID=America/Chicago:20250828T150000
DTSTAMP:20260423T170819
CREATED:20250602T213716Z
LAST-MODIFIED:20250603T191759Z
UID:10189098-1756392300-1756393200@spacecenter.org
SUMMARY:James Webb Live Presentation
DESCRIPTION:
URL:https://spacecenter.org/events-calendar-event/james-webb-live-presentation-3/2025-08-28/
LOCATION:Theater – Destiny
CATEGORIES:Live Presentation
END:VEVENT
BEGIN:VEVENT
DTSTART;TZID=America/Chicago:20250828T151500
DTEND;TZID=America/Chicago:20250828T153000
DTSTAMP:20260423T170819
CREATED:20250602T213249Z
LAST-MODIFIED:20250603T191942Z
UID:10196410-1756394100-1756395000@spacecenter.org
SUMMARY:Story Corner Live Presentation
DESCRIPTION:
URL:https://spacecenter.org/events-calendar-event/story-corner-live-presentation-4/2025-08-28/
LOCATION:Theater – Artemis
CATEGORIES:Live Presentation
END:VEVENT
BEGIN:VEVENT
DTSTART;TZID=America/Chicago:20250828T154500
DTEND;TZID=America/Chicago:20250828T161500
DTSTAMP:20260423T170819
CREATED:20250602T214125Z
LAST-MODIFIED:20250603T192119Z
UID:10207378-1756395900-1756397700@spacecenter.org
SUMMARY:Artemis Live Presentation
DESCRIPTION:
URL:https://spacecenter.org/events-calendar-event/artemis-live-presentation-3/2025-08-28/
LOCATION:Theater – Destiny
CATEGORIES:Live Presentation
ATTACH;FMTTYPE=image/jpeg:https://spacecenter.org/wp-content/uploads/2022/10/Artemis-Capsule.jpeg
END:VEVENT
BEGIN:VEVENT
DTSTART;TZID=America/Chicago:20250828T163000
DTEND;TZID=America/Chicago:20250828T164500
DTSTAMP:20260423T170819
CREATED:20250602T212726Z
LAST-MODIFIED:20250603T192225Z
UID:10214690-1756398600-1756399500@spacecenter.org
SUMMARY:OSIRIS Rex Live Presentation
DESCRIPTION:
URL:https://spacecenter.org/events-calendar-event/osiris-rex-live-presentation-3/2025-08-28/
LOCATION:Mission Sketch Staircase
CATEGORIES:Live Presentation
ATTACH;FMTTYPE=image/jpeg:https://spacecenter.org/wp-content/uploads/2024/03/web-march2024_tls_osirisrex.jpg
END:VEVENT
BEGIN:VEVENT
DTSTART;TZID=America/Chicago:20250829T104500
DTEND;TZID=America/Chicago:20250829T110000
DTSTAMP:20260423T170819
CREATED:20250602T212526Z
LAST-MODIFIED:20250603T185502Z
UID:10101355-1756464300-1756465200@spacecenter.org
SUMMARY:OSIRIS Rex Live Presentation
DESCRIPTION:
URL:https://spacecenter.org/events-calendar-event/osiris-rex-live-presentation/2025-08-29/
LOCATION:Mission Sketch Staircase
CATEGORIES:Live Presentation
ATTACH;FMTTYPE=image/jpeg:https://spacecenter.org/wp-content/uploads/2024/03/web-march2024_tls_osirisrex.jpg
END:VEVENT
BEGIN:VEVENT
DTSTART;TZID=America/Chicago:20250829T104500
DTEND;TZID=America/Chicago:20250829T111500
DTSTAMP:20260423T170819
CREATED:20250602T213905Z
LAST-MODIFIED:20250603T185637Z
UID:10108667-1756464300-1756466100@spacecenter.org
SUMMARY:Artemis Live Presentation
DESCRIPTION:
URL:https://spacecenter.org/events-calendar-event/artemis-live-presentation/2025-08-29/
LOCATION:Theater – Destiny
CATEGORIES:Live Presentation
ATTACH;FMTTYPE=image/jpeg:https://spacecenter.org/wp-content/uploads/2022/10/Artemis-Capsule.jpeg
END:VEVENT
BEGIN:VEVENT
DTSTART;TZID=America/Chicago:20250829T111500
DTEND;TZID=America/Chicago:20250829T113000
DTSTAMP:20260423T170819
CREATED:20250602T213010Z
LAST-MODIFIED:20250603T185901Z
UID:10119635-1756466100-1756467000@spacecenter.org
SUMMARY:Story Corner Live Presentation
DESCRIPTION:
URL:https://spacecenter.org/events-calendar-event/story-corner-live-presentation/2025-08-29/
LOCATION:Theater – Artemis
CATEGORIES:Live Presentation
END:VEVENT
BEGIN:VEVENT
DTSTART;TZID=America/Chicago:20250829T114500
DTEND;TZID=America/Chicago:20250829T120000
DTSTAMP:20260423T170819
CREATED:20250602T213503Z
LAST-MODIFIED:20250603T190256Z
UID:10137915-1756467900-1756468800@spacecenter.org
SUMMARY:James Webb Live Presentation
DESCRIPTION:
URL:https://spacecenter.org/events-calendar-event/james-webb-live-presentation/2025-08-29/
LOCATION:Theater – Destiny
CATEGORIES:Live Presentation
END:VEVENT
BEGIN:VEVENT
DTSTART;TZID=America/Chicago:20250829T121500
DTEND;TZID=America/Chicago:20250829T123000
DTSTAMP:20260423T170819
CREATED:20250602T213059Z
LAST-MODIFIED:20250603T190345Z
UID:10141571-1756469700-1756470600@spacecenter.org
SUMMARY:Story Corner Live Presentation
DESCRIPTION:
URL:https://spacecenter.org/events-calendar-event/story-corner-live-presentation-2/2025-08-29/
LOCATION:Theater – Artemis
CATEGORIES:Live Presentation
END:VEVENT
BEGIN:VEVENT
DTSTART;TZID=America/Chicago:20250829T124500
DTEND;TZID=America/Chicago:20250829T131500
DTSTAMP:20260423T170819
CREATED:20250602T214012Z
LAST-MODIFIED:20250603T190811Z
UID:10152539-1756471500-1756473300@spacecenter.org
SUMMARY:Artemis Live Presentation
DESCRIPTION:
URL:https://spacecenter.org/events-calendar-event/artemis-live-presentation-2/2025-08-29/
LOCATION:Theater – Destiny
CATEGORIES:Live Presentation
ATTACH;FMTTYPE=image/jpeg:https://spacecenter.org/wp-content/uploads/2022/10/Artemis-Capsule.jpeg
END:VEVENT
BEGIN:VEVENT
DTSTART;TZID=America/Chicago:20250829T131500
DTEND;TZID=America/Chicago:20250829T133000
DTSTAMP:20260423T170819
CREATED:20250602T213201Z
LAST-MODIFIED:20250603T190922Z
UID:10159851-1756473300-1756474200@spacecenter.org
SUMMARY:Story Corner Live Presentation
DESCRIPTION:
URL:https://spacecenter.org/events-calendar-event/story-corner-live-presentation-3/2025-08-29/
LOCATION:Theater – Artemis
CATEGORIES:Live Presentation
END:VEVENT
BEGIN:VEVENT
DTSTART;TZID=America/Chicago:20250829T134500
DTEND;TZID=America/Chicago:20250829T140000
DTSTAMP:20260423T170819
CREATED:20250602T212635Z
LAST-MODIFIED:20250603T191121Z
UID:10170819-1756475100-1756476000@spacecenter.org
SUMMARY:OSIRIS Rex Live Presentation
DESCRIPTION:
URL:https://spacecenter.org/events-calendar-event/osiris-rex-live-presentation-2/2025-08-29/
LOCATION:Mission Sketch Staircase
CATEGORIES:Live Presentation
ATTACH;FMTTYPE=image/jpeg:https://spacecenter.org/wp-content/uploads/2024/03/web-march2024_tls_osirisrex.jpg
END:VEVENT
BEGIN:VEVENT
DTSTART;TZID=America/Chicago:20250829T134500
DTEND;TZID=America/Chicago:20250829T140000
DTSTAMP:20260423T170819
CREATED:20250602T213557Z
LAST-MODIFIED:20250603T191327Z
UID:10174475-1756475100-1756476000@spacecenter.org
SUMMARY:James Webb Live Presentation
DESCRIPTION:
URL:https://spacecenter.org/events-calendar-event/james-webb-live-presentation-2/2025-08-29/
LOCATION:Theater – Destiny
CATEGORIES:Live Presentation
END:VEVENT
BEGIN:VEVENT
DTSTART;TZID=America/Chicago:20250829T144500
DTEND;TZID=America/Chicago:20250829T150000
DTSTAMP:20260423T170819
CREATED:20250602T213716Z
LAST-MODIFIED:20250603T191759Z
UID:10189099-1756478700-1756479600@spacecenter.org
SUMMARY:James Webb Live Presentation
DESCRIPTION:
URL:https://spacecenter.org/events-calendar-event/james-webb-live-presentation-3/2025-08-29/
LOCATION:Theater – Destiny
CATEGORIES:Live Presentation
END:VEVENT
BEGIN:VEVENT
DTSTART;TZID=America/Chicago:20250829T151500
DTEND;TZID=America/Chicago:20250829T153000
DTSTAMP:20260423T170819
CREATED:20250602T213249Z
LAST-MODIFIED:20250603T191942Z
UID:10196411-1756480500-1756481400@spacecenter.org
SUMMARY:Story Corner Live Presentation
DESCRIPTION:
URL:https://spacecenter.org/events-calendar-event/story-corner-live-presentation-4/2025-08-29/
LOCATION:Theater – Artemis
CATEGORIES:Live Presentation
END:VEVENT
BEGIN:VEVENT
DTSTART;TZID=America/Chicago:20250829T154500
DTEND;TZID=America/Chicago:20250829T161500
DTSTAMP:20260423T170819
CREATED:20250602T214125Z
LAST-MODIFIED:20250603T192119Z
UID:10207379-1756482300-1756484100@spacecenter.org
SUMMARY:Artemis Live Presentation
DESCRIPTION:
URL:https://spacecenter.org/events-calendar-event/artemis-live-presentation-3/2025-08-29/
LOCATION:Theater – Destiny
CATEGORIES:Live Presentation
ATTACH;FMTTYPE=image/jpeg:https://spacecenter.org/wp-content/uploads/2022/10/Artemis-Capsule.jpeg
END:VEVENT
BEGIN:VEVENT
DTSTART;TZID=America/Chicago:20250829T163000
DTEND;TZID=America/Chicago:20250829T164500
DTSTAMP:20260423T170819
CREATED:20250602T212726Z
LAST-MODIFIED:20250603T192225Z
UID:10214691-1756485000-1756485900@spacecenter.org
SUMMARY:OSIRIS Rex Live Presentation
DESCRIPTION:
URL:https://spacecenter.org/events-calendar-event/osiris-rex-live-presentation-3/2025-08-29/
LOCATION:Mission Sketch Staircase
CATEGORIES:Live Presentation
ATTACH;FMTTYPE=image/jpeg:https://spacecenter.org/wp-content/uploads/2024/03/web-march2024_tls_osirisrex.jpg
END:VEVENT
BEGIN:VEVENT
DTSTART;TZID=America/Chicago:20250830T104500
DTEND;TZID=America/Chicago:20250830T110000
DTSTAMP:20260423T170819
CREATED:20250602T212526Z
LAST-MODIFIED:20250603T185502Z
UID:10101356-1756550700-1756551600@spacecenter.org
SUMMARY:OSIRIS Rex Live Presentation
DESCRIPTION:
URL:https://spacecenter.org/events-calendar-event/osiris-rex-live-presentation/2025-08-30/
LOCATION:Mission Sketch Staircase
CATEGORIES:Live Presentation
ATTACH;FMTTYPE=image/jpeg:https://spacecenter.org/wp-content/uploads/2024/03/web-march2024_tls_osirisrex.jpg
END:VEVENT
BEGIN:VEVENT
DTSTART;TZID=America/Chicago:20250830T104500
DTEND;TZID=America/Chicago:20250830T111500
DTSTAMP:20260423T170819
CREATED:20250602T213905Z
LAST-MODIFIED:20250603T185637Z
UID:10108668-1756550700-1756552500@spacecenter.org
SUMMARY:Artemis Live Presentation
DESCRIPTION:
URL:https://spacecenter.org/events-calendar-event/artemis-live-presentation/2025-08-30/
LOCATION:Theater – Destiny
CATEGORIES:Live Presentation
ATTACH;FMTTYPE=image/jpeg:https://spacecenter.org/wp-content/uploads/2022/10/Artemis-Capsule.jpeg
END:VEVENT
END:VCALENDAR