BEGIN:VCALENDAR
VERSION:2.0
PRODID:-//Space Center Houston - ECPv6.15.15//NONSGML v1.0//EN
CALSCALE:GREGORIAN
METHOD:PUBLISH
X-ORIGINAL-URL:https://spacecenter.org
X-WR-CALDESC:Events for Space Center Houston
REFRESH-INTERVAL;VALUE=DURATION:PT1H
X-Robots-Tag:noindex
X-PUBLISHED-TTL:PT1H
BEGIN:VTIMEZONE
TZID:America/Chicago
BEGIN:DAYLIGHT
TZOFFSETFROM:-0600
TZOFFSETTO:-0500
TZNAME:CDT
DTSTART:20240310T080000
END:DAYLIGHT
BEGIN:STANDARD
TZOFFSETFROM:-0500
TZOFFSETTO:-0600
TZNAME:CST
DTSTART:20241103T070000
END:STANDARD
BEGIN:DAYLIGHT
TZOFFSETFROM:-0600
TZOFFSETTO:-0500
TZNAME:CDT
DTSTART:20250309T080000
END:DAYLIGHT
BEGIN:STANDARD
TZOFFSETFROM:-0500
TZOFFSETTO:-0600
TZNAME:CST
DTSTART:20251102T070000
END:STANDARD
BEGIN:DAYLIGHT
TZOFFSETFROM:-0600
TZOFFSETTO:-0500
TZNAME:CDT
DTSTART:20260308T080000
END:DAYLIGHT
BEGIN:STANDARD
TZOFFSETFROM:-0500
TZOFFSETTO:-0600
TZNAME:CST
DTSTART:20261101T070000
END:STANDARD
END:VTIMEZONE
BEGIN:VEVENT
DTSTART;TZID=America/Chicago:20250820T111500
DTEND;TZID=America/Chicago:20250820T113000
DTSTAMP:20260423T191544
CREATED:20250602T213010Z
LAST-MODIFIED:20250603T185901Z
UID:10119626-1755688500-1755689400@spacecenter.org
SUMMARY:Story Corner Live Presentation
DESCRIPTION:
URL:https://spacecenter.org/events-calendar-event/story-corner-live-presentation/2025-08-20/
LOCATION:Theater – Artemis
CATEGORIES:Live Presentation
END:VEVENT
BEGIN:VEVENT
DTSTART;TZID=America/Chicago:20250820T114500
DTEND;TZID=America/Chicago:20250820T120000
DTSTAMP:20260423T191544
CREATED:20250602T213503Z
LAST-MODIFIED:20250603T190256Z
UID:10137906-1755690300-1755691200@spacecenter.org
SUMMARY:James Webb Live Presentation
DESCRIPTION:
URL:https://spacecenter.org/events-calendar-event/james-webb-live-presentation/2025-08-20/
LOCATION:Theater – Destiny
CATEGORIES:Live Presentation
END:VEVENT
BEGIN:VEVENT
DTSTART;TZID=America/Chicago:20250820T121500
DTEND;TZID=America/Chicago:20250820T123000
DTSTAMP:20260423T191544
CREATED:20250602T213059Z
LAST-MODIFIED:20250603T190345Z
UID:10141562-1755692100-1755693000@spacecenter.org
SUMMARY:Story Corner Live Presentation
DESCRIPTION:
URL:https://spacecenter.org/events-calendar-event/story-corner-live-presentation-2/2025-08-20/
LOCATION:Theater – Artemis
CATEGORIES:Live Presentation
END:VEVENT
BEGIN:VEVENT
DTSTART;TZID=America/Chicago:20250820T124500
DTEND;TZID=America/Chicago:20250820T131500
DTSTAMP:20260423T191544
CREATED:20250602T214012Z
LAST-MODIFIED:20250603T190811Z
UID:10152530-1755693900-1755695700@spacecenter.org
SUMMARY:Artemis Live Presentation
DESCRIPTION:
URL:https://spacecenter.org/events-calendar-event/artemis-live-presentation-2/2025-08-20/
LOCATION:Theater – Destiny
CATEGORIES:Live Presentation
ATTACH;FMTTYPE=image/jpeg:https://spacecenter.org/wp-content/uploads/2022/10/Artemis-Capsule.jpeg
END:VEVENT
BEGIN:VEVENT
DTSTART;TZID=America/Chicago:20250820T131500
DTEND;TZID=America/Chicago:20250820T133000
DTSTAMP:20260423T191544
CREATED:20250602T213201Z
LAST-MODIFIED:20250603T190922Z
UID:10159842-1755695700-1755696600@spacecenter.org
SUMMARY:Story Corner Live Presentation
DESCRIPTION:
URL:https://spacecenter.org/events-calendar-event/story-corner-live-presentation-3/2025-08-20/
LOCATION:Theater – Artemis
CATEGORIES:Live Presentation
END:VEVENT
BEGIN:VEVENT
DTSTART;TZID=America/Chicago:20250820T134500
DTEND;TZID=America/Chicago:20250820T140000
DTSTAMP:20260423T191544
CREATED:20250602T212635Z
LAST-MODIFIED:20250603T191121Z
UID:10170810-1755697500-1755698400@spacecenter.org
SUMMARY:OSIRIS Rex Live Presentation
DESCRIPTION:
URL:https://spacecenter.org/events-calendar-event/osiris-rex-live-presentation-2/2025-08-20/
LOCATION:Mission Sketch Staircase
CATEGORIES:Live Presentation
ATTACH;FMTTYPE=image/jpeg:https://spacecenter.org/wp-content/uploads/2024/03/web-march2024_tls_osirisrex.jpg
END:VEVENT
BEGIN:VEVENT
DTSTART;TZID=America/Chicago:20250820T134500
DTEND;TZID=America/Chicago:20250820T140000
DTSTAMP:20260423T191544
CREATED:20250602T213557Z
LAST-MODIFIED:20250603T191327Z
UID:10174466-1755697500-1755698400@spacecenter.org
SUMMARY:James Webb Live Presentation
DESCRIPTION:
URL:https://spacecenter.org/events-calendar-event/james-webb-live-presentation-2/2025-08-20/
LOCATION:Theater – Destiny
CATEGORIES:Live Presentation
END:VEVENT
BEGIN:VEVENT
DTSTART;TZID=America/Chicago:20250820T144500
DTEND;TZID=America/Chicago:20250820T150000
DTSTAMP:20260423T191544
CREATED:20250602T213716Z
LAST-MODIFIED:20250603T191759Z
UID:10189090-1755701100-1755702000@spacecenter.org
SUMMARY:James Webb Live Presentation
DESCRIPTION:
URL:https://spacecenter.org/events-calendar-event/james-webb-live-presentation-3/2025-08-20/
LOCATION:Theater – Destiny
CATEGORIES:Live Presentation
END:VEVENT
BEGIN:VEVENT
DTSTART;TZID=America/Chicago:20250820T151500
DTEND;TZID=America/Chicago:20250820T153000
DTSTAMP:20260423T191544
CREATED:20250602T213249Z
LAST-MODIFIED:20250603T191942Z
UID:10196402-1755702900-1755703800@spacecenter.org
SUMMARY:Story Corner Live Presentation
DESCRIPTION:
URL:https://spacecenter.org/events-calendar-event/story-corner-live-presentation-4/2025-08-20/
LOCATION:Theater – Artemis
CATEGORIES:Live Presentation
END:VEVENT
BEGIN:VEVENT
DTSTART;TZID=America/Chicago:20250820T154500
DTEND;TZID=America/Chicago:20250820T161500
DTSTAMP:20260423T191544
CREATED:20250602T214125Z
LAST-MODIFIED:20250603T192119Z
UID:10207370-1755704700-1755706500@spacecenter.org
SUMMARY:Artemis Live Presentation
DESCRIPTION:
URL:https://spacecenter.org/events-calendar-event/artemis-live-presentation-3/2025-08-20/
LOCATION:Theater – Destiny
CATEGORIES:Live Presentation
ATTACH;FMTTYPE=image/jpeg:https://spacecenter.org/wp-content/uploads/2022/10/Artemis-Capsule.jpeg
END:VEVENT
BEGIN:VEVENT
DTSTART;TZID=America/Chicago:20250820T163000
DTEND;TZID=America/Chicago:20250820T164500
DTSTAMP:20260423T191544
CREATED:20250602T212726Z
LAST-MODIFIED:20250603T192225Z
UID:10214682-1755707400-1755708300@spacecenter.org
SUMMARY:OSIRIS Rex Live Presentation
DESCRIPTION:
URL:https://spacecenter.org/events-calendar-event/osiris-rex-live-presentation-3/2025-08-20/
LOCATION:Mission Sketch Staircase
CATEGORIES:Live Presentation
ATTACH;FMTTYPE=image/jpeg:https://spacecenter.org/wp-content/uploads/2024/03/web-march2024_tls_osirisrex.jpg
END:VEVENT
BEGIN:VEVENT
DTSTART;TZID=America/Chicago:20250821T104500
DTEND;TZID=America/Chicago:20250821T110000
DTSTAMP:20260423T191544
CREATED:20250602T212526Z
LAST-MODIFIED:20250603T185502Z
UID:10101347-1755773100-1755774000@spacecenter.org
SUMMARY:OSIRIS Rex Live Presentation
DESCRIPTION:
URL:https://spacecenter.org/events-calendar-event/osiris-rex-live-presentation/2025-08-21/
LOCATION:Mission Sketch Staircase
CATEGORIES:Live Presentation
ATTACH;FMTTYPE=image/jpeg:https://spacecenter.org/wp-content/uploads/2024/03/web-march2024_tls_osirisrex.jpg
END:VEVENT
BEGIN:VEVENT
DTSTART;TZID=America/Chicago:20250821T104500
DTEND;TZID=America/Chicago:20250821T111500
DTSTAMP:20260423T191544
CREATED:20250602T213905Z
LAST-MODIFIED:20250603T185637Z
UID:10108659-1755773100-1755774900@spacecenter.org
SUMMARY:Artemis Live Presentation
DESCRIPTION:
URL:https://spacecenter.org/events-calendar-event/artemis-live-presentation/2025-08-21/
LOCATION:Theater – Destiny
CATEGORIES:Live Presentation
ATTACH;FMTTYPE=image/jpeg:https://spacecenter.org/wp-content/uploads/2022/10/Artemis-Capsule.jpeg
END:VEVENT
BEGIN:VEVENT
DTSTART;TZID=America/Chicago:20250821T111500
DTEND;TZID=America/Chicago:20250821T113000
DTSTAMP:20260423T191544
CREATED:20250602T213010Z
LAST-MODIFIED:20250603T185901Z
UID:10119627-1755774900-1755775800@spacecenter.org
SUMMARY:Story Corner Live Presentation
DESCRIPTION:
URL:https://spacecenter.org/events-calendar-event/story-corner-live-presentation/2025-08-21/
LOCATION:Theater – Artemis
CATEGORIES:Live Presentation
END:VEVENT
BEGIN:VEVENT
DTSTART;TZID=America/Chicago:20250821T114500
DTEND;TZID=America/Chicago:20250821T120000
DTSTAMP:20260423T191544
CREATED:20250602T213503Z
LAST-MODIFIED:20250603T190256Z
UID:10137907-1755776700-1755777600@spacecenter.org
SUMMARY:James Webb Live Presentation
DESCRIPTION:
URL:https://spacecenter.org/events-calendar-event/james-webb-live-presentation/2025-08-21/
LOCATION:Theater – Destiny
CATEGORIES:Live Presentation
END:VEVENT
BEGIN:VEVENT
DTSTART;TZID=America/Chicago:20250821T121500
DTEND;TZID=America/Chicago:20250821T123000
DTSTAMP:20260423T191544
CREATED:20250602T213059Z
LAST-MODIFIED:20250603T190345Z
UID:10141563-1755778500-1755779400@spacecenter.org
SUMMARY:Story Corner Live Presentation
DESCRIPTION:
URL:https://spacecenter.org/events-calendar-event/story-corner-live-presentation-2/2025-08-21/
LOCATION:Theater – Artemis
CATEGORIES:Live Presentation
END:VEVENT
BEGIN:VEVENT
DTSTART;TZID=America/Chicago:20250821T124500
DTEND;TZID=America/Chicago:20250821T131500
DTSTAMP:20260423T191544
CREATED:20250602T214012Z
LAST-MODIFIED:20250603T190811Z
UID:10152531-1755780300-1755782100@spacecenter.org
SUMMARY:Artemis Live Presentation
DESCRIPTION:
URL:https://spacecenter.org/events-calendar-event/artemis-live-presentation-2/2025-08-21/
LOCATION:Theater – Destiny
CATEGORIES:Live Presentation
ATTACH;FMTTYPE=image/jpeg:https://spacecenter.org/wp-content/uploads/2022/10/Artemis-Capsule.jpeg
END:VEVENT
BEGIN:VEVENT
DTSTART;TZID=America/Chicago:20250821T131500
DTEND;TZID=America/Chicago:20250821T133000
DTSTAMP:20260423T191544
CREATED:20250602T213201Z
LAST-MODIFIED:20250603T190922Z
UID:10159843-1755782100-1755783000@spacecenter.org
SUMMARY:Story Corner Live Presentation
DESCRIPTION:
URL:https://spacecenter.org/events-calendar-event/story-corner-live-presentation-3/2025-08-21/
LOCATION:Theater – Artemis
CATEGORIES:Live Presentation
END:VEVENT
BEGIN:VEVENT
DTSTART;TZID=America/Chicago:20250821T134500
DTEND;TZID=America/Chicago:20250821T140000
DTSTAMP:20260423T191544
CREATED:20250602T212635Z
LAST-MODIFIED:20250603T191121Z
UID:10170811-1755783900-1755784800@spacecenter.org
SUMMARY:OSIRIS Rex Live Presentation
DESCRIPTION:
URL:https://spacecenter.org/events-calendar-event/osiris-rex-live-presentation-2/2025-08-21/
LOCATION:Mission Sketch Staircase
CATEGORIES:Live Presentation
ATTACH;FMTTYPE=image/jpeg:https://spacecenter.org/wp-content/uploads/2024/03/web-march2024_tls_osirisrex.jpg
END:VEVENT
BEGIN:VEVENT
DTSTART;TZID=America/Chicago:20250821T134500
DTEND;TZID=America/Chicago:20250821T140000
DTSTAMP:20260423T191544
CREATED:20250602T213557Z
LAST-MODIFIED:20250603T191327Z
UID:10174467-1755783900-1755784800@spacecenter.org
SUMMARY:James Webb Live Presentation
DESCRIPTION:
URL:https://spacecenter.org/events-calendar-event/james-webb-live-presentation-2/2025-08-21/
LOCATION:Theater – Destiny
CATEGORIES:Live Presentation
END:VEVENT
BEGIN:VEVENT
DTSTART;TZID=America/Chicago:20250821T144500
DTEND;TZID=America/Chicago:20250821T150000
DTSTAMP:20260423T191544
CREATED:20250602T213716Z
LAST-MODIFIED:20250603T191759Z
UID:10189091-1755787500-1755788400@spacecenter.org
SUMMARY:James Webb Live Presentation
DESCRIPTION:
URL:https://spacecenter.org/events-calendar-event/james-webb-live-presentation-3/2025-08-21/
LOCATION:Theater – Destiny
CATEGORIES:Live Presentation
END:VEVENT
BEGIN:VEVENT
DTSTART;TZID=America/Chicago:20250821T151500
DTEND;TZID=America/Chicago:20250821T153000
DTSTAMP:20260423T191544
CREATED:20250602T213249Z
LAST-MODIFIED:20250603T191942Z
UID:10196403-1755789300-1755790200@spacecenter.org
SUMMARY:Story Corner Live Presentation
DESCRIPTION:
URL:https://spacecenter.org/events-calendar-event/story-corner-live-presentation-4/2025-08-21/
LOCATION:Theater – Artemis
CATEGORIES:Live Presentation
END:VEVENT
BEGIN:VEVENT
DTSTART;TZID=America/Chicago:20250821T154500
DTEND;TZID=America/Chicago:20250821T161500
DTSTAMP:20260423T191544
CREATED:20250602T214125Z
LAST-MODIFIED:20250603T192119Z
UID:10207371-1755791100-1755792900@spacecenter.org
SUMMARY:Artemis Live Presentation
DESCRIPTION:
URL:https://spacecenter.org/events-calendar-event/artemis-live-presentation-3/2025-08-21/
LOCATION:Theater – Destiny
CATEGORIES:Live Presentation
ATTACH;FMTTYPE=image/jpeg:https://spacecenter.org/wp-content/uploads/2022/10/Artemis-Capsule.jpeg
END:VEVENT
BEGIN:VEVENT
DTSTART;TZID=America/Chicago:20250821T163000
DTEND;TZID=America/Chicago:20250821T164500
DTSTAMP:20260423T191544
CREATED:20250602T212726Z
LAST-MODIFIED:20250603T192225Z
UID:10214683-1755793800-1755794700@spacecenter.org
SUMMARY:OSIRIS Rex Live Presentation
DESCRIPTION:
URL:https://spacecenter.org/events-calendar-event/osiris-rex-live-presentation-3/2025-08-21/
LOCATION:Mission Sketch Staircase
CATEGORIES:Live Presentation
ATTACH;FMTTYPE=image/jpeg:https://spacecenter.org/wp-content/uploads/2024/03/web-march2024_tls_osirisrex.jpg
END:VEVENT
BEGIN:VEVENT
DTSTART;TZID=America/Chicago:20250822T104500
DTEND;TZID=America/Chicago:20250822T110000
DTSTAMP:20260423T191544
CREATED:20250602T212526Z
LAST-MODIFIED:20250603T185502Z
UID:10101348-1755859500-1755860400@spacecenter.org
SUMMARY:OSIRIS Rex Live Presentation
DESCRIPTION:
URL:https://spacecenter.org/events-calendar-event/osiris-rex-live-presentation/2025-08-22/
LOCATION:Mission Sketch Staircase
CATEGORIES:Live Presentation
ATTACH;FMTTYPE=image/jpeg:https://spacecenter.org/wp-content/uploads/2024/03/web-march2024_tls_osirisrex.jpg
END:VEVENT
BEGIN:VEVENT
DTSTART;TZID=America/Chicago:20250822T104500
DTEND;TZID=America/Chicago:20250822T111500
DTSTAMP:20260423T191544
CREATED:20250602T213905Z
LAST-MODIFIED:20250603T185637Z
UID:10108660-1755859500-1755861300@spacecenter.org
SUMMARY:Artemis Live Presentation
DESCRIPTION:
URL:https://spacecenter.org/events-calendar-event/artemis-live-presentation/2025-08-22/
LOCATION:Theater – Destiny
CATEGORIES:Live Presentation
ATTACH;FMTTYPE=image/jpeg:https://spacecenter.org/wp-content/uploads/2022/10/Artemis-Capsule.jpeg
END:VEVENT
BEGIN:VEVENT
DTSTART;TZID=America/Chicago:20250822T111500
DTEND;TZID=America/Chicago:20250822T113000
DTSTAMP:20260423T191544
CREATED:20250602T213010Z
LAST-MODIFIED:20250603T185901Z
UID:10119628-1755861300-1755862200@spacecenter.org
SUMMARY:Story Corner Live Presentation
DESCRIPTION:
URL:https://spacecenter.org/events-calendar-event/story-corner-live-presentation/2025-08-22/
LOCATION:Theater – Artemis
CATEGORIES:Live Presentation
END:VEVENT
BEGIN:VEVENT
DTSTART;TZID=America/Chicago:20250822T114500
DTEND;TZID=America/Chicago:20250822T120000
DTSTAMP:20260423T191544
CREATED:20250602T213503Z
LAST-MODIFIED:20250603T190256Z
UID:10137908-1755863100-1755864000@spacecenter.org
SUMMARY:James Webb Live Presentation
DESCRIPTION:
URL:https://spacecenter.org/events-calendar-event/james-webb-live-presentation/2025-08-22/
LOCATION:Theater – Destiny
CATEGORIES:Live Presentation
END:VEVENT
BEGIN:VEVENT
DTSTART;TZID=America/Chicago:20250822T121500
DTEND;TZID=America/Chicago:20250822T123000
DTSTAMP:20260423T191544
CREATED:20250602T213059Z
LAST-MODIFIED:20250603T190345Z
UID:10141564-1755864900-1755865800@spacecenter.org
SUMMARY:Story Corner Live Presentation
DESCRIPTION:
URL:https://spacecenter.org/events-calendar-event/story-corner-live-presentation-2/2025-08-22/
LOCATION:Theater – Artemis
CATEGORIES:Live Presentation
END:VEVENT
BEGIN:VEVENT
DTSTART;TZID=America/Chicago:20250822T124500
DTEND;TZID=America/Chicago:20250822T131500
DTSTAMP:20260423T191544
CREATED:20250602T214012Z
LAST-MODIFIED:20250603T190811Z
UID:10152532-1755866700-1755868500@spacecenter.org
SUMMARY:Artemis Live Presentation
DESCRIPTION:
URL:https://spacecenter.org/events-calendar-event/artemis-live-presentation-2/2025-08-22/
LOCATION:Theater – Destiny
CATEGORIES:Live Presentation
ATTACH;FMTTYPE=image/jpeg:https://spacecenter.org/wp-content/uploads/2022/10/Artemis-Capsule.jpeg
END:VEVENT
END:VCALENDAR