BEGIN:VCALENDAR
VERSION:2.0
PRODID:-//Space Center Houston - ECPv6.15.15//NONSGML v1.0//EN
CALSCALE:GREGORIAN
METHOD:PUBLISH
X-ORIGINAL-URL:https://spacecenter.org
X-WR-CALDESC:Events for Space Center Houston
REFRESH-INTERVAL;VALUE=DURATION:PT1H
X-Robots-Tag:noindex
X-PUBLISHED-TTL:PT1H
BEGIN:VTIMEZONE
TZID:America/Chicago
BEGIN:DAYLIGHT
TZOFFSETFROM:-0600
TZOFFSETTO:-0500
TZNAME:CDT
DTSTART:20260308T080000
END:DAYLIGHT
BEGIN:STANDARD
TZOFFSETFROM:-0500
TZOFFSETTO:-0600
TZNAME:CST
DTSTART:20261101T070000
END:STANDARD
BEGIN:DAYLIGHT
TZOFFSETFROM:-0600
TZOFFSETTO:-0500
TZNAME:CDT
DTSTART:20270314T080000
END:DAYLIGHT
BEGIN:STANDARD
TZOFFSETFROM:-0500
TZOFFSETTO:-0600
TZNAME:CST
DTSTART:20271107T070000
END:STANDARD
BEGIN:DAYLIGHT
TZOFFSETFROM:-0600
TZOFFSETTO:-0500
TZNAME:CDT
DTSTART:20280312T080000
END:DAYLIGHT
BEGIN:STANDARD
TZOFFSETFROM:-0500
TZOFFSETTO:-0600
TZNAME:CST
DTSTART:20281105T070000
END:STANDARD
END:VTIMEZONE
BEGIN:VEVENT
DTSTART;TZID=America/Chicago:20270804T124500
DTEND;TZID=America/Chicago:20270804T131500
DTSTAMP:20260425T185524
CREATED:20250602T214012Z
LAST-MODIFIED:20250603T190811Z
UID:10153244-1817383500-1817385300@spacecenter.org
SUMMARY:Artemis Live Presentation
DESCRIPTION:
URL:https://spacecenter.org/events-calendar-event/artemis-live-presentation-2/2027-08-04/
LOCATION:Theater – Destiny
CATEGORIES:Live Presentation
ATTACH;FMTTYPE=image/jpeg:https://spacecenter.org/wp-content/uploads/2022/10/Artemis-Capsule.jpeg
END:VEVENT
BEGIN:VEVENT
DTSTART;TZID=America/Chicago:20270804T131500
DTEND;TZID=America/Chicago:20270804T133000
DTSTAMP:20260425T185524
CREATED:20250602T213201Z
LAST-MODIFIED:20250603T190922Z
UID:10160556-1817385300-1817386200@spacecenter.org
SUMMARY:Story Corner Live Presentation
DESCRIPTION:
URL:https://spacecenter.org/events-calendar-event/story-corner-live-presentation-3/2027-08-04/
LOCATION:Theater – Artemis
CATEGORIES:Live Presentation
END:VEVENT
BEGIN:VEVENT
DTSTART;TZID=America/Chicago:20270804T134500
DTEND;TZID=America/Chicago:20270804T140000
DTSTAMP:20260425T185524
CREATED:20250602T212635Z
LAST-MODIFIED:20250603T191121Z
UID:10171524-1817387100-1817388000@spacecenter.org
SUMMARY:OSIRIS Rex Live Presentation
DESCRIPTION:
URL:https://spacecenter.org/events-calendar-event/osiris-rex-live-presentation-2/2027-08-04/
LOCATION:Mission Sketch Staircase
CATEGORIES:Live Presentation
ATTACH;FMTTYPE=image/jpeg:https://spacecenter.org/wp-content/uploads/2024/03/web-march2024_tls_osirisrex.jpg
END:VEVENT
BEGIN:VEVENT
DTSTART;TZID=America/Chicago:20270804T134500
DTEND;TZID=America/Chicago:20270804T140000
DTSTAMP:20260425T185524
CREATED:20250602T213557Z
LAST-MODIFIED:20250603T191327Z
UID:10175180-1817387100-1817388000@spacecenter.org
SUMMARY:James Webb Live Presentation
DESCRIPTION:
URL:https://spacecenter.org/events-calendar-event/james-webb-live-presentation-2/2027-08-04/
LOCATION:Theater – Destiny
CATEGORIES:Live Presentation
END:VEVENT
BEGIN:VEVENT
DTSTART;TZID=America/Chicago:20270804T144500
DTEND;TZID=America/Chicago:20270804T150000
DTSTAMP:20260425T185524
CREATED:20250602T213716Z
LAST-MODIFIED:20250603T191759Z
UID:10189804-1817390700-1817391600@spacecenter.org
SUMMARY:James Webb Live Presentation
DESCRIPTION:
URL:https://spacecenter.org/events-calendar-event/james-webb-live-presentation-3/2027-08-04/
LOCATION:Theater – Destiny
CATEGORIES:Live Presentation
END:VEVENT
BEGIN:VEVENT
DTSTART;TZID=America/Chicago:20270804T151500
DTEND;TZID=America/Chicago:20270804T153000
DTSTAMP:20260425T185524
CREATED:20250602T213249Z
LAST-MODIFIED:20250603T191942Z
UID:10197116-1817392500-1817393400@spacecenter.org
SUMMARY:Story Corner Live Presentation
DESCRIPTION:
URL:https://spacecenter.org/events-calendar-event/story-corner-live-presentation-4/2027-08-04/
LOCATION:Theater – Artemis
CATEGORIES:Live Presentation
END:VEVENT
BEGIN:VEVENT
DTSTART;TZID=America/Chicago:20270804T154500
DTEND;TZID=America/Chicago:20270804T161500
DTSTAMP:20260425T185524
CREATED:20250602T214125Z
LAST-MODIFIED:20250603T192119Z
UID:10208084-1817394300-1817396100@spacecenter.org
SUMMARY:Artemis Live Presentation
DESCRIPTION:
URL:https://spacecenter.org/events-calendar-event/artemis-live-presentation-3/2027-08-04/
LOCATION:Theater – Destiny
CATEGORIES:Live Presentation
ATTACH;FMTTYPE=image/jpeg:https://spacecenter.org/wp-content/uploads/2022/10/Artemis-Capsule.jpeg
END:VEVENT
BEGIN:VEVENT
DTSTART;TZID=America/Chicago:20270804T163000
DTEND;TZID=America/Chicago:20270804T164500
DTSTAMP:20260425T185524
CREATED:20250602T212726Z
LAST-MODIFIED:20250603T192225Z
UID:10215396-1817397000-1817397900@spacecenter.org
SUMMARY:OSIRIS Rex Live Presentation
DESCRIPTION:
URL:https://spacecenter.org/events-calendar-event/osiris-rex-live-presentation-3/2027-08-04/
LOCATION:Mission Sketch Staircase
CATEGORIES:Live Presentation
ATTACH;FMTTYPE=image/jpeg:https://spacecenter.org/wp-content/uploads/2024/03/web-march2024_tls_osirisrex.jpg
END:VEVENT
BEGIN:VEVENT
DTSTART;TZID=America/Chicago:20270805T104500
DTEND;TZID=America/Chicago:20270805T110000
DTSTAMP:20260425T185524
CREATED:20250602T212526Z
LAST-MODIFIED:20250603T185502Z
UID:10102061-1817462700-1817463600@spacecenter.org
SUMMARY:OSIRIS Rex Live Presentation
DESCRIPTION:
URL:https://spacecenter.org/events-calendar-event/osiris-rex-live-presentation/2027-08-05/
LOCATION:Mission Sketch Staircase
CATEGORIES:Live Presentation
ATTACH;FMTTYPE=image/jpeg:https://spacecenter.org/wp-content/uploads/2024/03/web-march2024_tls_osirisrex.jpg
END:VEVENT
BEGIN:VEVENT
DTSTART;TZID=America/Chicago:20270805T104500
DTEND;TZID=America/Chicago:20270805T111500
DTSTAMP:20260425T185524
CREATED:20250602T213905Z
LAST-MODIFIED:20250603T185637Z
UID:10109373-1817462700-1817464500@spacecenter.org
SUMMARY:Artemis Live Presentation
DESCRIPTION:
URL:https://spacecenter.org/events-calendar-event/artemis-live-presentation/2027-08-05/
LOCATION:Theater – Destiny
CATEGORIES:Live Presentation
ATTACH;FMTTYPE=image/jpeg:https://spacecenter.org/wp-content/uploads/2022/10/Artemis-Capsule.jpeg
END:VEVENT
BEGIN:VEVENT
DTSTART;TZID=America/Chicago:20270805T111500
DTEND;TZID=America/Chicago:20270805T113000
DTSTAMP:20260425T185524
CREATED:20250602T213010Z
LAST-MODIFIED:20250603T185901Z
UID:10120341-1817464500-1817465400@spacecenter.org
SUMMARY:Story Corner Live Presentation
DESCRIPTION:
URL:https://spacecenter.org/events-calendar-event/story-corner-live-presentation/2027-08-05/
LOCATION:Theater – Artemis
CATEGORIES:Live Presentation
END:VEVENT
BEGIN:VEVENT
DTSTART;TZID=America/Chicago:20270805T114500
DTEND;TZID=America/Chicago:20270805T120000
DTSTAMP:20260425T185524
CREATED:20250602T213503Z
LAST-MODIFIED:20250603T190256Z
UID:10138621-1817466300-1817467200@spacecenter.org
SUMMARY:James Webb Live Presentation
DESCRIPTION:
URL:https://spacecenter.org/events-calendar-event/james-webb-live-presentation/2027-08-05/
LOCATION:Theater – Destiny
CATEGORIES:Live Presentation
END:VEVENT
BEGIN:VEVENT
DTSTART;TZID=America/Chicago:20270805T121500
DTEND;TZID=America/Chicago:20270805T123000
DTSTAMP:20260425T185524
CREATED:20250602T213059Z
LAST-MODIFIED:20250603T190345Z
UID:10142277-1817468100-1817469000@spacecenter.org
SUMMARY:Story Corner Live Presentation
DESCRIPTION:
URL:https://spacecenter.org/events-calendar-event/story-corner-live-presentation-2/2027-08-05/
LOCATION:Theater – Artemis
CATEGORIES:Live Presentation
END:VEVENT
BEGIN:VEVENT
DTSTART;TZID=America/Chicago:20270805T124500
DTEND;TZID=America/Chicago:20270805T131500
DTSTAMP:20260425T185524
CREATED:20250602T214012Z
LAST-MODIFIED:20250603T190811Z
UID:10153245-1817469900-1817471700@spacecenter.org
SUMMARY:Artemis Live Presentation
DESCRIPTION:
URL:https://spacecenter.org/events-calendar-event/artemis-live-presentation-2/2027-08-05/
LOCATION:Theater – Destiny
CATEGORIES:Live Presentation
ATTACH;FMTTYPE=image/jpeg:https://spacecenter.org/wp-content/uploads/2022/10/Artemis-Capsule.jpeg
END:VEVENT
BEGIN:VEVENT
DTSTART;TZID=America/Chicago:20270805T131500
DTEND;TZID=America/Chicago:20270805T133000
DTSTAMP:20260425T185524
CREATED:20250602T213201Z
LAST-MODIFIED:20250603T190922Z
UID:10160557-1817471700-1817472600@spacecenter.org
SUMMARY:Story Corner Live Presentation
DESCRIPTION:
URL:https://spacecenter.org/events-calendar-event/story-corner-live-presentation-3/2027-08-05/
LOCATION:Theater – Artemis
CATEGORIES:Live Presentation
END:VEVENT
BEGIN:VEVENT
DTSTART;TZID=America/Chicago:20270805T134500
DTEND;TZID=America/Chicago:20270805T140000
DTSTAMP:20260425T185524
CREATED:20250602T212635Z
LAST-MODIFIED:20250603T191121Z
UID:10171525-1817473500-1817474400@spacecenter.org
SUMMARY:OSIRIS Rex Live Presentation
DESCRIPTION:
URL:https://spacecenter.org/events-calendar-event/osiris-rex-live-presentation-2/2027-08-05/
LOCATION:Mission Sketch Staircase
CATEGORIES:Live Presentation
ATTACH;FMTTYPE=image/jpeg:https://spacecenter.org/wp-content/uploads/2024/03/web-march2024_tls_osirisrex.jpg
END:VEVENT
BEGIN:VEVENT
DTSTART;TZID=America/Chicago:20270805T134500
DTEND;TZID=America/Chicago:20270805T140000
DTSTAMP:20260425T185524
CREATED:20250602T213557Z
LAST-MODIFIED:20250603T191327Z
UID:10175181-1817473500-1817474400@spacecenter.org
SUMMARY:James Webb Live Presentation
DESCRIPTION:
URL:https://spacecenter.org/events-calendar-event/james-webb-live-presentation-2/2027-08-05/
LOCATION:Theater – Destiny
CATEGORIES:Live Presentation
END:VEVENT
BEGIN:VEVENT
DTSTART;TZID=America/Chicago:20270805T144500
DTEND;TZID=America/Chicago:20270805T150000
DTSTAMP:20260425T185524
CREATED:20250602T213716Z
LAST-MODIFIED:20250603T191759Z
UID:10189805-1817477100-1817478000@spacecenter.org
SUMMARY:James Webb Live Presentation
DESCRIPTION:
URL:https://spacecenter.org/events-calendar-event/james-webb-live-presentation-3/2027-08-05/
LOCATION:Theater – Destiny
CATEGORIES:Live Presentation
END:VEVENT
BEGIN:VEVENT
DTSTART;TZID=America/Chicago:20270805T151500
DTEND;TZID=America/Chicago:20270805T153000
DTSTAMP:20260425T185524
CREATED:20250602T213249Z
LAST-MODIFIED:20250603T191942Z
UID:10197117-1817478900-1817479800@spacecenter.org
SUMMARY:Story Corner Live Presentation
DESCRIPTION:
URL:https://spacecenter.org/events-calendar-event/story-corner-live-presentation-4/2027-08-05/
LOCATION:Theater – Artemis
CATEGORIES:Live Presentation
END:VEVENT
BEGIN:VEVENT
DTSTART;TZID=America/Chicago:20270805T154500
DTEND;TZID=America/Chicago:20270805T161500
DTSTAMP:20260425T185524
CREATED:20250602T214125Z
LAST-MODIFIED:20250603T192119Z
UID:10208085-1817480700-1817482500@spacecenter.org
SUMMARY:Artemis Live Presentation
DESCRIPTION:
URL:https://spacecenter.org/events-calendar-event/artemis-live-presentation-3/2027-08-05/
LOCATION:Theater – Destiny
CATEGORIES:Live Presentation
ATTACH;FMTTYPE=image/jpeg:https://spacecenter.org/wp-content/uploads/2022/10/Artemis-Capsule.jpeg
END:VEVENT
BEGIN:VEVENT
DTSTART;TZID=America/Chicago:20270805T163000
DTEND;TZID=America/Chicago:20270805T164500
DTSTAMP:20260425T185524
CREATED:20250602T212726Z
LAST-MODIFIED:20250603T192225Z
UID:10215397-1817483400-1817484300@spacecenter.org
SUMMARY:OSIRIS Rex Live Presentation
DESCRIPTION:
URL:https://spacecenter.org/events-calendar-event/osiris-rex-live-presentation-3/2027-08-05/
LOCATION:Mission Sketch Staircase
CATEGORIES:Live Presentation
ATTACH;FMTTYPE=image/jpeg:https://spacecenter.org/wp-content/uploads/2024/03/web-march2024_tls_osirisrex.jpg
END:VEVENT
BEGIN:VEVENT
DTSTART;TZID=America/Chicago:20270806T104500
DTEND;TZID=America/Chicago:20270806T110000
DTSTAMP:20260425T185524
CREATED:20250602T212526Z
LAST-MODIFIED:20250603T185502Z
UID:10102062-1817549100-1817550000@spacecenter.org
SUMMARY:OSIRIS Rex Live Presentation
DESCRIPTION:
URL:https://spacecenter.org/events-calendar-event/osiris-rex-live-presentation/2027-08-06/
LOCATION:Mission Sketch Staircase
CATEGORIES:Live Presentation
ATTACH;FMTTYPE=image/jpeg:https://spacecenter.org/wp-content/uploads/2024/03/web-march2024_tls_osirisrex.jpg
END:VEVENT
BEGIN:VEVENT
DTSTART;TZID=America/Chicago:20270806T104500
DTEND;TZID=America/Chicago:20270806T111500
DTSTAMP:20260425T185524
CREATED:20250602T213905Z
LAST-MODIFIED:20250603T185637Z
UID:10109374-1817549100-1817550900@spacecenter.org
SUMMARY:Artemis Live Presentation
DESCRIPTION:
URL:https://spacecenter.org/events-calendar-event/artemis-live-presentation/2027-08-06/
LOCATION:Theater – Destiny
CATEGORIES:Live Presentation
ATTACH;FMTTYPE=image/jpeg:https://spacecenter.org/wp-content/uploads/2022/10/Artemis-Capsule.jpeg
END:VEVENT
BEGIN:VEVENT
DTSTART;TZID=America/Chicago:20270806T111500
DTEND;TZID=America/Chicago:20270806T113000
DTSTAMP:20260425T185524
CREATED:20250602T213010Z
LAST-MODIFIED:20250603T185901Z
UID:10120342-1817550900-1817551800@spacecenter.org
SUMMARY:Story Corner Live Presentation
DESCRIPTION:
URL:https://spacecenter.org/events-calendar-event/story-corner-live-presentation/2027-08-06/
LOCATION:Theater – Artemis
CATEGORIES:Live Presentation
END:VEVENT
BEGIN:VEVENT
DTSTART;TZID=America/Chicago:20270806T114500
DTEND;TZID=America/Chicago:20270806T120000
DTSTAMP:20260425T185524
CREATED:20250602T213503Z
LAST-MODIFIED:20250603T190256Z
UID:10138622-1817552700-1817553600@spacecenter.org
SUMMARY:James Webb Live Presentation
DESCRIPTION:
URL:https://spacecenter.org/events-calendar-event/james-webb-live-presentation/2027-08-06/
LOCATION:Theater – Destiny
CATEGORIES:Live Presentation
END:VEVENT
BEGIN:VEVENT
DTSTART;TZID=America/Chicago:20270806T121500
DTEND;TZID=America/Chicago:20270806T123000
DTSTAMP:20260425T185524
CREATED:20250602T213059Z
LAST-MODIFIED:20250603T190345Z
UID:10142278-1817554500-1817555400@spacecenter.org
SUMMARY:Story Corner Live Presentation
DESCRIPTION:
URL:https://spacecenter.org/events-calendar-event/story-corner-live-presentation-2/2027-08-06/
LOCATION:Theater – Artemis
CATEGORIES:Live Presentation
END:VEVENT
BEGIN:VEVENT
DTSTART;TZID=America/Chicago:20270806T124500
DTEND;TZID=America/Chicago:20270806T131500
DTSTAMP:20260425T185524
CREATED:20250602T214012Z
LAST-MODIFIED:20250603T190811Z
UID:10153246-1817556300-1817558100@spacecenter.org
SUMMARY:Artemis Live Presentation
DESCRIPTION:
URL:https://spacecenter.org/events-calendar-event/artemis-live-presentation-2/2027-08-06/
LOCATION:Theater – Destiny
CATEGORIES:Live Presentation
ATTACH;FMTTYPE=image/jpeg:https://spacecenter.org/wp-content/uploads/2022/10/Artemis-Capsule.jpeg
END:VEVENT
BEGIN:VEVENT
DTSTART;TZID=America/Chicago:20270806T131500
DTEND;TZID=America/Chicago:20270806T133000
DTSTAMP:20260425T185524
CREATED:20250602T213201Z
LAST-MODIFIED:20250603T190922Z
UID:10160558-1817558100-1817559000@spacecenter.org
SUMMARY:Story Corner Live Presentation
DESCRIPTION:
URL:https://spacecenter.org/events-calendar-event/story-corner-live-presentation-3/2027-08-06/
LOCATION:Theater – Artemis
CATEGORIES:Live Presentation
END:VEVENT
BEGIN:VEVENT
DTSTART;TZID=America/Chicago:20270806T134500
DTEND;TZID=America/Chicago:20270806T140000
DTSTAMP:20260425T185524
CREATED:20250602T212635Z
LAST-MODIFIED:20250603T191121Z
UID:10171526-1817559900-1817560800@spacecenter.org
SUMMARY:OSIRIS Rex Live Presentation
DESCRIPTION:
URL:https://spacecenter.org/events-calendar-event/osiris-rex-live-presentation-2/2027-08-06/
LOCATION:Mission Sketch Staircase
CATEGORIES:Live Presentation
ATTACH;FMTTYPE=image/jpeg:https://spacecenter.org/wp-content/uploads/2024/03/web-march2024_tls_osirisrex.jpg
END:VEVENT
BEGIN:VEVENT
DTSTART;TZID=America/Chicago:20270806T134500
DTEND;TZID=America/Chicago:20270806T140000
DTSTAMP:20260425T185524
CREATED:20250602T213557Z
LAST-MODIFIED:20250603T191327Z
UID:10175182-1817559900-1817560800@spacecenter.org
SUMMARY:James Webb Live Presentation
DESCRIPTION:
URL:https://spacecenter.org/events-calendar-event/james-webb-live-presentation-2/2027-08-06/
LOCATION:Theater – Destiny
CATEGORIES:Live Presentation
END:VEVENT
END:VCALENDAR