BEGIN:VCALENDAR
VERSION:2.0
PRODID:-//Space Center Houston - ECPv6.15.15//NONSGML v1.0//EN
CALSCALE:GREGORIAN
METHOD:PUBLISH
X-ORIGINAL-URL:https://spacecenter.org
X-WR-CALDESC:Events for Space Center Houston
REFRESH-INTERVAL;VALUE=DURATION:PT1H
X-Robots-Tag:noindex
X-PUBLISHED-TTL:PT1H
BEGIN:VTIMEZONE
TZID:America/Chicago
BEGIN:DAYLIGHT
TZOFFSETFROM:-0600
TZOFFSETTO:-0500
TZNAME:CDT
DTSTART:20240310T080000
END:DAYLIGHT
BEGIN:STANDARD
TZOFFSETFROM:-0500
TZOFFSETTO:-0600
TZNAME:CST
DTSTART:20241103T070000
END:STANDARD
BEGIN:DAYLIGHT
TZOFFSETFROM:-0600
TZOFFSETTO:-0500
TZNAME:CDT
DTSTART:20250309T080000
END:DAYLIGHT
BEGIN:STANDARD
TZOFFSETFROM:-0500
TZOFFSETTO:-0600
TZNAME:CST
DTSTART:20251102T070000
END:STANDARD
BEGIN:DAYLIGHT
TZOFFSETFROM:-0600
TZOFFSETTO:-0500
TZNAME:CDT
DTSTART:20260308T080000
END:DAYLIGHT
BEGIN:STANDARD
TZOFFSETFROM:-0500
TZOFFSETTO:-0600
TZNAME:CST
DTSTART:20261101T070000
END:STANDARD
END:VTIMEZONE
BEGIN:VEVENT
DTSTART;TZID=America/Chicago:20250816T121500
DTEND;TZID=America/Chicago:20250816T123000
DTSTAMP:20260421T113706
CREATED:20250602T213059Z
LAST-MODIFIED:20250603T190345Z
UID:10141558-1755346500-1755347400@spacecenter.org
SUMMARY:Story Corner Live Presentation
DESCRIPTION:
URL:https://spacecenter.org/events-calendar-event/story-corner-live-presentation-2/2025-08-16/
LOCATION:Theater – Artemis
CATEGORIES:Live Presentation
END:VEVENT
BEGIN:VEVENT
DTSTART;TZID=America/Chicago:20250816T124500
DTEND;TZID=America/Chicago:20250816T131500
DTSTAMP:20260421T113706
CREATED:20250602T214012Z
LAST-MODIFIED:20250603T190811Z
UID:10152526-1755348300-1755350100@spacecenter.org
SUMMARY:Artemis Live Presentation
DESCRIPTION:
URL:https://spacecenter.org/events-calendar-event/artemis-live-presentation-2/2025-08-16/
LOCATION:Theater – Destiny
CATEGORIES:Live Presentation
ATTACH;FMTTYPE=image/jpeg:https://spacecenter.org/wp-content/uploads/2022/10/Artemis-Capsule.jpeg
END:VEVENT
BEGIN:VEVENT
DTSTART;TZID=America/Chicago:20250816T131500
DTEND;TZID=America/Chicago:20250816T133000
DTSTAMP:20260421T113706
CREATED:20250602T213201Z
LAST-MODIFIED:20250603T190922Z
UID:10159838-1755350100-1755351000@spacecenter.org
SUMMARY:Story Corner Live Presentation
DESCRIPTION:
URL:https://spacecenter.org/events-calendar-event/story-corner-live-presentation-3/2025-08-16/
LOCATION:Theater – Artemis
CATEGORIES:Live Presentation
END:VEVENT
BEGIN:VEVENT
DTSTART;TZID=America/Chicago:20250816T134500
DTEND;TZID=America/Chicago:20250816T140000
DTSTAMP:20260421T113706
CREATED:20250602T212635Z
LAST-MODIFIED:20250603T191121Z
UID:10170806-1755351900-1755352800@spacecenter.org
SUMMARY:OSIRIS Rex Live Presentation
DESCRIPTION:
URL:https://spacecenter.org/events-calendar-event/osiris-rex-live-presentation-2/2025-08-16/
LOCATION:Mission Sketch Staircase
CATEGORIES:Live Presentation
ATTACH;FMTTYPE=image/jpeg:https://spacecenter.org/wp-content/uploads/2024/03/web-march2024_tls_osirisrex.jpg
END:VEVENT
BEGIN:VEVENT
DTSTART;TZID=America/Chicago:20250816T134500
DTEND;TZID=America/Chicago:20250816T140000
DTSTAMP:20260421T113706
CREATED:20250602T213557Z
LAST-MODIFIED:20250603T191327Z
UID:10174462-1755351900-1755352800@spacecenter.org
SUMMARY:James Webb Live Presentation
DESCRIPTION:
URL:https://spacecenter.org/events-calendar-event/james-webb-live-presentation-2/2025-08-16/
LOCATION:Theater – Destiny
CATEGORIES:Live Presentation
END:VEVENT
BEGIN:VEVENT
DTSTART;TZID=America/Chicago:20250816T144500
DTEND;TZID=America/Chicago:20250816T150000
DTSTAMP:20260421T113706
CREATED:20250602T213716Z
LAST-MODIFIED:20250603T191759Z
UID:10189086-1755355500-1755356400@spacecenter.org
SUMMARY:James Webb Live Presentation
DESCRIPTION:
URL:https://spacecenter.org/events-calendar-event/james-webb-live-presentation-3/2025-08-16/
LOCATION:Theater – Destiny
CATEGORIES:Live Presentation
END:VEVENT
BEGIN:VEVENT
DTSTART;TZID=America/Chicago:20250816T151500
DTEND;TZID=America/Chicago:20250816T153000
DTSTAMP:20260421T113706
CREATED:20250602T213249Z
LAST-MODIFIED:20250603T191942Z
UID:10196398-1755357300-1755358200@spacecenter.org
SUMMARY:Story Corner Live Presentation
DESCRIPTION:
URL:https://spacecenter.org/events-calendar-event/story-corner-live-presentation-4/2025-08-16/
LOCATION:Theater – Artemis
CATEGORIES:Live Presentation
END:VEVENT
BEGIN:VEVENT
DTSTART;TZID=America/Chicago:20250816T154500
DTEND;TZID=America/Chicago:20250816T161500
DTSTAMP:20260421T113706
CREATED:20250602T214125Z
LAST-MODIFIED:20250603T192119Z
UID:10207366-1755359100-1755360900@spacecenter.org
SUMMARY:Artemis Live Presentation
DESCRIPTION:
URL:https://spacecenter.org/events-calendar-event/artemis-live-presentation-3/2025-08-16/
LOCATION:Theater – Destiny
CATEGORIES:Live Presentation
ATTACH;FMTTYPE=image/jpeg:https://spacecenter.org/wp-content/uploads/2022/10/Artemis-Capsule.jpeg
END:VEVENT
BEGIN:VEVENT
DTSTART;TZID=America/Chicago:20250816T163000
DTEND;TZID=America/Chicago:20250816T164500
DTSTAMP:20260421T113706
CREATED:20250602T212726Z
LAST-MODIFIED:20250603T192225Z
UID:10214678-1755361800-1755362700@spacecenter.org
SUMMARY:OSIRIS Rex Live Presentation
DESCRIPTION:
URL:https://spacecenter.org/events-calendar-event/osiris-rex-live-presentation-3/2025-08-16/
LOCATION:Mission Sketch Staircase
CATEGORIES:Live Presentation
ATTACH;FMTTYPE=image/jpeg:https://spacecenter.org/wp-content/uploads/2024/03/web-march2024_tls_osirisrex.jpg
END:VEVENT
BEGIN:VEVENT
DTSTART;TZID=America/Chicago:20250817T104500
DTEND;TZID=America/Chicago:20250817T110000
DTSTAMP:20260421T113707
CREATED:20250602T212526Z
LAST-MODIFIED:20250603T185502Z
UID:10101343-1755427500-1755428400@spacecenter.org
SUMMARY:OSIRIS Rex Live Presentation
DESCRIPTION:
URL:https://spacecenter.org/events-calendar-event/osiris-rex-live-presentation/2025-08-17/
LOCATION:Mission Sketch Staircase
CATEGORIES:Live Presentation
ATTACH;FMTTYPE=image/jpeg:https://spacecenter.org/wp-content/uploads/2024/03/web-march2024_tls_osirisrex.jpg
END:VEVENT
BEGIN:VEVENT
DTSTART;TZID=America/Chicago:20250817T104500
DTEND;TZID=America/Chicago:20250817T111500
DTSTAMP:20260421T113707
CREATED:20250602T213905Z
LAST-MODIFIED:20250603T185637Z
UID:10108655-1755427500-1755429300@spacecenter.org
SUMMARY:Artemis Live Presentation
DESCRIPTION:
URL:https://spacecenter.org/events-calendar-event/artemis-live-presentation/2025-08-17/
LOCATION:Theater – Destiny
CATEGORIES:Live Presentation
ATTACH;FMTTYPE=image/jpeg:https://spacecenter.org/wp-content/uploads/2022/10/Artemis-Capsule.jpeg
END:VEVENT
BEGIN:VEVENT
DTSTART;TZID=America/Chicago:20250817T111500
DTEND;TZID=America/Chicago:20250817T113000
DTSTAMP:20260421T113707
CREATED:20250602T213010Z
LAST-MODIFIED:20250603T185901Z
UID:10119623-1755429300-1755430200@spacecenter.org
SUMMARY:Story Corner Live Presentation
DESCRIPTION:
URL:https://spacecenter.org/events-calendar-event/story-corner-live-presentation/2025-08-17/
LOCATION:Theater – Artemis
CATEGORIES:Live Presentation
END:VEVENT
BEGIN:VEVENT
DTSTART;TZID=America/Chicago:20250817T114500
DTEND;TZID=America/Chicago:20250817T120000
DTSTAMP:20260421T113707
CREATED:20250602T213503Z
LAST-MODIFIED:20250603T190256Z
UID:10137903-1755431100-1755432000@spacecenter.org
SUMMARY:James Webb Live Presentation
DESCRIPTION:
URL:https://spacecenter.org/events-calendar-event/james-webb-live-presentation/2025-08-17/
LOCATION:Theater – Destiny
CATEGORIES:Live Presentation
END:VEVENT
BEGIN:VEVENT
DTSTART;TZID=America/Chicago:20250817T121500
DTEND;TZID=America/Chicago:20250817T123000
DTSTAMP:20260421T113707
CREATED:20250602T213059Z
LAST-MODIFIED:20250603T190345Z
UID:10141559-1755432900-1755433800@spacecenter.org
SUMMARY:Story Corner Live Presentation
DESCRIPTION:
URL:https://spacecenter.org/events-calendar-event/story-corner-live-presentation-2/2025-08-17/
LOCATION:Theater – Artemis
CATEGORIES:Live Presentation
END:VEVENT
BEGIN:VEVENT
DTSTART;TZID=America/Chicago:20250817T124500
DTEND;TZID=America/Chicago:20250817T131500
DTSTAMP:20260421T113707
CREATED:20250602T214012Z
LAST-MODIFIED:20250603T190811Z
UID:10152527-1755434700-1755436500@spacecenter.org
SUMMARY:Artemis Live Presentation
DESCRIPTION:
URL:https://spacecenter.org/events-calendar-event/artemis-live-presentation-2/2025-08-17/
LOCATION:Theater – Destiny
CATEGORIES:Live Presentation
ATTACH;FMTTYPE=image/jpeg:https://spacecenter.org/wp-content/uploads/2022/10/Artemis-Capsule.jpeg
END:VEVENT
BEGIN:VEVENT
DTSTART;TZID=America/Chicago:20250817T131500
DTEND;TZID=America/Chicago:20250817T133000
DTSTAMP:20260421T113707
CREATED:20250602T213201Z
LAST-MODIFIED:20250603T190922Z
UID:10159839-1755436500-1755437400@spacecenter.org
SUMMARY:Story Corner Live Presentation
DESCRIPTION:
URL:https://spacecenter.org/events-calendar-event/story-corner-live-presentation-3/2025-08-17/
LOCATION:Theater – Artemis
CATEGORIES:Live Presentation
END:VEVENT
BEGIN:VEVENT
DTSTART;TZID=America/Chicago:20250817T134500
DTEND;TZID=America/Chicago:20250817T140000
DTSTAMP:20260421T113707
CREATED:20250602T212635Z
LAST-MODIFIED:20250603T191121Z
UID:10170807-1755438300-1755439200@spacecenter.org
SUMMARY:OSIRIS Rex Live Presentation
DESCRIPTION:
URL:https://spacecenter.org/events-calendar-event/osiris-rex-live-presentation-2/2025-08-17/
LOCATION:Mission Sketch Staircase
CATEGORIES:Live Presentation
ATTACH;FMTTYPE=image/jpeg:https://spacecenter.org/wp-content/uploads/2024/03/web-march2024_tls_osirisrex.jpg
END:VEVENT
BEGIN:VEVENT
DTSTART;TZID=America/Chicago:20250817T134500
DTEND;TZID=America/Chicago:20250817T140000
DTSTAMP:20260421T113707
CREATED:20250602T213557Z
LAST-MODIFIED:20250603T191327Z
UID:10174463-1755438300-1755439200@spacecenter.org
SUMMARY:James Webb Live Presentation
DESCRIPTION:
URL:https://spacecenter.org/events-calendar-event/james-webb-live-presentation-2/2025-08-17/
LOCATION:Theater – Destiny
CATEGORIES:Live Presentation
END:VEVENT
BEGIN:VEVENT
DTSTART;TZID=America/Chicago:20250817T144500
DTEND;TZID=America/Chicago:20250817T150000
DTSTAMP:20260421T113707
CREATED:20250602T213716Z
LAST-MODIFIED:20250603T191759Z
UID:10189087-1755441900-1755442800@spacecenter.org
SUMMARY:James Webb Live Presentation
DESCRIPTION:
URL:https://spacecenter.org/events-calendar-event/james-webb-live-presentation-3/2025-08-17/
LOCATION:Theater – Destiny
CATEGORIES:Live Presentation
END:VEVENT
BEGIN:VEVENT
DTSTART;TZID=America/Chicago:20250817T151500
DTEND;TZID=America/Chicago:20250817T153000
DTSTAMP:20260421T113707
CREATED:20250602T213249Z
LAST-MODIFIED:20250603T191942Z
UID:10196399-1755443700-1755444600@spacecenter.org
SUMMARY:Story Corner Live Presentation
DESCRIPTION:
URL:https://spacecenter.org/events-calendar-event/story-corner-live-presentation-4/2025-08-17/
LOCATION:Theater – Artemis
CATEGORIES:Live Presentation
END:VEVENT
BEGIN:VEVENT
DTSTART;TZID=America/Chicago:20250817T154500
DTEND;TZID=America/Chicago:20250817T161500
DTSTAMP:20260421T113707
CREATED:20250602T214125Z
LAST-MODIFIED:20250603T192119Z
UID:10207367-1755445500-1755447300@spacecenter.org
SUMMARY:Artemis Live Presentation
DESCRIPTION:
URL:https://spacecenter.org/events-calendar-event/artemis-live-presentation-3/2025-08-17/
LOCATION:Theater – Destiny
CATEGORIES:Live Presentation
ATTACH;FMTTYPE=image/jpeg:https://spacecenter.org/wp-content/uploads/2022/10/Artemis-Capsule.jpeg
END:VEVENT
BEGIN:VEVENT
DTSTART;TZID=America/Chicago:20250817T163000
DTEND;TZID=America/Chicago:20250817T164500
DTSTAMP:20260421T113707
CREATED:20250602T212726Z
LAST-MODIFIED:20250603T192225Z
UID:10214679-1755448200-1755449100@spacecenter.org
SUMMARY:OSIRIS Rex Live Presentation
DESCRIPTION:
URL:https://spacecenter.org/events-calendar-event/osiris-rex-live-presentation-3/2025-08-17/
LOCATION:Mission Sketch Staircase
CATEGORIES:Live Presentation
ATTACH;FMTTYPE=image/jpeg:https://spacecenter.org/wp-content/uploads/2024/03/web-march2024_tls_osirisrex.jpg
END:VEVENT
BEGIN:VEVENT
DTSTART;TZID=America/Chicago:20250818T104500
DTEND;TZID=America/Chicago:20250818T110000
DTSTAMP:20260421T113707
CREATED:20250602T212526Z
LAST-MODIFIED:20250603T185502Z
UID:10101344-1755513900-1755514800@spacecenter.org
SUMMARY:OSIRIS Rex Live Presentation
DESCRIPTION:
URL:https://spacecenter.org/events-calendar-event/osiris-rex-live-presentation/2025-08-18/
LOCATION:Mission Sketch Staircase
CATEGORIES:Live Presentation
ATTACH;FMTTYPE=image/jpeg:https://spacecenter.org/wp-content/uploads/2024/03/web-march2024_tls_osirisrex.jpg
END:VEVENT
BEGIN:VEVENT
DTSTART;TZID=America/Chicago:20250818T104500
DTEND;TZID=America/Chicago:20250818T111500
DTSTAMP:20260421T113707
CREATED:20250602T213905Z
LAST-MODIFIED:20250603T185637Z
UID:10108656-1755513900-1755515700@spacecenter.org
SUMMARY:Artemis Live Presentation
DESCRIPTION:
URL:https://spacecenter.org/events-calendar-event/artemis-live-presentation/2025-08-18/
LOCATION:Theater – Destiny
CATEGORIES:Live Presentation
ATTACH;FMTTYPE=image/jpeg:https://spacecenter.org/wp-content/uploads/2022/10/Artemis-Capsule.jpeg
END:VEVENT
BEGIN:VEVENT
DTSTART;TZID=America/Chicago:20250818T111500
DTEND;TZID=America/Chicago:20250818T113000
DTSTAMP:20260421T113707
CREATED:20250602T213010Z
LAST-MODIFIED:20250603T185901Z
UID:10119624-1755515700-1755516600@spacecenter.org
SUMMARY:Story Corner Live Presentation
DESCRIPTION:
URL:https://spacecenter.org/events-calendar-event/story-corner-live-presentation/2025-08-18/
LOCATION:Theater – Artemis
CATEGORIES:Live Presentation
END:VEVENT
BEGIN:VEVENT
DTSTART;TZID=America/Chicago:20250818T114500
DTEND;TZID=America/Chicago:20250818T120000
DTSTAMP:20260421T113707
CREATED:20250602T213503Z
LAST-MODIFIED:20250603T190256Z
UID:10137904-1755517500-1755518400@spacecenter.org
SUMMARY:James Webb Live Presentation
DESCRIPTION:
URL:https://spacecenter.org/events-calendar-event/james-webb-live-presentation/2025-08-18/
LOCATION:Theater – Destiny
CATEGORIES:Live Presentation
END:VEVENT
BEGIN:VEVENT
DTSTART;TZID=America/Chicago:20250818T121500
DTEND;TZID=America/Chicago:20250818T123000
DTSTAMP:20260421T113707
CREATED:20250602T213059Z
LAST-MODIFIED:20250603T190345Z
UID:10141560-1755519300-1755520200@spacecenter.org
SUMMARY:Story Corner Live Presentation
DESCRIPTION:
URL:https://spacecenter.org/events-calendar-event/story-corner-live-presentation-2/2025-08-18/
LOCATION:Theater – Artemis
CATEGORIES:Live Presentation
END:VEVENT
BEGIN:VEVENT
DTSTART;TZID=America/Chicago:20250818T124500
DTEND;TZID=America/Chicago:20250818T131500
DTSTAMP:20260421T113707
CREATED:20250602T214012Z
LAST-MODIFIED:20250603T190811Z
UID:10152528-1755521100-1755522900@spacecenter.org
SUMMARY:Artemis Live Presentation
DESCRIPTION:
URL:https://spacecenter.org/events-calendar-event/artemis-live-presentation-2/2025-08-18/
LOCATION:Theater – Destiny
CATEGORIES:Live Presentation
ATTACH;FMTTYPE=image/jpeg:https://spacecenter.org/wp-content/uploads/2022/10/Artemis-Capsule.jpeg
END:VEVENT
BEGIN:VEVENT
DTSTART;TZID=America/Chicago:20250818T131500
DTEND;TZID=America/Chicago:20250818T133000
DTSTAMP:20260421T113707
CREATED:20250602T213201Z
LAST-MODIFIED:20250603T190922Z
UID:10159840-1755522900-1755523800@spacecenter.org
SUMMARY:Story Corner Live Presentation
DESCRIPTION:
URL:https://spacecenter.org/events-calendar-event/story-corner-live-presentation-3/2025-08-18/
LOCATION:Theater – Artemis
CATEGORIES:Live Presentation
END:VEVENT
BEGIN:VEVENT
DTSTART;TZID=America/Chicago:20250818T134500
DTEND;TZID=America/Chicago:20250818T140000
DTSTAMP:20260421T113707
CREATED:20250602T212635Z
LAST-MODIFIED:20250603T191121Z
UID:10170808-1755524700-1755525600@spacecenter.org
SUMMARY:OSIRIS Rex Live Presentation
DESCRIPTION:
URL:https://spacecenter.org/events-calendar-event/osiris-rex-live-presentation-2/2025-08-18/
LOCATION:Mission Sketch Staircase
CATEGORIES:Live Presentation
ATTACH;FMTTYPE=image/jpeg:https://spacecenter.org/wp-content/uploads/2024/03/web-march2024_tls_osirisrex.jpg
END:VEVENT
END:VCALENDAR