BEGIN:VCALENDAR
VERSION:2.0
PRODID:-//Space Center Houston - ECPv6.15.15//NONSGML v1.0//EN
CALSCALE:GREGORIAN
METHOD:PUBLISH
X-WR-CALNAME:Space Center Houston
X-ORIGINAL-URL:https://spacecenter.org
X-WR-CALDESC:Events for Space Center Houston
REFRESH-INTERVAL;VALUE=DURATION:PT1H
X-Robots-Tag:noindex
X-PUBLISHED-TTL:PT1H
BEGIN:VTIMEZONE
TZID:America/Chicago
BEGIN:DAYLIGHT
TZOFFSETFROM:-0600
TZOFFSETTO:-0500
TZNAME:CDT
DTSTART:20260308T080000
END:DAYLIGHT
BEGIN:STANDARD
TZOFFSETFROM:-0500
TZOFFSETTO:-0600
TZNAME:CST
DTSTART:20261101T070000
END:STANDARD
BEGIN:DAYLIGHT
TZOFFSETFROM:-0600
TZOFFSETTO:-0500
TZNAME:CDT
DTSTART:20270314T080000
END:DAYLIGHT
BEGIN:STANDARD
TZOFFSETFROM:-0500
TZOFFSETTO:-0600
TZNAME:CST
DTSTART:20271107T070000
END:STANDARD
BEGIN:DAYLIGHT
TZOFFSETFROM:-0600
TZOFFSETTO:-0500
TZNAME:CDT
DTSTART:20280312T080000
END:DAYLIGHT
BEGIN:STANDARD
TZOFFSETFROM:-0500
TZOFFSETTO:-0600
TZNAME:CST
DTSTART:20281105T070000
END:STANDARD
END:VTIMEZONE
BEGIN:VEVENT
DTSTART;TZID=America/Chicago:20270713T111500
DTEND;TZID=America/Chicago:20270713T113000
DTSTAMP:20260422T213022
CREATED:20250602T213010Z
LAST-MODIFIED:20250603T185901Z
UID:10120318-1815477300-1815478200@spacecenter.org
SUMMARY:Story Corner Live Presentation
DESCRIPTION:
URL:https://spacecenter.org/events-calendar-event/story-corner-live-presentation/2027-07-13/
LOCATION:Theater – Artemis
CATEGORIES:Live Presentation
END:VEVENT
BEGIN:VEVENT
DTSTART;TZID=America/Chicago:20270713T114500
DTEND;TZID=America/Chicago:20270713T120000
DTSTAMP:20260422T213022
CREATED:20250602T213503Z
LAST-MODIFIED:20250603T190256Z
UID:10138598-1815479100-1815480000@spacecenter.org
SUMMARY:James Webb Live Presentation
DESCRIPTION:
URL:https://spacecenter.org/events-calendar-event/james-webb-live-presentation/2027-07-13/
LOCATION:Theater – Destiny
CATEGORIES:Live Presentation
END:VEVENT
BEGIN:VEVENT
DTSTART;TZID=America/Chicago:20270713T121500
DTEND;TZID=America/Chicago:20270713T123000
DTSTAMP:20260422T213022
CREATED:20250602T213059Z
LAST-MODIFIED:20250603T190345Z
UID:10142254-1815480900-1815481800@spacecenter.org
SUMMARY:Story Corner Live Presentation
DESCRIPTION:
URL:https://spacecenter.org/events-calendar-event/story-corner-live-presentation-2/2027-07-13/
LOCATION:Theater – Artemis
CATEGORIES:Live Presentation
END:VEVENT
BEGIN:VEVENT
DTSTART;TZID=America/Chicago:20270713T124500
DTEND;TZID=America/Chicago:20270713T131500
DTSTAMP:20260422T213022
CREATED:20250602T214012Z
LAST-MODIFIED:20250603T190811Z
UID:10153222-1815482700-1815484500@spacecenter.org
SUMMARY:Artemis Live Presentation
DESCRIPTION:
URL:https://spacecenter.org/events-calendar-event/artemis-live-presentation-2/2027-07-13/
LOCATION:Theater – Destiny
CATEGORIES:Live Presentation
ATTACH;FMTTYPE=image/jpeg:https://spacecenter.org/wp-content/uploads/2022/10/Artemis-Capsule.jpeg
END:VEVENT
BEGIN:VEVENT
DTSTART;TZID=America/Chicago:20270713T131500
DTEND;TZID=America/Chicago:20270713T133000
DTSTAMP:20260422T213022
CREATED:20250602T213201Z
LAST-MODIFIED:20250603T190922Z
UID:10160534-1815484500-1815485400@spacecenter.org
SUMMARY:Story Corner Live Presentation
DESCRIPTION:
URL:https://spacecenter.org/events-calendar-event/story-corner-live-presentation-3/2027-07-13/
LOCATION:Theater – Artemis
CATEGORIES:Live Presentation
END:VEVENT
BEGIN:VEVENT
DTSTART;TZID=America/Chicago:20270713T134500
DTEND;TZID=America/Chicago:20270713T140000
DTSTAMP:20260422T213022
CREATED:20250602T212635Z
LAST-MODIFIED:20250603T191121Z
UID:10171502-1815486300-1815487200@spacecenter.org
SUMMARY:OSIRIS Rex Live Presentation
DESCRIPTION:
URL:https://spacecenter.org/events-calendar-event/osiris-rex-live-presentation-2/2027-07-13/
LOCATION:Mission Sketch Staircase
CATEGORIES:Live Presentation
ATTACH;FMTTYPE=image/jpeg:https://spacecenter.org/wp-content/uploads/2024/03/web-march2024_tls_osirisrex.jpg
END:VEVENT
BEGIN:VEVENT
DTSTART;TZID=America/Chicago:20270713T134500
DTEND;TZID=America/Chicago:20270713T140000
DTSTAMP:20260422T213022
CREATED:20250602T213557Z
LAST-MODIFIED:20250603T191327Z
UID:10175158-1815486300-1815487200@spacecenter.org
SUMMARY:James Webb Live Presentation
DESCRIPTION:
URL:https://spacecenter.org/events-calendar-event/james-webb-live-presentation-2/2027-07-13/
LOCATION:Theater – Destiny
CATEGORIES:Live Presentation
END:VEVENT
BEGIN:VEVENT
DTSTART;TZID=America/Chicago:20270713T144500
DTEND;TZID=America/Chicago:20270713T150000
DTSTAMP:20260422T213022
CREATED:20250602T213716Z
LAST-MODIFIED:20250603T191759Z
UID:10189782-1815489900-1815490800@spacecenter.org
SUMMARY:James Webb Live Presentation
DESCRIPTION:
URL:https://spacecenter.org/events-calendar-event/james-webb-live-presentation-3/2027-07-13/
LOCATION:Theater – Destiny
CATEGORIES:Live Presentation
END:VEVENT
BEGIN:VEVENT
DTSTART;TZID=America/Chicago:20270713T151500
DTEND;TZID=America/Chicago:20270713T153000
DTSTAMP:20260422T213022
CREATED:20250602T213249Z
LAST-MODIFIED:20250603T191942Z
UID:10197094-1815491700-1815492600@spacecenter.org
SUMMARY:Story Corner Live Presentation
DESCRIPTION:
URL:https://spacecenter.org/events-calendar-event/story-corner-live-presentation-4/2027-07-13/
LOCATION:Theater – Artemis
CATEGORIES:Live Presentation
END:VEVENT
BEGIN:VEVENT
DTSTART;TZID=America/Chicago:20270713T154500
DTEND;TZID=America/Chicago:20270713T161500
DTSTAMP:20260422T213022
CREATED:20250602T214125Z
LAST-MODIFIED:20250603T192119Z
UID:10208062-1815493500-1815495300@spacecenter.org
SUMMARY:Artemis Live Presentation
DESCRIPTION:
URL:https://spacecenter.org/events-calendar-event/artemis-live-presentation-3/2027-07-13/
LOCATION:Theater – Destiny
CATEGORIES:Live Presentation
ATTACH;FMTTYPE=image/jpeg:https://spacecenter.org/wp-content/uploads/2022/10/Artemis-Capsule.jpeg
END:VEVENT
BEGIN:VEVENT
DTSTART;TZID=America/Chicago:20270713T163000
DTEND;TZID=America/Chicago:20270713T164500
DTSTAMP:20260422T213022
CREATED:20250602T212726Z
LAST-MODIFIED:20250603T192225Z
UID:10215374-1815496200-1815497100@spacecenter.org
SUMMARY:OSIRIS Rex Live Presentation
DESCRIPTION:
URL:https://spacecenter.org/events-calendar-event/osiris-rex-live-presentation-3/2027-07-13/
LOCATION:Mission Sketch Staircase
CATEGORIES:Live Presentation
ATTACH;FMTTYPE=image/jpeg:https://spacecenter.org/wp-content/uploads/2024/03/web-march2024_tls_osirisrex.jpg
END:VEVENT
BEGIN:VEVENT
DTSTART;TZID=America/Chicago:20270714T104500
DTEND;TZID=America/Chicago:20270714T110000
DTSTAMP:20260422T213022
CREATED:20250602T212526Z
LAST-MODIFIED:20250603T185502Z
UID:10102039-1815561900-1815562800@spacecenter.org
SUMMARY:OSIRIS Rex Live Presentation
DESCRIPTION:
URL:https://spacecenter.org/events-calendar-event/osiris-rex-live-presentation/2027-07-14/
LOCATION:Mission Sketch Staircase
CATEGORIES:Live Presentation
ATTACH;FMTTYPE=image/jpeg:https://spacecenter.org/wp-content/uploads/2024/03/web-march2024_tls_osirisrex.jpg
END:VEVENT
BEGIN:VEVENT
DTSTART;TZID=America/Chicago:20270714T104500
DTEND;TZID=America/Chicago:20270714T111500
DTSTAMP:20260422T213022
CREATED:20250602T213905Z
LAST-MODIFIED:20250603T185637Z
UID:10109351-1815561900-1815563700@spacecenter.org
SUMMARY:Artemis Live Presentation
DESCRIPTION:
URL:https://spacecenter.org/events-calendar-event/artemis-live-presentation/2027-07-14/
LOCATION:Theater – Destiny
CATEGORIES:Live Presentation
ATTACH;FMTTYPE=image/jpeg:https://spacecenter.org/wp-content/uploads/2022/10/Artemis-Capsule.jpeg
END:VEVENT
BEGIN:VEVENT
DTSTART;TZID=America/Chicago:20270714T111500
DTEND;TZID=America/Chicago:20270714T113000
DTSTAMP:20260422T213022
CREATED:20250602T213010Z
LAST-MODIFIED:20250603T185901Z
UID:10120319-1815563700-1815564600@spacecenter.org
SUMMARY:Story Corner Live Presentation
DESCRIPTION:
URL:https://spacecenter.org/events-calendar-event/story-corner-live-presentation/2027-07-14/
LOCATION:Theater – Artemis
CATEGORIES:Live Presentation
END:VEVENT
BEGIN:VEVENT
DTSTART;TZID=America/Chicago:20270714T114500
DTEND;TZID=America/Chicago:20270714T120000
DTSTAMP:20260422T213022
CREATED:20250602T213503Z
LAST-MODIFIED:20250603T190256Z
UID:10138599-1815565500-1815566400@spacecenter.org
SUMMARY:James Webb Live Presentation
DESCRIPTION:
URL:https://spacecenter.org/events-calendar-event/james-webb-live-presentation/2027-07-14/
LOCATION:Theater – Destiny
CATEGORIES:Live Presentation
END:VEVENT
BEGIN:VEVENT
DTSTART;TZID=America/Chicago:20270714T121500
DTEND;TZID=America/Chicago:20270714T123000
DTSTAMP:20260422T213022
CREATED:20250602T213059Z
LAST-MODIFIED:20250603T190345Z
UID:10142255-1815567300-1815568200@spacecenter.org
SUMMARY:Story Corner Live Presentation
DESCRIPTION:
URL:https://spacecenter.org/events-calendar-event/story-corner-live-presentation-2/2027-07-14/
LOCATION:Theater – Artemis
CATEGORIES:Live Presentation
END:VEVENT
BEGIN:VEVENT
DTSTART;TZID=America/Chicago:20270714T124500
DTEND;TZID=America/Chicago:20270714T131500
DTSTAMP:20260422T213022
CREATED:20250602T214012Z
LAST-MODIFIED:20250603T190811Z
UID:10153223-1815569100-1815570900@spacecenter.org
SUMMARY:Artemis Live Presentation
DESCRIPTION:
URL:https://spacecenter.org/events-calendar-event/artemis-live-presentation-2/2027-07-14/
LOCATION:Theater – Destiny
CATEGORIES:Live Presentation
ATTACH;FMTTYPE=image/jpeg:https://spacecenter.org/wp-content/uploads/2022/10/Artemis-Capsule.jpeg
END:VEVENT
BEGIN:VEVENT
DTSTART;TZID=America/Chicago:20270714T131500
DTEND;TZID=America/Chicago:20270714T133000
DTSTAMP:20260422T213022
CREATED:20250602T213201Z
LAST-MODIFIED:20250603T190922Z
UID:10160535-1815570900-1815571800@spacecenter.org
SUMMARY:Story Corner Live Presentation
DESCRIPTION:
URL:https://spacecenter.org/events-calendar-event/story-corner-live-presentation-3/2027-07-14/
LOCATION:Theater – Artemis
CATEGORIES:Live Presentation
END:VEVENT
BEGIN:VEVENT
DTSTART;TZID=America/Chicago:20270714T134500
DTEND;TZID=America/Chicago:20270714T140000
DTSTAMP:20260422T213022
CREATED:20250602T212635Z
LAST-MODIFIED:20250603T191121Z
UID:10171503-1815572700-1815573600@spacecenter.org
SUMMARY:OSIRIS Rex Live Presentation
DESCRIPTION:
URL:https://spacecenter.org/events-calendar-event/osiris-rex-live-presentation-2/2027-07-14/
LOCATION:Mission Sketch Staircase
CATEGORIES:Live Presentation
ATTACH;FMTTYPE=image/jpeg:https://spacecenter.org/wp-content/uploads/2024/03/web-march2024_tls_osirisrex.jpg
END:VEVENT
BEGIN:VEVENT
DTSTART;TZID=America/Chicago:20270714T134500
DTEND;TZID=America/Chicago:20270714T140000
DTSTAMP:20260422T213022
CREATED:20250602T213557Z
LAST-MODIFIED:20250603T191327Z
UID:10175159-1815572700-1815573600@spacecenter.org
SUMMARY:James Webb Live Presentation
DESCRIPTION:
URL:https://spacecenter.org/events-calendar-event/james-webb-live-presentation-2/2027-07-14/
LOCATION:Theater – Destiny
CATEGORIES:Live Presentation
END:VEVENT
BEGIN:VEVENT
DTSTART;TZID=America/Chicago:20270714T144500
DTEND;TZID=America/Chicago:20270714T150000
DTSTAMP:20260422T213022
CREATED:20250602T213716Z
LAST-MODIFIED:20250603T191759Z
UID:10189783-1815576300-1815577200@spacecenter.org
SUMMARY:James Webb Live Presentation
DESCRIPTION:
URL:https://spacecenter.org/events-calendar-event/james-webb-live-presentation-3/2027-07-14/
LOCATION:Theater – Destiny
CATEGORIES:Live Presentation
END:VEVENT
BEGIN:VEVENT
DTSTART;TZID=America/Chicago:20270714T151500
DTEND;TZID=America/Chicago:20270714T153000
DTSTAMP:20260422T213022
CREATED:20250602T213249Z
LAST-MODIFIED:20250603T191942Z
UID:10197095-1815578100-1815579000@spacecenter.org
SUMMARY:Story Corner Live Presentation
DESCRIPTION:
URL:https://spacecenter.org/events-calendar-event/story-corner-live-presentation-4/2027-07-14/
LOCATION:Theater – Artemis
CATEGORIES:Live Presentation
END:VEVENT
BEGIN:VEVENT
DTSTART;TZID=America/Chicago:20270714T154500
DTEND;TZID=America/Chicago:20270714T161500
DTSTAMP:20260422T213022
CREATED:20250602T214125Z
LAST-MODIFIED:20250603T192119Z
UID:10208063-1815579900-1815581700@spacecenter.org
SUMMARY:Artemis Live Presentation
DESCRIPTION:
URL:https://spacecenter.org/events-calendar-event/artemis-live-presentation-3/2027-07-14/
LOCATION:Theater – Destiny
CATEGORIES:Live Presentation
ATTACH;FMTTYPE=image/jpeg:https://spacecenter.org/wp-content/uploads/2022/10/Artemis-Capsule.jpeg
END:VEVENT
BEGIN:VEVENT
DTSTART;TZID=America/Chicago:20270714T163000
DTEND;TZID=America/Chicago:20270714T164500
DTSTAMP:20260422T213022
CREATED:20250602T212726Z
LAST-MODIFIED:20250603T192225Z
UID:10215375-1815582600-1815583500@spacecenter.org
SUMMARY:OSIRIS Rex Live Presentation
DESCRIPTION:
URL:https://spacecenter.org/events-calendar-event/osiris-rex-live-presentation-3/2027-07-14/
LOCATION:Mission Sketch Staircase
CATEGORIES:Live Presentation
ATTACH;FMTTYPE=image/jpeg:https://spacecenter.org/wp-content/uploads/2024/03/web-march2024_tls_osirisrex.jpg
END:VEVENT
BEGIN:VEVENT
DTSTART;TZID=America/Chicago:20270715T104500
DTEND;TZID=America/Chicago:20270715T110000
DTSTAMP:20260422T213022
CREATED:20250602T212526Z
LAST-MODIFIED:20250603T185502Z
UID:10102040-1815648300-1815649200@spacecenter.org
SUMMARY:OSIRIS Rex Live Presentation
DESCRIPTION:
URL:https://spacecenter.org/events-calendar-event/osiris-rex-live-presentation/2027-07-15/
LOCATION:Mission Sketch Staircase
CATEGORIES:Live Presentation
ATTACH;FMTTYPE=image/jpeg:https://spacecenter.org/wp-content/uploads/2024/03/web-march2024_tls_osirisrex.jpg
END:VEVENT
BEGIN:VEVENT
DTSTART;TZID=America/Chicago:20270715T104500
DTEND;TZID=America/Chicago:20270715T111500
DTSTAMP:20260422T213022
CREATED:20250602T213905Z
LAST-MODIFIED:20250603T185637Z
UID:10109352-1815648300-1815650100@spacecenter.org
SUMMARY:Artemis Live Presentation
DESCRIPTION:
URL:https://spacecenter.org/events-calendar-event/artemis-live-presentation/2027-07-15/
LOCATION:Theater – Destiny
CATEGORIES:Live Presentation
ATTACH;FMTTYPE=image/jpeg:https://spacecenter.org/wp-content/uploads/2022/10/Artemis-Capsule.jpeg
END:VEVENT
BEGIN:VEVENT
DTSTART;TZID=America/Chicago:20270715T111500
DTEND;TZID=America/Chicago:20270715T113000
DTSTAMP:20260422T213022
CREATED:20250602T213010Z
LAST-MODIFIED:20250603T185901Z
UID:10120320-1815650100-1815651000@spacecenter.org
SUMMARY:Story Corner Live Presentation
DESCRIPTION:
URL:https://spacecenter.org/events-calendar-event/story-corner-live-presentation/2027-07-15/
LOCATION:Theater – Artemis
CATEGORIES:Live Presentation
END:VEVENT
BEGIN:VEVENT
DTSTART;TZID=America/Chicago:20270715T114500
DTEND;TZID=America/Chicago:20270715T120000
DTSTAMP:20260422T213022
CREATED:20250602T213503Z
LAST-MODIFIED:20250603T190256Z
UID:10138600-1815651900-1815652800@spacecenter.org
SUMMARY:James Webb Live Presentation
DESCRIPTION:
URL:https://spacecenter.org/events-calendar-event/james-webb-live-presentation/2027-07-15/
LOCATION:Theater – Destiny
CATEGORIES:Live Presentation
END:VEVENT
BEGIN:VEVENT
DTSTART;TZID=America/Chicago:20270715T121500
DTEND;TZID=America/Chicago:20270715T123000
DTSTAMP:20260422T213022
CREATED:20250602T213059Z
LAST-MODIFIED:20250603T190345Z
UID:10142256-1815653700-1815654600@spacecenter.org
SUMMARY:Story Corner Live Presentation
DESCRIPTION:
URL:https://spacecenter.org/events-calendar-event/story-corner-live-presentation-2/2027-07-15/
LOCATION:Theater – Artemis
CATEGORIES:Live Presentation
END:VEVENT
BEGIN:VEVENT
DTSTART;TZID=America/Chicago:20270715T124500
DTEND;TZID=America/Chicago:20270715T131500
DTSTAMP:20260422T213022
CREATED:20250602T214012Z
LAST-MODIFIED:20250603T190811Z
UID:10153224-1815655500-1815657300@spacecenter.org
SUMMARY:Artemis Live Presentation
DESCRIPTION:
URL:https://spacecenter.org/events-calendar-event/artemis-live-presentation-2/2027-07-15/
LOCATION:Theater – Destiny
CATEGORIES:Live Presentation
ATTACH;FMTTYPE=image/jpeg:https://spacecenter.org/wp-content/uploads/2022/10/Artemis-Capsule.jpeg
END:VEVENT
END:VCALENDAR