BEGIN:VCALENDAR
VERSION:2.0
PRODID:-//Space Center Houston - ECPv6.15.15//NONSGML v1.0//EN
CALSCALE:GREGORIAN
METHOD:PUBLISH
X-ORIGINAL-URL:https://spacecenter.org
X-WR-CALDESC:Events for Space Center Houston
REFRESH-INTERVAL;VALUE=DURATION:PT1H
X-Robots-Tag:noindex
X-PUBLISHED-TTL:PT1H
BEGIN:VTIMEZONE
TZID:America/Chicago
BEGIN:DAYLIGHT
TZOFFSETFROM:-0600
TZOFFSETTO:-0500
TZNAME:CDT
DTSTART:20250309T080000
END:DAYLIGHT
BEGIN:STANDARD
TZOFFSETFROM:-0500
TZOFFSETTO:-0600
TZNAME:CST
DTSTART:20251102T070000
END:STANDARD
BEGIN:DAYLIGHT
TZOFFSETFROM:-0600
TZOFFSETTO:-0500
TZNAME:CDT
DTSTART:20260308T080000
END:DAYLIGHT
BEGIN:STANDARD
TZOFFSETFROM:-0500
TZOFFSETTO:-0600
TZNAME:CST
DTSTART:20261101T070000
END:STANDARD
BEGIN:DAYLIGHT
TZOFFSETFROM:-0600
TZOFFSETTO:-0500
TZNAME:CDT
DTSTART:20270314T080000
END:DAYLIGHT
BEGIN:STANDARD
TZOFFSETFROM:-0500
TZOFFSETTO:-0600
TZNAME:CST
DTSTART:20271107T070000
END:STANDARD
END:VTIMEZONE
BEGIN:VEVENT
DTSTART;TZID=America/Chicago:20260919T134500
DTEND;TZID=America/Chicago:20260919T140000
DTSTAMP:20260423T111321
CREATED:20250602T213557Z
LAST-MODIFIED:20250603T191327Z
UID:10174861-1789825500-1789826400@spacecenter.org
SUMMARY:James Webb Live Presentation
DESCRIPTION:
URL:https://spacecenter.org/events-calendar-event/james-webb-live-presentation-2/2026-09-19/
LOCATION:Theater – Destiny
CATEGORIES:Live Presentation
END:VEVENT
BEGIN:VEVENT
DTSTART;TZID=America/Chicago:20260919T144500
DTEND;TZID=America/Chicago:20260919T150000
DTSTAMP:20260423T111321
CREATED:20250602T213716Z
LAST-MODIFIED:20250603T191759Z
UID:10189485-1789829100-1789830000@spacecenter.org
SUMMARY:James Webb Live Presentation
DESCRIPTION:
URL:https://spacecenter.org/events-calendar-event/james-webb-live-presentation-3/2026-09-19/
LOCATION:Theater – Destiny
CATEGORIES:Live Presentation
END:VEVENT
BEGIN:VEVENT
DTSTART;TZID=America/Chicago:20260919T151500
DTEND;TZID=America/Chicago:20260919T153000
DTSTAMP:20260423T111321
CREATED:20250602T213249Z
LAST-MODIFIED:20250603T191942Z
UID:10196797-1789830900-1789831800@spacecenter.org
SUMMARY:Story Corner Live Presentation
DESCRIPTION:
URL:https://spacecenter.org/events-calendar-event/story-corner-live-presentation-4/2026-09-19/
LOCATION:Theater – Artemis
CATEGORIES:Live Presentation
END:VEVENT
BEGIN:VEVENT
DTSTART;TZID=America/Chicago:20260919T154500
DTEND;TZID=America/Chicago:20260919T161500
DTSTAMP:20260423T111321
CREATED:20250602T214125Z
LAST-MODIFIED:20250603T192119Z
UID:10207765-1789832700-1789834500@spacecenter.org
SUMMARY:Artemis Live Presentation
DESCRIPTION:
URL:https://spacecenter.org/events-calendar-event/artemis-live-presentation-3/2026-09-19/
LOCATION:Theater – Destiny
CATEGORIES:Live Presentation
ATTACH;FMTTYPE=image/jpeg:https://spacecenter.org/wp-content/uploads/2022/10/Artemis-Capsule.jpeg
END:VEVENT
BEGIN:VEVENT
DTSTART;TZID=America/Chicago:20260919T163000
DTEND;TZID=America/Chicago:20260919T164500
DTSTAMP:20260423T111321
CREATED:20250602T212726Z
LAST-MODIFIED:20250603T192225Z
UID:10215077-1789835400-1789836300@spacecenter.org
SUMMARY:OSIRIS Rex Live Presentation
DESCRIPTION:
URL:https://spacecenter.org/events-calendar-event/osiris-rex-live-presentation-3/2026-09-19/
LOCATION:Mission Sketch Staircase
CATEGORIES:Live Presentation
ATTACH;FMTTYPE=image/jpeg:https://spacecenter.org/wp-content/uploads/2024/03/web-march2024_tls_osirisrex.jpg
END:VEVENT
BEGIN:VEVENT
DTSTART;TZID=America/Chicago:20260920T104500
DTEND;TZID=America/Chicago:20260920T110000
DTSTAMP:20260423T111321
CREATED:20250602T212526Z
LAST-MODIFIED:20250603T185502Z
UID:10101742-1789901100-1789902000@spacecenter.org
SUMMARY:OSIRIS Rex Live Presentation
DESCRIPTION:
URL:https://spacecenter.org/events-calendar-event/osiris-rex-live-presentation/2026-09-20/
LOCATION:Mission Sketch Staircase
CATEGORIES:Live Presentation
ATTACH;FMTTYPE=image/jpeg:https://spacecenter.org/wp-content/uploads/2024/03/web-march2024_tls_osirisrex.jpg
END:VEVENT
BEGIN:VEVENT
DTSTART;TZID=America/Chicago:20260920T104500
DTEND;TZID=America/Chicago:20260920T111500
DTSTAMP:20260423T111321
CREATED:20250602T213905Z
LAST-MODIFIED:20250603T185637Z
UID:10109054-1789901100-1789902900@spacecenter.org
SUMMARY:Artemis Live Presentation
DESCRIPTION:
URL:https://spacecenter.org/events-calendar-event/artemis-live-presentation/2026-09-20/
LOCATION:Theater – Destiny
CATEGORIES:Live Presentation
ATTACH;FMTTYPE=image/jpeg:https://spacecenter.org/wp-content/uploads/2022/10/Artemis-Capsule.jpeg
END:VEVENT
BEGIN:VEVENT
DTSTART;TZID=America/Chicago:20260920T111500
DTEND;TZID=America/Chicago:20260920T113000
DTSTAMP:20260423T111321
CREATED:20250602T213010Z
LAST-MODIFIED:20250603T185901Z
UID:10120022-1789902900-1789903800@spacecenter.org
SUMMARY:Story Corner Live Presentation
DESCRIPTION:
URL:https://spacecenter.org/events-calendar-event/story-corner-live-presentation/2026-09-20/
LOCATION:Theater – Artemis
CATEGORIES:Live Presentation
END:VEVENT
BEGIN:VEVENT
DTSTART;TZID=America/Chicago:20260920T114500
DTEND;TZID=America/Chicago:20260920T120000
DTSTAMP:20260423T111321
CREATED:20250602T213503Z
LAST-MODIFIED:20250603T190256Z
UID:10138302-1789904700-1789905600@spacecenter.org
SUMMARY:James Webb Live Presentation
DESCRIPTION:
URL:https://spacecenter.org/events-calendar-event/james-webb-live-presentation/2026-09-20/
LOCATION:Theater – Destiny
CATEGORIES:Live Presentation
END:VEVENT
BEGIN:VEVENT
DTSTART;TZID=America/Chicago:20260920T121500
DTEND;TZID=America/Chicago:20260920T123000
DTSTAMP:20260423T111321
CREATED:20250602T213059Z
LAST-MODIFIED:20250603T190345Z
UID:10141958-1789906500-1789907400@spacecenter.org
SUMMARY:Story Corner Live Presentation
DESCRIPTION:
URL:https://spacecenter.org/events-calendar-event/story-corner-live-presentation-2/2026-09-20/
LOCATION:Theater – Artemis
CATEGORIES:Live Presentation
END:VEVENT
BEGIN:VEVENT
DTSTART;TZID=America/Chicago:20260920T124500
DTEND;TZID=America/Chicago:20260920T131500
DTSTAMP:20260423T111321
CREATED:20250602T214012Z
LAST-MODIFIED:20250603T190811Z
UID:10152926-1789908300-1789910100@spacecenter.org
SUMMARY:Artemis Live Presentation
DESCRIPTION:
URL:https://spacecenter.org/events-calendar-event/artemis-live-presentation-2/2026-09-20/
LOCATION:Theater – Destiny
CATEGORIES:Live Presentation
ATTACH;FMTTYPE=image/jpeg:https://spacecenter.org/wp-content/uploads/2022/10/Artemis-Capsule.jpeg
END:VEVENT
BEGIN:VEVENT
DTSTART;TZID=America/Chicago:20260920T131500
DTEND;TZID=America/Chicago:20260920T133000
DTSTAMP:20260423T111321
CREATED:20250602T213201Z
LAST-MODIFIED:20250603T190922Z
UID:10160238-1789910100-1789911000@spacecenter.org
SUMMARY:Story Corner Live Presentation
DESCRIPTION:
URL:https://spacecenter.org/events-calendar-event/story-corner-live-presentation-3/2026-09-20/
LOCATION:Theater – Artemis
CATEGORIES:Live Presentation
END:VEVENT
BEGIN:VEVENT
DTSTART;TZID=America/Chicago:20260920T134500
DTEND;TZID=America/Chicago:20260920T140000
DTSTAMP:20260423T111321
CREATED:20250602T212635Z
LAST-MODIFIED:20250603T191121Z
UID:10171206-1789911900-1789912800@spacecenter.org
SUMMARY:OSIRIS Rex Live Presentation
DESCRIPTION:
URL:https://spacecenter.org/events-calendar-event/osiris-rex-live-presentation-2/2026-09-20/
LOCATION:Mission Sketch Staircase
CATEGORIES:Live Presentation
ATTACH;FMTTYPE=image/jpeg:https://spacecenter.org/wp-content/uploads/2024/03/web-march2024_tls_osirisrex.jpg
END:VEVENT
BEGIN:VEVENT
DTSTART;TZID=America/Chicago:20260920T134500
DTEND;TZID=America/Chicago:20260920T140000
DTSTAMP:20260423T111321
CREATED:20250602T213557Z
LAST-MODIFIED:20250603T191327Z
UID:10174862-1789911900-1789912800@spacecenter.org
SUMMARY:James Webb Live Presentation
DESCRIPTION:
URL:https://spacecenter.org/events-calendar-event/james-webb-live-presentation-2/2026-09-20/
LOCATION:Theater – Destiny
CATEGORIES:Live Presentation
END:VEVENT
BEGIN:VEVENT
DTSTART;TZID=America/Chicago:20260920T144500
DTEND;TZID=America/Chicago:20260920T150000
DTSTAMP:20260423T111321
CREATED:20250602T213716Z
LAST-MODIFIED:20250603T191759Z
UID:10189486-1789915500-1789916400@spacecenter.org
SUMMARY:James Webb Live Presentation
DESCRIPTION:
URL:https://spacecenter.org/events-calendar-event/james-webb-live-presentation-3/2026-09-20/
LOCATION:Theater – Destiny
CATEGORIES:Live Presentation
END:VEVENT
BEGIN:VEVENT
DTSTART;TZID=America/Chicago:20260920T151500
DTEND;TZID=America/Chicago:20260920T153000
DTSTAMP:20260423T111321
CREATED:20250602T213249Z
LAST-MODIFIED:20250603T191942Z
UID:10196798-1789917300-1789918200@spacecenter.org
SUMMARY:Story Corner Live Presentation
DESCRIPTION:
URL:https://spacecenter.org/events-calendar-event/story-corner-live-presentation-4/2026-09-20/
LOCATION:Theater – Artemis
CATEGORIES:Live Presentation
END:VEVENT
BEGIN:VEVENT
DTSTART;TZID=America/Chicago:20260920T154500
DTEND;TZID=America/Chicago:20260920T161500
DTSTAMP:20260423T111321
CREATED:20250602T214125Z
LAST-MODIFIED:20250603T192119Z
UID:10207766-1789919100-1789920900@spacecenter.org
SUMMARY:Artemis Live Presentation
DESCRIPTION:
URL:https://spacecenter.org/events-calendar-event/artemis-live-presentation-3/2026-09-20/
LOCATION:Theater – Destiny
CATEGORIES:Live Presentation
ATTACH;FMTTYPE=image/jpeg:https://spacecenter.org/wp-content/uploads/2022/10/Artemis-Capsule.jpeg
END:VEVENT
BEGIN:VEVENT
DTSTART;TZID=America/Chicago:20260920T163000
DTEND;TZID=America/Chicago:20260920T164500
DTSTAMP:20260423T111321
CREATED:20250602T212726Z
LAST-MODIFIED:20250603T192225Z
UID:10215078-1789921800-1789922700@spacecenter.org
SUMMARY:OSIRIS Rex Live Presentation
DESCRIPTION:
URL:https://spacecenter.org/events-calendar-event/osiris-rex-live-presentation-3/2026-09-20/
LOCATION:Mission Sketch Staircase
CATEGORIES:Live Presentation
ATTACH;FMTTYPE=image/jpeg:https://spacecenter.org/wp-content/uploads/2024/03/web-march2024_tls_osirisrex.jpg
END:VEVENT
BEGIN:VEVENT
DTSTART;TZID=America/Chicago:20260921T104500
DTEND;TZID=America/Chicago:20260921T110000
DTSTAMP:20260423T111321
CREATED:20250602T212526Z
LAST-MODIFIED:20250603T185502Z
UID:10101743-1789987500-1789988400@spacecenter.org
SUMMARY:OSIRIS Rex Live Presentation
DESCRIPTION:
URL:https://spacecenter.org/events-calendar-event/osiris-rex-live-presentation/2026-09-21/
LOCATION:Mission Sketch Staircase
CATEGORIES:Live Presentation
ATTACH;FMTTYPE=image/jpeg:https://spacecenter.org/wp-content/uploads/2024/03/web-march2024_tls_osirisrex.jpg
END:VEVENT
BEGIN:VEVENT
DTSTART;TZID=America/Chicago:20260921T104500
DTEND;TZID=America/Chicago:20260921T111500
DTSTAMP:20260423T111321
CREATED:20250602T213905Z
LAST-MODIFIED:20250603T185637Z
UID:10109055-1789987500-1789989300@spacecenter.org
SUMMARY:Artemis Live Presentation
DESCRIPTION:
URL:https://spacecenter.org/events-calendar-event/artemis-live-presentation/2026-09-21/
LOCATION:Theater – Destiny
CATEGORIES:Live Presentation
ATTACH;FMTTYPE=image/jpeg:https://spacecenter.org/wp-content/uploads/2022/10/Artemis-Capsule.jpeg
END:VEVENT
BEGIN:VEVENT
DTSTART;TZID=America/Chicago:20260921T111500
DTEND;TZID=America/Chicago:20260921T113000
DTSTAMP:20260423T111321
CREATED:20250602T213010Z
LAST-MODIFIED:20250603T185901Z
UID:10120023-1789989300-1789990200@spacecenter.org
SUMMARY:Story Corner Live Presentation
DESCRIPTION:
URL:https://spacecenter.org/events-calendar-event/story-corner-live-presentation/2026-09-21/
LOCATION:Theater – Artemis
CATEGORIES:Live Presentation
END:VEVENT
BEGIN:VEVENT
DTSTART;TZID=America/Chicago:20260921T114500
DTEND;TZID=America/Chicago:20260921T120000
DTSTAMP:20260423T111321
CREATED:20250602T213503Z
LAST-MODIFIED:20250603T190256Z
UID:10138303-1789991100-1789992000@spacecenter.org
SUMMARY:James Webb Live Presentation
DESCRIPTION:
URL:https://spacecenter.org/events-calendar-event/james-webb-live-presentation/2026-09-21/
LOCATION:Theater – Destiny
CATEGORIES:Live Presentation
END:VEVENT
BEGIN:VEVENT
DTSTART;TZID=America/Chicago:20260921T121500
DTEND;TZID=America/Chicago:20260921T123000
DTSTAMP:20260423T111321
CREATED:20250602T213059Z
LAST-MODIFIED:20250603T190345Z
UID:10141959-1789992900-1789993800@spacecenter.org
SUMMARY:Story Corner Live Presentation
DESCRIPTION:
URL:https://spacecenter.org/events-calendar-event/story-corner-live-presentation-2/2026-09-21/
LOCATION:Theater – Artemis
CATEGORIES:Live Presentation
END:VEVENT
BEGIN:VEVENT
DTSTART;TZID=America/Chicago:20260921T124500
DTEND;TZID=America/Chicago:20260921T131500
DTSTAMP:20260423T111321
CREATED:20250602T214012Z
LAST-MODIFIED:20250603T190811Z
UID:10152927-1789994700-1789996500@spacecenter.org
SUMMARY:Artemis Live Presentation
DESCRIPTION:
URL:https://spacecenter.org/events-calendar-event/artemis-live-presentation-2/2026-09-21/
LOCATION:Theater – Destiny
CATEGORIES:Live Presentation
ATTACH;FMTTYPE=image/jpeg:https://spacecenter.org/wp-content/uploads/2022/10/Artemis-Capsule.jpeg
END:VEVENT
BEGIN:VEVENT
DTSTART;TZID=America/Chicago:20260921T131500
DTEND;TZID=America/Chicago:20260921T133000
DTSTAMP:20260423T111321
CREATED:20250602T213201Z
LAST-MODIFIED:20250603T190922Z
UID:10160239-1789996500-1789997400@spacecenter.org
SUMMARY:Story Corner Live Presentation
DESCRIPTION:
URL:https://spacecenter.org/events-calendar-event/story-corner-live-presentation-3/2026-09-21/
LOCATION:Theater – Artemis
CATEGORIES:Live Presentation
END:VEVENT
BEGIN:VEVENT
DTSTART;TZID=America/Chicago:20260921T134500
DTEND;TZID=America/Chicago:20260921T140000
DTSTAMP:20260423T111321
CREATED:20250602T212635Z
LAST-MODIFIED:20250603T191121Z
UID:10171207-1789998300-1789999200@spacecenter.org
SUMMARY:OSIRIS Rex Live Presentation
DESCRIPTION:
URL:https://spacecenter.org/events-calendar-event/osiris-rex-live-presentation-2/2026-09-21/
LOCATION:Mission Sketch Staircase
CATEGORIES:Live Presentation
ATTACH;FMTTYPE=image/jpeg:https://spacecenter.org/wp-content/uploads/2024/03/web-march2024_tls_osirisrex.jpg
END:VEVENT
BEGIN:VEVENT
DTSTART;TZID=America/Chicago:20260921T134500
DTEND;TZID=America/Chicago:20260921T140000
DTSTAMP:20260423T111321
CREATED:20250602T213557Z
LAST-MODIFIED:20250603T191327Z
UID:10174863-1789998300-1789999200@spacecenter.org
SUMMARY:James Webb Live Presentation
DESCRIPTION:
URL:https://spacecenter.org/events-calendar-event/james-webb-live-presentation-2/2026-09-21/
LOCATION:Theater – Destiny
CATEGORIES:Live Presentation
END:VEVENT
BEGIN:VEVENT
DTSTART;TZID=America/Chicago:20260921T144500
DTEND;TZID=America/Chicago:20260921T150000
DTSTAMP:20260423T111321
CREATED:20250602T213716Z
LAST-MODIFIED:20250603T191759Z
UID:10189487-1790001900-1790002800@spacecenter.org
SUMMARY:James Webb Live Presentation
DESCRIPTION:
URL:https://spacecenter.org/events-calendar-event/james-webb-live-presentation-3/2026-09-21/
LOCATION:Theater – Destiny
CATEGORIES:Live Presentation
END:VEVENT
BEGIN:VEVENT
DTSTART;TZID=America/Chicago:20260921T151500
DTEND;TZID=America/Chicago:20260921T153000
DTSTAMP:20260423T111321
CREATED:20250602T213249Z
LAST-MODIFIED:20250603T191942Z
UID:10196799-1790003700-1790004600@spacecenter.org
SUMMARY:Story Corner Live Presentation
DESCRIPTION:
URL:https://spacecenter.org/events-calendar-event/story-corner-live-presentation-4/2026-09-21/
LOCATION:Theater – Artemis
CATEGORIES:Live Presentation
END:VEVENT
BEGIN:VEVENT
DTSTART;TZID=America/Chicago:20260921T154500
DTEND;TZID=America/Chicago:20260921T161500
DTSTAMP:20260423T111321
CREATED:20250602T214125Z
LAST-MODIFIED:20250603T192119Z
UID:10207767-1790005500-1790007300@spacecenter.org
SUMMARY:Artemis Live Presentation
DESCRIPTION:
URL:https://spacecenter.org/events-calendar-event/artemis-live-presentation-3/2026-09-21/
LOCATION:Theater – Destiny
CATEGORIES:Live Presentation
ATTACH;FMTTYPE=image/jpeg:https://spacecenter.org/wp-content/uploads/2022/10/Artemis-Capsule.jpeg
END:VEVENT
END:VCALENDAR