BEGIN:VCALENDAR
VERSION:2.0
PRODID:-//Space Center Houston - ECPv6.15.15//NONSGML v1.0//EN
CALSCALE:GREGORIAN
METHOD:PUBLISH
X-WR-CALNAME:Space Center Houston
X-ORIGINAL-URL:https://spacecenter.org
X-WR-CALDESC:Events for Space Center Houston
REFRESH-INTERVAL;VALUE=DURATION:PT1H
X-Robots-Tag:noindex
X-PUBLISHED-TTL:PT1H
BEGIN:VTIMEZONE
TZID:America/Chicago
BEGIN:DAYLIGHT
TZOFFSETFROM:-0600
TZOFFSETTO:-0500
TZNAME:CDT
DTSTART:20260308T080000
END:DAYLIGHT
BEGIN:STANDARD
TZOFFSETFROM:-0500
TZOFFSETTO:-0600
TZNAME:CST
DTSTART:20261101T070000
END:STANDARD
BEGIN:DAYLIGHT
TZOFFSETFROM:-0600
TZOFFSETTO:-0500
TZNAME:CDT
DTSTART:20270314T080000
END:DAYLIGHT
BEGIN:STANDARD
TZOFFSETFROM:-0500
TZOFFSETTO:-0600
TZNAME:CST
DTSTART:20271107T070000
END:STANDARD
BEGIN:DAYLIGHT
TZOFFSETFROM:-0600
TZOFFSETTO:-0500
TZNAME:CDT
DTSTART:20280312T080000
END:DAYLIGHT
BEGIN:STANDARD
TZOFFSETFROM:-0500
TZOFFSETTO:-0600
TZNAME:CST
DTSTART:20281105T070000
END:STANDARD
END:VTIMEZONE
BEGIN:VEVENT
DTSTART;TZID=America/Chicago:20270701T134500
DTEND;TZID=America/Chicago:20270701T140000
DTSTAMP:20260422T170536
CREATED:20250602T213557Z
LAST-MODIFIED:20250603T191327Z
UID:10175146-1814449500-1814450400@spacecenter.org
SUMMARY:James Webb Live Presentation
DESCRIPTION:
URL:https://spacecenter.org/events-calendar-event/james-webb-live-presentation-2/2027-07-01/
LOCATION:Theater – Destiny
CATEGORIES:Live Presentation
END:VEVENT
BEGIN:VEVENT
DTSTART;TZID=America/Chicago:20270701T144500
DTEND;TZID=America/Chicago:20270701T150000
DTSTAMP:20260422T170536
CREATED:20250602T213716Z
LAST-MODIFIED:20250603T191759Z
UID:10189770-1814453100-1814454000@spacecenter.org
SUMMARY:James Webb Live Presentation
DESCRIPTION:
URL:https://spacecenter.org/events-calendar-event/james-webb-live-presentation-3/2027-07-01/
LOCATION:Theater – Destiny
CATEGORIES:Live Presentation
END:VEVENT
BEGIN:VEVENT
DTSTART;TZID=America/Chicago:20270701T151500
DTEND;TZID=America/Chicago:20270701T153000
DTSTAMP:20260422T170536
CREATED:20250602T213249Z
LAST-MODIFIED:20250603T191942Z
UID:10197082-1814454900-1814455800@spacecenter.org
SUMMARY:Story Corner Live Presentation
DESCRIPTION:
URL:https://spacecenter.org/events-calendar-event/story-corner-live-presentation-4/2027-07-01/
LOCATION:Theater – Artemis
CATEGORIES:Live Presentation
END:VEVENT
BEGIN:VEVENT
DTSTART;TZID=America/Chicago:20270701T154500
DTEND;TZID=America/Chicago:20270701T161500
DTSTAMP:20260422T170536
CREATED:20250602T214125Z
LAST-MODIFIED:20250603T192119Z
UID:10208050-1814456700-1814458500@spacecenter.org
SUMMARY:Artemis Live Presentation
DESCRIPTION:
URL:https://spacecenter.org/events-calendar-event/artemis-live-presentation-3/2027-07-01/
LOCATION:Theater – Destiny
CATEGORIES:Live Presentation
ATTACH;FMTTYPE=image/jpeg:https://spacecenter.org/wp-content/uploads/2022/10/Artemis-Capsule.jpeg
END:VEVENT
BEGIN:VEVENT
DTSTART;TZID=America/Chicago:20270701T163000
DTEND;TZID=America/Chicago:20270701T164500
DTSTAMP:20260422T170536
CREATED:20250602T212726Z
LAST-MODIFIED:20250603T192225Z
UID:10215362-1814459400-1814460300@spacecenter.org
SUMMARY:OSIRIS Rex Live Presentation
DESCRIPTION:
URL:https://spacecenter.org/events-calendar-event/osiris-rex-live-presentation-3/2027-07-01/
LOCATION:Mission Sketch Staircase
CATEGORIES:Live Presentation
ATTACH;FMTTYPE=image/jpeg:https://spacecenter.org/wp-content/uploads/2024/03/web-march2024_tls_osirisrex.jpg
END:VEVENT
BEGIN:VEVENT
DTSTART;TZID=America/Chicago:20270702T104500
DTEND;TZID=America/Chicago:20270702T110000
DTSTAMP:20260422T170536
CREATED:20250602T212526Z
LAST-MODIFIED:20250603T185502Z
UID:10102027-1814525100-1814526000@spacecenter.org
SUMMARY:OSIRIS Rex Live Presentation
DESCRIPTION:
URL:https://spacecenter.org/events-calendar-event/osiris-rex-live-presentation/2027-07-02/
LOCATION:Mission Sketch Staircase
CATEGORIES:Live Presentation
ATTACH;FMTTYPE=image/jpeg:https://spacecenter.org/wp-content/uploads/2024/03/web-march2024_tls_osirisrex.jpg
END:VEVENT
BEGIN:VEVENT
DTSTART;TZID=America/Chicago:20270702T104500
DTEND;TZID=America/Chicago:20270702T111500
DTSTAMP:20260422T170536
CREATED:20250602T213905Z
LAST-MODIFIED:20250603T185637Z
UID:10109339-1814525100-1814526900@spacecenter.org
SUMMARY:Artemis Live Presentation
DESCRIPTION:
URL:https://spacecenter.org/events-calendar-event/artemis-live-presentation/2027-07-02/
LOCATION:Theater – Destiny
CATEGORIES:Live Presentation
ATTACH;FMTTYPE=image/jpeg:https://spacecenter.org/wp-content/uploads/2022/10/Artemis-Capsule.jpeg
END:VEVENT
BEGIN:VEVENT
DTSTART;TZID=America/Chicago:20270702T111500
DTEND;TZID=America/Chicago:20270702T113000
DTSTAMP:20260422T170536
CREATED:20250602T213010Z
LAST-MODIFIED:20250603T185901Z
UID:10120307-1814526900-1814527800@spacecenter.org
SUMMARY:Story Corner Live Presentation
DESCRIPTION:
URL:https://spacecenter.org/events-calendar-event/story-corner-live-presentation/2027-07-02/
LOCATION:Theater – Artemis
CATEGORIES:Live Presentation
END:VEVENT
BEGIN:VEVENT
DTSTART;TZID=America/Chicago:20270702T114500
DTEND;TZID=America/Chicago:20270702T120000
DTSTAMP:20260422T170536
CREATED:20250602T213503Z
LAST-MODIFIED:20250603T190256Z
UID:10138587-1814528700-1814529600@spacecenter.org
SUMMARY:James Webb Live Presentation
DESCRIPTION:
URL:https://spacecenter.org/events-calendar-event/james-webb-live-presentation/2027-07-02/
LOCATION:Theater – Destiny
CATEGORIES:Live Presentation
END:VEVENT
BEGIN:VEVENT
DTSTART;TZID=America/Chicago:20270702T121500
DTEND;TZID=America/Chicago:20270702T123000
DTSTAMP:20260422T170536
CREATED:20250602T213059Z
LAST-MODIFIED:20250603T190345Z
UID:10142243-1814530500-1814531400@spacecenter.org
SUMMARY:Story Corner Live Presentation
DESCRIPTION:
URL:https://spacecenter.org/events-calendar-event/story-corner-live-presentation-2/2027-07-02/
LOCATION:Theater – Artemis
CATEGORIES:Live Presentation
END:VEVENT
BEGIN:VEVENT
DTSTART;TZID=America/Chicago:20270702T124500
DTEND;TZID=America/Chicago:20270702T131500
DTSTAMP:20260422T170536
CREATED:20250602T214012Z
LAST-MODIFIED:20250603T190811Z
UID:10153211-1814532300-1814534100@spacecenter.org
SUMMARY:Artemis Live Presentation
DESCRIPTION:
URL:https://spacecenter.org/events-calendar-event/artemis-live-presentation-2/2027-07-02/
LOCATION:Theater – Destiny
CATEGORIES:Live Presentation
ATTACH;FMTTYPE=image/jpeg:https://spacecenter.org/wp-content/uploads/2022/10/Artemis-Capsule.jpeg
END:VEVENT
BEGIN:VEVENT
DTSTART;TZID=America/Chicago:20270702T131500
DTEND;TZID=America/Chicago:20270702T133000
DTSTAMP:20260422T170536
CREATED:20250602T213201Z
LAST-MODIFIED:20250603T190922Z
UID:10160523-1814534100-1814535000@spacecenter.org
SUMMARY:Story Corner Live Presentation
DESCRIPTION:
URL:https://spacecenter.org/events-calendar-event/story-corner-live-presentation-3/2027-07-02/
LOCATION:Theater – Artemis
CATEGORIES:Live Presentation
END:VEVENT
BEGIN:VEVENT
DTSTART;TZID=America/Chicago:20270702T134500
DTEND;TZID=America/Chicago:20270702T140000
DTSTAMP:20260422T170536
CREATED:20250602T212635Z
LAST-MODIFIED:20250603T191121Z
UID:10171491-1814535900-1814536800@spacecenter.org
SUMMARY:OSIRIS Rex Live Presentation
DESCRIPTION:
URL:https://spacecenter.org/events-calendar-event/osiris-rex-live-presentation-2/2027-07-02/
LOCATION:Mission Sketch Staircase
CATEGORIES:Live Presentation
ATTACH;FMTTYPE=image/jpeg:https://spacecenter.org/wp-content/uploads/2024/03/web-march2024_tls_osirisrex.jpg
END:VEVENT
BEGIN:VEVENT
DTSTART;TZID=America/Chicago:20270702T134500
DTEND;TZID=America/Chicago:20270702T140000
DTSTAMP:20260422T170536
CREATED:20250602T213557Z
LAST-MODIFIED:20250603T191327Z
UID:10175147-1814535900-1814536800@spacecenter.org
SUMMARY:James Webb Live Presentation
DESCRIPTION:
URL:https://spacecenter.org/events-calendar-event/james-webb-live-presentation-2/2027-07-02/
LOCATION:Theater – Destiny
CATEGORIES:Live Presentation
END:VEVENT
BEGIN:VEVENT
DTSTART;TZID=America/Chicago:20270702T144500
DTEND;TZID=America/Chicago:20270702T150000
DTSTAMP:20260422T170536
CREATED:20250602T213716Z
LAST-MODIFIED:20250603T191759Z
UID:10189771-1814539500-1814540400@spacecenter.org
SUMMARY:James Webb Live Presentation
DESCRIPTION:
URL:https://spacecenter.org/events-calendar-event/james-webb-live-presentation-3/2027-07-02/
LOCATION:Theater – Destiny
CATEGORIES:Live Presentation
END:VEVENT
BEGIN:VEVENT
DTSTART;TZID=America/Chicago:20270702T151500
DTEND;TZID=America/Chicago:20270702T153000
DTSTAMP:20260422T170536
CREATED:20250602T213249Z
LAST-MODIFIED:20250603T191942Z
UID:10197083-1814541300-1814542200@spacecenter.org
SUMMARY:Story Corner Live Presentation
DESCRIPTION:
URL:https://spacecenter.org/events-calendar-event/story-corner-live-presentation-4/2027-07-02/
LOCATION:Theater – Artemis
CATEGORIES:Live Presentation
END:VEVENT
BEGIN:VEVENT
DTSTART;TZID=America/Chicago:20270702T154500
DTEND;TZID=America/Chicago:20270702T161500
DTSTAMP:20260422T170536
CREATED:20250602T214125Z
LAST-MODIFIED:20250603T192119Z
UID:10208051-1814543100-1814544900@spacecenter.org
SUMMARY:Artemis Live Presentation
DESCRIPTION:
URL:https://spacecenter.org/events-calendar-event/artemis-live-presentation-3/2027-07-02/
LOCATION:Theater – Destiny
CATEGORIES:Live Presentation
ATTACH;FMTTYPE=image/jpeg:https://spacecenter.org/wp-content/uploads/2022/10/Artemis-Capsule.jpeg
END:VEVENT
BEGIN:VEVENT
DTSTART;TZID=America/Chicago:20270702T163000
DTEND;TZID=America/Chicago:20270702T164500
DTSTAMP:20260422T170536
CREATED:20250602T212726Z
LAST-MODIFIED:20250603T192225Z
UID:10215363-1814545800-1814546700@spacecenter.org
SUMMARY:OSIRIS Rex Live Presentation
DESCRIPTION:
URL:https://spacecenter.org/events-calendar-event/osiris-rex-live-presentation-3/2027-07-02/
LOCATION:Mission Sketch Staircase
CATEGORIES:Live Presentation
ATTACH;FMTTYPE=image/jpeg:https://spacecenter.org/wp-content/uploads/2024/03/web-march2024_tls_osirisrex.jpg
END:VEVENT
BEGIN:VEVENT
DTSTART;TZID=America/Chicago:20270703T104500
DTEND;TZID=America/Chicago:20270703T110000
DTSTAMP:20260422T170536
CREATED:20250602T212526Z
LAST-MODIFIED:20250603T185502Z
UID:10102028-1814611500-1814612400@spacecenter.org
SUMMARY:OSIRIS Rex Live Presentation
DESCRIPTION:
URL:https://spacecenter.org/events-calendar-event/osiris-rex-live-presentation/2027-07-03/
LOCATION:Mission Sketch Staircase
CATEGORIES:Live Presentation
ATTACH;FMTTYPE=image/jpeg:https://spacecenter.org/wp-content/uploads/2024/03/web-march2024_tls_osirisrex.jpg
END:VEVENT
BEGIN:VEVENT
DTSTART;TZID=America/Chicago:20270703T104500
DTEND;TZID=America/Chicago:20270703T111500
DTSTAMP:20260422T170536
CREATED:20250602T213905Z
LAST-MODIFIED:20250603T185637Z
UID:10109340-1814611500-1814613300@spacecenter.org
SUMMARY:Artemis Live Presentation
DESCRIPTION:
URL:https://spacecenter.org/events-calendar-event/artemis-live-presentation/2027-07-03/
LOCATION:Theater – Destiny
CATEGORIES:Live Presentation
ATTACH;FMTTYPE=image/jpeg:https://spacecenter.org/wp-content/uploads/2022/10/Artemis-Capsule.jpeg
END:VEVENT
BEGIN:VEVENT
DTSTART;TZID=America/Chicago:20270703T111500
DTEND;TZID=America/Chicago:20270703T113000
DTSTAMP:20260422T170536
CREATED:20250602T213010Z
LAST-MODIFIED:20250603T185901Z
UID:10120308-1814613300-1814614200@spacecenter.org
SUMMARY:Story Corner Live Presentation
DESCRIPTION:
URL:https://spacecenter.org/events-calendar-event/story-corner-live-presentation/2027-07-03/
LOCATION:Theater – Artemis
CATEGORIES:Live Presentation
END:VEVENT
BEGIN:VEVENT
DTSTART;TZID=America/Chicago:20270703T114500
DTEND;TZID=America/Chicago:20270703T120000
DTSTAMP:20260422T170536
CREATED:20250602T213503Z
LAST-MODIFIED:20250603T190256Z
UID:10138588-1814615100-1814616000@spacecenter.org
SUMMARY:James Webb Live Presentation
DESCRIPTION:
URL:https://spacecenter.org/events-calendar-event/james-webb-live-presentation/2027-07-03/
LOCATION:Theater – Destiny
CATEGORIES:Live Presentation
END:VEVENT
BEGIN:VEVENT
DTSTART;TZID=America/Chicago:20270703T121500
DTEND;TZID=America/Chicago:20270703T123000
DTSTAMP:20260422T170536
CREATED:20250602T213059Z
LAST-MODIFIED:20250603T190345Z
UID:10142244-1814616900-1814617800@spacecenter.org
SUMMARY:Story Corner Live Presentation
DESCRIPTION:
URL:https://spacecenter.org/events-calendar-event/story-corner-live-presentation-2/2027-07-03/
LOCATION:Theater – Artemis
CATEGORIES:Live Presentation
END:VEVENT
BEGIN:VEVENT
DTSTART;TZID=America/Chicago:20270703T124500
DTEND;TZID=America/Chicago:20270703T131500
DTSTAMP:20260422T170536
CREATED:20250602T214012Z
LAST-MODIFIED:20250603T190811Z
UID:10153212-1814618700-1814620500@spacecenter.org
SUMMARY:Artemis Live Presentation
DESCRIPTION:
URL:https://spacecenter.org/events-calendar-event/artemis-live-presentation-2/2027-07-03/
LOCATION:Theater – Destiny
CATEGORIES:Live Presentation
ATTACH;FMTTYPE=image/jpeg:https://spacecenter.org/wp-content/uploads/2022/10/Artemis-Capsule.jpeg
END:VEVENT
BEGIN:VEVENT
DTSTART;TZID=America/Chicago:20270703T131500
DTEND;TZID=America/Chicago:20270703T133000
DTSTAMP:20260422T170536
CREATED:20250602T213201Z
LAST-MODIFIED:20250603T190922Z
UID:10160524-1814620500-1814621400@spacecenter.org
SUMMARY:Story Corner Live Presentation
DESCRIPTION:
URL:https://spacecenter.org/events-calendar-event/story-corner-live-presentation-3/2027-07-03/
LOCATION:Theater – Artemis
CATEGORIES:Live Presentation
END:VEVENT
BEGIN:VEVENT
DTSTART;TZID=America/Chicago:20270703T134500
DTEND;TZID=America/Chicago:20270703T140000
DTSTAMP:20260422T170536
CREATED:20250602T212635Z
LAST-MODIFIED:20250603T191121Z
UID:10171492-1814622300-1814623200@spacecenter.org
SUMMARY:OSIRIS Rex Live Presentation
DESCRIPTION:
URL:https://spacecenter.org/events-calendar-event/osiris-rex-live-presentation-2/2027-07-03/
LOCATION:Mission Sketch Staircase
CATEGORIES:Live Presentation
ATTACH;FMTTYPE=image/jpeg:https://spacecenter.org/wp-content/uploads/2024/03/web-march2024_tls_osirisrex.jpg
END:VEVENT
BEGIN:VEVENT
DTSTART;TZID=America/Chicago:20270703T134500
DTEND;TZID=America/Chicago:20270703T140000
DTSTAMP:20260422T170536
CREATED:20250602T213557Z
LAST-MODIFIED:20250603T191327Z
UID:10175148-1814622300-1814623200@spacecenter.org
SUMMARY:James Webb Live Presentation
DESCRIPTION:
URL:https://spacecenter.org/events-calendar-event/james-webb-live-presentation-2/2027-07-03/
LOCATION:Theater – Destiny
CATEGORIES:Live Presentation
END:VEVENT
BEGIN:VEVENT
DTSTART;TZID=America/Chicago:20270703T144500
DTEND;TZID=America/Chicago:20270703T150000
DTSTAMP:20260422T170536
CREATED:20250602T213716Z
LAST-MODIFIED:20250603T191759Z
UID:10189772-1814625900-1814626800@spacecenter.org
SUMMARY:James Webb Live Presentation
DESCRIPTION:
URL:https://spacecenter.org/events-calendar-event/james-webb-live-presentation-3/2027-07-03/
LOCATION:Theater – Destiny
CATEGORIES:Live Presentation
END:VEVENT
BEGIN:VEVENT
DTSTART;TZID=America/Chicago:20270703T151500
DTEND;TZID=America/Chicago:20270703T153000
DTSTAMP:20260422T170536
CREATED:20250602T213249Z
LAST-MODIFIED:20250603T191942Z
UID:10197084-1814627700-1814628600@spacecenter.org
SUMMARY:Story Corner Live Presentation
DESCRIPTION:
URL:https://spacecenter.org/events-calendar-event/story-corner-live-presentation-4/2027-07-03/
LOCATION:Theater – Artemis
CATEGORIES:Live Presentation
END:VEVENT
BEGIN:VEVENT
DTSTART;TZID=America/Chicago:20270703T154500
DTEND;TZID=America/Chicago:20270703T161500
DTSTAMP:20260422T170536
CREATED:20250602T214125Z
LAST-MODIFIED:20250603T192119Z
UID:10208052-1814629500-1814631300@spacecenter.org
SUMMARY:Artemis Live Presentation
DESCRIPTION:
URL:https://spacecenter.org/events-calendar-event/artemis-live-presentation-3/2027-07-03/
LOCATION:Theater – Destiny
CATEGORIES:Live Presentation
ATTACH;FMTTYPE=image/jpeg:https://spacecenter.org/wp-content/uploads/2022/10/Artemis-Capsule.jpeg
END:VEVENT
END:VCALENDAR