BEGIN:VCALENDAR
VERSION:2.0
PRODID:-//Space Center Houston - ECPv6.15.15//NONSGML v1.0//EN
CALSCALE:GREGORIAN
METHOD:PUBLISH
X-WR-CALNAME:Space Center Houston
X-ORIGINAL-URL:https://spacecenter.org
X-WR-CALDESC:Events for Space Center Houston
REFRESH-INTERVAL;VALUE=DURATION:PT1H
X-Robots-Tag:noindex
X-PUBLISHED-TTL:PT1H
BEGIN:VTIMEZONE
TZID:America/Chicago
BEGIN:DAYLIGHT
TZOFFSETFROM:-0600
TZOFFSETTO:-0500
TZNAME:CDT
DTSTART:20250309T080000
END:DAYLIGHT
BEGIN:STANDARD
TZOFFSETFROM:-0500
TZOFFSETTO:-0600
TZNAME:CST
DTSTART:20251102T070000
END:STANDARD
BEGIN:DAYLIGHT
TZOFFSETFROM:-0600
TZOFFSETTO:-0500
TZNAME:CDT
DTSTART:20260308T080000
END:DAYLIGHT
BEGIN:STANDARD
TZOFFSETFROM:-0500
TZOFFSETTO:-0600
TZNAME:CST
DTSTART:20261101T070000
END:STANDARD
BEGIN:DAYLIGHT
TZOFFSETFROM:-0600
TZOFFSETTO:-0500
TZNAME:CDT
DTSTART:20270314T080000
END:DAYLIGHT
BEGIN:STANDARD
TZOFFSETFROM:-0500
TZOFFSETTO:-0600
TZNAME:CST
DTSTART:20271107T070000
END:STANDARD
END:VTIMEZONE
BEGIN:VEVENT
DTSTART;TZID=America/Chicago:20260915T151500
DTEND;TZID=America/Chicago:20260915T153000
DTSTAMP:20260423T013802
CREATED:20250602T213249Z
LAST-MODIFIED:20250603T191942Z
UID:10196793-1789485300-1789486200@spacecenter.org
SUMMARY:Story Corner Live Presentation
DESCRIPTION:
URL:https://spacecenter.org/events-calendar-event/story-corner-live-presentation-4/2026-09-15/
LOCATION:Theater – Artemis
CATEGORIES:Live Presentation
END:VEVENT
BEGIN:VEVENT
DTSTART;TZID=America/Chicago:20260915T154500
DTEND;TZID=America/Chicago:20260915T161500
DTSTAMP:20260423T013802
CREATED:20250602T214125Z
LAST-MODIFIED:20250603T192119Z
UID:10207761-1789487100-1789488900@spacecenter.org
SUMMARY:Artemis Live Presentation
DESCRIPTION:
URL:https://spacecenter.org/events-calendar-event/artemis-live-presentation-3/2026-09-15/
LOCATION:Theater – Destiny
CATEGORIES:Live Presentation
ATTACH;FMTTYPE=image/jpeg:https://spacecenter.org/wp-content/uploads/2022/10/Artemis-Capsule.jpeg
END:VEVENT
BEGIN:VEVENT
DTSTART;TZID=America/Chicago:20260915T163000
DTEND;TZID=America/Chicago:20260915T164500
DTSTAMP:20260423T013802
CREATED:20250602T212726Z
LAST-MODIFIED:20250603T192225Z
UID:10215073-1789489800-1789490700@spacecenter.org
SUMMARY:OSIRIS Rex Live Presentation
DESCRIPTION:
URL:https://spacecenter.org/events-calendar-event/osiris-rex-live-presentation-3/2026-09-15/
LOCATION:Mission Sketch Staircase
CATEGORIES:Live Presentation
ATTACH;FMTTYPE=image/jpeg:https://spacecenter.org/wp-content/uploads/2024/03/web-march2024_tls_osirisrex.jpg
END:VEVENT
BEGIN:VEVENT
DTSTART;TZID=America/Chicago:20260916T104500
DTEND;TZID=America/Chicago:20260916T110000
DTSTAMP:20260423T013802
CREATED:20250602T212526Z
LAST-MODIFIED:20250603T185502Z
UID:10101738-1789555500-1789556400@spacecenter.org
SUMMARY:OSIRIS Rex Live Presentation
DESCRIPTION:
URL:https://spacecenter.org/events-calendar-event/osiris-rex-live-presentation/2026-09-16/
LOCATION:Mission Sketch Staircase
CATEGORIES:Live Presentation
ATTACH;FMTTYPE=image/jpeg:https://spacecenter.org/wp-content/uploads/2024/03/web-march2024_tls_osirisrex.jpg
END:VEVENT
BEGIN:VEVENT
DTSTART;TZID=America/Chicago:20260916T104500
DTEND;TZID=America/Chicago:20260916T111500
DTSTAMP:20260423T013802
CREATED:20250602T213905Z
LAST-MODIFIED:20250603T185637Z
UID:10109050-1789555500-1789557300@spacecenter.org
SUMMARY:Artemis Live Presentation
DESCRIPTION:
URL:https://spacecenter.org/events-calendar-event/artemis-live-presentation/2026-09-16/
LOCATION:Theater – Destiny
CATEGORIES:Live Presentation
ATTACH;FMTTYPE=image/jpeg:https://spacecenter.org/wp-content/uploads/2022/10/Artemis-Capsule.jpeg
END:VEVENT
BEGIN:VEVENT
DTSTART;TZID=America/Chicago:20260916T111500
DTEND;TZID=America/Chicago:20260916T113000
DTSTAMP:20260423T013802
CREATED:20250602T213010Z
LAST-MODIFIED:20250603T185901Z
UID:10120018-1789557300-1789558200@spacecenter.org
SUMMARY:Story Corner Live Presentation
DESCRIPTION:
URL:https://spacecenter.org/events-calendar-event/story-corner-live-presentation/2026-09-16/
LOCATION:Theater – Artemis
CATEGORIES:Live Presentation
END:VEVENT
BEGIN:VEVENT
DTSTART;TZID=America/Chicago:20260916T114500
DTEND;TZID=America/Chicago:20260916T120000
DTSTAMP:20260423T013802
CREATED:20250602T213503Z
LAST-MODIFIED:20250603T190256Z
UID:10138298-1789559100-1789560000@spacecenter.org
SUMMARY:James Webb Live Presentation
DESCRIPTION:
URL:https://spacecenter.org/events-calendar-event/james-webb-live-presentation/2026-09-16/
LOCATION:Theater – Destiny
CATEGORIES:Live Presentation
END:VEVENT
BEGIN:VEVENT
DTSTART;TZID=America/Chicago:20260916T121500
DTEND;TZID=America/Chicago:20260916T123000
DTSTAMP:20260423T013802
CREATED:20250602T213059Z
LAST-MODIFIED:20250603T190345Z
UID:10141954-1789560900-1789561800@spacecenter.org
SUMMARY:Story Corner Live Presentation
DESCRIPTION:
URL:https://spacecenter.org/events-calendar-event/story-corner-live-presentation-2/2026-09-16/
LOCATION:Theater – Artemis
CATEGORIES:Live Presentation
END:VEVENT
BEGIN:VEVENT
DTSTART;TZID=America/Chicago:20260916T124500
DTEND;TZID=America/Chicago:20260916T131500
DTSTAMP:20260423T013802
CREATED:20250602T214012Z
LAST-MODIFIED:20250603T190811Z
UID:10152922-1789562700-1789564500@spacecenter.org
SUMMARY:Artemis Live Presentation
DESCRIPTION:
URL:https://spacecenter.org/events-calendar-event/artemis-live-presentation-2/2026-09-16/
LOCATION:Theater – Destiny
CATEGORIES:Live Presentation
ATTACH;FMTTYPE=image/jpeg:https://spacecenter.org/wp-content/uploads/2022/10/Artemis-Capsule.jpeg
END:VEVENT
BEGIN:VEVENT
DTSTART;TZID=America/Chicago:20260916T131500
DTEND;TZID=America/Chicago:20260916T133000
DTSTAMP:20260423T013802
CREATED:20250602T213201Z
LAST-MODIFIED:20250603T190922Z
UID:10160234-1789564500-1789565400@spacecenter.org
SUMMARY:Story Corner Live Presentation
DESCRIPTION:
URL:https://spacecenter.org/events-calendar-event/story-corner-live-presentation-3/2026-09-16/
LOCATION:Theater – Artemis
CATEGORIES:Live Presentation
END:VEVENT
BEGIN:VEVENT
DTSTART;TZID=America/Chicago:20260916T134500
DTEND;TZID=America/Chicago:20260916T140000
DTSTAMP:20260423T013802
CREATED:20250602T212635Z
LAST-MODIFIED:20250603T191121Z
UID:10171202-1789566300-1789567200@spacecenter.org
SUMMARY:OSIRIS Rex Live Presentation
DESCRIPTION:
URL:https://spacecenter.org/events-calendar-event/osiris-rex-live-presentation-2/2026-09-16/
LOCATION:Mission Sketch Staircase
CATEGORIES:Live Presentation
ATTACH;FMTTYPE=image/jpeg:https://spacecenter.org/wp-content/uploads/2024/03/web-march2024_tls_osirisrex.jpg
END:VEVENT
BEGIN:VEVENT
DTSTART;TZID=America/Chicago:20260916T134500
DTEND;TZID=America/Chicago:20260916T140000
DTSTAMP:20260423T013802
CREATED:20250602T213557Z
LAST-MODIFIED:20250603T191327Z
UID:10174858-1789566300-1789567200@spacecenter.org
SUMMARY:James Webb Live Presentation
DESCRIPTION:
URL:https://spacecenter.org/events-calendar-event/james-webb-live-presentation-2/2026-09-16/
LOCATION:Theater – Destiny
CATEGORIES:Live Presentation
END:VEVENT
BEGIN:VEVENT
DTSTART;TZID=America/Chicago:20260916T144500
DTEND;TZID=America/Chicago:20260916T150000
DTSTAMP:20260423T013802
CREATED:20250602T213716Z
LAST-MODIFIED:20250603T191759Z
UID:10189482-1789569900-1789570800@spacecenter.org
SUMMARY:James Webb Live Presentation
DESCRIPTION:
URL:https://spacecenter.org/events-calendar-event/james-webb-live-presentation-3/2026-09-16/
LOCATION:Theater – Destiny
CATEGORIES:Live Presentation
END:VEVENT
BEGIN:VEVENT
DTSTART;TZID=America/Chicago:20260916T151500
DTEND;TZID=America/Chicago:20260916T153000
DTSTAMP:20260423T013802
CREATED:20250602T213249Z
LAST-MODIFIED:20250603T191942Z
UID:10196794-1789571700-1789572600@spacecenter.org
SUMMARY:Story Corner Live Presentation
DESCRIPTION:
URL:https://spacecenter.org/events-calendar-event/story-corner-live-presentation-4/2026-09-16/
LOCATION:Theater – Artemis
CATEGORIES:Live Presentation
END:VEVENT
BEGIN:VEVENT
DTSTART;TZID=America/Chicago:20260916T154500
DTEND;TZID=America/Chicago:20260916T161500
DTSTAMP:20260423T013802
CREATED:20250602T214125Z
LAST-MODIFIED:20250603T192119Z
UID:10207762-1789573500-1789575300@spacecenter.org
SUMMARY:Artemis Live Presentation
DESCRIPTION:
URL:https://spacecenter.org/events-calendar-event/artemis-live-presentation-3/2026-09-16/
LOCATION:Theater – Destiny
CATEGORIES:Live Presentation
ATTACH;FMTTYPE=image/jpeg:https://spacecenter.org/wp-content/uploads/2022/10/Artemis-Capsule.jpeg
END:VEVENT
BEGIN:VEVENT
DTSTART;TZID=America/Chicago:20260916T163000
DTEND;TZID=America/Chicago:20260916T164500
DTSTAMP:20260423T013802
CREATED:20250602T212726Z
LAST-MODIFIED:20250603T192225Z
UID:10215074-1789576200-1789577100@spacecenter.org
SUMMARY:OSIRIS Rex Live Presentation
DESCRIPTION:
URL:https://spacecenter.org/events-calendar-event/osiris-rex-live-presentation-3/2026-09-16/
LOCATION:Mission Sketch Staircase
CATEGORIES:Live Presentation
ATTACH;FMTTYPE=image/jpeg:https://spacecenter.org/wp-content/uploads/2024/03/web-march2024_tls_osirisrex.jpg
END:VEVENT
BEGIN:VEVENT
DTSTART;TZID=America/Chicago:20260917T104500
DTEND;TZID=America/Chicago:20260917T110000
DTSTAMP:20260423T013802
CREATED:20250602T212526Z
LAST-MODIFIED:20250603T185502Z
UID:10101739-1789641900-1789642800@spacecenter.org
SUMMARY:OSIRIS Rex Live Presentation
DESCRIPTION:
URL:https://spacecenter.org/events-calendar-event/osiris-rex-live-presentation/2026-09-17/
LOCATION:Mission Sketch Staircase
CATEGORIES:Live Presentation
ATTACH;FMTTYPE=image/jpeg:https://spacecenter.org/wp-content/uploads/2024/03/web-march2024_tls_osirisrex.jpg
END:VEVENT
BEGIN:VEVENT
DTSTART;TZID=America/Chicago:20260917T104500
DTEND;TZID=America/Chicago:20260917T111500
DTSTAMP:20260423T013802
CREATED:20250602T213905Z
LAST-MODIFIED:20250603T185637Z
UID:10109051-1789641900-1789643700@spacecenter.org
SUMMARY:Artemis Live Presentation
DESCRIPTION:
URL:https://spacecenter.org/events-calendar-event/artemis-live-presentation/2026-09-17/
LOCATION:Theater – Destiny
CATEGORIES:Live Presentation
ATTACH;FMTTYPE=image/jpeg:https://spacecenter.org/wp-content/uploads/2022/10/Artemis-Capsule.jpeg
END:VEVENT
BEGIN:VEVENT
DTSTART;TZID=America/Chicago:20260917T111500
DTEND;TZID=America/Chicago:20260917T113000
DTSTAMP:20260423T013802
CREATED:20250602T213010Z
LAST-MODIFIED:20250603T185901Z
UID:10120019-1789643700-1789644600@spacecenter.org
SUMMARY:Story Corner Live Presentation
DESCRIPTION:
URL:https://spacecenter.org/events-calendar-event/story-corner-live-presentation/2026-09-17/
LOCATION:Theater – Artemis
CATEGORIES:Live Presentation
END:VEVENT
BEGIN:VEVENT
DTSTART;TZID=America/Chicago:20260917T114500
DTEND;TZID=America/Chicago:20260917T120000
DTSTAMP:20260423T013802
CREATED:20250602T213503Z
LAST-MODIFIED:20250603T190256Z
UID:10138299-1789645500-1789646400@spacecenter.org
SUMMARY:James Webb Live Presentation
DESCRIPTION:
URL:https://spacecenter.org/events-calendar-event/james-webb-live-presentation/2026-09-17/
LOCATION:Theater – Destiny
CATEGORIES:Live Presentation
END:VEVENT
BEGIN:VEVENT
DTSTART;TZID=America/Chicago:20260917T121500
DTEND;TZID=America/Chicago:20260917T123000
DTSTAMP:20260423T013802
CREATED:20250602T213059Z
LAST-MODIFIED:20250603T190345Z
UID:10141955-1789647300-1789648200@spacecenter.org
SUMMARY:Story Corner Live Presentation
DESCRIPTION:
URL:https://spacecenter.org/events-calendar-event/story-corner-live-presentation-2/2026-09-17/
LOCATION:Theater – Artemis
CATEGORIES:Live Presentation
END:VEVENT
BEGIN:VEVENT
DTSTART;TZID=America/Chicago:20260917T124500
DTEND;TZID=America/Chicago:20260917T131500
DTSTAMP:20260423T013802
CREATED:20250602T214012Z
LAST-MODIFIED:20250603T190811Z
UID:10152923-1789649100-1789650900@spacecenter.org
SUMMARY:Artemis Live Presentation
DESCRIPTION:
URL:https://spacecenter.org/events-calendar-event/artemis-live-presentation-2/2026-09-17/
LOCATION:Theater – Destiny
CATEGORIES:Live Presentation
ATTACH;FMTTYPE=image/jpeg:https://spacecenter.org/wp-content/uploads/2022/10/Artemis-Capsule.jpeg
END:VEVENT
BEGIN:VEVENT
DTSTART;TZID=America/Chicago:20260917T131500
DTEND;TZID=America/Chicago:20260917T133000
DTSTAMP:20260423T013802
CREATED:20250602T213201Z
LAST-MODIFIED:20250603T190922Z
UID:10160235-1789650900-1789651800@spacecenter.org
SUMMARY:Story Corner Live Presentation
DESCRIPTION:
URL:https://spacecenter.org/events-calendar-event/story-corner-live-presentation-3/2026-09-17/
LOCATION:Theater – Artemis
CATEGORIES:Live Presentation
END:VEVENT
BEGIN:VEVENT
DTSTART;TZID=America/Chicago:20260917T134500
DTEND;TZID=America/Chicago:20260917T140000
DTSTAMP:20260423T013802
CREATED:20250602T212635Z
LAST-MODIFIED:20250603T191121Z
UID:10171203-1789652700-1789653600@spacecenter.org
SUMMARY:OSIRIS Rex Live Presentation
DESCRIPTION:
URL:https://spacecenter.org/events-calendar-event/osiris-rex-live-presentation-2/2026-09-17/
LOCATION:Mission Sketch Staircase
CATEGORIES:Live Presentation
ATTACH;FMTTYPE=image/jpeg:https://spacecenter.org/wp-content/uploads/2024/03/web-march2024_tls_osirisrex.jpg
END:VEVENT
BEGIN:VEVENT
DTSTART;TZID=America/Chicago:20260917T134500
DTEND;TZID=America/Chicago:20260917T140000
DTSTAMP:20260423T013802
CREATED:20250602T213557Z
LAST-MODIFIED:20250603T191327Z
UID:10174859-1789652700-1789653600@spacecenter.org
SUMMARY:James Webb Live Presentation
DESCRIPTION:
URL:https://spacecenter.org/events-calendar-event/james-webb-live-presentation-2/2026-09-17/
LOCATION:Theater – Destiny
CATEGORIES:Live Presentation
END:VEVENT
BEGIN:VEVENT
DTSTART;TZID=America/Chicago:20260917T144500
DTEND;TZID=America/Chicago:20260917T150000
DTSTAMP:20260423T013802
CREATED:20250602T213716Z
LAST-MODIFIED:20250603T191759Z
UID:10189483-1789656300-1789657200@spacecenter.org
SUMMARY:James Webb Live Presentation
DESCRIPTION:
URL:https://spacecenter.org/events-calendar-event/james-webb-live-presentation-3/2026-09-17/
LOCATION:Theater – Destiny
CATEGORIES:Live Presentation
END:VEVENT
BEGIN:VEVENT
DTSTART;TZID=America/Chicago:20260917T151500
DTEND;TZID=America/Chicago:20260917T153000
DTSTAMP:20260423T013802
CREATED:20250602T213249Z
LAST-MODIFIED:20250603T191942Z
UID:10196795-1789658100-1789659000@spacecenter.org
SUMMARY:Story Corner Live Presentation
DESCRIPTION:
URL:https://spacecenter.org/events-calendar-event/story-corner-live-presentation-4/2026-09-17/
LOCATION:Theater – Artemis
CATEGORIES:Live Presentation
END:VEVENT
BEGIN:VEVENT
DTSTART;TZID=America/Chicago:20260917T154500
DTEND;TZID=America/Chicago:20260917T161500
DTSTAMP:20260423T013802
CREATED:20250602T214125Z
LAST-MODIFIED:20250603T192119Z
UID:10207763-1789659900-1789661700@spacecenter.org
SUMMARY:Artemis Live Presentation
DESCRIPTION:
URL:https://spacecenter.org/events-calendar-event/artemis-live-presentation-3/2026-09-17/
LOCATION:Theater – Destiny
CATEGORIES:Live Presentation
ATTACH;FMTTYPE=image/jpeg:https://spacecenter.org/wp-content/uploads/2022/10/Artemis-Capsule.jpeg
END:VEVENT
BEGIN:VEVENT
DTSTART;TZID=America/Chicago:20260917T163000
DTEND;TZID=America/Chicago:20260917T164500
DTSTAMP:20260423T013802
CREATED:20250602T212726Z
LAST-MODIFIED:20250603T192225Z
UID:10215075-1789662600-1789663500@spacecenter.org
SUMMARY:OSIRIS Rex Live Presentation
DESCRIPTION:
URL:https://spacecenter.org/events-calendar-event/osiris-rex-live-presentation-3/2026-09-17/
LOCATION:Mission Sketch Staircase
CATEGORIES:Live Presentation
ATTACH;FMTTYPE=image/jpeg:https://spacecenter.org/wp-content/uploads/2024/03/web-march2024_tls_osirisrex.jpg
END:VEVENT
BEGIN:VEVENT
DTSTART;TZID=America/Chicago:20260918T104500
DTEND;TZID=America/Chicago:20260918T110000
DTSTAMP:20260423T013802
CREATED:20250602T212526Z
LAST-MODIFIED:20250603T185502Z
UID:10101740-1789728300-1789729200@spacecenter.org
SUMMARY:OSIRIS Rex Live Presentation
DESCRIPTION:
URL:https://spacecenter.org/events-calendar-event/osiris-rex-live-presentation/2026-09-18/
LOCATION:Mission Sketch Staircase
CATEGORIES:Live Presentation
ATTACH;FMTTYPE=image/jpeg:https://spacecenter.org/wp-content/uploads/2024/03/web-march2024_tls_osirisrex.jpg
END:VEVENT
END:VCALENDAR