BEGIN:VCALENDAR
VERSION:2.0
PRODID:-//Space Center Houston - ECPv6.15.15//NONSGML v1.0//EN
CALSCALE:GREGORIAN
METHOD:PUBLISH
X-WR-CALNAME:Space Center Houston
X-ORIGINAL-URL:https://spacecenter.org
X-WR-CALDESC:Events for Space Center Houston
REFRESH-INTERVAL;VALUE=DURATION:PT1H
X-Robots-Tag:noindex
X-PUBLISHED-TTL:PT1H
BEGIN:VTIMEZONE
TZID:America/Chicago
BEGIN:DAYLIGHT
TZOFFSETFROM:-0600
TZOFFSETTO:-0500
TZNAME:CDT
DTSTART:20260308T080000
END:DAYLIGHT
BEGIN:STANDARD
TZOFFSETFROM:-0500
TZOFFSETTO:-0600
TZNAME:CST
DTSTART:20261101T070000
END:STANDARD
BEGIN:DAYLIGHT
TZOFFSETFROM:-0600
TZOFFSETTO:-0500
TZNAME:CDT
DTSTART:20270314T080000
END:DAYLIGHT
BEGIN:STANDARD
TZOFFSETFROM:-0500
TZOFFSETTO:-0600
TZNAME:CST
DTSTART:20271107T070000
END:STANDARD
BEGIN:DAYLIGHT
TZOFFSETFROM:-0600
TZOFFSETTO:-0500
TZNAME:CDT
DTSTART:20280312T080000
END:DAYLIGHT
BEGIN:STANDARD
TZOFFSETFROM:-0500
TZOFFSETTO:-0600
TZNAME:CST
DTSTART:20281105T070000
END:STANDARD
END:VTIMEZONE
BEGIN:VEVENT
DTSTART;TZID=America/Chicago:20270627T151500
DTEND;TZID=America/Chicago:20270627T153000
DTSTAMP:20260422T225931
CREATED:20250602T213249Z
LAST-MODIFIED:20250603T191942Z
UID:10197078-1814109300-1814110200@spacecenter.org
SUMMARY:Story Corner Live Presentation
DESCRIPTION:
URL:https://spacecenter.org/events-calendar-event/story-corner-live-presentation-4/2027-06-27/
LOCATION:Theater – Artemis
CATEGORIES:Live Presentation
END:VEVENT
BEGIN:VEVENT
DTSTART;TZID=America/Chicago:20270627T154500
DTEND;TZID=America/Chicago:20270627T161500
DTSTAMP:20260422T225931
CREATED:20250602T214125Z
LAST-MODIFIED:20250603T192119Z
UID:10208046-1814111100-1814112900@spacecenter.org
SUMMARY:Artemis Live Presentation
DESCRIPTION:
URL:https://spacecenter.org/events-calendar-event/artemis-live-presentation-3/2027-06-27/
LOCATION:Theater – Destiny
CATEGORIES:Live Presentation
ATTACH;FMTTYPE=image/jpeg:https://spacecenter.org/wp-content/uploads/2022/10/Artemis-Capsule.jpeg
END:VEVENT
BEGIN:VEVENT
DTSTART;TZID=America/Chicago:20270627T163000
DTEND;TZID=America/Chicago:20270627T164500
DTSTAMP:20260422T225931
CREATED:20250602T212726Z
LAST-MODIFIED:20250603T192225Z
UID:10215358-1814113800-1814114700@spacecenter.org
SUMMARY:OSIRIS Rex Live Presentation
DESCRIPTION:
URL:https://spacecenter.org/events-calendar-event/osiris-rex-live-presentation-3/2027-06-27/
LOCATION:Mission Sketch Staircase
CATEGORIES:Live Presentation
ATTACH;FMTTYPE=image/jpeg:https://spacecenter.org/wp-content/uploads/2024/03/web-march2024_tls_osirisrex.jpg
END:VEVENT
BEGIN:VEVENT
DTSTART;TZID=America/Chicago:20270628T104500
DTEND;TZID=America/Chicago:20270628T110000
DTSTAMP:20260422T225931
CREATED:20250602T212526Z
LAST-MODIFIED:20250603T185502Z
UID:10102023-1814179500-1814180400@spacecenter.org
SUMMARY:OSIRIS Rex Live Presentation
DESCRIPTION:
URL:https://spacecenter.org/events-calendar-event/osiris-rex-live-presentation/2027-06-28/
LOCATION:Mission Sketch Staircase
CATEGORIES:Live Presentation
ATTACH;FMTTYPE=image/jpeg:https://spacecenter.org/wp-content/uploads/2024/03/web-march2024_tls_osirisrex.jpg
END:VEVENT
BEGIN:VEVENT
DTSTART;TZID=America/Chicago:20270628T104500
DTEND;TZID=America/Chicago:20270628T111500
DTSTAMP:20260422T225931
CREATED:20250602T213905Z
LAST-MODIFIED:20250603T185637Z
UID:10109335-1814179500-1814181300@spacecenter.org
SUMMARY:Artemis Live Presentation
DESCRIPTION:
URL:https://spacecenter.org/events-calendar-event/artemis-live-presentation/2027-06-28/
LOCATION:Theater – Destiny
CATEGORIES:Live Presentation
ATTACH;FMTTYPE=image/jpeg:https://spacecenter.org/wp-content/uploads/2022/10/Artemis-Capsule.jpeg
END:VEVENT
BEGIN:VEVENT
DTSTART;TZID=America/Chicago:20270628T111500
DTEND;TZID=America/Chicago:20270628T113000
DTSTAMP:20260422T225931
CREATED:20250602T213010Z
LAST-MODIFIED:20250603T185901Z
UID:10120303-1814181300-1814182200@spacecenter.org
SUMMARY:Story Corner Live Presentation
DESCRIPTION:
URL:https://spacecenter.org/events-calendar-event/story-corner-live-presentation/2027-06-28/
LOCATION:Theater – Artemis
CATEGORIES:Live Presentation
END:VEVENT
BEGIN:VEVENT
DTSTART;TZID=America/Chicago:20270628T114500
DTEND;TZID=America/Chicago:20270628T120000
DTSTAMP:20260422T225931
CREATED:20250602T213503Z
LAST-MODIFIED:20250603T190256Z
UID:10138583-1814183100-1814184000@spacecenter.org
SUMMARY:James Webb Live Presentation
DESCRIPTION:
URL:https://spacecenter.org/events-calendar-event/james-webb-live-presentation/2027-06-28/
LOCATION:Theater – Destiny
CATEGORIES:Live Presentation
END:VEVENT
BEGIN:VEVENT
DTSTART;TZID=America/Chicago:20270628T121500
DTEND;TZID=America/Chicago:20270628T123000
DTSTAMP:20260422T225931
CREATED:20250602T213059Z
LAST-MODIFIED:20250603T190345Z
UID:10142239-1814184900-1814185800@spacecenter.org
SUMMARY:Story Corner Live Presentation
DESCRIPTION:
URL:https://spacecenter.org/events-calendar-event/story-corner-live-presentation-2/2027-06-28/
LOCATION:Theater – Artemis
CATEGORIES:Live Presentation
END:VEVENT
BEGIN:VEVENT
DTSTART;TZID=America/Chicago:20270628T124500
DTEND;TZID=America/Chicago:20270628T131500
DTSTAMP:20260422T225931
CREATED:20250602T214012Z
LAST-MODIFIED:20250603T190811Z
UID:10153207-1814186700-1814188500@spacecenter.org
SUMMARY:Artemis Live Presentation
DESCRIPTION:
URL:https://spacecenter.org/events-calendar-event/artemis-live-presentation-2/2027-06-28/
LOCATION:Theater – Destiny
CATEGORIES:Live Presentation
ATTACH;FMTTYPE=image/jpeg:https://spacecenter.org/wp-content/uploads/2022/10/Artemis-Capsule.jpeg
END:VEVENT
BEGIN:VEVENT
DTSTART;TZID=America/Chicago:20270628T131500
DTEND;TZID=America/Chicago:20270628T133000
DTSTAMP:20260422T225931
CREATED:20250602T213201Z
LAST-MODIFIED:20250603T190922Z
UID:10160519-1814188500-1814189400@spacecenter.org
SUMMARY:Story Corner Live Presentation
DESCRIPTION:
URL:https://spacecenter.org/events-calendar-event/story-corner-live-presentation-3/2027-06-28/
LOCATION:Theater – Artemis
CATEGORIES:Live Presentation
END:VEVENT
BEGIN:VEVENT
DTSTART;TZID=America/Chicago:20270628T134500
DTEND;TZID=America/Chicago:20270628T140000
DTSTAMP:20260422T225931
CREATED:20250602T212635Z
LAST-MODIFIED:20250603T191121Z
UID:10171487-1814190300-1814191200@spacecenter.org
SUMMARY:OSIRIS Rex Live Presentation
DESCRIPTION:
URL:https://spacecenter.org/events-calendar-event/osiris-rex-live-presentation-2/2027-06-28/
LOCATION:Mission Sketch Staircase
CATEGORIES:Live Presentation
ATTACH;FMTTYPE=image/jpeg:https://spacecenter.org/wp-content/uploads/2024/03/web-march2024_tls_osirisrex.jpg
END:VEVENT
BEGIN:VEVENT
DTSTART;TZID=America/Chicago:20270628T134500
DTEND;TZID=America/Chicago:20270628T140000
DTSTAMP:20260422T225931
CREATED:20250602T213557Z
LAST-MODIFIED:20250603T191327Z
UID:10175143-1814190300-1814191200@spacecenter.org
SUMMARY:James Webb Live Presentation
DESCRIPTION:
URL:https://spacecenter.org/events-calendar-event/james-webb-live-presentation-2/2027-06-28/
LOCATION:Theater – Destiny
CATEGORIES:Live Presentation
END:VEVENT
BEGIN:VEVENT
DTSTART;TZID=America/Chicago:20270628T144500
DTEND;TZID=America/Chicago:20270628T150000
DTSTAMP:20260422T225931
CREATED:20250602T213716Z
LAST-MODIFIED:20250603T191759Z
UID:10189767-1814193900-1814194800@spacecenter.org
SUMMARY:James Webb Live Presentation
DESCRIPTION:
URL:https://spacecenter.org/events-calendar-event/james-webb-live-presentation-3/2027-06-28/
LOCATION:Theater – Destiny
CATEGORIES:Live Presentation
END:VEVENT
BEGIN:VEVENT
DTSTART;TZID=America/Chicago:20270628T151500
DTEND;TZID=America/Chicago:20270628T153000
DTSTAMP:20260422T225931
CREATED:20250602T213249Z
LAST-MODIFIED:20250603T191942Z
UID:10197079-1814195700-1814196600@spacecenter.org
SUMMARY:Story Corner Live Presentation
DESCRIPTION:
URL:https://spacecenter.org/events-calendar-event/story-corner-live-presentation-4/2027-06-28/
LOCATION:Theater – Artemis
CATEGORIES:Live Presentation
END:VEVENT
BEGIN:VEVENT
DTSTART;TZID=America/Chicago:20270628T154500
DTEND;TZID=America/Chicago:20270628T161500
DTSTAMP:20260422T225931
CREATED:20250602T214125Z
LAST-MODIFIED:20250603T192119Z
UID:10208047-1814197500-1814199300@spacecenter.org
SUMMARY:Artemis Live Presentation
DESCRIPTION:
URL:https://spacecenter.org/events-calendar-event/artemis-live-presentation-3/2027-06-28/
LOCATION:Theater – Destiny
CATEGORIES:Live Presentation
ATTACH;FMTTYPE=image/jpeg:https://spacecenter.org/wp-content/uploads/2022/10/Artemis-Capsule.jpeg
END:VEVENT
BEGIN:VEVENT
DTSTART;TZID=America/Chicago:20270628T163000
DTEND;TZID=America/Chicago:20270628T164500
DTSTAMP:20260422T225931
CREATED:20250602T212726Z
LAST-MODIFIED:20250603T192225Z
UID:10215359-1814200200-1814201100@spacecenter.org
SUMMARY:OSIRIS Rex Live Presentation
DESCRIPTION:
URL:https://spacecenter.org/events-calendar-event/osiris-rex-live-presentation-3/2027-06-28/
LOCATION:Mission Sketch Staircase
CATEGORIES:Live Presentation
ATTACH;FMTTYPE=image/jpeg:https://spacecenter.org/wp-content/uploads/2024/03/web-march2024_tls_osirisrex.jpg
END:VEVENT
BEGIN:VEVENT
DTSTART;TZID=America/Chicago:20270629T104500
DTEND;TZID=America/Chicago:20270629T110000
DTSTAMP:20260422T225931
CREATED:20250602T212526Z
LAST-MODIFIED:20250603T185502Z
UID:10102024-1814265900-1814266800@spacecenter.org
SUMMARY:OSIRIS Rex Live Presentation
DESCRIPTION:
URL:https://spacecenter.org/events-calendar-event/osiris-rex-live-presentation/2027-06-29/
LOCATION:Mission Sketch Staircase
CATEGORIES:Live Presentation
ATTACH;FMTTYPE=image/jpeg:https://spacecenter.org/wp-content/uploads/2024/03/web-march2024_tls_osirisrex.jpg
END:VEVENT
BEGIN:VEVENT
DTSTART;TZID=America/Chicago:20270629T104500
DTEND;TZID=America/Chicago:20270629T111500
DTSTAMP:20260422T225931
CREATED:20250602T213905Z
LAST-MODIFIED:20250603T185637Z
UID:10109336-1814265900-1814267700@spacecenter.org
SUMMARY:Artemis Live Presentation
DESCRIPTION:
URL:https://spacecenter.org/events-calendar-event/artemis-live-presentation/2027-06-29/
LOCATION:Theater – Destiny
CATEGORIES:Live Presentation
ATTACH;FMTTYPE=image/jpeg:https://spacecenter.org/wp-content/uploads/2022/10/Artemis-Capsule.jpeg
END:VEVENT
BEGIN:VEVENT
DTSTART;TZID=America/Chicago:20270629T111500
DTEND;TZID=America/Chicago:20270629T113000
DTSTAMP:20260422T225931
CREATED:20250602T213010Z
LAST-MODIFIED:20250603T185901Z
UID:10120304-1814267700-1814268600@spacecenter.org
SUMMARY:Story Corner Live Presentation
DESCRIPTION:
URL:https://spacecenter.org/events-calendar-event/story-corner-live-presentation/2027-06-29/
LOCATION:Theater – Artemis
CATEGORIES:Live Presentation
END:VEVENT
BEGIN:VEVENT
DTSTART;TZID=America/Chicago:20270629T114500
DTEND;TZID=America/Chicago:20270629T120000
DTSTAMP:20260422T225931
CREATED:20250602T213503Z
LAST-MODIFIED:20250603T190256Z
UID:10138584-1814269500-1814270400@spacecenter.org
SUMMARY:James Webb Live Presentation
DESCRIPTION:
URL:https://spacecenter.org/events-calendar-event/james-webb-live-presentation/2027-06-29/
LOCATION:Theater – Destiny
CATEGORIES:Live Presentation
END:VEVENT
BEGIN:VEVENT
DTSTART;TZID=America/Chicago:20270629T121500
DTEND;TZID=America/Chicago:20270629T123000
DTSTAMP:20260422T225931
CREATED:20250602T213059Z
LAST-MODIFIED:20250603T190345Z
UID:10142240-1814271300-1814272200@spacecenter.org
SUMMARY:Story Corner Live Presentation
DESCRIPTION:
URL:https://spacecenter.org/events-calendar-event/story-corner-live-presentation-2/2027-06-29/
LOCATION:Theater – Artemis
CATEGORIES:Live Presentation
END:VEVENT
BEGIN:VEVENT
DTSTART;TZID=America/Chicago:20270629T124500
DTEND;TZID=America/Chicago:20270629T131500
DTSTAMP:20260422T225931
CREATED:20250602T214012Z
LAST-MODIFIED:20250603T190811Z
UID:10153208-1814273100-1814274900@spacecenter.org
SUMMARY:Artemis Live Presentation
DESCRIPTION:
URL:https://spacecenter.org/events-calendar-event/artemis-live-presentation-2/2027-06-29/
LOCATION:Theater – Destiny
CATEGORIES:Live Presentation
ATTACH;FMTTYPE=image/jpeg:https://spacecenter.org/wp-content/uploads/2022/10/Artemis-Capsule.jpeg
END:VEVENT
BEGIN:VEVENT
DTSTART;TZID=America/Chicago:20270629T131500
DTEND;TZID=America/Chicago:20270629T133000
DTSTAMP:20260422T225931
CREATED:20250602T213201Z
LAST-MODIFIED:20250603T190922Z
UID:10160520-1814274900-1814275800@spacecenter.org
SUMMARY:Story Corner Live Presentation
DESCRIPTION:
URL:https://spacecenter.org/events-calendar-event/story-corner-live-presentation-3/2027-06-29/
LOCATION:Theater – Artemis
CATEGORIES:Live Presentation
END:VEVENT
BEGIN:VEVENT
DTSTART;TZID=America/Chicago:20270629T134500
DTEND;TZID=America/Chicago:20270629T140000
DTSTAMP:20260422T225931
CREATED:20250602T212635Z
LAST-MODIFIED:20250603T191121Z
UID:10171488-1814276700-1814277600@spacecenter.org
SUMMARY:OSIRIS Rex Live Presentation
DESCRIPTION:
URL:https://spacecenter.org/events-calendar-event/osiris-rex-live-presentation-2/2027-06-29/
LOCATION:Mission Sketch Staircase
CATEGORIES:Live Presentation
ATTACH;FMTTYPE=image/jpeg:https://spacecenter.org/wp-content/uploads/2024/03/web-march2024_tls_osirisrex.jpg
END:VEVENT
BEGIN:VEVENT
DTSTART;TZID=America/Chicago:20270629T134500
DTEND;TZID=America/Chicago:20270629T140000
DTSTAMP:20260422T225931
CREATED:20250602T213557Z
LAST-MODIFIED:20250603T191327Z
UID:10175144-1814276700-1814277600@spacecenter.org
SUMMARY:James Webb Live Presentation
DESCRIPTION:
URL:https://spacecenter.org/events-calendar-event/james-webb-live-presentation-2/2027-06-29/
LOCATION:Theater – Destiny
CATEGORIES:Live Presentation
END:VEVENT
BEGIN:VEVENT
DTSTART;TZID=America/Chicago:20270629T144500
DTEND;TZID=America/Chicago:20270629T150000
DTSTAMP:20260422T225931
CREATED:20250602T213716Z
LAST-MODIFIED:20250603T191759Z
UID:10189768-1814280300-1814281200@spacecenter.org
SUMMARY:James Webb Live Presentation
DESCRIPTION:
URL:https://spacecenter.org/events-calendar-event/james-webb-live-presentation-3/2027-06-29/
LOCATION:Theater – Destiny
CATEGORIES:Live Presentation
END:VEVENT
BEGIN:VEVENT
DTSTART;TZID=America/Chicago:20270629T151500
DTEND;TZID=America/Chicago:20270629T153000
DTSTAMP:20260422T225931
CREATED:20250602T213249Z
LAST-MODIFIED:20250603T191942Z
UID:10197080-1814282100-1814283000@spacecenter.org
SUMMARY:Story Corner Live Presentation
DESCRIPTION:
URL:https://spacecenter.org/events-calendar-event/story-corner-live-presentation-4/2027-06-29/
LOCATION:Theater – Artemis
CATEGORIES:Live Presentation
END:VEVENT
BEGIN:VEVENT
DTSTART;TZID=America/Chicago:20270629T154500
DTEND;TZID=America/Chicago:20270629T161500
DTSTAMP:20260422T225931
CREATED:20250602T214125Z
LAST-MODIFIED:20250603T192119Z
UID:10208048-1814283900-1814285700@spacecenter.org
SUMMARY:Artemis Live Presentation
DESCRIPTION:
URL:https://spacecenter.org/events-calendar-event/artemis-live-presentation-3/2027-06-29/
LOCATION:Theater – Destiny
CATEGORIES:Live Presentation
ATTACH;FMTTYPE=image/jpeg:https://spacecenter.org/wp-content/uploads/2022/10/Artemis-Capsule.jpeg
END:VEVENT
BEGIN:VEVENT
DTSTART;TZID=America/Chicago:20270629T163000
DTEND;TZID=America/Chicago:20270629T164500
DTSTAMP:20260422T225931
CREATED:20250602T212726Z
LAST-MODIFIED:20250603T192225Z
UID:10215360-1814286600-1814287500@spacecenter.org
SUMMARY:OSIRIS Rex Live Presentation
DESCRIPTION:
URL:https://spacecenter.org/events-calendar-event/osiris-rex-live-presentation-3/2027-06-29/
LOCATION:Mission Sketch Staircase
CATEGORIES:Live Presentation
ATTACH;FMTTYPE=image/jpeg:https://spacecenter.org/wp-content/uploads/2024/03/web-march2024_tls_osirisrex.jpg
END:VEVENT
BEGIN:VEVENT
DTSTART;TZID=America/Chicago:20270630T104500
DTEND;TZID=America/Chicago:20270630T110000
DTSTAMP:20260422T225931
CREATED:20250602T212526Z
LAST-MODIFIED:20250603T185502Z
UID:10102025-1814352300-1814353200@spacecenter.org
SUMMARY:OSIRIS Rex Live Presentation
DESCRIPTION:
URL:https://spacecenter.org/events-calendar-event/osiris-rex-live-presentation/2027-06-30/
LOCATION:Mission Sketch Staircase
CATEGORIES:Live Presentation
ATTACH;FMTTYPE=image/jpeg:https://spacecenter.org/wp-content/uploads/2024/03/web-march2024_tls_osirisrex.jpg
END:VEVENT
END:VCALENDAR