BEGIN:VCALENDAR
VERSION:2.0
PRODID:-//Space Center Houston - ECPv6.15.15//NONSGML v1.0//EN
CALSCALE:GREGORIAN
METHOD:PUBLISH
X-WR-CALNAME:Space Center Houston
X-ORIGINAL-URL:https://spacecenter.org
X-WR-CALDESC:Events for Space Center Houston
REFRESH-INTERVAL;VALUE=DURATION:PT1H
X-Robots-Tag:noindex
X-PUBLISHED-TTL:PT1H
BEGIN:VTIMEZONE
TZID:America/Chicago
BEGIN:DAYLIGHT
TZOFFSETFROM:-0600
TZOFFSETTO:-0500
TZNAME:CDT
DTSTART:20250309T080000
END:DAYLIGHT
BEGIN:STANDARD
TZOFFSETFROM:-0500
TZOFFSETTO:-0600
TZNAME:CST
DTSTART:20251102T070000
END:STANDARD
BEGIN:DAYLIGHT
TZOFFSETFROM:-0600
TZOFFSETTO:-0500
TZNAME:CDT
DTSTART:20260308T080000
END:DAYLIGHT
BEGIN:STANDARD
TZOFFSETFROM:-0500
TZOFFSETTO:-0600
TZNAME:CST
DTSTART:20261101T070000
END:STANDARD
BEGIN:DAYLIGHT
TZOFFSETFROM:-0600
TZOFFSETTO:-0500
TZNAME:CDT
DTSTART:20270314T080000
END:DAYLIGHT
BEGIN:STANDARD
TZOFFSETFROM:-0500
TZOFFSETTO:-0600
TZNAME:CST
DTSTART:20271107T070000
END:STANDARD
END:VTIMEZONE
BEGIN:VEVENT
DTSTART;TZID=America/Chicago:20260911T163000
DTEND;TZID=America/Chicago:20260911T164500
DTSTAMP:20260421T214334
CREATED:20250602T212726Z
LAST-MODIFIED:20250603T192225Z
UID:10215069-1789144200-1789145100@spacecenter.org
SUMMARY:OSIRIS Rex Live Presentation
DESCRIPTION:
URL:https://spacecenter.org/events-calendar-event/osiris-rex-live-presentation-3/2026-09-11/
LOCATION:Mission Sketch Staircase
CATEGORIES:Live Presentation
ATTACH;FMTTYPE=image/jpeg:https://spacecenter.org/wp-content/uploads/2024/03/web-march2024_tls_osirisrex.jpg
END:VEVENT
BEGIN:VEVENT
DTSTART;TZID=America/Chicago:20260912T104500
DTEND;TZID=America/Chicago:20260912T110000
DTSTAMP:20260421T214334
CREATED:20250602T212526Z
LAST-MODIFIED:20250603T185502Z
UID:10101734-1789209900-1789210800@spacecenter.org
SUMMARY:OSIRIS Rex Live Presentation
DESCRIPTION:
URL:https://spacecenter.org/events-calendar-event/osiris-rex-live-presentation/2026-09-12/
LOCATION:Mission Sketch Staircase
CATEGORIES:Live Presentation
ATTACH;FMTTYPE=image/jpeg:https://spacecenter.org/wp-content/uploads/2024/03/web-march2024_tls_osirisrex.jpg
END:VEVENT
BEGIN:VEVENT
DTSTART;TZID=America/Chicago:20260912T104500
DTEND;TZID=America/Chicago:20260912T111500
DTSTAMP:20260421T214334
CREATED:20250602T213905Z
LAST-MODIFIED:20250603T185637Z
UID:10109046-1789209900-1789211700@spacecenter.org
SUMMARY:Artemis Live Presentation
DESCRIPTION:
URL:https://spacecenter.org/events-calendar-event/artemis-live-presentation/2026-09-12/
LOCATION:Theater – Destiny
CATEGORIES:Live Presentation
ATTACH;FMTTYPE=image/jpeg:https://spacecenter.org/wp-content/uploads/2022/10/Artemis-Capsule.jpeg
END:VEVENT
BEGIN:VEVENT
DTSTART;TZID=America/Chicago:20260912T111500
DTEND;TZID=America/Chicago:20260912T113000
DTSTAMP:20260421T214334
CREATED:20250602T213010Z
LAST-MODIFIED:20250603T185901Z
UID:10120014-1789211700-1789212600@spacecenter.org
SUMMARY:Story Corner Live Presentation
DESCRIPTION:
URL:https://spacecenter.org/events-calendar-event/story-corner-live-presentation/2026-09-12/
LOCATION:Theater – Artemis
CATEGORIES:Live Presentation
END:VEVENT
BEGIN:VEVENT
DTSTART;TZID=America/Chicago:20260912T114500
DTEND;TZID=America/Chicago:20260912T120000
DTSTAMP:20260421T214334
CREATED:20250602T213503Z
LAST-MODIFIED:20250603T190256Z
UID:10138294-1789213500-1789214400@spacecenter.org
SUMMARY:James Webb Live Presentation
DESCRIPTION:
URL:https://spacecenter.org/events-calendar-event/james-webb-live-presentation/2026-09-12/
LOCATION:Theater – Destiny
CATEGORIES:Live Presentation
END:VEVENT
BEGIN:VEVENT
DTSTART;TZID=America/Chicago:20260912T121500
DTEND;TZID=America/Chicago:20260912T123000
DTSTAMP:20260421T214334
CREATED:20250602T213059Z
LAST-MODIFIED:20250603T190345Z
UID:10141950-1789215300-1789216200@spacecenter.org
SUMMARY:Story Corner Live Presentation
DESCRIPTION:
URL:https://spacecenter.org/events-calendar-event/story-corner-live-presentation-2/2026-09-12/
LOCATION:Theater – Artemis
CATEGORIES:Live Presentation
END:VEVENT
BEGIN:VEVENT
DTSTART;TZID=America/Chicago:20260912T124500
DTEND;TZID=America/Chicago:20260912T131500
DTSTAMP:20260421T214334
CREATED:20250602T214012Z
LAST-MODIFIED:20250603T190811Z
UID:10152918-1789217100-1789218900@spacecenter.org
SUMMARY:Artemis Live Presentation
DESCRIPTION:
URL:https://spacecenter.org/events-calendar-event/artemis-live-presentation-2/2026-09-12/
LOCATION:Theater – Destiny
CATEGORIES:Live Presentation
ATTACH;FMTTYPE=image/jpeg:https://spacecenter.org/wp-content/uploads/2022/10/Artemis-Capsule.jpeg
END:VEVENT
BEGIN:VEVENT
DTSTART;TZID=America/Chicago:20260912T131500
DTEND;TZID=America/Chicago:20260912T133000
DTSTAMP:20260421T214334
CREATED:20250602T213201Z
LAST-MODIFIED:20250603T190922Z
UID:10160230-1789218900-1789219800@spacecenter.org
SUMMARY:Story Corner Live Presentation
DESCRIPTION:
URL:https://spacecenter.org/events-calendar-event/story-corner-live-presentation-3/2026-09-12/
LOCATION:Theater – Artemis
CATEGORIES:Live Presentation
END:VEVENT
BEGIN:VEVENT
DTSTART;TZID=America/Chicago:20260912T134500
DTEND;TZID=America/Chicago:20260912T140000
DTSTAMP:20260421T214334
CREATED:20250602T212635Z
LAST-MODIFIED:20250603T191121Z
UID:10171198-1789220700-1789221600@spacecenter.org
SUMMARY:OSIRIS Rex Live Presentation
DESCRIPTION:
URL:https://spacecenter.org/events-calendar-event/osiris-rex-live-presentation-2/2026-09-12/
LOCATION:Mission Sketch Staircase
CATEGORIES:Live Presentation
ATTACH;FMTTYPE=image/jpeg:https://spacecenter.org/wp-content/uploads/2024/03/web-march2024_tls_osirisrex.jpg
END:VEVENT
BEGIN:VEVENT
DTSTART;TZID=America/Chicago:20260912T134500
DTEND;TZID=America/Chicago:20260912T140000
DTSTAMP:20260421T214334
CREATED:20250602T213557Z
LAST-MODIFIED:20250603T191327Z
UID:10174854-1789220700-1789221600@spacecenter.org
SUMMARY:James Webb Live Presentation
DESCRIPTION:
URL:https://spacecenter.org/events-calendar-event/james-webb-live-presentation-2/2026-09-12/
LOCATION:Theater – Destiny
CATEGORIES:Live Presentation
END:VEVENT
BEGIN:VEVENT
DTSTART;TZID=America/Chicago:20260912T144500
DTEND;TZID=America/Chicago:20260912T150000
DTSTAMP:20260421T214334
CREATED:20250602T213716Z
LAST-MODIFIED:20250603T191759Z
UID:10189478-1789224300-1789225200@spacecenter.org
SUMMARY:James Webb Live Presentation
DESCRIPTION:
URL:https://spacecenter.org/events-calendar-event/james-webb-live-presentation-3/2026-09-12/
LOCATION:Theater – Destiny
CATEGORIES:Live Presentation
END:VEVENT
BEGIN:VEVENT
DTSTART;TZID=America/Chicago:20260912T151500
DTEND;TZID=America/Chicago:20260912T153000
DTSTAMP:20260421T214334
CREATED:20250602T213249Z
LAST-MODIFIED:20250603T191942Z
UID:10196790-1789226100-1789227000@spacecenter.org
SUMMARY:Story Corner Live Presentation
DESCRIPTION:
URL:https://spacecenter.org/events-calendar-event/story-corner-live-presentation-4/2026-09-12/
LOCATION:Theater – Artemis
CATEGORIES:Live Presentation
END:VEVENT
BEGIN:VEVENT
DTSTART;TZID=America/Chicago:20260912T154500
DTEND;TZID=America/Chicago:20260912T161500
DTSTAMP:20260421T214334
CREATED:20250602T214125Z
LAST-MODIFIED:20250603T192119Z
UID:10207758-1789227900-1789229700@spacecenter.org
SUMMARY:Artemis Live Presentation
DESCRIPTION:
URL:https://spacecenter.org/events-calendar-event/artemis-live-presentation-3/2026-09-12/
LOCATION:Theater – Destiny
CATEGORIES:Live Presentation
ATTACH;FMTTYPE=image/jpeg:https://spacecenter.org/wp-content/uploads/2022/10/Artemis-Capsule.jpeg
END:VEVENT
BEGIN:VEVENT
DTSTART;TZID=America/Chicago:20260912T163000
DTEND;TZID=America/Chicago:20260912T164500
DTSTAMP:20260421T214334
CREATED:20250602T212726Z
LAST-MODIFIED:20250603T192225Z
UID:10215070-1789230600-1789231500@spacecenter.org
SUMMARY:OSIRIS Rex Live Presentation
DESCRIPTION:
URL:https://spacecenter.org/events-calendar-event/osiris-rex-live-presentation-3/2026-09-12/
LOCATION:Mission Sketch Staircase
CATEGORIES:Live Presentation
ATTACH;FMTTYPE=image/jpeg:https://spacecenter.org/wp-content/uploads/2024/03/web-march2024_tls_osirisrex.jpg
END:VEVENT
BEGIN:VEVENT
DTSTART;TZID=America/Chicago:20260913T104500
DTEND;TZID=America/Chicago:20260913T110000
DTSTAMP:20260421T214334
CREATED:20250602T212526Z
LAST-MODIFIED:20250603T185502Z
UID:10101735-1789296300-1789297200@spacecenter.org
SUMMARY:OSIRIS Rex Live Presentation
DESCRIPTION:
URL:https://spacecenter.org/events-calendar-event/osiris-rex-live-presentation/2026-09-13/
LOCATION:Mission Sketch Staircase
CATEGORIES:Live Presentation
ATTACH;FMTTYPE=image/jpeg:https://spacecenter.org/wp-content/uploads/2024/03/web-march2024_tls_osirisrex.jpg
END:VEVENT
BEGIN:VEVENT
DTSTART;TZID=America/Chicago:20260913T104500
DTEND;TZID=America/Chicago:20260913T111500
DTSTAMP:20260421T214334
CREATED:20250602T213905Z
LAST-MODIFIED:20250603T185637Z
UID:10109047-1789296300-1789298100@spacecenter.org
SUMMARY:Artemis Live Presentation
DESCRIPTION:
URL:https://spacecenter.org/events-calendar-event/artemis-live-presentation/2026-09-13/
LOCATION:Theater – Destiny
CATEGORIES:Live Presentation
ATTACH;FMTTYPE=image/jpeg:https://spacecenter.org/wp-content/uploads/2022/10/Artemis-Capsule.jpeg
END:VEVENT
BEGIN:VEVENT
DTSTART;TZID=America/Chicago:20260913T111500
DTEND;TZID=America/Chicago:20260913T113000
DTSTAMP:20260421T214334
CREATED:20250602T213010Z
LAST-MODIFIED:20250603T185901Z
UID:10120015-1789298100-1789299000@spacecenter.org
SUMMARY:Story Corner Live Presentation
DESCRIPTION:
URL:https://spacecenter.org/events-calendar-event/story-corner-live-presentation/2026-09-13/
LOCATION:Theater – Artemis
CATEGORIES:Live Presentation
END:VEVENT
BEGIN:VEVENT
DTSTART;TZID=America/Chicago:20260913T114500
DTEND;TZID=America/Chicago:20260913T120000
DTSTAMP:20260421T214334
CREATED:20250602T213503Z
LAST-MODIFIED:20250603T190256Z
UID:10138295-1789299900-1789300800@spacecenter.org
SUMMARY:James Webb Live Presentation
DESCRIPTION:
URL:https://spacecenter.org/events-calendar-event/james-webb-live-presentation/2026-09-13/
LOCATION:Theater – Destiny
CATEGORIES:Live Presentation
END:VEVENT
BEGIN:VEVENT
DTSTART;TZID=America/Chicago:20260913T121500
DTEND;TZID=America/Chicago:20260913T123000
DTSTAMP:20260421T214334
CREATED:20250602T213059Z
LAST-MODIFIED:20250603T190345Z
UID:10141951-1789301700-1789302600@spacecenter.org
SUMMARY:Story Corner Live Presentation
DESCRIPTION:
URL:https://spacecenter.org/events-calendar-event/story-corner-live-presentation-2/2026-09-13/
LOCATION:Theater – Artemis
CATEGORIES:Live Presentation
END:VEVENT
BEGIN:VEVENT
DTSTART;TZID=America/Chicago:20260913T124500
DTEND;TZID=America/Chicago:20260913T131500
DTSTAMP:20260421T214334
CREATED:20250602T214012Z
LAST-MODIFIED:20250603T190811Z
UID:10152919-1789303500-1789305300@spacecenter.org
SUMMARY:Artemis Live Presentation
DESCRIPTION:
URL:https://spacecenter.org/events-calendar-event/artemis-live-presentation-2/2026-09-13/
LOCATION:Theater – Destiny
CATEGORIES:Live Presentation
ATTACH;FMTTYPE=image/jpeg:https://spacecenter.org/wp-content/uploads/2022/10/Artemis-Capsule.jpeg
END:VEVENT
BEGIN:VEVENT
DTSTART;TZID=America/Chicago:20260913T131500
DTEND;TZID=America/Chicago:20260913T133000
DTSTAMP:20260421T214334
CREATED:20250602T213201Z
LAST-MODIFIED:20250603T190922Z
UID:10160231-1789305300-1789306200@spacecenter.org
SUMMARY:Story Corner Live Presentation
DESCRIPTION:
URL:https://spacecenter.org/events-calendar-event/story-corner-live-presentation-3/2026-09-13/
LOCATION:Theater – Artemis
CATEGORIES:Live Presentation
END:VEVENT
BEGIN:VEVENT
DTSTART;TZID=America/Chicago:20260913T134500
DTEND;TZID=America/Chicago:20260913T140000
DTSTAMP:20260421T214334
CREATED:20250602T212635Z
LAST-MODIFIED:20250603T191121Z
UID:10171199-1789307100-1789308000@spacecenter.org
SUMMARY:OSIRIS Rex Live Presentation
DESCRIPTION:
URL:https://spacecenter.org/events-calendar-event/osiris-rex-live-presentation-2/2026-09-13/
LOCATION:Mission Sketch Staircase
CATEGORIES:Live Presentation
ATTACH;FMTTYPE=image/jpeg:https://spacecenter.org/wp-content/uploads/2024/03/web-march2024_tls_osirisrex.jpg
END:VEVENT
BEGIN:VEVENT
DTSTART;TZID=America/Chicago:20260913T134500
DTEND;TZID=America/Chicago:20260913T140000
DTSTAMP:20260421T214334
CREATED:20250602T213557Z
LAST-MODIFIED:20250603T191327Z
UID:10174855-1789307100-1789308000@spacecenter.org
SUMMARY:James Webb Live Presentation
DESCRIPTION:
URL:https://spacecenter.org/events-calendar-event/james-webb-live-presentation-2/2026-09-13/
LOCATION:Theater – Destiny
CATEGORIES:Live Presentation
END:VEVENT
BEGIN:VEVENT
DTSTART;TZID=America/Chicago:20260913T144500
DTEND;TZID=America/Chicago:20260913T150000
DTSTAMP:20260421T214334
CREATED:20250602T213716Z
LAST-MODIFIED:20250603T191759Z
UID:10189479-1789310700-1789311600@spacecenter.org
SUMMARY:James Webb Live Presentation
DESCRIPTION:
URL:https://spacecenter.org/events-calendar-event/james-webb-live-presentation-3/2026-09-13/
LOCATION:Theater – Destiny
CATEGORIES:Live Presentation
END:VEVENT
BEGIN:VEVENT
DTSTART;TZID=America/Chicago:20260913T151500
DTEND;TZID=America/Chicago:20260913T153000
DTSTAMP:20260421T214334
CREATED:20250602T213249Z
LAST-MODIFIED:20250603T191942Z
UID:10196791-1789312500-1789313400@spacecenter.org
SUMMARY:Story Corner Live Presentation
DESCRIPTION:
URL:https://spacecenter.org/events-calendar-event/story-corner-live-presentation-4/2026-09-13/
LOCATION:Theater – Artemis
CATEGORIES:Live Presentation
END:VEVENT
BEGIN:VEVENT
DTSTART;TZID=America/Chicago:20260913T154500
DTEND;TZID=America/Chicago:20260913T161500
DTSTAMP:20260421T214334
CREATED:20250602T214125Z
LAST-MODIFIED:20250603T192119Z
UID:10207759-1789314300-1789316100@spacecenter.org
SUMMARY:Artemis Live Presentation
DESCRIPTION:
URL:https://spacecenter.org/events-calendar-event/artemis-live-presentation-3/2026-09-13/
LOCATION:Theater – Destiny
CATEGORIES:Live Presentation
ATTACH;FMTTYPE=image/jpeg:https://spacecenter.org/wp-content/uploads/2022/10/Artemis-Capsule.jpeg
END:VEVENT
BEGIN:VEVENT
DTSTART;TZID=America/Chicago:20260913T163000
DTEND;TZID=America/Chicago:20260913T164500
DTSTAMP:20260421T214334
CREATED:20250602T212726Z
LAST-MODIFIED:20250603T192225Z
UID:10215071-1789317000-1789317900@spacecenter.org
SUMMARY:OSIRIS Rex Live Presentation
DESCRIPTION:
URL:https://spacecenter.org/events-calendar-event/osiris-rex-live-presentation-3/2026-09-13/
LOCATION:Mission Sketch Staircase
CATEGORIES:Live Presentation
ATTACH;FMTTYPE=image/jpeg:https://spacecenter.org/wp-content/uploads/2024/03/web-march2024_tls_osirisrex.jpg
END:VEVENT
BEGIN:VEVENT
DTSTART;TZID=America/Chicago:20260914T104500
DTEND;TZID=America/Chicago:20260914T110000
DTSTAMP:20260421T214334
CREATED:20250602T212526Z
LAST-MODIFIED:20250603T185502Z
UID:10101736-1789382700-1789383600@spacecenter.org
SUMMARY:OSIRIS Rex Live Presentation
DESCRIPTION:
URL:https://spacecenter.org/events-calendar-event/osiris-rex-live-presentation/2026-09-14/
LOCATION:Mission Sketch Staircase
CATEGORIES:Live Presentation
ATTACH;FMTTYPE=image/jpeg:https://spacecenter.org/wp-content/uploads/2024/03/web-march2024_tls_osirisrex.jpg
END:VEVENT
BEGIN:VEVENT
DTSTART;TZID=America/Chicago:20260914T104500
DTEND;TZID=America/Chicago:20260914T111500
DTSTAMP:20260421T214334
CREATED:20250602T213905Z
LAST-MODIFIED:20250603T185637Z
UID:10109048-1789382700-1789384500@spacecenter.org
SUMMARY:Artemis Live Presentation
DESCRIPTION:
URL:https://spacecenter.org/events-calendar-event/artemis-live-presentation/2026-09-14/
LOCATION:Theater – Destiny
CATEGORIES:Live Presentation
ATTACH;FMTTYPE=image/jpeg:https://spacecenter.org/wp-content/uploads/2022/10/Artemis-Capsule.jpeg
END:VEVENT
BEGIN:VEVENT
DTSTART;TZID=America/Chicago:20260914T111500
DTEND;TZID=America/Chicago:20260914T113000
DTSTAMP:20260421T214334
CREATED:20250602T213010Z
LAST-MODIFIED:20250603T185901Z
UID:10120016-1789384500-1789385400@spacecenter.org
SUMMARY:Story Corner Live Presentation
DESCRIPTION:
URL:https://spacecenter.org/events-calendar-event/story-corner-live-presentation/2026-09-14/
LOCATION:Theater – Artemis
CATEGORIES:Live Presentation
END:VEVENT
END:VCALENDAR