BEGIN:VCALENDAR
VERSION:2.0
PRODID:-//Space Center Houston - ECPv6.15.15//NONSGML v1.0//EN
CALSCALE:GREGORIAN
METHOD:PUBLISH
X-WR-CALNAME:Space Center Houston
X-ORIGINAL-URL:https://spacecenter.org
X-WR-CALDESC:Events for Space Center Houston
REFRESH-INTERVAL;VALUE=DURATION:PT1H
X-Robots-Tag:noindex
X-PUBLISHED-TTL:PT1H
BEGIN:VTIMEZONE
TZID:America/Chicago
BEGIN:DAYLIGHT
TZOFFSETFROM:-0600
TZOFFSETTO:-0500
TZNAME:CDT
DTSTART:20260308T080000
END:DAYLIGHT
BEGIN:STANDARD
TZOFFSETFROM:-0500
TZOFFSETTO:-0600
TZNAME:CST
DTSTART:20261101T070000
END:STANDARD
BEGIN:DAYLIGHT
TZOFFSETFROM:-0600
TZOFFSETTO:-0500
TZNAME:CDT
DTSTART:20270314T080000
END:DAYLIGHT
BEGIN:STANDARD
TZOFFSETFROM:-0500
TZOFFSETTO:-0600
TZNAME:CST
DTSTART:20271107T070000
END:STANDARD
BEGIN:DAYLIGHT
TZOFFSETFROM:-0600
TZOFFSETTO:-0500
TZNAME:CDT
DTSTART:20280312T080000
END:DAYLIGHT
BEGIN:STANDARD
TZOFFSETFROM:-0500
TZOFFSETTO:-0600
TZNAME:CST
DTSTART:20281105T070000
END:STANDARD
END:VTIMEZONE
BEGIN:VEVENT
DTSTART;TZID=America/Chicago:20270619T104500
DTEND;TZID=America/Chicago:20270619T111500
DTSTAMP:20260422T060636
CREATED:20250602T213905Z
LAST-MODIFIED:20250603T185637Z
UID:10109326-1813401900-1813403700@spacecenter.org
SUMMARY:Artemis Live Presentation
DESCRIPTION:
URL:https://spacecenter.org/events-calendar-event/artemis-live-presentation/2027-06-19/
LOCATION:Theater – Destiny
CATEGORIES:Live Presentation
ATTACH;FMTTYPE=image/jpeg:https://spacecenter.org/wp-content/uploads/2022/10/Artemis-Capsule.jpeg
END:VEVENT
BEGIN:VEVENT
DTSTART;TZID=America/Chicago:20270619T111500
DTEND;TZID=America/Chicago:20270619T113000
DTSTAMP:20260422T060636
CREATED:20250602T213010Z
LAST-MODIFIED:20250603T185901Z
UID:10120294-1813403700-1813404600@spacecenter.org
SUMMARY:Story Corner Live Presentation
DESCRIPTION:
URL:https://spacecenter.org/events-calendar-event/story-corner-live-presentation/2027-06-19/
LOCATION:Theater – Artemis
CATEGORIES:Live Presentation
END:VEVENT
BEGIN:VEVENT
DTSTART;TZID=America/Chicago:20270619T114500
DTEND;TZID=America/Chicago:20270619T120000
DTSTAMP:20260422T060636
CREATED:20250602T213503Z
LAST-MODIFIED:20250603T190256Z
UID:10138574-1813405500-1813406400@spacecenter.org
SUMMARY:James Webb Live Presentation
DESCRIPTION:
URL:https://spacecenter.org/events-calendar-event/james-webb-live-presentation/2027-06-19/
LOCATION:Theater – Destiny
CATEGORIES:Live Presentation
END:VEVENT
BEGIN:VEVENT
DTSTART;TZID=America/Chicago:20270619T121500
DTEND;TZID=America/Chicago:20270619T123000
DTSTAMP:20260422T060636
CREATED:20250602T213059Z
LAST-MODIFIED:20250603T190345Z
UID:10142230-1813407300-1813408200@spacecenter.org
SUMMARY:Story Corner Live Presentation
DESCRIPTION:
URL:https://spacecenter.org/events-calendar-event/story-corner-live-presentation-2/2027-06-19/
LOCATION:Theater – Artemis
CATEGORIES:Live Presentation
END:VEVENT
BEGIN:VEVENT
DTSTART;TZID=America/Chicago:20270619T124500
DTEND;TZID=America/Chicago:20270619T131500
DTSTAMP:20260422T060636
CREATED:20250602T214012Z
LAST-MODIFIED:20250603T190811Z
UID:10153198-1813409100-1813410900@spacecenter.org
SUMMARY:Artemis Live Presentation
DESCRIPTION:
URL:https://spacecenter.org/events-calendar-event/artemis-live-presentation-2/2027-06-19/
LOCATION:Theater – Destiny
CATEGORIES:Live Presentation
ATTACH;FMTTYPE=image/jpeg:https://spacecenter.org/wp-content/uploads/2022/10/Artemis-Capsule.jpeg
END:VEVENT
BEGIN:VEVENT
DTSTART;TZID=America/Chicago:20270619T131500
DTEND;TZID=America/Chicago:20270619T133000
DTSTAMP:20260422T060636
CREATED:20250602T213201Z
LAST-MODIFIED:20250603T190922Z
UID:10160510-1813410900-1813411800@spacecenter.org
SUMMARY:Story Corner Live Presentation
DESCRIPTION:
URL:https://spacecenter.org/events-calendar-event/story-corner-live-presentation-3/2027-06-19/
LOCATION:Theater – Artemis
CATEGORIES:Live Presentation
END:VEVENT
BEGIN:VEVENT
DTSTART;TZID=America/Chicago:20270619T134500
DTEND;TZID=America/Chicago:20270619T140000
DTSTAMP:20260422T060636
CREATED:20250602T212635Z
LAST-MODIFIED:20250603T191121Z
UID:10171478-1813412700-1813413600@spacecenter.org
SUMMARY:OSIRIS Rex Live Presentation
DESCRIPTION:
URL:https://spacecenter.org/events-calendar-event/osiris-rex-live-presentation-2/2027-06-19/
LOCATION:Mission Sketch Staircase
CATEGORIES:Live Presentation
ATTACH;FMTTYPE=image/jpeg:https://spacecenter.org/wp-content/uploads/2024/03/web-march2024_tls_osirisrex.jpg
END:VEVENT
BEGIN:VEVENT
DTSTART;TZID=America/Chicago:20270619T134500
DTEND;TZID=America/Chicago:20270619T140000
DTSTAMP:20260422T060636
CREATED:20250602T213557Z
LAST-MODIFIED:20250603T191327Z
UID:10175134-1813412700-1813413600@spacecenter.org
SUMMARY:James Webb Live Presentation
DESCRIPTION:
URL:https://spacecenter.org/events-calendar-event/james-webb-live-presentation-2/2027-06-19/
LOCATION:Theater – Destiny
CATEGORIES:Live Presentation
END:VEVENT
BEGIN:VEVENT
DTSTART;TZID=America/Chicago:20270619T144500
DTEND;TZID=America/Chicago:20270619T150000
DTSTAMP:20260422T060636
CREATED:20250602T213716Z
LAST-MODIFIED:20250603T191759Z
UID:10189758-1813416300-1813417200@spacecenter.org
SUMMARY:James Webb Live Presentation
DESCRIPTION:
URL:https://spacecenter.org/events-calendar-event/james-webb-live-presentation-3/2027-06-19/
LOCATION:Theater – Destiny
CATEGORIES:Live Presentation
END:VEVENT
BEGIN:VEVENT
DTSTART;TZID=America/Chicago:20270619T151500
DTEND;TZID=America/Chicago:20270619T153000
DTSTAMP:20260422T060636
CREATED:20250602T213249Z
LAST-MODIFIED:20250603T191942Z
UID:10197070-1813418100-1813419000@spacecenter.org
SUMMARY:Story Corner Live Presentation
DESCRIPTION:
URL:https://spacecenter.org/events-calendar-event/story-corner-live-presentation-4/2027-06-19/
LOCATION:Theater – Artemis
CATEGORIES:Live Presentation
END:VEVENT
BEGIN:VEVENT
DTSTART;TZID=America/Chicago:20270619T154500
DTEND;TZID=America/Chicago:20270619T161500
DTSTAMP:20260422T060636
CREATED:20250602T214125Z
LAST-MODIFIED:20250603T192119Z
UID:10208038-1813419900-1813421700@spacecenter.org
SUMMARY:Artemis Live Presentation
DESCRIPTION:
URL:https://spacecenter.org/events-calendar-event/artemis-live-presentation-3/2027-06-19/
LOCATION:Theater – Destiny
CATEGORIES:Live Presentation
ATTACH;FMTTYPE=image/jpeg:https://spacecenter.org/wp-content/uploads/2022/10/Artemis-Capsule.jpeg
END:VEVENT
BEGIN:VEVENT
DTSTART;TZID=America/Chicago:20270619T163000
DTEND;TZID=America/Chicago:20270619T164500
DTSTAMP:20260422T060636
CREATED:20250602T212726Z
LAST-MODIFIED:20250603T192225Z
UID:10215350-1813422600-1813423500@spacecenter.org
SUMMARY:OSIRIS Rex Live Presentation
DESCRIPTION:
URL:https://spacecenter.org/events-calendar-event/osiris-rex-live-presentation-3/2027-06-19/
LOCATION:Mission Sketch Staircase
CATEGORIES:Live Presentation
ATTACH;FMTTYPE=image/jpeg:https://spacecenter.org/wp-content/uploads/2024/03/web-march2024_tls_osirisrex.jpg
END:VEVENT
BEGIN:VEVENT
DTSTART;TZID=America/Chicago:20270620T104500
DTEND;TZID=America/Chicago:20270620T110000
DTSTAMP:20260422T060636
CREATED:20250602T212526Z
LAST-MODIFIED:20250603T185502Z
UID:10102015-1813488300-1813489200@spacecenter.org
SUMMARY:OSIRIS Rex Live Presentation
DESCRIPTION:
URL:https://spacecenter.org/events-calendar-event/osiris-rex-live-presentation/2027-06-20/
LOCATION:Mission Sketch Staircase
CATEGORIES:Live Presentation
ATTACH;FMTTYPE=image/jpeg:https://spacecenter.org/wp-content/uploads/2024/03/web-march2024_tls_osirisrex.jpg
END:VEVENT
BEGIN:VEVENT
DTSTART;TZID=America/Chicago:20270620T104500
DTEND;TZID=America/Chicago:20270620T111500
DTSTAMP:20260422T060636
CREATED:20250602T213905Z
LAST-MODIFIED:20250603T185637Z
UID:10109327-1813488300-1813490100@spacecenter.org
SUMMARY:Artemis Live Presentation
DESCRIPTION:
URL:https://spacecenter.org/events-calendar-event/artemis-live-presentation/2027-06-20/
LOCATION:Theater – Destiny
CATEGORIES:Live Presentation
ATTACH;FMTTYPE=image/jpeg:https://spacecenter.org/wp-content/uploads/2022/10/Artemis-Capsule.jpeg
END:VEVENT
BEGIN:VEVENT
DTSTART;TZID=America/Chicago:20270620T111500
DTEND;TZID=America/Chicago:20270620T113000
DTSTAMP:20260422T060636
CREATED:20250602T213010Z
LAST-MODIFIED:20250603T185901Z
UID:10120295-1813490100-1813491000@spacecenter.org
SUMMARY:Story Corner Live Presentation
DESCRIPTION:
URL:https://spacecenter.org/events-calendar-event/story-corner-live-presentation/2027-06-20/
LOCATION:Theater – Artemis
CATEGORIES:Live Presentation
END:VEVENT
BEGIN:VEVENT
DTSTART;TZID=America/Chicago:20270620T114500
DTEND;TZID=America/Chicago:20270620T120000
DTSTAMP:20260422T060636
CREATED:20250602T213503Z
LAST-MODIFIED:20250603T190256Z
UID:10138575-1813491900-1813492800@spacecenter.org
SUMMARY:James Webb Live Presentation
DESCRIPTION:
URL:https://spacecenter.org/events-calendar-event/james-webb-live-presentation/2027-06-20/
LOCATION:Theater – Destiny
CATEGORIES:Live Presentation
END:VEVENT
BEGIN:VEVENT
DTSTART;TZID=America/Chicago:20270620T121500
DTEND;TZID=America/Chicago:20270620T123000
DTSTAMP:20260422T060636
CREATED:20250602T213059Z
LAST-MODIFIED:20250603T190345Z
UID:10142231-1813493700-1813494600@spacecenter.org
SUMMARY:Story Corner Live Presentation
DESCRIPTION:
URL:https://spacecenter.org/events-calendar-event/story-corner-live-presentation-2/2027-06-20/
LOCATION:Theater – Artemis
CATEGORIES:Live Presentation
END:VEVENT
BEGIN:VEVENT
DTSTART;TZID=America/Chicago:20270620T124500
DTEND;TZID=America/Chicago:20270620T131500
DTSTAMP:20260422T060636
CREATED:20250602T214012Z
LAST-MODIFIED:20250603T190811Z
UID:10153199-1813495500-1813497300@spacecenter.org
SUMMARY:Artemis Live Presentation
DESCRIPTION:
URL:https://spacecenter.org/events-calendar-event/artemis-live-presentation-2/2027-06-20/
LOCATION:Theater – Destiny
CATEGORIES:Live Presentation
ATTACH;FMTTYPE=image/jpeg:https://spacecenter.org/wp-content/uploads/2022/10/Artemis-Capsule.jpeg
END:VEVENT
BEGIN:VEVENT
DTSTART;TZID=America/Chicago:20270620T131500
DTEND;TZID=America/Chicago:20270620T133000
DTSTAMP:20260422T060636
CREATED:20250602T213201Z
LAST-MODIFIED:20250603T190922Z
UID:10160511-1813497300-1813498200@spacecenter.org
SUMMARY:Story Corner Live Presentation
DESCRIPTION:
URL:https://spacecenter.org/events-calendar-event/story-corner-live-presentation-3/2027-06-20/
LOCATION:Theater – Artemis
CATEGORIES:Live Presentation
END:VEVENT
BEGIN:VEVENT
DTSTART;TZID=America/Chicago:20270620T134500
DTEND;TZID=America/Chicago:20270620T140000
DTSTAMP:20260422T060636
CREATED:20250602T212635Z
LAST-MODIFIED:20250603T191121Z
UID:10171479-1813499100-1813500000@spacecenter.org
SUMMARY:OSIRIS Rex Live Presentation
DESCRIPTION:
URL:https://spacecenter.org/events-calendar-event/osiris-rex-live-presentation-2/2027-06-20/
LOCATION:Mission Sketch Staircase
CATEGORIES:Live Presentation
ATTACH;FMTTYPE=image/jpeg:https://spacecenter.org/wp-content/uploads/2024/03/web-march2024_tls_osirisrex.jpg
END:VEVENT
BEGIN:VEVENT
DTSTART;TZID=America/Chicago:20270620T134500
DTEND;TZID=America/Chicago:20270620T140000
DTSTAMP:20260422T060636
CREATED:20250602T213557Z
LAST-MODIFIED:20250603T191327Z
UID:10175135-1813499100-1813500000@spacecenter.org
SUMMARY:James Webb Live Presentation
DESCRIPTION:
URL:https://spacecenter.org/events-calendar-event/james-webb-live-presentation-2/2027-06-20/
LOCATION:Theater – Destiny
CATEGORIES:Live Presentation
END:VEVENT
BEGIN:VEVENT
DTSTART;TZID=America/Chicago:20270620T144500
DTEND;TZID=America/Chicago:20270620T150000
DTSTAMP:20260422T060636
CREATED:20250602T213716Z
LAST-MODIFIED:20250603T191759Z
UID:10189759-1813502700-1813503600@spacecenter.org
SUMMARY:James Webb Live Presentation
DESCRIPTION:
URL:https://spacecenter.org/events-calendar-event/james-webb-live-presentation-3/2027-06-20/
LOCATION:Theater – Destiny
CATEGORIES:Live Presentation
END:VEVENT
BEGIN:VEVENT
DTSTART;TZID=America/Chicago:20270620T151500
DTEND;TZID=America/Chicago:20270620T153000
DTSTAMP:20260422T060636
CREATED:20250602T213249Z
LAST-MODIFIED:20250603T191942Z
UID:10197071-1813504500-1813505400@spacecenter.org
SUMMARY:Story Corner Live Presentation
DESCRIPTION:
URL:https://spacecenter.org/events-calendar-event/story-corner-live-presentation-4/2027-06-20/
LOCATION:Theater – Artemis
CATEGORIES:Live Presentation
END:VEVENT
BEGIN:VEVENT
DTSTART;TZID=America/Chicago:20270620T154500
DTEND;TZID=America/Chicago:20270620T161500
DTSTAMP:20260422T060636
CREATED:20250602T214125Z
LAST-MODIFIED:20250603T192119Z
UID:10208039-1813506300-1813508100@spacecenter.org
SUMMARY:Artemis Live Presentation
DESCRIPTION:
URL:https://spacecenter.org/events-calendar-event/artemis-live-presentation-3/2027-06-20/
LOCATION:Theater – Destiny
CATEGORIES:Live Presentation
ATTACH;FMTTYPE=image/jpeg:https://spacecenter.org/wp-content/uploads/2022/10/Artemis-Capsule.jpeg
END:VEVENT
BEGIN:VEVENT
DTSTART;TZID=America/Chicago:20270620T163000
DTEND;TZID=America/Chicago:20270620T164500
DTSTAMP:20260422T060636
CREATED:20250602T212726Z
LAST-MODIFIED:20250603T192225Z
UID:10215351-1813509000-1813509900@spacecenter.org
SUMMARY:OSIRIS Rex Live Presentation
DESCRIPTION:
URL:https://spacecenter.org/events-calendar-event/osiris-rex-live-presentation-3/2027-06-20/
LOCATION:Mission Sketch Staircase
CATEGORIES:Live Presentation
ATTACH;FMTTYPE=image/jpeg:https://spacecenter.org/wp-content/uploads/2024/03/web-march2024_tls_osirisrex.jpg
END:VEVENT
BEGIN:VEVENT
DTSTART;TZID=America/Chicago:20270621T104500
DTEND;TZID=America/Chicago:20270621T110000
DTSTAMP:20260422T060636
CREATED:20250602T212526Z
LAST-MODIFIED:20250603T185502Z
UID:10102016-1813574700-1813575600@spacecenter.org
SUMMARY:OSIRIS Rex Live Presentation
DESCRIPTION:
URL:https://spacecenter.org/events-calendar-event/osiris-rex-live-presentation/2027-06-21/
LOCATION:Mission Sketch Staircase
CATEGORIES:Live Presentation
ATTACH;FMTTYPE=image/jpeg:https://spacecenter.org/wp-content/uploads/2024/03/web-march2024_tls_osirisrex.jpg
END:VEVENT
BEGIN:VEVENT
DTSTART;TZID=America/Chicago:20270621T104500
DTEND;TZID=America/Chicago:20270621T111500
DTSTAMP:20260422T060636
CREATED:20250602T213905Z
LAST-MODIFIED:20250603T185637Z
UID:10109328-1813574700-1813576500@spacecenter.org
SUMMARY:Artemis Live Presentation
DESCRIPTION:
URL:https://spacecenter.org/events-calendar-event/artemis-live-presentation/2027-06-21/
LOCATION:Theater – Destiny
CATEGORIES:Live Presentation
ATTACH;FMTTYPE=image/jpeg:https://spacecenter.org/wp-content/uploads/2022/10/Artemis-Capsule.jpeg
END:VEVENT
BEGIN:VEVENT
DTSTART;TZID=America/Chicago:20270621T111500
DTEND;TZID=America/Chicago:20270621T113000
DTSTAMP:20260422T060636
CREATED:20250602T213010Z
LAST-MODIFIED:20250603T185901Z
UID:10120296-1813576500-1813577400@spacecenter.org
SUMMARY:Story Corner Live Presentation
DESCRIPTION:
URL:https://spacecenter.org/events-calendar-event/story-corner-live-presentation/2027-06-21/
LOCATION:Theater – Artemis
CATEGORIES:Live Presentation
END:VEVENT
BEGIN:VEVENT
DTSTART;TZID=America/Chicago:20270621T114500
DTEND;TZID=America/Chicago:20270621T120000
DTSTAMP:20260422T060636
CREATED:20250602T213503Z
LAST-MODIFIED:20250603T190256Z
UID:10138576-1813578300-1813579200@spacecenter.org
SUMMARY:James Webb Live Presentation
DESCRIPTION:
URL:https://spacecenter.org/events-calendar-event/james-webb-live-presentation/2027-06-21/
LOCATION:Theater – Destiny
CATEGORIES:Live Presentation
END:VEVENT
BEGIN:VEVENT
DTSTART;TZID=America/Chicago:20270621T121500
DTEND;TZID=America/Chicago:20270621T123000
DTSTAMP:20260422T060636
CREATED:20250602T213059Z
LAST-MODIFIED:20250603T190345Z
UID:10142232-1813580100-1813581000@spacecenter.org
SUMMARY:Story Corner Live Presentation
DESCRIPTION:
URL:https://spacecenter.org/events-calendar-event/story-corner-live-presentation-2/2027-06-21/
LOCATION:Theater – Artemis
CATEGORIES:Live Presentation
END:VEVENT
END:VCALENDAR