BEGIN:VCALENDAR
VERSION:2.0
PRODID:-//Space Center Houston - ECPv6.15.15//NONSGML v1.0//EN
CALSCALE:GREGORIAN
METHOD:PUBLISH
X-ORIGINAL-URL:https://spacecenter.org
X-WR-CALDESC:Events for Space Center Houston
REFRESH-INTERVAL;VALUE=DURATION:PT1H
X-Robots-Tag:noindex
X-PUBLISHED-TTL:PT1H
BEGIN:VTIMEZONE
TZID:America/Chicago
BEGIN:DAYLIGHT
TZOFFSETFROM:-0600
TZOFFSETTO:-0500
TZNAME:CDT
DTSTART:20240310T080000
END:DAYLIGHT
BEGIN:STANDARD
TZOFFSETFROM:-0500
TZOFFSETTO:-0600
TZNAME:CST
DTSTART:20241103T070000
END:STANDARD
BEGIN:DAYLIGHT
TZOFFSETFROM:-0600
TZOFFSETTO:-0500
TZNAME:CDT
DTSTART:20250309T080000
END:DAYLIGHT
BEGIN:STANDARD
TZOFFSETFROM:-0500
TZOFFSETTO:-0600
TZNAME:CST
DTSTART:20251102T070000
END:STANDARD
BEGIN:DAYLIGHT
TZOFFSETFROM:-0600
TZOFFSETTO:-0500
TZNAME:CDT
DTSTART:20260308T080000
END:DAYLIGHT
BEGIN:STANDARD
TZOFFSETFROM:-0500
TZOFFSETTO:-0600
TZNAME:CST
DTSTART:20261101T070000
END:STANDARD
END:VTIMEZONE
BEGIN:VEVENT
DTSTART;TZID=America/Chicago:20251023T131500
DTEND;TZID=America/Chicago:20251023T133000
DTSTAMP:20260419T155316
CREATED:20250602T213201Z
LAST-MODIFIED:20250603T190922Z
UID:10159906-1761225300-1761226200@spacecenter.org
SUMMARY:Story Corner Live Presentation
DESCRIPTION:
URL:https://spacecenter.org/events-calendar-event/story-corner-live-presentation-3/2025-10-23/
LOCATION:Theater – Artemis
CATEGORIES:Live Presentation
END:VEVENT
BEGIN:VEVENT
DTSTART;TZID=America/Chicago:20251023T134500
DTEND;TZID=America/Chicago:20251023T140000
DTSTAMP:20260419T155316
CREATED:20250602T212635Z
LAST-MODIFIED:20250603T191121Z
UID:10170874-1761227100-1761228000@spacecenter.org
SUMMARY:OSIRIS Rex Live Presentation
DESCRIPTION:
URL:https://spacecenter.org/events-calendar-event/osiris-rex-live-presentation-2/2025-10-23/
LOCATION:Mission Sketch Staircase
CATEGORIES:Live Presentation
ATTACH;FMTTYPE=image/jpeg:https://spacecenter.org/wp-content/uploads/2024/03/web-march2024_tls_osirisrex.jpg
END:VEVENT
BEGIN:VEVENT
DTSTART;TZID=America/Chicago:20251023T134500
DTEND;TZID=America/Chicago:20251023T140000
DTSTAMP:20260419T155316
CREATED:20250602T213557Z
LAST-MODIFIED:20250603T191327Z
UID:10174530-1761227100-1761228000@spacecenter.org
SUMMARY:James Webb Live Presentation
DESCRIPTION:
URL:https://spacecenter.org/events-calendar-event/james-webb-live-presentation-2/2025-10-23/
LOCATION:Theater – Destiny
CATEGORIES:Live Presentation
END:VEVENT
BEGIN:VEVENT
DTSTART;TZID=America/Chicago:20251023T144500
DTEND;TZID=America/Chicago:20251023T150000
DTSTAMP:20260419T155316
CREATED:20250602T213716Z
LAST-MODIFIED:20250603T191759Z
UID:10189154-1761230700-1761231600@spacecenter.org
SUMMARY:James Webb Live Presentation
DESCRIPTION:
URL:https://spacecenter.org/events-calendar-event/james-webb-live-presentation-3/2025-10-23/
LOCATION:Theater – Destiny
CATEGORIES:Live Presentation
END:VEVENT
BEGIN:VEVENT
DTSTART;TZID=America/Chicago:20251023T151500
DTEND;TZID=America/Chicago:20251023T153000
DTSTAMP:20260419T155316
CREATED:20250602T213249Z
LAST-MODIFIED:20250603T191942Z
UID:10196466-1761232500-1761233400@spacecenter.org
SUMMARY:Story Corner Live Presentation
DESCRIPTION:
URL:https://spacecenter.org/events-calendar-event/story-corner-live-presentation-4/2025-10-23/
LOCATION:Theater – Artemis
CATEGORIES:Live Presentation
END:VEVENT
BEGIN:VEVENT
DTSTART;TZID=America/Chicago:20251023T154500
DTEND;TZID=America/Chicago:20251023T161500
DTSTAMP:20260419T155316
CREATED:20250602T214125Z
LAST-MODIFIED:20250603T192119Z
UID:10207434-1761234300-1761236100@spacecenter.org
SUMMARY:Artemis Live Presentation
DESCRIPTION:
URL:https://spacecenter.org/events-calendar-event/artemis-live-presentation-3/2025-10-23/
LOCATION:Theater – Destiny
CATEGORIES:Live Presentation
ATTACH;FMTTYPE=image/jpeg:https://spacecenter.org/wp-content/uploads/2022/10/Artemis-Capsule.jpeg
END:VEVENT
BEGIN:VEVENT
DTSTART;TZID=America/Chicago:20251023T163000
DTEND;TZID=America/Chicago:20251023T164500
DTSTAMP:20260419T155316
CREATED:20250602T212726Z
LAST-MODIFIED:20250603T192225Z
UID:10214746-1761237000-1761237900@spacecenter.org
SUMMARY:OSIRIS Rex Live Presentation
DESCRIPTION:
URL:https://spacecenter.org/events-calendar-event/osiris-rex-live-presentation-3/2025-10-23/
LOCATION:Mission Sketch Staircase
CATEGORIES:Live Presentation
ATTACH;FMTTYPE=image/jpeg:https://spacecenter.org/wp-content/uploads/2024/03/web-march2024_tls_osirisrex.jpg
END:VEVENT
BEGIN:VEVENT
DTSTART;TZID=America/Chicago:20251024T104500
DTEND;TZID=America/Chicago:20251024T110000
DTSTAMP:20260419T155316
CREATED:20250602T212526Z
LAST-MODIFIED:20250603T185502Z
UID:10101411-1761302700-1761303600@spacecenter.org
SUMMARY:OSIRIS Rex Live Presentation
DESCRIPTION:
URL:https://spacecenter.org/events-calendar-event/osiris-rex-live-presentation/2025-10-24/
LOCATION:Mission Sketch Staircase
CATEGORIES:Live Presentation
ATTACH;FMTTYPE=image/jpeg:https://spacecenter.org/wp-content/uploads/2024/03/web-march2024_tls_osirisrex.jpg
END:VEVENT
BEGIN:VEVENT
DTSTART;TZID=America/Chicago:20251024T104500
DTEND;TZID=America/Chicago:20251024T111500
DTSTAMP:20260419T155316
CREATED:20250602T213905Z
LAST-MODIFIED:20250603T185637Z
UID:10108723-1761302700-1761304500@spacecenter.org
SUMMARY:Artemis Live Presentation
DESCRIPTION:
URL:https://spacecenter.org/events-calendar-event/artemis-live-presentation/2025-10-24/
LOCATION:Theater – Destiny
CATEGORIES:Live Presentation
ATTACH;FMTTYPE=image/jpeg:https://spacecenter.org/wp-content/uploads/2022/10/Artemis-Capsule.jpeg
END:VEVENT
BEGIN:VEVENT
DTSTART;TZID=America/Chicago:20251024T111500
DTEND;TZID=America/Chicago:20251024T113000
DTSTAMP:20260419T155316
CREATED:20250602T213010Z
LAST-MODIFIED:20250603T185901Z
UID:10119691-1761304500-1761305400@spacecenter.org
SUMMARY:Story Corner Live Presentation
DESCRIPTION:
URL:https://spacecenter.org/events-calendar-event/story-corner-live-presentation/2025-10-24/
LOCATION:Theater – Artemis
CATEGORIES:Live Presentation
END:VEVENT
BEGIN:VEVENT
DTSTART;TZID=America/Chicago:20251024T114500
DTEND;TZID=America/Chicago:20251024T120000
DTSTAMP:20260419T155316
CREATED:20250602T213503Z
LAST-MODIFIED:20250603T190256Z
UID:10137971-1761306300-1761307200@spacecenter.org
SUMMARY:James Webb Live Presentation
DESCRIPTION:
URL:https://spacecenter.org/events-calendar-event/james-webb-live-presentation/2025-10-24/
LOCATION:Theater – Destiny
CATEGORIES:Live Presentation
END:VEVENT
BEGIN:VEVENT
DTSTART;TZID=America/Chicago:20251024T121500
DTEND;TZID=America/Chicago:20251024T123000
DTSTAMP:20260419T155316
CREATED:20250602T213059Z
LAST-MODIFIED:20250603T190345Z
UID:10141627-1761308100-1761309000@spacecenter.org
SUMMARY:Story Corner Live Presentation
DESCRIPTION:
URL:https://spacecenter.org/events-calendar-event/story-corner-live-presentation-2/2025-10-24/
LOCATION:Theater – Artemis
CATEGORIES:Live Presentation
END:VEVENT
BEGIN:VEVENT
DTSTART;TZID=America/Chicago:20251024T124500
DTEND;TZID=America/Chicago:20251024T131500
DTSTAMP:20260419T155316
CREATED:20250602T214012Z
LAST-MODIFIED:20250603T190811Z
UID:10152595-1761309900-1761311700@spacecenter.org
SUMMARY:Artemis Live Presentation
DESCRIPTION:
URL:https://spacecenter.org/events-calendar-event/artemis-live-presentation-2/2025-10-24/
LOCATION:Theater – Destiny
CATEGORIES:Live Presentation
ATTACH;FMTTYPE=image/jpeg:https://spacecenter.org/wp-content/uploads/2022/10/Artemis-Capsule.jpeg
END:VEVENT
BEGIN:VEVENT
DTSTART;TZID=America/Chicago:20251024T131500
DTEND;TZID=America/Chicago:20251024T133000
DTSTAMP:20260419T155316
CREATED:20250602T213201Z
LAST-MODIFIED:20250603T190922Z
UID:10159907-1761311700-1761312600@spacecenter.org
SUMMARY:Story Corner Live Presentation
DESCRIPTION:
URL:https://spacecenter.org/events-calendar-event/story-corner-live-presentation-3/2025-10-24/
LOCATION:Theater – Artemis
CATEGORIES:Live Presentation
END:VEVENT
BEGIN:VEVENT
DTSTART;TZID=America/Chicago:20251024T134500
DTEND;TZID=America/Chicago:20251024T140000
DTSTAMP:20260419T155316
CREATED:20250602T212635Z
LAST-MODIFIED:20250603T191121Z
UID:10170875-1761313500-1761314400@spacecenter.org
SUMMARY:OSIRIS Rex Live Presentation
DESCRIPTION:
URL:https://spacecenter.org/events-calendar-event/osiris-rex-live-presentation-2/2025-10-24/
LOCATION:Mission Sketch Staircase
CATEGORIES:Live Presentation
ATTACH;FMTTYPE=image/jpeg:https://spacecenter.org/wp-content/uploads/2024/03/web-march2024_tls_osirisrex.jpg
END:VEVENT
BEGIN:VEVENT
DTSTART;TZID=America/Chicago:20251024T134500
DTEND;TZID=America/Chicago:20251024T140000
DTSTAMP:20260419T155316
CREATED:20250602T213557Z
LAST-MODIFIED:20250603T191327Z
UID:10174531-1761313500-1761314400@spacecenter.org
SUMMARY:James Webb Live Presentation
DESCRIPTION:
URL:https://spacecenter.org/events-calendar-event/james-webb-live-presentation-2/2025-10-24/
LOCATION:Theater – Destiny
CATEGORIES:Live Presentation
END:VEVENT
BEGIN:VEVENT
DTSTART;TZID=America/Chicago:20251024T144500
DTEND;TZID=America/Chicago:20251024T150000
DTSTAMP:20260419T155316
CREATED:20250602T213716Z
LAST-MODIFIED:20250603T191759Z
UID:10189155-1761317100-1761318000@spacecenter.org
SUMMARY:James Webb Live Presentation
DESCRIPTION:
URL:https://spacecenter.org/events-calendar-event/james-webb-live-presentation-3/2025-10-24/
LOCATION:Theater – Destiny
CATEGORIES:Live Presentation
END:VEVENT
BEGIN:VEVENT
DTSTART;TZID=America/Chicago:20251024T151500
DTEND;TZID=America/Chicago:20251024T153000
DTSTAMP:20260419T155316
CREATED:20250602T213249Z
LAST-MODIFIED:20250603T191942Z
UID:10196467-1761318900-1761319800@spacecenter.org
SUMMARY:Story Corner Live Presentation
DESCRIPTION:
URL:https://spacecenter.org/events-calendar-event/story-corner-live-presentation-4/2025-10-24/
LOCATION:Theater – Artemis
CATEGORIES:Live Presentation
END:VEVENT
BEGIN:VEVENT
DTSTART;TZID=America/Chicago:20251024T154500
DTEND;TZID=America/Chicago:20251024T161500
DTSTAMP:20260419T155316
CREATED:20250602T214125Z
LAST-MODIFIED:20250603T192119Z
UID:10207435-1761320700-1761322500@spacecenter.org
SUMMARY:Artemis Live Presentation
DESCRIPTION:
URL:https://spacecenter.org/events-calendar-event/artemis-live-presentation-3/2025-10-24/
LOCATION:Theater – Destiny
CATEGORIES:Live Presentation
ATTACH;FMTTYPE=image/jpeg:https://spacecenter.org/wp-content/uploads/2022/10/Artemis-Capsule.jpeg
END:VEVENT
BEGIN:VEVENT
DTSTART;TZID=America/Chicago:20251024T163000
DTEND;TZID=America/Chicago:20251024T164500
DTSTAMP:20260419T155316
CREATED:20250602T212726Z
LAST-MODIFIED:20250603T192225Z
UID:10214747-1761323400-1761324300@spacecenter.org
SUMMARY:OSIRIS Rex Live Presentation
DESCRIPTION:
URL:https://spacecenter.org/events-calendar-event/osiris-rex-live-presentation-3/2025-10-24/
LOCATION:Mission Sketch Staircase
CATEGORIES:Live Presentation
ATTACH;FMTTYPE=image/jpeg:https://spacecenter.org/wp-content/uploads/2024/03/web-march2024_tls_osirisrex.jpg
END:VEVENT
BEGIN:VEVENT
DTSTART;TZID=America/Chicago:20251025T104500
DTEND;TZID=America/Chicago:20251025T110000
DTSTAMP:20260419T155316
CREATED:20250602T212526Z
LAST-MODIFIED:20250603T185502Z
UID:10101412-1761389100-1761390000@spacecenter.org
SUMMARY:OSIRIS Rex Live Presentation
DESCRIPTION:
URL:https://spacecenter.org/events-calendar-event/osiris-rex-live-presentation/2025-10-25/
LOCATION:Mission Sketch Staircase
CATEGORIES:Live Presentation
ATTACH;FMTTYPE=image/jpeg:https://spacecenter.org/wp-content/uploads/2024/03/web-march2024_tls_osirisrex.jpg
END:VEVENT
BEGIN:VEVENT
DTSTART;TZID=America/Chicago:20251025T104500
DTEND;TZID=America/Chicago:20251025T111500
DTSTAMP:20260419T155316
CREATED:20250602T213905Z
LAST-MODIFIED:20250603T185637Z
UID:10108724-1761389100-1761390900@spacecenter.org
SUMMARY:Artemis Live Presentation
DESCRIPTION:
URL:https://spacecenter.org/events-calendar-event/artemis-live-presentation/2025-10-25/
LOCATION:Theater – Destiny
CATEGORIES:Live Presentation
ATTACH;FMTTYPE=image/jpeg:https://spacecenter.org/wp-content/uploads/2022/10/Artemis-Capsule.jpeg
END:VEVENT
BEGIN:VEVENT
DTSTART;TZID=America/Chicago:20251025T111500
DTEND;TZID=America/Chicago:20251025T113000
DTSTAMP:20260419T155316
CREATED:20250602T213010Z
LAST-MODIFIED:20250603T185901Z
UID:10119692-1761390900-1761391800@spacecenter.org
SUMMARY:Story Corner Live Presentation
DESCRIPTION:
URL:https://spacecenter.org/events-calendar-event/story-corner-live-presentation/2025-10-25/
LOCATION:Theater – Artemis
CATEGORIES:Live Presentation
END:VEVENT
BEGIN:VEVENT
DTSTART;TZID=America/Chicago:20251025T114500
DTEND;TZID=America/Chicago:20251025T120000
DTSTAMP:20260419T155316
CREATED:20250602T213503Z
LAST-MODIFIED:20250603T190256Z
UID:10137972-1761392700-1761393600@spacecenter.org
SUMMARY:James Webb Live Presentation
DESCRIPTION:
URL:https://spacecenter.org/events-calendar-event/james-webb-live-presentation/2025-10-25/
LOCATION:Theater – Destiny
CATEGORIES:Live Presentation
END:VEVENT
BEGIN:VEVENT
DTSTART;TZID=America/Chicago:20251025T121500
DTEND;TZID=America/Chicago:20251025T123000
DTSTAMP:20260419T155316
CREATED:20250602T213059Z
LAST-MODIFIED:20250603T190345Z
UID:10141628-1761394500-1761395400@spacecenter.org
SUMMARY:Story Corner Live Presentation
DESCRIPTION:
URL:https://spacecenter.org/events-calendar-event/story-corner-live-presentation-2/2025-10-25/
LOCATION:Theater – Artemis
CATEGORIES:Live Presentation
END:VEVENT
BEGIN:VEVENT
DTSTART;TZID=America/Chicago:20251025T124500
DTEND;TZID=America/Chicago:20251025T131500
DTSTAMP:20260419T155316
CREATED:20250602T214012Z
LAST-MODIFIED:20250603T190811Z
UID:10152596-1761396300-1761398100@spacecenter.org
SUMMARY:Artemis Live Presentation
DESCRIPTION:
URL:https://spacecenter.org/events-calendar-event/artemis-live-presentation-2/2025-10-25/
LOCATION:Theater – Destiny
CATEGORIES:Live Presentation
ATTACH;FMTTYPE=image/jpeg:https://spacecenter.org/wp-content/uploads/2022/10/Artemis-Capsule.jpeg
END:VEVENT
BEGIN:VEVENT
DTSTART;TZID=America/Chicago:20251025T131500
DTEND;TZID=America/Chicago:20251025T133000
DTSTAMP:20260419T155316
CREATED:20250602T213201Z
LAST-MODIFIED:20250603T190922Z
UID:10159908-1761398100-1761399000@spacecenter.org
SUMMARY:Story Corner Live Presentation
DESCRIPTION:
URL:https://spacecenter.org/events-calendar-event/story-corner-live-presentation-3/2025-10-25/
LOCATION:Theater – Artemis
CATEGORIES:Live Presentation
END:VEVENT
BEGIN:VEVENT
DTSTART;TZID=America/Chicago:20251025T134500
DTEND;TZID=America/Chicago:20251025T140000
DTSTAMP:20260419T155316
CREATED:20250602T212635Z
LAST-MODIFIED:20250603T191121Z
UID:10170876-1761399900-1761400800@spacecenter.org
SUMMARY:OSIRIS Rex Live Presentation
DESCRIPTION:
URL:https://spacecenter.org/events-calendar-event/osiris-rex-live-presentation-2/2025-10-25/
LOCATION:Mission Sketch Staircase
CATEGORIES:Live Presentation
ATTACH;FMTTYPE=image/jpeg:https://spacecenter.org/wp-content/uploads/2024/03/web-march2024_tls_osirisrex.jpg
END:VEVENT
BEGIN:VEVENT
DTSTART;TZID=America/Chicago:20251025T134500
DTEND;TZID=America/Chicago:20251025T140000
DTSTAMP:20260419T155316
CREATED:20250602T213557Z
LAST-MODIFIED:20250603T191327Z
UID:10174532-1761399900-1761400800@spacecenter.org
SUMMARY:James Webb Live Presentation
DESCRIPTION:
URL:https://spacecenter.org/events-calendar-event/james-webb-live-presentation-2/2025-10-25/
LOCATION:Theater – Destiny
CATEGORIES:Live Presentation
END:VEVENT
BEGIN:VEVENT
DTSTART;TZID=America/Chicago:20251025T144500
DTEND;TZID=America/Chicago:20251025T150000
DTSTAMP:20260419T155316
CREATED:20250602T213716Z
LAST-MODIFIED:20250603T191759Z
UID:10189156-1761403500-1761404400@spacecenter.org
SUMMARY:James Webb Live Presentation
DESCRIPTION:
URL:https://spacecenter.org/events-calendar-event/james-webb-live-presentation-3/2025-10-25/
LOCATION:Theater – Destiny
CATEGORIES:Live Presentation
END:VEVENT
END:VCALENDAR