BEGIN:VCALENDAR
VERSION:2.0
PRODID:-//Space Center Houston - ECPv6.15.15//NONSGML v1.0//EN
CALSCALE:GREGORIAN
METHOD:PUBLISH
X-ORIGINAL-URL:https://spacecenter.org
X-WR-CALDESC:Events for Space Center Houston
REFRESH-INTERVAL;VALUE=DURATION:PT1H
X-Robots-Tag:noindex
X-PUBLISHED-TTL:PT1H
BEGIN:VTIMEZONE
TZID:America/Chicago
BEGIN:DAYLIGHT
TZOFFSETFROM:-0600
TZOFFSETTO:-0500
TZNAME:CDT
DTSTART:20240310T080000
END:DAYLIGHT
BEGIN:STANDARD
TZOFFSETFROM:-0500
TZOFFSETTO:-0600
TZNAME:CST
DTSTART:20241103T070000
END:STANDARD
BEGIN:DAYLIGHT
TZOFFSETFROM:-0600
TZOFFSETTO:-0500
TZNAME:CDT
DTSTART:20250309T080000
END:DAYLIGHT
BEGIN:STANDARD
TZOFFSETFROM:-0500
TZOFFSETTO:-0600
TZNAME:CST
DTSTART:20251102T070000
END:STANDARD
BEGIN:DAYLIGHT
TZOFFSETFROM:-0600
TZOFFSETTO:-0500
TZNAME:CDT
DTSTART:20260308T080000
END:DAYLIGHT
BEGIN:STANDARD
TZOFFSETFROM:-0500
TZOFFSETTO:-0600
TZNAME:CST
DTSTART:20261101T070000
END:STANDARD
END:VTIMEZONE
BEGIN:VEVENT
DTSTART;TZID=America/Chicago:20250812T131500
DTEND;TZID=America/Chicago:20250812T133000
DTSTAMP:20260421T054109
CREATED:20250602T213201Z
LAST-MODIFIED:20250603T190922Z
UID:10159834-1755004500-1755005400@spacecenter.org
SUMMARY:Story Corner Live Presentation
DESCRIPTION:
URL:https://spacecenter.org/events-calendar-event/story-corner-live-presentation-3/2025-08-12/
LOCATION:Theater – Artemis
CATEGORIES:Live Presentation
END:VEVENT
BEGIN:VEVENT
DTSTART;TZID=America/Chicago:20250812T134500
DTEND;TZID=America/Chicago:20250812T140000
DTSTAMP:20260421T054109
CREATED:20250602T212635Z
LAST-MODIFIED:20250603T191121Z
UID:10170802-1755006300-1755007200@spacecenter.org
SUMMARY:OSIRIS Rex Live Presentation
DESCRIPTION:
URL:https://spacecenter.org/events-calendar-event/osiris-rex-live-presentation-2/2025-08-12/
LOCATION:Mission Sketch Staircase
CATEGORIES:Live Presentation
ATTACH;FMTTYPE=image/jpeg:https://spacecenter.org/wp-content/uploads/2024/03/web-march2024_tls_osirisrex.jpg
END:VEVENT
BEGIN:VEVENT
DTSTART;TZID=America/Chicago:20250812T134500
DTEND;TZID=America/Chicago:20250812T140000
DTSTAMP:20260421T054109
CREATED:20250602T213557Z
LAST-MODIFIED:20250603T191327Z
UID:10174458-1755006300-1755007200@spacecenter.org
SUMMARY:James Webb Live Presentation
DESCRIPTION:
URL:https://spacecenter.org/events-calendar-event/james-webb-live-presentation-2/2025-08-12/
LOCATION:Theater – Destiny
CATEGORIES:Live Presentation
END:VEVENT
BEGIN:VEVENT
DTSTART;TZID=America/Chicago:20250812T144500
DTEND;TZID=America/Chicago:20250812T150000
DTSTAMP:20260421T054109
CREATED:20250602T213716Z
LAST-MODIFIED:20250603T191759Z
UID:10189082-1755009900-1755010800@spacecenter.org
SUMMARY:James Webb Live Presentation
DESCRIPTION:
URL:https://spacecenter.org/events-calendar-event/james-webb-live-presentation-3/2025-08-12/
LOCATION:Theater – Destiny
CATEGORIES:Live Presentation
END:VEVENT
BEGIN:VEVENT
DTSTART;TZID=America/Chicago:20250812T151500
DTEND;TZID=America/Chicago:20250812T153000
DTSTAMP:20260421T054109
CREATED:20250602T213249Z
LAST-MODIFIED:20250603T191942Z
UID:10196394-1755011700-1755012600@spacecenter.org
SUMMARY:Story Corner Live Presentation
DESCRIPTION:
URL:https://spacecenter.org/events-calendar-event/story-corner-live-presentation-4/2025-08-12/
LOCATION:Theater – Artemis
CATEGORIES:Live Presentation
END:VEVENT
BEGIN:VEVENT
DTSTART;TZID=America/Chicago:20250812T154500
DTEND;TZID=America/Chicago:20250812T161500
DTSTAMP:20260421T054109
CREATED:20250602T214125Z
LAST-MODIFIED:20250603T192119Z
UID:10207362-1755013500-1755015300@spacecenter.org
SUMMARY:Artemis Live Presentation
DESCRIPTION:
URL:https://spacecenter.org/events-calendar-event/artemis-live-presentation-3/2025-08-12/
LOCATION:Theater – Destiny
CATEGORIES:Live Presentation
ATTACH;FMTTYPE=image/jpeg:https://spacecenter.org/wp-content/uploads/2022/10/Artemis-Capsule.jpeg
END:VEVENT
BEGIN:VEVENT
DTSTART;TZID=America/Chicago:20250812T163000
DTEND;TZID=America/Chicago:20250812T164500
DTSTAMP:20260421T054109
CREATED:20250602T212726Z
LAST-MODIFIED:20250603T192225Z
UID:10214674-1755016200-1755017100@spacecenter.org
SUMMARY:OSIRIS Rex Live Presentation
DESCRIPTION:
URL:https://spacecenter.org/events-calendar-event/osiris-rex-live-presentation-3/2025-08-12/
LOCATION:Mission Sketch Staircase
CATEGORIES:Live Presentation
ATTACH;FMTTYPE=image/jpeg:https://spacecenter.org/wp-content/uploads/2024/03/web-march2024_tls_osirisrex.jpg
END:VEVENT
BEGIN:VEVENT
DTSTART;TZID=America/Chicago:20250813T104500
DTEND;TZID=America/Chicago:20250813T110000
DTSTAMP:20260421T054109
CREATED:20250602T212526Z
LAST-MODIFIED:20250603T185502Z
UID:10101339-1755081900-1755082800@spacecenter.org
SUMMARY:OSIRIS Rex Live Presentation
DESCRIPTION:
URL:https://spacecenter.org/events-calendar-event/osiris-rex-live-presentation/2025-08-13/
LOCATION:Mission Sketch Staircase
CATEGORIES:Live Presentation
ATTACH;FMTTYPE=image/jpeg:https://spacecenter.org/wp-content/uploads/2024/03/web-march2024_tls_osirisrex.jpg
END:VEVENT
BEGIN:VEVENT
DTSTART;TZID=America/Chicago:20250813T104500
DTEND;TZID=America/Chicago:20250813T111500
DTSTAMP:20260421T054109
CREATED:20250602T213905Z
LAST-MODIFIED:20250603T185637Z
UID:10108651-1755081900-1755083700@spacecenter.org
SUMMARY:Artemis Live Presentation
DESCRIPTION:
URL:https://spacecenter.org/events-calendar-event/artemis-live-presentation/2025-08-13/
LOCATION:Theater – Destiny
CATEGORIES:Live Presentation
ATTACH;FMTTYPE=image/jpeg:https://spacecenter.org/wp-content/uploads/2022/10/Artemis-Capsule.jpeg
END:VEVENT
BEGIN:VEVENT
DTSTART;TZID=America/Chicago:20250813T111500
DTEND;TZID=America/Chicago:20250813T113000
DTSTAMP:20260421T054109
CREATED:20250602T213010Z
LAST-MODIFIED:20250603T185901Z
UID:10119619-1755083700-1755084600@spacecenter.org
SUMMARY:Story Corner Live Presentation
DESCRIPTION:
URL:https://spacecenter.org/events-calendar-event/story-corner-live-presentation/2025-08-13/
LOCATION:Theater – Artemis
CATEGORIES:Live Presentation
END:VEVENT
BEGIN:VEVENT
DTSTART;TZID=America/Chicago:20250813T114500
DTEND;TZID=America/Chicago:20250813T120000
DTSTAMP:20260421T054109
CREATED:20250602T213503Z
LAST-MODIFIED:20250603T190256Z
UID:10137899-1755085500-1755086400@spacecenter.org
SUMMARY:James Webb Live Presentation
DESCRIPTION:
URL:https://spacecenter.org/events-calendar-event/james-webb-live-presentation/2025-08-13/
LOCATION:Theater – Destiny
CATEGORIES:Live Presentation
END:VEVENT
BEGIN:VEVENT
DTSTART;TZID=America/Chicago:20250813T121500
DTEND;TZID=America/Chicago:20250813T123000
DTSTAMP:20260421T054109
CREATED:20250602T213059Z
LAST-MODIFIED:20250603T190345Z
UID:10141555-1755087300-1755088200@spacecenter.org
SUMMARY:Story Corner Live Presentation
DESCRIPTION:
URL:https://spacecenter.org/events-calendar-event/story-corner-live-presentation-2/2025-08-13/
LOCATION:Theater – Artemis
CATEGORIES:Live Presentation
END:VEVENT
BEGIN:VEVENT
DTSTART;TZID=America/Chicago:20250813T124500
DTEND;TZID=America/Chicago:20250813T131500
DTSTAMP:20260421T054109
CREATED:20250602T214012Z
LAST-MODIFIED:20250603T190811Z
UID:10152523-1755089100-1755090900@spacecenter.org
SUMMARY:Artemis Live Presentation
DESCRIPTION:
URL:https://spacecenter.org/events-calendar-event/artemis-live-presentation-2/2025-08-13/
LOCATION:Theater – Destiny
CATEGORIES:Live Presentation
ATTACH;FMTTYPE=image/jpeg:https://spacecenter.org/wp-content/uploads/2022/10/Artemis-Capsule.jpeg
END:VEVENT
BEGIN:VEVENT
DTSTART;TZID=America/Chicago:20250813T131500
DTEND;TZID=America/Chicago:20250813T133000
DTSTAMP:20260421T054109
CREATED:20250602T213201Z
LAST-MODIFIED:20250603T190922Z
UID:10159835-1755090900-1755091800@spacecenter.org
SUMMARY:Story Corner Live Presentation
DESCRIPTION:
URL:https://spacecenter.org/events-calendar-event/story-corner-live-presentation-3/2025-08-13/
LOCATION:Theater – Artemis
CATEGORIES:Live Presentation
END:VEVENT
BEGIN:VEVENT
DTSTART;TZID=America/Chicago:20250813T134500
DTEND;TZID=America/Chicago:20250813T140000
DTSTAMP:20260421T054109
CREATED:20250602T212635Z
LAST-MODIFIED:20250603T191121Z
UID:10170803-1755092700-1755093600@spacecenter.org
SUMMARY:OSIRIS Rex Live Presentation
DESCRIPTION:
URL:https://spacecenter.org/events-calendar-event/osiris-rex-live-presentation-2/2025-08-13/
LOCATION:Mission Sketch Staircase
CATEGORIES:Live Presentation
ATTACH;FMTTYPE=image/jpeg:https://spacecenter.org/wp-content/uploads/2024/03/web-march2024_tls_osirisrex.jpg
END:VEVENT
BEGIN:VEVENT
DTSTART;TZID=America/Chicago:20250813T134500
DTEND;TZID=America/Chicago:20250813T140000
DTSTAMP:20260421T054109
CREATED:20250602T213557Z
LAST-MODIFIED:20250603T191327Z
UID:10174459-1755092700-1755093600@spacecenter.org
SUMMARY:James Webb Live Presentation
DESCRIPTION:
URL:https://spacecenter.org/events-calendar-event/james-webb-live-presentation-2/2025-08-13/
LOCATION:Theater – Destiny
CATEGORIES:Live Presentation
END:VEVENT
BEGIN:VEVENT
DTSTART;TZID=America/Chicago:20250813T144500
DTEND;TZID=America/Chicago:20250813T150000
DTSTAMP:20260421T054109
CREATED:20250602T213716Z
LAST-MODIFIED:20250603T191759Z
UID:10189083-1755096300-1755097200@spacecenter.org
SUMMARY:James Webb Live Presentation
DESCRIPTION:
URL:https://spacecenter.org/events-calendar-event/james-webb-live-presentation-3/2025-08-13/
LOCATION:Theater – Destiny
CATEGORIES:Live Presentation
END:VEVENT
BEGIN:VEVENT
DTSTART;TZID=America/Chicago:20250813T151500
DTEND;TZID=America/Chicago:20250813T153000
DTSTAMP:20260421T054109
CREATED:20250602T213249Z
LAST-MODIFIED:20250603T191942Z
UID:10196395-1755098100-1755099000@spacecenter.org
SUMMARY:Story Corner Live Presentation
DESCRIPTION:
URL:https://spacecenter.org/events-calendar-event/story-corner-live-presentation-4/2025-08-13/
LOCATION:Theater – Artemis
CATEGORIES:Live Presentation
END:VEVENT
BEGIN:VEVENT
DTSTART;TZID=America/Chicago:20250813T154500
DTEND;TZID=America/Chicago:20250813T161500
DTSTAMP:20260421T054109
CREATED:20250602T214125Z
LAST-MODIFIED:20250603T192119Z
UID:10207363-1755099900-1755101700@spacecenter.org
SUMMARY:Artemis Live Presentation
DESCRIPTION:
URL:https://spacecenter.org/events-calendar-event/artemis-live-presentation-3/2025-08-13/
LOCATION:Theater – Destiny
CATEGORIES:Live Presentation
ATTACH;FMTTYPE=image/jpeg:https://spacecenter.org/wp-content/uploads/2022/10/Artemis-Capsule.jpeg
END:VEVENT
BEGIN:VEVENT
DTSTART;TZID=America/Chicago:20250813T163000
DTEND;TZID=America/Chicago:20250813T164500
DTSTAMP:20260421T054109
CREATED:20250602T212726Z
LAST-MODIFIED:20250603T192225Z
UID:10214675-1755102600-1755103500@spacecenter.org
SUMMARY:OSIRIS Rex Live Presentation
DESCRIPTION:
URL:https://spacecenter.org/events-calendar-event/osiris-rex-live-presentation-3/2025-08-13/
LOCATION:Mission Sketch Staircase
CATEGORIES:Live Presentation
ATTACH;FMTTYPE=image/jpeg:https://spacecenter.org/wp-content/uploads/2024/03/web-march2024_tls_osirisrex.jpg
END:VEVENT
BEGIN:VEVENT
DTSTART;TZID=America/Chicago:20250814T104500
DTEND;TZID=America/Chicago:20250814T110000
DTSTAMP:20260421T054109
CREATED:20250602T212526Z
LAST-MODIFIED:20250603T185502Z
UID:10101340-1755168300-1755169200@spacecenter.org
SUMMARY:OSIRIS Rex Live Presentation
DESCRIPTION:
URL:https://spacecenter.org/events-calendar-event/osiris-rex-live-presentation/2025-08-14/
LOCATION:Mission Sketch Staircase
CATEGORIES:Live Presentation
ATTACH;FMTTYPE=image/jpeg:https://spacecenter.org/wp-content/uploads/2024/03/web-march2024_tls_osirisrex.jpg
END:VEVENT
BEGIN:VEVENT
DTSTART;TZID=America/Chicago:20250814T104500
DTEND;TZID=America/Chicago:20250814T111500
DTSTAMP:20260421T054109
CREATED:20250602T213905Z
LAST-MODIFIED:20250603T185637Z
UID:10108652-1755168300-1755170100@spacecenter.org
SUMMARY:Artemis Live Presentation
DESCRIPTION:
URL:https://spacecenter.org/events-calendar-event/artemis-live-presentation/2025-08-14/
LOCATION:Theater – Destiny
CATEGORIES:Live Presentation
ATTACH;FMTTYPE=image/jpeg:https://spacecenter.org/wp-content/uploads/2022/10/Artemis-Capsule.jpeg
END:VEVENT
BEGIN:VEVENT
DTSTART;TZID=America/Chicago:20250814T111500
DTEND;TZID=America/Chicago:20250814T113000
DTSTAMP:20260421T054109
CREATED:20250602T213010Z
LAST-MODIFIED:20250603T185901Z
UID:10119620-1755170100-1755171000@spacecenter.org
SUMMARY:Story Corner Live Presentation
DESCRIPTION:
URL:https://spacecenter.org/events-calendar-event/story-corner-live-presentation/2025-08-14/
LOCATION:Theater – Artemis
CATEGORIES:Live Presentation
END:VEVENT
BEGIN:VEVENT
DTSTART;TZID=America/Chicago:20250814T114500
DTEND;TZID=America/Chicago:20250814T120000
DTSTAMP:20260421T054109
CREATED:20250602T213503Z
LAST-MODIFIED:20250603T190256Z
UID:10137900-1755171900-1755172800@spacecenter.org
SUMMARY:James Webb Live Presentation
DESCRIPTION:
URL:https://spacecenter.org/events-calendar-event/james-webb-live-presentation/2025-08-14/
LOCATION:Theater – Destiny
CATEGORIES:Live Presentation
END:VEVENT
BEGIN:VEVENT
DTSTART;TZID=America/Chicago:20250814T121500
DTEND;TZID=America/Chicago:20250814T123000
DTSTAMP:20260421T054109
CREATED:20250602T213059Z
LAST-MODIFIED:20250603T190345Z
UID:10141556-1755173700-1755174600@spacecenter.org
SUMMARY:Story Corner Live Presentation
DESCRIPTION:
URL:https://spacecenter.org/events-calendar-event/story-corner-live-presentation-2/2025-08-14/
LOCATION:Theater – Artemis
CATEGORIES:Live Presentation
END:VEVENT
BEGIN:VEVENT
DTSTART;TZID=America/Chicago:20250814T124500
DTEND;TZID=America/Chicago:20250814T131500
DTSTAMP:20260421T054109
CREATED:20250602T214012Z
LAST-MODIFIED:20250603T190811Z
UID:10152524-1755175500-1755177300@spacecenter.org
SUMMARY:Artemis Live Presentation
DESCRIPTION:
URL:https://spacecenter.org/events-calendar-event/artemis-live-presentation-2/2025-08-14/
LOCATION:Theater – Destiny
CATEGORIES:Live Presentation
ATTACH;FMTTYPE=image/jpeg:https://spacecenter.org/wp-content/uploads/2022/10/Artemis-Capsule.jpeg
END:VEVENT
BEGIN:VEVENT
DTSTART;TZID=America/Chicago:20250814T131500
DTEND;TZID=America/Chicago:20250814T133000
DTSTAMP:20260421T054109
CREATED:20250602T213201Z
LAST-MODIFIED:20250603T190922Z
UID:10159836-1755177300-1755178200@spacecenter.org
SUMMARY:Story Corner Live Presentation
DESCRIPTION:
URL:https://spacecenter.org/events-calendar-event/story-corner-live-presentation-3/2025-08-14/
LOCATION:Theater – Artemis
CATEGORIES:Live Presentation
END:VEVENT
BEGIN:VEVENT
DTSTART;TZID=America/Chicago:20250814T134500
DTEND;TZID=America/Chicago:20250814T140000
DTSTAMP:20260421T054109
CREATED:20250602T212635Z
LAST-MODIFIED:20250603T191121Z
UID:10170804-1755179100-1755180000@spacecenter.org
SUMMARY:OSIRIS Rex Live Presentation
DESCRIPTION:
URL:https://spacecenter.org/events-calendar-event/osiris-rex-live-presentation-2/2025-08-14/
LOCATION:Mission Sketch Staircase
CATEGORIES:Live Presentation
ATTACH;FMTTYPE=image/jpeg:https://spacecenter.org/wp-content/uploads/2024/03/web-march2024_tls_osirisrex.jpg
END:VEVENT
BEGIN:VEVENT
DTSTART;TZID=America/Chicago:20250814T134500
DTEND;TZID=America/Chicago:20250814T140000
DTSTAMP:20260421T054109
CREATED:20250602T213557Z
LAST-MODIFIED:20250603T191327Z
UID:10174460-1755179100-1755180000@spacecenter.org
SUMMARY:James Webb Live Presentation
DESCRIPTION:
URL:https://spacecenter.org/events-calendar-event/james-webb-live-presentation-2/2025-08-14/
LOCATION:Theater – Destiny
CATEGORIES:Live Presentation
END:VEVENT
BEGIN:VEVENT
DTSTART;TZID=America/Chicago:20250814T144500
DTEND;TZID=America/Chicago:20250814T150000
DTSTAMP:20260421T054109
CREATED:20250602T213716Z
LAST-MODIFIED:20250603T191759Z
UID:10189084-1755182700-1755183600@spacecenter.org
SUMMARY:James Webb Live Presentation
DESCRIPTION:
URL:https://spacecenter.org/events-calendar-event/james-webb-live-presentation-3/2025-08-14/
LOCATION:Theater – Destiny
CATEGORIES:Live Presentation
END:VEVENT
END:VCALENDAR