BEGIN:VCALENDAR
VERSION:2.0
PRODID:-//Space Center Houston - ECPv6.15.15//NONSGML v1.0//EN
CALSCALE:GREGORIAN
METHOD:PUBLISH
X-ORIGINAL-URL:https://spacecenter.org
X-WR-CALDESC:Events for Space Center Houston
REFRESH-INTERVAL;VALUE=DURATION:PT1H
X-Robots-Tag:noindex
X-PUBLISHED-TTL:PT1H
BEGIN:VTIMEZONE
TZID:America/Chicago
BEGIN:DAYLIGHT
TZOFFSETFROM:-0600
TZOFFSETTO:-0500
TZNAME:CDT
DTSTART:20250309T080000
END:DAYLIGHT
BEGIN:STANDARD
TZOFFSETFROM:-0500
TZOFFSETTO:-0600
TZNAME:CST
DTSTART:20251102T070000
END:STANDARD
BEGIN:DAYLIGHT
TZOFFSETFROM:-0600
TZOFFSETTO:-0500
TZNAME:CDT
DTSTART:20260308T080000
END:DAYLIGHT
BEGIN:STANDARD
TZOFFSETFROM:-0500
TZOFFSETTO:-0600
TZNAME:CST
DTSTART:20261101T070000
END:STANDARD
BEGIN:DAYLIGHT
TZOFFSETFROM:-0600
TZOFFSETTO:-0500
TZNAME:CDT
DTSTART:20270314T080000
END:DAYLIGHT
BEGIN:STANDARD
TZOFFSETFROM:-0500
TZOFFSETTO:-0600
TZNAME:CST
DTSTART:20271107T070000
END:STANDARD
END:VTIMEZONE
BEGIN:VEVENT
DTSTART;TZID=America/Chicago:20260827T134500
DTEND;TZID=America/Chicago:20260827T140000
DTSTAMP:20260420T124849
CREATED:20250602T212635Z
LAST-MODIFIED:20250603T191121Z
UID:10171182-1787838300-1787839200@spacecenter.org
SUMMARY:OSIRIS Rex Live Presentation
DESCRIPTION:
URL:https://spacecenter.org/events-calendar-event/osiris-rex-live-presentation-2/2026-08-27/
LOCATION:Mission Sketch Staircase
CATEGORIES:Live Presentation
ATTACH;FMTTYPE=image/jpeg:https://spacecenter.org/wp-content/uploads/2024/03/web-march2024_tls_osirisrex.jpg
END:VEVENT
BEGIN:VEVENT
DTSTART;TZID=America/Chicago:20260827T134500
DTEND;TZID=America/Chicago:20260827T140000
DTSTAMP:20260420T124849
CREATED:20250602T213557Z
LAST-MODIFIED:20250603T191327Z
UID:10174838-1787838300-1787839200@spacecenter.org
SUMMARY:James Webb Live Presentation
DESCRIPTION:
URL:https://spacecenter.org/events-calendar-event/james-webb-live-presentation-2/2026-08-27/
LOCATION:Theater – Destiny
CATEGORIES:Live Presentation
END:VEVENT
BEGIN:VEVENT
DTSTART;TZID=America/Chicago:20260827T144500
DTEND;TZID=America/Chicago:20260827T150000
DTSTAMP:20260420T124849
CREATED:20250602T213716Z
LAST-MODIFIED:20250603T191759Z
UID:10189462-1787841900-1787842800@spacecenter.org
SUMMARY:James Webb Live Presentation
DESCRIPTION:
URL:https://spacecenter.org/events-calendar-event/james-webb-live-presentation-3/2026-08-27/
LOCATION:Theater – Destiny
CATEGORIES:Live Presentation
END:VEVENT
BEGIN:VEVENT
DTSTART;TZID=America/Chicago:20260827T151500
DTEND;TZID=America/Chicago:20260827T153000
DTSTAMP:20260420T124849
CREATED:20250602T213249Z
LAST-MODIFIED:20250603T191942Z
UID:10196774-1787843700-1787844600@spacecenter.org
SUMMARY:Story Corner Live Presentation
DESCRIPTION:
URL:https://spacecenter.org/events-calendar-event/story-corner-live-presentation-4/2026-08-27/
LOCATION:Theater – Artemis
CATEGORIES:Live Presentation
END:VEVENT
BEGIN:VEVENT
DTSTART;TZID=America/Chicago:20260827T154500
DTEND;TZID=America/Chicago:20260827T161500
DTSTAMP:20260420T124849
CREATED:20250602T214125Z
LAST-MODIFIED:20250603T192119Z
UID:10207742-1787845500-1787847300@spacecenter.org
SUMMARY:Artemis Live Presentation
DESCRIPTION:
URL:https://spacecenter.org/events-calendar-event/artemis-live-presentation-3/2026-08-27/
LOCATION:Theater – Destiny
CATEGORIES:Live Presentation
ATTACH;FMTTYPE=image/jpeg:https://spacecenter.org/wp-content/uploads/2022/10/Artemis-Capsule.jpeg
END:VEVENT
BEGIN:VEVENT
DTSTART;TZID=America/Chicago:20260827T163000
DTEND;TZID=America/Chicago:20260827T164500
DTSTAMP:20260420T124849
CREATED:20250602T212726Z
LAST-MODIFIED:20250603T192225Z
UID:10215054-1787848200-1787849100@spacecenter.org
SUMMARY:OSIRIS Rex Live Presentation
DESCRIPTION:
URL:https://spacecenter.org/events-calendar-event/osiris-rex-live-presentation-3/2026-08-27/
LOCATION:Mission Sketch Staircase
CATEGORIES:Live Presentation
ATTACH;FMTTYPE=image/jpeg:https://spacecenter.org/wp-content/uploads/2024/03/web-march2024_tls_osirisrex.jpg
END:VEVENT
BEGIN:VEVENT
DTSTART;TZID=America/Chicago:20260828T104500
DTEND;TZID=America/Chicago:20260828T110000
DTSTAMP:20260420T124849
CREATED:20250602T212526Z
LAST-MODIFIED:20250603T185502Z
UID:10101719-1787913900-1787914800@spacecenter.org
SUMMARY:OSIRIS Rex Live Presentation
DESCRIPTION:
URL:https://spacecenter.org/events-calendar-event/osiris-rex-live-presentation/2026-08-28/
LOCATION:Mission Sketch Staircase
CATEGORIES:Live Presentation
ATTACH;FMTTYPE=image/jpeg:https://spacecenter.org/wp-content/uploads/2024/03/web-march2024_tls_osirisrex.jpg
END:VEVENT
BEGIN:VEVENT
DTSTART;TZID=America/Chicago:20260828T104500
DTEND;TZID=America/Chicago:20260828T111500
DTSTAMP:20260420T124849
CREATED:20250602T213905Z
LAST-MODIFIED:20250603T185637Z
UID:10109031-1787913900-1787915700@spacecenter.org
SUMMARY:Artemis Live Presentation
DESCRIPTION:
URL:https://spacecenter.org/events-calendar-event/artemis-live-presentation/2026-08-28/
LOCATION:Theater – Destiny
CATEGORIES:Live Presentation
ATTACH;FMTTYPE=image/jpeg:https://spacecenter.org/wp-content/uploads/2022/10/Artemis-Capsule.jpeg
END:VEVENT
BEGIN:VEVENT
DTSTART;TZID=America/Chicago:20260828T111500
DTEND;TZID=America/Chicago:20260828T113000
DTSTAMP:20260420T124849
CREATED:20250602T213010Z
LAST-MODIFIED:20250603T185901Z
UID:10119999-1787915700-1787916600@spacecenter.org
SUMMARY:Story Corner Live Presentation
DESCRIPTION:
URL:https://spacecenter.org/events-calendar-event/story-corner-live-presentation/2026-08-28/
LOCATION:Theater – Artemis
CATEGORIES:Live Presentation
END:VEVENT
BEGIN:VEVENT
DTSTART;TZID=America/Chicago:20260828T114500
DTEND;TZID=America/Chicago:20260828T120000
DTSTAMP:20260420T124849
CREATED:20250602T213503Z
LAST-MODIFIED:20250603T190256Z
UID:10138279-1787917500-1787918400@spacecenter.org
SUMMARY:James Webb Live Presentation
DESCRIPTION:
URL:https://spacecenter.org/events-calendar-event/james-webb-live-presentation/2026-08-28/
LOCATION:Theater – Destiny
CATEGORIES:Live Presentation
END:VEVENT
BEGIN:VEVENT
DTSTART;TZID=America/Chicago:20260828T121500
DTEND;TZID=America/Chicago:20260828T123000
DTSTAMP:20260420T124849
CREATED:20250602T213059Z
LAST-MODIFIED:20250603T190345Z
UID:10141935-1787919300-1787920200@spacecenter.org
SUMMARY:Story Corner Live Presentation
DESCRIPTION:
URL:https://spacecenter.org/events-calendar-event/story-corner-live-presentation-2/2026-08-28/
LOCATION:Theater – Artemis
CATEGORIES:Live Presentation
END:VEVENT
BEGIN:VEVENT
DTSTART;TZID=America/Chicago:20260828T124500
DTEND;TZID=America/Chicago:20260828T131500
DTSTAMP:20260420T124849
CREATED:20250602T214012Z
LAST-MODIFIED:20250603T190811Z
UID:10152903-1787921100-1787922900@spacecenter.org
SUMMARY:Artemis Live Presentation
DESCRIPTION:
URL:https://spacecenter.org/events-calendar-event/artemis-live-presentation-2/2026-08-28/
LOCATION:Theater – Destiny
CATEGORIES:Live Presentation
ATTACH;FMTTYPE=image/jpeg:https://spacecenter.org/wp-content/uploads/2022/10/Artemis-Capsule.jpeg
END:VEVENT
BEGIN:VEVENT
DTSTART;TZID=America/Chicago:20260828T131500
DTEND;TZID=America/Chicago:20260828T133000
DTSTAMP:20260420T124849
CREATED:20250602T213201Z
LAST-MODIFIED:20250603T190922Z
UID:10160215-1787922900-1787923800@spacecenter.org
SUMMARY:Story Corner Live Presentation
DESCRIPTION:
URL:https://spacecenter.org/events-calendar-event/story-corner-live-presentation-3/2026-08-28/
LOCATION:Theater – Artemis
CATEGORIES:Live Presentation
END:VEVENT
BEGIN:VEVENT
DTSTART;TZID=America/Chicago:20260828T134500
DTEND;TZID=America/Chicago:20260828T140000
DTSTAMP:20260420T124849
CREATED:20250602T212635Z
LAST-MODIFIED:20250603T191121Z
UID:10171183-1787924700-1787925600@spacecenter.org
SUMMARY:OSIRIS Rex Live Presentation
DESCRIPTION:
URL:https://spacecenter.org/events-calendar-event/osiris-rex-live-presentation-2/2026-08-28/
LOCATION:Mission Sketch Staircase
CATEGORIES:Live Presentation
ATTACH;FMTTYPE=image/jpeg:https://spacecenter.org/wp-content/uploads/2024/03/web-march2024_tls_osirisrex.jpg
END:VEVENT
BEGIN:VEVENT
DTSTART;TZID=America/Chicago:20260828T134500
DTEND;TZID=America/Chicago:20260828T140000
DTSTAMP:20260420T124849
CREATED:20250602T213557Z
LAST-MODIFIED:20250603T191327Z
UID:10174839-1787924700-1787925600@spacecenter.org
SUMMARY:James Webb Live Presentation
DESCRIPTION:
URL:https://spacecenter.org/events-calendar-event/james-webb-live-presentation-2/2026-08-28/
LOCATION:Theater – Destiny
CATEGORIES:Live Presentation
END:VEVENT
BEGIN:VEVENT
DTSTART;TZID=America/Chicago:20260828T144500
DTEND;TZID=America/Chicago:20260828T150000
DTSTAMP:20260420T124849
CREATED:20250602T213716Z
LAST-MODIFIED:20250603T191759Z
UID:10189463-1787928300-1787929200@spacecenter.org
SUMMARY:James Webb Live Presentation
DESCRIPTION:
URL:https://spacecenter.org/events-calendar-event/james-webb-live-presentation-3/2026-08-28/
LOCATION:Theater – Destiny
CATEGORIES:Live Presentation
END:VEVENT
BEGIN:VEVENT
DTSTART;TZID=America/Chicago:20260828T151500
DTEND;TZID=America/Chicago:20260828T153000
DTSTAMP:20260420T124849
CREATED:20250602T213249Z
LAST-MODIFIED:20250603T191942Z
UID:10196775-1787930100-1787931000@spacecenter.org
SUMMARY:Story Corner Live Presentation
DESCRIPTION:
URL:https://spacecenter.org/events-calendar-event/story-corner-live-presentation-4/2026-08-28/
LOCATION:Theater – Artemis
CATEGORIES:Live Presentation
END:VEVENT
BEGIN:VEVENT
DTSTART;TZID=America/Chicago:20260828T154500
DTEND;TZID=America/Chicago:20260828T161500
DTSTAMP:20260420T124849
CREATED:20250602T214125Z
LAST-MODIFIED:20250603T192119Z
UID:10207743-1787931900-1787933700@spacecenter.org
SUMMARY:Artemis Live Presentation
DESCRIPTION:
URL:https://spacecenter.org/events-calendar-event/artemis-live-presentation-3/2026-08-28/
LOCATION:Theater – Destiny
CATEGORIES:Live Presentation
ATTACH;FMTTYPE=image/jpeg:https://spacecenter.org/wp-content/uploads/2022/10/Artemis-Capsule.jpeg
END:VEVENT
BEGIN:VEVENT
DTSTART;TZID=America/Chicago:20260828T163000
DTEND;TZID=America/Chicago:20260828T164500
DTSTAMP:20260420T124849
CREATED:20250602T212726Z
LAST-MODIFIED:20250603T192225Z
UID:10215055-1787934600-1787935500@spacecenter.org
SUMMARY:OSIRIS Rex Live Presentation
DESCRIPTION:
URL:https://spacecenter.org/events-calendar-event/osiris-rex-live-presentation-3/2026-08-28/
LOCATION:Mission Sketch Staircase
CATEGORIES:Live Presentation
ATTACH;FMTTYPE=image/jpeg:https://spacecenter.org/wp-content/uploads/2024/03/web-march2024_tls_osirisrex.jpg
END:VEVENT
BEGIN:VEVENT
DTSTART;TZID=America/Chicago:20260829T104500
DTEND;TZID=America/Chicago:20260829T110000
DTSTAMP:20260420T124849
CREATED:20250602T212526Z
LAST-MODIFIED:20250603T185502Z
UID:10101720-1788000300-1788001200@spacecenter.org
SUMMARY:OSIRIS Rex Live Presentation
DESCRIPTION:
URL:https://spacecenter.org/events-calendar-event/osiris-rex-live-presentation/2026-08-29/
LOCATION:Mission Sketch Staircase
CATEGORIES:Live Presentation
ATTACH;FMTTYPE=image/jpeg:https://spacecenter.org/wp-content/uploads/2024/03/web-march2024_tls_osirisrex.jpg
END:VEVENT
BEGIN:VEVENT
DTSTART;TZID=America/Chicago:20260829T104500
DTEND;TZID=America/Chicago:20260829T111500
DTSTAMP:20260420T124849
CREATED:20250602T213905Z
LAST-MODIFIED:20250603T185637Z
UID:10109032-1788000300-1788002100@spacecenter.org
SUMMARY:Artemis Live Presentation
DESCRIPTION:
URL:https://spacecenter.org/events-calendar-event/artemis-live-presentation/2026-08-29/
LOCATION:Theater – Destiny
CATEGORIES:Live Presentation
ATTACH;FMTTYPE=image/jpeg:https://spacecenter.org/wp-content/uploads/2022/10/Artemis-Capsule.jpeg
END:VEVENT
BEGIN:VEVENT
DTSTART;TZID=America/Chicago:20260829T111500
DTEND;TZID=America/Chicago:20260829T113000
DTSTAMP:20260420T124849
CREATED:20250602T213010Z
LAST-MODIFIED:20250603T185901Z
UID:10120000-1788002100-1788003000@spacecenter.org
SUMMARY:Story Corner Live Presentation
DESCRIPTION:
URL:https://spacecenter.org/events-calendar-event/story-corner-live-presentation/2026-08-29/
LOCATION:Theater – Artemis
CATEGORIES:Live Presentation
END:VEVENT
BEGIN:VEVENT
DTSTART;TZID=America/Chicago:20260829T114500
DTEND;TZID=America/Chicago:20260829T120000
DTSTAMP:20260420T124849
CREATED:20250602T213503Z
LAST-MODIFIED:20250603T190256Z
UID:10138280-1788003900-1788004800@spacecenter.org
SUMMARY:James Webb Live Presentation
DESCRIPTION:
URL:https://spacecenter.org/events-calendar-event/james-webb-live-presentation/2026-08-29/
LOCATION:Theater – Destiny
CATEGORIES:Live Presentation
END:VEVENT
BEGIN:VEVENT
DTSTART;TZID=America/Chicago:20260829T121500
DTEND;TZID=America/Chicago:20260829T123000
DTSTAMP:20260420T124849
CREATED:20250602T213059Z
LAST-MODIFIED:20250603T190345Z
UID:10141936-1788005700-1788006600@spacecenter.org
SUMMARY:Story Corner Live Presentation
DESCRIPTION:
URL:https://spacecenter.org/events-calendar-event/story-corner-live-presentation-2/2026-08-29/
LOCATION:Theater – Artemis
CATEGORIES:Live Presentation
END:VEVENT
BEGIN:VEVENT
DTSTART;TZID=America/Chicago:20260829T124500
DTEND;TZID=America/Chicago:20260829T131500
DTSTAMP:20260420T124849
CREATED:20250602T214012Z
LAST-MODIFIED:20250603T190811Z
UID:10152904-1788007500-1788009300@spacecenter.org
SUMMARY:Artemis Live Presentation
DESCRIPTION:
URL:https://spacecenter.org/events-calendar-event/artemis-live-presentation-2/2026-08-29/
LOCATION:Theater – Destiny
CATEGORIES:Live Presentation
ATTACH;FMTTYPE=image/jpeg:https://spacecenter.org/wp-content/uploads/2022/10/Artemis-Capsule.jpeg
END:VEVENT
BEGIN:VEVENT
DTSTART;TZID=America/Chicago:20260829T131500
DTEND;TZID=America/Chicago:20260829T133000
DTSTAMP:20260420T124849
CREATED:20250602T213201Z
LAST-MODIFIED:20250603T190922Z
UID:10160216-1788009300-1788010200@spacecenter.org
SUMMARY:Story Corner Live Presentation
DESCRIPTION:
URL:https://spacecenter.org/events-calendar-event/story-corner-live-presentation-3/2026-08-29/
LOCATION:Theater – Artemis
CATEGORIES:Live Presentation
END:VEVENT
BEGIN:VEVENT
DTSTART;TZID=America/Chicago:20260829T134500
DTEND;TZID=America/Chicago:20260829T140000
DTSTAMP:20260420T124849
CREATED:20250602T212635Z
LAST-MODIFIED:20250603T191121Z
UID:10171184-1788011100-1788012000@spacecenter.org
SUMMARY:OSIRIS Rex Live Presentation
DESCRIPTION:
URL:https://spacecenter.org/events-calendar-event/osiris-rex-live-presentation-2/2026-08-29/
LOCATION:Mission Sketch Staircase
CATEGORIES:Live Presentation
ATTACH;FMTTYPE=image/jpeg:https://spacecenter.org/wp-content/uploads/2024/03/web-march2024_tls_osirisrex.jpg
END:VEVENT
BEGIN:VEVENT
DTSTART;TZID=America/Chicago:20260829T134500
DTEND;TZID=America/Chicago:20260829T140000
DTSTAMP:20260420T124849
CREATED:20250602T213557Z
LAST-MODIFIED:20250603T191327Z
UID:10174840-1788011100-1788012000@spacecenter.org
SUMMARY:James Webb Live Presentation
DESCRIPTION:
URL:https://spacecenter.org/events-calendar-event/james-webb-live-presentation-2/2026-08-29/
LOCATION:Theater – Destiny
CATEGORIES:Live Presentation
END:VEVENT
BEGIN:VEVENT
DTSTART;TZID=America/Chicago:20260829T144500
DTEND;TZID=America/Chicago:20260829T150000
DTSTAMP:20260420T124849
CREATED:20250602T213716Z
LAST-MODIFIED:20250603T191759Z
UID:10189464-1788014700-1788015600@spacecenter.org
SUMMARY:James Webb Live Presentation
DESCRIPTION:
URL:https://spacecenter.org/events-calendar-event/james-webb-live-presentation-3/2026-08-29/
LOCATION:Theater – Destiny
CATEGORIES:Live Presentation
END:VEVENT
BEGIN:VEVENT
DTSTART;TZID=America/Chicago:20260829T151500
DTEND;TZID=America/Chicago:20260829T153000
DTSTAMP:20260420T124849
CREATED:20250602T213249Z
LAST-MODIFIED:20250603T191942Z
UID:10196776-1788016500-1788017400@spacecenter.org
SUMMARY:Story Corner Live Presentation
DESCRIPTION:
URL:https://spacecenter.org/events-calendar-event/story-corner-live-presentation-4/2026-08-29/
LOCATION:Theater – Artemis
CATEGORIES:Live Presentation
END:VEVENT
END:VCALENDAR