BEGIN:VCALENDAR
VERSION:2.0
PRODID:-//Space Center Houston - ECPv6.15.15//NONSGML v1.0//EN
CALSCALE:GREGORIAN
METHOD:PUBLISH
X-ORIGINAL-URL:https://spacecenter.org
X-WR-CALDESC:Events for Space Center Houston
REFRESH-INTERVAL;VALUE=DURATION:PT1H
X-Robots-Tag:noindex
X-PUBLISHED-TTL:PT1H
BEGIN:VTIMEZONE
TZID:America/Chicago
BEGIN:DAYLIGHT
TZOFFSETFROM:-0600
TZOFFSETTO:-0500
TZNAME:CDT
DTSTART:20250309T080000
END:DAYLIGHT
BEGIN:STANDARD
TZOFFSETFROM:-0500
TZOFFSETTO:-0600
TZNAME:CST
DTSTART:20251102T070000
END:STANDARD
BEGIN:DAYLIGHT
TZOFFSETFROM:-0600
TZOFFSETTO:-0500
TZNAME:CDT
DTSTART:20260308T080000
END:DAYLIGHT
BEGIN:STANDARD
TZOFFSETFROM:-0500
TZOFFSETTO:-0600
TZNAME:CST
DTSTART:20261101T070000
END:STANDARD
BEGIN:DAYLIGHT
TZOFFSETFROM:-0600
TZOFFSETTO:-0500
TZNAME:CDT
DTSTART:20270314T080000
END:DAYLIGHT
BEGIN:STANDARD
TZOFFSETFROM:-0500
TZOFFSETTO:-0600
TZNAME:CST
DTSTART:20271107T070000
END:STANDARD
END:VTIMEZONE
BEGIN:VEVENT
DTSTART;TZID=America/Chicago:20260829T144500
DTEND;TZID=America/Chicago:20260829T150000
DTSTAMP:20260425T095336
CREATED:20250602T213716Z
LAST-MODIFIED:20250603T191759Z
UID:10189464-1788014700-1788015600@spacecenter.org
SUMMARY:James Webb Live Presentation
DESCRIPTION:
URL:https://spacecenter.org/events-calendar-event/james-webb-live-presentation-3/2026-08-29/
LOCATION:Theater – Destiny
CATEGORIES:Live Presentation
END:VEVENT
BEGIN:VEVENT
DTSTART;TZID=America/Chicago:20260829T151500
DTEND;TZID=America/Chicago:20260829T153000
DTSTAMP:20260425T095336
CREATED:20250602T213249Z
LAST-MODIFIED:20250603T191942Z
UID:10196776-1788016500-1788017400@spacecenter.org
SUMMARY:Story Corner Live Presentation
DESCRIPTION:
URL:https://spacecenter.org/events-calendar-event/story-corner-live-presentation-4/2026-08-29/
LOCATION:Theater – Artemis
CATEGORIES:Live Presentation
END:VEVENT
BEGIN:VEVENT
DTSTART;TZID=America/Chicago:20260829T154500
DTEND;TZID=America/Chicago:20260829T161500
DTSTAMP:20260425T095336
CREATED:20250602T214125Z
LAST-MODIFIED:20250603T192119Z
UID:10207744-1788018300-1788020100@spacecenter.org
SUMMARY:Artemis Live Presentation
DESCRIPTION:
URL:https://spacecenter.org/events-calendar-event/artemis-live-presentation-3/2026-08-29/
LOCATION:Theater – Destiny
CATEGORIES:Live Presentation
ATTACH;FMTTYPE=image/jpeg:https://spacecenter.org/wp-content/uploads/2022/10/Artemis-Capsule.jpeg
END:VEVENT
BEGIN:VEVENT
DTSTART;TZID=America/Chicago:20260829T163000
DTEND;TZID=America/Chicago:20260829T164500
DTSTAMP:20260425T095336
CREATED:20250602T212726Z
LAST-MODIFIED:20250603T192225Z
UID:10215056-1788021000-1788021900@spacecenter.org
SUMMARY:OSIRIS Rex Live Presentation
DESCRIPTION:
URL:https://spacecenter.org/events-calendar-event/osiris-rex-live-presentation-3/2026-08-29/
LOCATION:Mission Sketch Staircase
CATEGORIES:Live Presentation
ATTACH;FMTTYPE=image/jpeg:https://spacecenter.org/wp-content/uploads/2024/03/web-march2024_tls_osirisrex.jpg
END:VEVENT
BEGIN:VEVENT
DTSTART;TZID=America/Chicago:20260830T104500
DTEND;TZID=America/Chicago:20260830T110000
DTSTAMP:20260425T095336
CREATED:20250602T212526Z
LAST-MODIFIED:20250603T185502Z
UID:10101721-1788086700-1788087600@spacecenter.org
SUMMARY:OSIRIS Rex Live Presentation
DESCRIPTION:
URL:https://spacecenter.org/events-calendar-event/osiris-rex-live-presentation/2026-08-30/
LOCATION:Mission Sketch Staircase
CATEGORIES:Live Presentation
ATTACH;FMTTYPE=image/jpeg:https://spacecenter.org/wp-content/uploads/2024/03/web-march2024_tls_osirisrex.jpg
END:VEVENT
BEGIN:VEVENT
DTSTART;TZID=America/Chicago:20260830T104500
DTEND;TZID=America/Chicago:20260830T111500
DTSTAMP:20260425T095336
CREATED:20250602T213905Z
LAST-MODIFIED:20250603T185637Z
UID:10109033-1788086700-1788088500@spacecenter.org
SUMMARY:Artemis Live Presentation
DESCRIPTION:
URL:https://spacecenter.org/events-calendar-event/artemis-live-presentation/2026-08-30/
LOCATION:Theater – Destiny
CATEGORIES:Live Presentation
ATTACH;FMTTYPE=image/jpeg:https://spacecenter.org/wp-content/uploads/2022/10/Artemis-Capsule.jpeg
END:VEVENT
BEGIN:VEVENT
DTSTART;TZID=America/Chicago:20260830T111500
DTEND;TZID=America/Chicago:20260830T113000
DTSTAMP:20260425T095336
CREATED:20250602T213010Z
LAST-MODIFIED:20250603T185901Z
UID:10120001-1788088500-1788089400@spacecenter.org
SUMMARY:Story Corner Live Presentation
DESCRIPTION:
URL:https://spacecenter.org/events-calendar-event/story-corner-live-presentation/2026-08-30/
LOCATION:Theater – Artemis
CATEGORIES:Live Presentation
END:VEVENT
BEGIN:VEVENT
DTSTART;TZID=America/Chicago:20260830T114500
DTEND;TZID=America/Chicago:20260830T120000
DTSTAMP:20260425T095336
CREATED:20250602T213503Z
LAST-MODIFIED:20250603T190256Z
UID:10138281-1788090300-1788091200@spacecenter.org
SUMMARY:James Webb Live Presentation
DESCRIPTION:
URL:https://spacecenter.org/events-calendar-event/james-webb-live-presentation/2026-08-30/
LOCATION:Theater – Destiny
CATEGORIES:Live Presentation
END:VEVENT
BEGIN:VEVENT
DTSTART;TZID=America/Chicago:20260830T121500
DTEND;TZID=America/Chicago:20260830T123000
DTSTAMP:20260425T095336
CREATED:20250602T213059Z
LAST-MODIFIED:20250603T190345Z
UID:10141937-1788092100-1788093000@spacecenter.org
SUMMARY:Story Corner Live Presentation
DESCRIPTION:
URL:https://spacecenter.org/events-calendar-event/story-corner-live-presentation-2/2026-08-30/
LOCATION:Theater – Artemis
CATEGORIES:Live Presentation
END:VEVENT
BEGIN:VEVENT
DTSTART;TZID=America/Chicago:20260830T124500
DTEND;TZID=America/Chicago:20260830T131500
DTSTAMP:20260425T095336
CREATED:20250602T214012Z
LAST-MODIFIED:20250603T190811Z
UID:10152905-1788093900-1788095700@spacecenter.org
SUMMARY:Artemis Live Presentation
DESCRIPTION:
URL:https://spacecenter.org/events-calendar-event/artemis-live-presentation-2/2026-08-30/
LOCATION:Theater – Destiny
CATEGORIES:Live Presentation
ATTACH;FMTTYPE=image/jpeg:https://spacecenter.org/wp-content/uploads/2022/10/Artemis-Capsule.jpeg
END:VEVENT
BEGIN:VEVENT
DTSTART;TZID=America/Chicago:20260830T131500
DTEND;TZID=America/Chicago:20260830T133000
DTSTAMP:20260425T095336
CREATED:20250602T213201Z
LAST-MODIFIED:20250603T190922Z
UID:10160217-1788095700-1788096600@spacecenter.org
SUMMARY:Story Corner Live Presentation
DESCRIPTION:
URL:https://spacecenter.org/events-calendar-event/story-corner-live-presentation-3/2026-08-30/
LOCATION:Theater – Artemis
CATEGORIES:Live Presentation
END:VEVENT
BEGIN:VEVENT
DTSTART;TZID=America/Chicago:20260830T134500
DTEND;TZID=America/Chicago:20260830T140000
DTSTAMP:20260425T095336
CREATED:20250602T212635Z
LAST-MODIFIED:20250603T191121Z
UID:10171185-1788097500-1788098400@spacecenter.org
SUMMARY:OSIRIS Rex Live Presentation
DESCRIPTION:
URL:https://spacecenter.org/events-calendar-event/osiris-rex-live-presentation-2/2026-08-30/
LOCATION:Mission Sketch Staircase
CATEGORIES:Live Presentation
ATTACH;FMTTYPE=image/jpeg:https://spacecenter.org/wp-content/uploads/2024/03/web-march2024_tls_osirisrex.jpg
END:VEVENT
BEGIN:VEVENT
DTSTART;TZID=America/Chicago:20260830T134500
DTEND;TZID=America/Chicago:20260830T140000
DTSTAMP:20260425T095336
CREATED:20250602T213557Z
LAST-MODIFIED:20250603T191327Z
UID:10174841-1788097500-1788098400@spacecenter.org
SUMMARY:James Webb Live Presentation
DESCRIPTION:
URL:https://spacecenter.org/events-calendar-event/james-webb-live-presentation-2/2026-08-30/
LOCATION:Theater – Destiny
CATEGORIES:Live Presentation
END:VEVENT
BEGIN:VEVENT
DTSTART;TZID=America/Chicago:20260830T144500
DTEND;TZID=America/Chicago:20260830T150000
DTSTAMP:20260425T095336
CREATED:20250602T213716Z
LAST-MODIFIED:20250603T191759Z
UID:10189465-1788101100-1788102000@spacecenter.org
SUMMARY:James Webb Live Presentation
DESCRIPTION:
URL:https://spacecenter.org/events-calendar-event/james-webb-live-presentation-3/2026-08-30/
LOCATION:Theater – Destiny
CATEGORIES:Live Presentation
END:VEVENT
BEGIN:VEVENT
DTSTART;TZID=America/Chicago:20260830T151500
DTEND;TZID=America/Chicago:20260830T153000
DTSTAMP:20260425T095336
CREATED:20250602T213249Z
LAST-MODIFIED:20250603T191942Z
UID:10196777-1788102900-1788103800@spacecenter.org
SUMMARY:Story Corner Live Presentation
DESCRIPTION:
URL:https://spacecenter.org/events-calendar-event/story-corner-live-presentation-4/2026-08-30/
LOCATION:Theater – Artemis
CATEGORIES:Live Presentation
END:VEVENT
BEGIN:VEVENT
DTSTART;TZID=America/Chicago:20260830T154500
DTEND;TZID=America/Chicago:20260830T161500
DTSTAMP:20260425T095336
CREATED:20250602T214125Z
LAST-MODIFIED:20250603T192119Z
UID:10207745-1788104700-1788106500@spacecenter.org
SUMMARY:Artemis Live Presentation
DESCRIPTION:
URL:https://spacecenter.org/events-calendar-event/artemis-live-presentation-3/2026-08-30/
LOCATION:Theater – Destiny
CATEGORIES:Live Presentation
ATTACH;FMTTYPE=image/jpeg:https://spacecenter.org/wp-content/uploads/2022/10/Artemis-Capsule.jpeg
END:VEVENT
BEGIN:VEVENT
DTSTART;TZID=America/Chicago:20260830T163000
DTEND;TZID=America/Chicago:20260830T164500
DTSTAMP:20260425T095336
CREATED:20250602T212726Z
LAST-MODIFIED:20250603T192225Z
UID:10215057-1788107400-1788108300@spacecenter.org
SUMMARY:OSIRIS Rex Live Presentation
DESCRIPTION:
URL:https://spacecenter.org/events-calendar-event/osiris-rex-live-presentation-3/2026-08-30/
LOCATION:Mission Sketch Staircase
CATEGORIES:Live Presentation
ATTACH;FMTTYPE=image/jpeg:https://spacecenter.org/wp-content/uploads/2024/03/web-march2024_tls_osirisrex.jpg
END:VEVENT
BEGIN:VEVENT
DTSTART;TZID=America/Chicago:20260831T104500
DTEND;TZID=America/Chicago:20260831T110000
DTSTAMP:20260425T095336
CREATED:20250602T212526Z
LAST-MODIFIED:20250603T185502Z
UID:10101722-1788173100-1788174000@spacecenter.org
SUMMARY:OSIRIS Rex Live Presentation
DESCRIPTION:
URL:https://spacecenter.org/events-calendar-event/osiris-rex-live-presentation/2026-08-31/
LOCATION:Mission Sketch Staircase
CATEGORIES:Live Presentation
ATTACH;FMTTYPE=image/jpeg:https://spacecenter.org/wp-content/uploads/2024/03/web-march2024_tls_osirisrex.jpg
END:VEVENT
BEGIN:VEVENT
DTSTART;TZID=America/Chicago:20260831T104500
DTEND;TZID=America/Chicago:20260831T111500
DTSTAMP:20260425T095336
CREATED:20250602T213905Z
LAST-MODIFIED:20250603T185637Z
UID:10109034-1788173100-1788174900@spacecenter.org
SUMMARY:Artemis Live Presentation
DESCRIPTION:
URL:https://spacecenter.org/events-calendar-event/artemis-live-presentation/2026-08-31/
LOCATION:Theater – Destiny
CATEGORIES:Live Presentation
ATTACH;FMTTYPE=image/jpeg:https://spacecenter.org/wp-content/uploads/2022/10/Artemis-Capsule.jpeg
END:VEVENT
BEGIN:VEVENT
DTSTART;TZID=America/Chicago:20260831T111500
DTEND;TZID=America/Chicago:20260831T113000
DTSTAMP:20260425T095336
CREATED:20250602T213010Z
LAST-MODIFIED:20250603T185901Z
UID:10120002-1788174900-1788175800@spacecenter.org
SUMMARY:Story Corner Live Presentation
DESCRIPTION:
URL:https://spacecenter.org/events-calendar-event/story-corner-live-presentation/2026-08-31/
LOCATION:Theater – Artemis
CATEGORIES:Live Presentation
END:VEVENT
BEGIN:VEVENT
DTSTART;TZID=America/Chicago:20260831T114500
DTEND;TZID=America/Chicago:20260831T120000
DTSTAMP:20260425T095336
CREATED:20250602T213503Z
LAST-MODIFIED:20250603T190256Z
UID:10138282-1788176700-1788177600@spacecenter.org
SUMMARY:James Webb Live Presentation
DESCRIPTION:
URL:https://spacecenter.org/events-calendar-event/james-webb-live-presentation/2026-08-31/
LOCATION:Theater – Destiny
CATEGORIES:Live Presentation
END:VEVENT
BEGIN:VEVENT
DTSTART;TZID=America/Chicago:20260831T121500
DTEND;TZID=America/Chicago:20260831T123000
DTSTAMP:20260425T095336
CREATED:20250602T213059Z
LAST-MODIFIED:20250603T190345Z
UID:10141938-1788178500-1788179400@spacecenter.org
SUMMARY:Story Corner Live Presentation
DESCRIPTION:
URL:https://spacecenter.org/events-calendar-event/story-corner-live-presentation-2/2026-08-31/
LOCATION:Theater – Artemis
CATEGORIES:Live Presentation
END:VEVENT
BEGIN:VEVENT
DTSTART;TZID=America/Chicago:20260831T124500
DTEND;TZID=America/Chicago:20260831T131500
DTSTAMP:20260425T095336
CREATED:20250602T214012Z
LAST-MODIFIED:20250603T190811Z
UID:10152906-1788180300-1788182100@spacecenter.org
SUMMARY:Artemis Live Presentation
DESCRIPTION:
URL:https://spacecenter.org/events-calendar-event/artemis-live-presentation-2/2026-08-31/
LOCATION:Theater – Destiny
CATEGORIES:Live Presentation
ATTACH;FMTTYPE=image/jpeg:https://spacecenter.org/wp-content/uploads/2022/10/Artemis-Capsule.jpeg
END:VEVENT
BEGIN:VEVENT
DTSTART;TZID=America/Chicago:20260831T131500
DTEND;TZID=America/Chicago:20260831T133000
DTSTAMP:20260425T095336
CREATED:20250602T213201Z
LAST-MODIFIED:20250603T190922Z
UID:10160218-1788182100-1788183000@spacecenter.org
SUMMARY:Story Corner Live Presentation
DESCRIPTION:
URL:https://spacecenter.org/events-calendar-event/story-corner-live-presentation-3/2026-08-31/
LOCATION:Theater – Artemis
CATEGORIES:Live Presentation
END:VEVENT
BEGIN:VEVENT
DTSTART;TZID=America/Chicago:20260831T134500
DTEND;TZID=America/Chicago:20260831T140000
DTSTAMP:20260425T095336
CREATED:20250602T212635Z
LAST-MODIFIED:20250603T191121Z
UID:10171186-1788183900-1788184800@spacecenter.org
SUMMARY:OSIRIS Rex Live Presentation
DESCRIPTION:
URL:https://spacecenter.org/events-calendar-event/osiris-rex-live-presentation-2/2026-08-31/
LOCATION:Mission Sketch Staircase
CATEGORIES:Live Presentation
ATTACH;FMTTYPE=image/jpeg:https://spacecenter.org/wp-content/uploads/2024/03/web-march2024_tls_osirisrex.jpg
END:VEVENT
BEGIN:VEVENT
DTSTART;TZID=America/Chicago:20260831T134500
DTEND;TZID=America/Chicago:20260831T140000
DTSTAMP:20260425T095336
CREATED:20250602T213557Z
LAST-MODIFIED:20250603T191327Z
UID:10174842-1788183900-1788184800@spacecenter.org
SUMMARY:James Webb Live Presentation
DESCRIPTION:
URL:https://spacecenter.org/events-calendar-event/james-webb-live-presentation-2/2026-08-31/
LOCATION:Theater – Destiny
CATEGORIES:Live Presentation
END:VEVENT
BEGIN:VEVENT
DTSTART;TZID=America/Chicago:20260831T144500
DTEND;TZID=America/Chicago:20260831T150000
DTSTAMP:20260425T095336
CREATED:20250602T213716Z
LAST-MODIFIED:20250603T191759Z
UID:10189466-1788187500-1788188400@spacecenter.org
SUMMARY:James Webb Live Presentation
DESCRIPTION:
URL:https://spacecenter.org/events-calendar-event/james-webb-live-presentation-3/2026-08-31/
LOCATION:Theater – Destiny
CATEGORIES:Live Presentation
END:VEVENT
BEGIN:VEVENT
DTSTART;TZID=America/Chicago:20260831T151500
DTEND;TZID=America/Chicago:20260831T153000
DTSTAMP:20260425T095336
CREATED:20250602T213249Z
LAST-MODIFIED:20250603T191942Z
UID:10196778-1788189300-1788190200@spacecenter.org
SUMMARY:Story Corner Live Presentation
DESCRIPTION:
URL:https://spacecenter.org/events-calendar-event/story-corner-live-presentation-4/2026-08-31/
LOCATION:Theater – Artemis
CATEGORIES:Live Presentation
END:VEVENT
BEGIN:VEVENT
DTSTART;TZID=America/Chicago:20260831T154500
DTEND;TZID=America/Chicago:20260831T161500
DTSTAMP:20260425T095336
CREATED:20250602T214125Z
LAST-MODIFIED:20250603T192119Z
UID:10207746-1788191100-1788192900@spacecenter.org
SUMMARY:Artemis Live Presentation
DESCRIPTION:
URL:https://spacecenter.org/events-calendar-event/artemis-live-presentation-3/2026-08-31/
LOCATION:Theater – Destiny
CATEGORIES:Live Presentation
ATTACH;FMTTYPE=image/jpeg:https://spacecenter.org/wp-content/uploads/2022/10/Artemis-Capsule.jpeg
END:VEVENT
BEGIN:VEVENT
DTSTART;TZID=America/Chicago:20260831T163000
DTEND;TZID=America/Chicago:20260831T164500
DTSTAMP:20260425T095336
CREATED:20250602T212726Z
LAST-MODIFIED:20250603T192225Z
UID:10215058-1788193800-1788194700@spacecenter.org
SUMMARY:OSIRIS Rex Live Presentation
DESCRIPTION:
URL:https://spacecenter.org/events-calendar-event/osiris-rex-live-presentation-3/2026-08-31/
LOCATION:Mission Sketch Staircase
CATEGORIES:Live Presentation
ATTACH;FMTTYPE=image/jpeg:https://spacecenter.org/wp-content/uploads/2024/03/web-march2024_tls_osirisrex.jpg
END:VEVENT
END:VCALENDAR