BEGIN:VCALENDAR
VERSION:2.0
PRODID:-//Space Center Houston - ECPv6.15.15//NONSGML v1.0//EN
CALSCALE:GREGORIAN
METHOD:PUBLISH
X-WR-CALNAME:Space Center Houston
X-ORIGINAL-URL:https://spacecenter.org
X-WR-CALDESC:Events for Space Center Houston
REFRESH-INTERVAL;VALUE=DURATION:PT1H
X-Robots-Tag:noindex
X-PUBLISHED-TTL:PT1H
BEGIN:VTIMEZONE
TZID:America/Chicago
BEGIN:DAYLIGHT
TZOFFSETFROM:-0600
TZOFFSETTO:-0500
TZNAME:CDT
DTSTART:20260308T080000
END:DAYLIGHT
BEGIN:STANDARD
TZOFFSETFROM:-0500
TZOFFSETTO:-0600
TZNAME:CST
DTSTART:20261101T070000
END:STANDARD
BEGIN:DAYLIGHT
TZOFFSETFROM:-0600
TZOFFSETTO:-0500
TZNAME:CDT
DTSTART:20270314T080000
END:DAYLIGHT
BEGIN:STANDARD
TZOFFSETFROM:-0500
TZOFFSETTO:-0600
TZNAME:CST
DTSTART:20271107T070000
END:STANDARD
BEGIN:DAYLIGHT
TZOFFSETFROM:-0600
TZOFFSETTO:-0500
TZNAME:CDT
DTSTART:20280312T080000
END:DAYLIGHT
BEGIN:STANDARD
TZOFFSETFROM:-0500
TZOFFSETTO:-0600
TZNAME:CST
DTSTART:20281105T070000
END:STANDARD
END:VTIMEZONE
BEGIN:VEVENT
DTSTART;TZID=America/Chicago:20270523T111500
DTEND;TZID=America/Chicago:20270523T113000
DTSTAMP:20260421T211552
CREATED:20250602T213010Z
LAST-MODIFIED:20250603T185901Z
UID:10120267-1811070900-1811071800@spacecenter.org
SUMMARY:Story Corner Live Presentation
DESCRIPTION:
URL:https://spacecenter.org/events-calendar-event/story-corner-live-presentation/2027-05-23/
LOCATION:Theater – Artemis
CATEGORIES:Live Presentation
END:VEVENT
BEGIN:VEVENT
DTSTART;TZID=America/Chicago:20270523T114500
DTEND;TZID=America/Chicago:20270523T120000
DTSTAMP:20260421T211552
CREATED:20250602T213503Z
LAST-MODIFIED:20250603T190256Z
UID:10138547-1811072700-1811073600@spacecenter.org
SUMMARY:James Webb Live Presentation
DESCRIPTION:
URL:https://spacecenter.org/events-calendar-event/james-webb-live-presentation/2027-05-23/
LOCATION:Theater – Destiny
CATEGORIES:Live Presentation
END:VEVENT
BEGIN:VEVENT
DTSTART;TZID=America/Chicago:20270523T121500
DTEND;TZID=America/Chicago:20270523T123000
DTSTAMP:20260421T211552
CREATED:20250602T213059Z
LAST-MODIFIED:20250603T190345Z
UID:10142203-1811074500-1811075400@spacecenter.org
SUMMARY:Story Corner Live Presentation
DESCRIPTION:
URL:https://spacecenter.org/events-calendar-event/story-corner-live-presentation-2/2027-05-23/
LOCATION:Theater – Artemis
CATEGORIES:Live Presentation
END:VEVENT
BEGIN:VEVENT
DTSTART;TZID=America/Chicago:20270523T124500
DTEND;TZID=America/Chicago:20270523T131500
DTSTAMP:20260421T211552
CREATED:20250602T214012Z
LAST-MODIFIED:20250603T190811Z
UID:10153171-1811076300-1811078100@spacecenter.org
SUMMARY:Artemis Live Presentation
DESCRIPTION:
URL:https://spacecenter.org/events-calendar-event/artemis-live-presentation-2/2027-05-23/
LOCATION:Theater – Destiny
CATEGORIES:Live Presentation
ATTACH;FMTTYPE=image/jpeg:https://spacecenter.org/wp-content/uploads/2022/10/Artemis-Capsule.jpeg
END:VEVENT
BEGIN:VEVENT
DTSTART;TZID=America/Chicago:20270523T131500
DTEND;TZID=America/Chicago:20270523T133000
DTSTAMP:20260421T211552
CREATED:20250602T213201Z
LAST-MODIFIED:20250603T190922Z
UID:10160483-1811078100-1811079000@spacecenter.org
SUMMARY:Story Corner Live Presentation
DESCRIPTION:
URL:https://spacecenter.org/events-calendar-event/story-corner-live-presentation-3/2027-05-23/
LOCATION:Theater – Artemis
CATEGORIES:Live Presentation
END:VEVENT
BEGIN:VEVENT
DTSTART;TZID=America/Chicago:20270523T134500
DTEND;TZID=America/Chicago:20270523T140000
DTSTAMP:20260421T211552
CREATED:20250602T212635Z
LAST-MODIFIED:20250603T191121Z
UID:10171451-1811079900-1811080800@spacecenter.org
SUMMARY:OSIRIS Rex Live Presentation
DESCRIPTION:
URL:https://spacecenter.org/events-calendar-event/osiris-rex-live-presentation-2/2027-05-23/
LOCATION:Mission Sketch Staircase
CATEGORIES:Live Presentation
ATTACH;FMTTYPE=image/jpeg:https://spacecenter.org/wp-content/uploads/2024/03/web-march2024_tls_osirisrex.jpg
END:VEVENT
BEGIN:VEVENT
DTSTART;TZID=America/Chicago:20270523T134500
DTEND;TZID=America/Chicago:20270523T140000
DTSTAMP:20260421T211552
CREATED:20250602T213557Z
LAST-MODIFIED:20250603T191327Z
UID:10175107-1811079900-1811080800@spacecenter.org
SUMMARY:James Webb Live Presentation
DESCRIPTION:
URL:https://spacecenter.org/events-calendar-event/james-webb-live-presentation-2/2027-05-23/
LOCATION:Theater – Destiny
CATEGORIES:Live Presentation
END:VEVENT
BEGIN:VEVENT
DTSTART;TZID=America/Chicago:20270523T144500
DTEND;TZID=America/Chicago:20270523T150000
DTSTAMP:20260421T211552
CREATED:20250602T213716Z
LAST-MODIFIED:20250603T191759Z
UID:10189731-1811083500-1811084400@spacecenter.org
SUMMARY:James Webb Live Presentation
DESCRIPTION:
URL:https://spacecenter.org/events-calendar-event/james-webb-live-presentation-3/2027-05-23/
LOCATION:Theater – Destiny
CATEGORIES:Live Presentation
END:VEVENT
BEGIN:VEVENT
DTSTART;TZID=America/Chicago:20270523T151500
DTEND;TZID=America/Chicago:20270523T153000
DTSTAMP:20260421T211552
CREATED:20250602T213249Z
LAST-MODIFIED:20250603T191942Z
UID:10197043-1811085300-1811086200@spacecenter.org
SUMMARY:Story Corner Live Presentation
DESCRIPTION:
URL:https://spacecenter.org/events-calendar-event/story-corner-live-presentation-4/2027-05-23/
LOCATION:Theater – Artemis
CATEGORIES:Live Presentation
END:VEVENT
BEGIN:VEVENT
DTSTART;TZID=America/Chicago:20270523T154500
DTEND;TZID=America/Chicago:20270523T161500
DTSTAMP:20260421T211552
CREATED:20250602T214125Z
LAST-MODIFIED:20250603T192119Z
UID:10208011-1811087100-1811088900@spacecenter.org
SUMMARY:Artemis Live Presentation
DESCRIPTION:
URL:https://spacecenter.org/events-calendar-event/artemis-live-presentation-3/2027-05-23/
LOCATION:Theater – Destiny
CATEGORIES:Live Presentation
ATTACH;FMTTYPE=image/jpeg:https://spacecenter.org/wp-content/uploads/2022/10/Artemis-Capsule.jpeg
END:VEVENT
BEGIN:VEVENT
DTSTART;TZID=America/Chicago:20270523T163000
DTEND;TZID=America/Chicago:20270523T164500
DTSTAMP:20260421T211552
CREATED:20250602T212726Z
LAST-MODIFIED:20250603T192225Z
UID:10215323-1811089800-1811090700@spacecenter.org
SUMMARY:OSIRIS Rex Live Presentation
DESCRIPTION:
URL:https://spacecenter.org/events-calendar-event/osiris-rex-live-presentation-3/2027-05-23/
LOCATION:Mission Sketch Staircase
CATEGORIES:Live Presentation
ATTACH;FMTTYPE=image/jpeg:https://spacecenter.org/wp-content/uploads/2024/03/web-march2024_tls_osirisrex.jpg
END:VEVENT
BEGIN:VEVENT
DTSTART;TZID=America/Chicago:20270524T104500
DTEND;TZID=America/Chicago:20270524T110000
DTSTAMP:20260421T211552
CREATED:20250602T212526Z
LAST-MODIFIED:20250603T185502Z
UID:10101988-1811155500-1811156400@spacecenter.org
SUMMARY:OSIRIS Rex Live Presentation
DESCRIPTION:
URL:https://spacecenter.org/events-calendar-event/osiris-rex-live-presentation/2027-05-24/
LOCATION:Mission Sketch Staircase
CATEGORIES:Live Presentation
ATTACH;FMTTYPE=image/jpeg:https://spacecenter.org/wp-content/uploads/2024/03/web-march2024_tls_osirisrex.jpg
END:VEVENT
BEGIN:VEVENT
DTSTART;TZID=America/Chicago:20270524T104500
DTEND;TZID=America/Chicago:20270524T111500
DTSTAMP:20260421T211552
CREATED:20250602T213905Z
LAST-MODIFIED:20250603T185637Z
UID:10109300-1811155500-1811157300@spacecenter.org
SUMMARY:Artemis Live Presentation
DESCRIPTION:
URL:https://spacecenter.org/events-calendar-event/artemis-live-presentation/2027-05-24/
LOCATION:Theater – Destiny
CATEGORIES:Live Presentation
ATTACH;FMTTYPE=image/jpeg:https://spacecenter.org/wp-content/uploads/2022/10/Artemis-Capsule.jpeg
END:VEVENT
BEGIN:VEVENT
DTSTART;TZID=America/Chicago:20270524T111500
DTEND;TZID=America/Chicago:20270524T113000
DTSTAMP:20260421T211552
CREATED:20250602T213010Z
LAST-MODIFIED:20250603T185901Z
UID:10120268-1811157300-1811158200@spacecenter.org
SUMMARY:Story Corner Live Presentation
DESCRIPTION:
URL:https://spacecenter.org/events-calendar-event/story-corner-live-presentation/2027-05-24/
LOCATION:Theater – Artemis
CATEGORIES:Live Presentation
END:VEVENT
BEGIN:VEVENT
DTSTART;TZID=America/Chicago:20270524T114500
DTEND;TZID=America/Chicago:20270524T120000
DTSTAMP:20260421T211552
CREATED:20250602T213503Z
LAST-MODIFIED:20250603T190256Z
UID:10138548-1811159100-1811160000@spacecenter.org
SUMMARY:James Webb Live Presentation
DESCRIPTION:
URL:https://spacecenter.org/events-calendar-event/james-webb-live-presentation/2027-05-24/
LOCATION:Theater – Destiny
CATEGORIES:Live Presentation
END:VEVENT
BEGIN:VEVENT
DTSTART;TZID=America/Chicago:20270524T121500
DTEND;TZID=America/Chicago:20270524T123000
DTSTAMP:20260421T211552
CREATED:20250602T213059Z
LAST-MODIFIED:20250603T190345Z
UID:10142204-1811160900-1811161800@spacecenter.org
SUMMARY:Story Corner Live Presentation
DESCRIPTION:
URL:https://spacecenter.org/events-calendar-event/story-corner-live-presentation-2/2027-05-24/
LOCATION:Theater – Artemis
CATEGORIES:Live Presentation
END:VEVENT
BEGIN:VEVENT
DTSTART;TZID=America/Chicago:20270524T124500
DTEND;TZID=America/Chicago:20270524T131500
DTSTAMP:20260421T211552
CREATED:20250602T214012Z
LAST-MODIFIED:20250603T190811Z
UID:10153172-1811162700-1811164500@spacecenter.org
SUMMARY:Artemis Live Presentation
DESCRIPTION:
URL:https://spacecenter.org/events-calendar-event/artemis-live-presentation-2/2027-05-24/
LOCATION:Theater – Destiny
CATEGORIES:Live Presentation
ATTACH;FMTTYPE=image/jpeg:https://spacecenter.org/wp-content/uploads/2022/10/Artemis-Capsule.jpeg
END:VEVENT
BEGIN:VEVENT
DTSTART;TZID=America/Chicago:20270524T131500
DTEND;TZID=America/Chicago:20270524T133000
DTSTAMP:20260421T211552
CREATED:20250602T213201Z
LAST-MODIFIED:20250603T190922Z
UID:10160484-1811164500-1811165400@spacecenter.org
SUMMARY:Story Corner Live Presentation
DESCRIPTION:
URL:https://spacecenter.org/events-calendar-event/story-corner-live-presentation-3/2027-05-24/
LOCATION:Theater – Artemis
CATEGORIES:Live Presentation
END:VEVENT
BEGIN:VEVENT
DTSTART;TZID=America/Chicago:20270524T134500
DTEND;TZID=America/Chicago:20270524T140000
DTSTAMP:20260421T211552
CREATED:20250602T212635Z
LAST-MODIFIED:20250603T191121Z
UID:10171452-1811166300-1811167200@spacecenter.org
SUMMARY:OSIRIS Rex Live Presentation
DESCRIPTION:
URL:https://spacecenter.org/events-calendar-event/osiris-rex-live-presentation-2/2027-05-24/
LOCATION:Mission Sketch Staircase
CATEGORIES:Live Presentation
ATTACH;FMTTYPE=image/jpeg:https://spacecenter.org/wp-content/uploads/2024/03/web-march2024_tls_osirisrex.jpg
END:VEVENT
BEGIN:VEVENT
DTSTART;TZID=America/Chicago:20270524T134500
DTEND;TZID=America/Chicago:20270524T140000
DTSTAMP:20260421T211552
CREATED:20250602T213557Z
LAST-MODIFIED:20250603T191327Z
UID:10175108-1811166300-1811167200@spacecenter.org
SUMMARY:James Webb Live Presentation
DESCRIPTION:
URL:https://spacecenter.org/events-calendar-event/james-webb-live-presentation-2/2027-05-24/
LOCATION:Theater – Destiny
CATEGORIES:Live Presentation
END:VEVENT
BEGIN:VEVENT
DTSTART;TZID=America/Chicago:20270524T144500
DTEND;TZID=America/Chicago:20270524T150000
DTSTAMP:20260421T211552
CREATED:20250602T213716Z
LAST-MODIFIED:20250603T191759Z
UID:10189732-1811169900-1811170800@spacecenter.org
SUMMARY:James Webb Live Presentation
DESCRIPTION:
URL:https://spacecenter.org/events-calendar-event/james-webb-live-presentation-3/2027-05-24/
LOCATION:Theater – Destiny
CATEGORIES:Live Presentation
END:VEVENT
BEGIN:VEVENT
DTSTART;TZID=America/Chicago:20270524T151500
DTEND;TZID=America/Chicago:20270524T153000
DTSTAMP:20260421T211552
CREATED:20250602T213249Z
LAST-MODIFIED:20250603T191942Z
UID:10197044-1811171700-1811172600@spacecenter.org
SUMMARY:Story Corner Live Presentation
DESCRIPTION:
URL:https://spacecenter.org/events-calendar-event/story-corner-live-presentation-4/2027-05-24/
LOCATION:Theater – Artemis
CATEGORIES:Live Presentation
END:VEVENT
BEGIN:VEVENT
DTSTART;TZID=America/Chicago:20270524T154500
DTEND;TZID=America/Chicago:20270524T161500
DTSTAMP:20260421T211552
CREATED:20250602T214125Z
LAST-MODIFIED:20250603T192119Z
UID:10208012-1811173500-1811175300@spacecenter.org
SUMMARY:Artemis Live Presentation
DESCRIPTION:
URL:https://spacecenter.org/events-calendar-event/artemis-live-presentation-3/2027-05-24/
LOCATION:Theater – Destiny
CATEGORIES:Live Presentation
ATTACH;FMTTYPE=image/jpeg:https://spacecenter.org/wp-content/uploads/2022/10/Artemis-Capsule.jpeg
END:VEVENT
BEGIN:VEVENT
DTSTART;TZID=America/Chicago:20270524T163000
DTEND;TZID=America/Chicago:20270524T164500
DTSTAMP:20260421T211552
CREATED:20250602T212726Z
LAST-MODIFIED:20250603T192225Z
UID:10215324-1811176200-1811177100@spacecenter.org
SUMMARY:OSIRIS Rex Live Presentation
DESCRIPTION:
URL:https://spacecenter.org/events-calendar-event/osiris-rex-live-presentation-3/2027-05-24/
LOCATION:Mission Sketch Staircase
CATEGORIES:Live Presentation
ATTACH;FMTTYPE=image/jpeg:https://spacecenter.org/wp-content/uploads/2024/03/web-march2024_tls_osirisrex.jpg
END:VEVENT
BEGIN:VEVENT
DTSTART;TZID=America/Chicago:20270525T104500
DTEND;TZID=America/Chicago:20270525T110000
DTSTAMP:20260421T211552
CREATED:20250602T212526Z
LAST-MODIFIED:20250603T185502Z
UID:10101989-1811241900-1811242800@spacecenter.org
SUMMARY:OSIRIS Rex Live Presentation
DESCRIPTION:
URL:https://spacecenter.org/events-calendar-event/osiris-rex-live-presentation/2027-05-25/
LOCATION:Mission Sketch Staircase
CATEGORIES:Live Presentation
ATTACH;FMTTYPE=image/jpeg:https://spacecenter.org/wp-content/uploads/2024/03/web-march2024_tls_osirisrex.jpg
END:VEVENT
BEGIN:VEVENT
DTSTART;TZID=America/Chicago:20270525T104500
DTEND;TZID=America/Chicago:20270525T111500
DTSTAMP:20260421T211552
CREATED:20250602T213905Z
LAST-MODIFIED:20250603T185637Z
UID:10109301-1811241900-1811243700@spacecenter.org
SUMMARY:Artemis Live Presentation
DESCRIPTION:
URL:https://spacecenter.org/events-calendar-event/artemis-live-presentation/2027-05-25/
LOCATION:Theater – Destiny
CATEGORIES:Live Presentation
ATTACH;FMTTYPE=image/jpeg:https://spacecenter.org/wp-content/uploads/2022/10/Artemis-Capsule.jpeg
END:VEVENT
BEGIN:VEVENT
DTSTART;TZID=America/Chicago:20270525T111500
DTEND;TZID=America/Chicago:20270525T113000
DTSTAMP:20260421T211552
CREATED:20250602T213010Z
LAST-MODIFIED:20250603T185901Z
UID:10120269-1811243700-1811244600@spacecenter.org
SUMMARY:Story Corner Live Presentation
DESCRIPTION:
URL:https://spacecenter.org/events-calendar-event/story-corner-live-presentation/2027-05-25/
LOCATION:Theater – Artemis
CATEGORIES:Live Presentation
END:VEVENT
BEGIN:VEVENT
DTSTART;TZID=America/Chicago:20270525T114500
DTEND;TZID=America/Chicago:20270525T120000
DTSTAMP:20260421T211552
CREATED:20250602T213503Z
LAST-MODIFIED:20250603T190256Z
UID:10138549-1811245500-1811246400@spacecenter.org
SUMMARY:James Webb Live Presentation
DESCRIPTION:
URL:https://spacecenter.org/events-calendar-event/james-webb-live-presentation/2027-05-25/
LOCATION:Theater – Destiny
CATEGORIES:Live Presentation
END:VEVENT
BEGIN:VEVENT
DTSTART;TZID=America/Chicago:20270525T121500
DTEND;TZID=America/Chicago:20270525T123000
DTSTAMP:20260421T211552
CREATED:20250602T213059Z
LAST-MODIFIED:20250603T190345Z
UID:10142205-1811247300-1811248200@spacecenter.org
SUMMARY:Story Corner Live Presentation
DESCRIPTION:
URL:https://spacecenter.org/events-calendar-event/story-corner-live-presentation-2/2027-05-25/
LOCATION:Theater – Artemis
CATEGORIES:Live Presentation
END:VEVENT
BEGIN:VEVENT
DTSTART;TZID=America/Chicago:20270525T124500
DTEND;TZID=America/Chicago:20270525T131500
DTSTAMP:20260421T211552
CREATED:20250602T214012Z
LAST-MODIFIED:20250603T190811Z
UID:10153173-1811249100-1811250900@spacecenter.org
SUMMARY:Artemis Live Presentation
DESCRIPTION:
URL:https://spacecenter.org/events-calendar-event/artemis-live-presentation-2/2027-05-25/
LOCATION:Theater – Destiny
CATEGORIES:Live Presentation
ATTACH;FMTTYPE=image/jpeg:https://spacecenter.org/wp-content/uploads/2022/10/Artemis-Capsule.jpeg
END:VEVENT
END:VCALENDAR